{"text_format":"1","workbook":"xlsx","n_sheets":8,"sheets":["aem2csp2","aircraft info","aircraft sub","a & b","AEE Noise Inventories","aem analysis","Emissions","Inventory calc"],"not_rendered":{"charts":0,"images":1,"macros":1,"external_links":0,"defined_names":5,"comments":0,"pivot_tables":0},"unopened":[],"bounds":{"document_bytes":16777216,"sheet_cells":100000,"rows_first":2000,"rows_last":500,"rows_between":2000,"halvings":0,"cell_chars":16384,"cell_head_chars":4096},"cells_cut":0,"cells_raw":0,"read":"whole","date_system":"1900"}

{"sheet":"aem2csp2","index":0,"n_rows":267,"n_cols":5,"rows_kept":267,"cut":false,"hidden":false,"merged":[[17,1,17,2],[17,3,17,4],[6,0,6,1],[0,0,0,7],[1,0,1,7],[2,0,2,7],[4,0,4,7],[6,2,6,5]]}
["Federal Aviation Administration"]
["Office of Environment and Energy"]
["  http://www.faa.gov/about/office_org/headquarters_offices/apl/research/models/aem_model/"]
[]
["Area Equivalent Method (AEM) Version 2c SP2"]
[]
["Airport Name/Code:"]
[]
[]
["DNL (dBA)","Baseline Area (Sq. Mi.)","Alternative Area (Sq. Mi.)","Percent Change in Area"]
[65]
[]
[]
[]
[]
[]
[]
[null,"BASE Case",null,"ALTERNATIVE Case"]
["Aircraft\nType","Daytime\nLTO Cycles","Nighttime\nLTO Cycles","Daytime\nLTO Cycles","Nighttime\nLTO Cycles"]
[707]
[720]
[737]
[7478]
[707120]
[707320]
[717200]
[727100]
[727200]
[737300]
[737400]
[737500]
[737700]
[737800]
[747100]
[747200]
[747400]
[757300]
[767300]
[767400]
[777200]
[777300]
["1900D "]
["707QN "]
["720B "]
["727D15 "]
["727D17 "]
["727EM1 "]
["727EM2 "]
["727Q15 "]
["727Q7 "]
["727Q9 "]
["727QF "]
["7373B2 "]
["737D17 "]
["737N17 "]
["737N9 "]
["737QN "]
["74710Q "]
["74720A "]
["74720B "]
["747SP "]
["757PW "]
["757RR "]
["767CF6 "]
["767JT9 "]
["7773ER "]
["7878R "]
["A10A "]
["A3 "]
["A300-622R "]
["A300B4-203 "]
["A310-304 "]
["A319-131 "]
["A320-211 "]
["A320-232 "]
["A321-232 "]
["A330-301 "]
["A330-343 "]
["A340-211 "]
["A340-642 "]
["A37 "]
["A380-841 "]
["A380-861 "]
["A4C "]
["A6A "]
["A7D "]
["A7E "]
["B1 "]
["B2A "]
["B52BDE "]
["B52G "]
["B52H "]
["B57E "]
["BAC111 "]
["BAE146 "]
["BAE300 "]
["BEC58P "]
["C118 "]
["C12 "]
["C130 "]
["C130AD "]
["C130E "]
["C-130E "]
["C130HP "]
["C131B "]
["C135A "]
["C135B "]
["C137 "]
["C140 "]
["C141A "]
["C17 "]
["C18A "]
["C-20 "]
["C21A "]
["C22 "]
["C23 "]
["C5A "]
["C7A "]
["C9A "]
["CIT3 "]
["CL600 "]
["CL601 "]
["CNA172 "]
["CNA182 "]
["CNA182FLT "]
["CNA206 "]
["CNA208 "]
["CNA20T "]
["CNA441 "]
["CNA500 "]
["CNA510 "]
["CNA525C "]
["CNA55B "]
["CNA560E "]
["CNA560U "]
["CNA560XL "]
["CNA680 "]
["CNA750 "]
["COMJET "]
["COMSEP "]
["CONCRD "]
["CRJ9-ER "]
["CRJ9-LR "]
["CVR580 "]
["DC1010 "]
["DC1030 "]
["DC1040 "]
["DC3 "]
["DC6 "]
["DC820 "]
["DC850 "]
["DC860 "]
["DC870 "]
["DC8QN "]
["DC910 "]
["DC930 "]
["DC93LW "]
["DC950 "]
["DC95HW "]
["DC9Q7 "]
["DC9Q9 "]
["DHC-2FLT "]
["DHC6 "]
["DHC6QP "]
["DHC7 "]
["DHC8 "]
["DHC830 "]
["DO228 "]
["DO328 "]
["E3A "]
["E4 "]
["EA6B "]
["ECLIPSE500 "]
["EMB120 "]
["EMB145 "]
["EMB14L "]
["EMB170 "]
["EMB175 "]
["EMB190 "]
["EMB195 "]
["F10062 "]
["F10065 "]
["F100D "]
["F101B "]
["F102 "]
["F104G "]
["F105D "]
["F106 "]
["F111AE "]
["F111D "]
["F-111F "]
["F117A "]
["F14A "]
["F15A "]
["F15E20 "]
["F15E29 "]
["F16A "]
["F16GE "]
["F16PW0 "]
["F-18 "]
["F28MK2 "]
["F28MK4 "]
["F4C "]
["F-4C "]
["F5AB "]
["F5E "]
["F8 "]
["FAL20 "]
["FB111A "]
["GASEPF "]
["GASEPV "]
["GII "]
["GIIB "]
["GIV "]
["GV "]
["HS748A "]
["IA1125 "]
["JAGUAR "]
["KC10A "]
["KC135 "]
["KC-135 "]
["KC135B "]
["KC135R "]
["L1011 "]
["L10115 "]
["L188 "]
["LEAR25 "]
["LEAR35 "]
["MD11GE "]
["MD11PW "]
["MD81 "]
["MD82 "]
["MD83 "]
["MD9025 "]
["MD9028 "]
["MU3001 "]
["OV10A "]
["P3A "]
["PA28 "]
["PA30 "]
["PA31 "]
["PA42 "]
["S3A&B "]
["SABR80 "]
["SD330 "]
["SF340 "]
["SR71 "]
["T1 "]
["T29 "]
["T-2C "]
["T3 "]
["T33A "]
["T34 "]
["T37B "]
["T-38A "]
["T39A "]
["T41 "]
["T42 "]
["T-43A "]
["T44 "]
["TORNAD "]
["TR1 "]
["U2 "]
["U21 "]
["U6 "]
["U8F "]
["Total LTOs",{"$f":"SUM(B20:B266)","v":0},{"$f":"SUM(C20:C266)","v":0},{"$f":"SUM(D20:D266)","v":0},{"$f":"SUM(E20:E266)","v":0}]

{"sheet":"aircraft info","index":1,"n_rows":248,"n_cols":4,"rows_kept":248,"cut":false,"hidden":false,"merged":[]}
["Aircraft Type","Aircraft Description","Takoff Weight (lbs)","Noise ID/Stage"]
[707," BOEING 707-120/JT3C ",302400,1]
[720," BOEING 720/JT3C ",223500,1]
[737," BOEING 737/JT8D-9 ",109000,1]
[7478," Boeing 747-8F/GEnx-2B67 ",987000,4]
[707120," BOEING 707-120B/JT3D-3 ",302400,1]
[707320," BOEING 707-320B/JT3D-7 ",334000,1]
[717200," BOEING 717-200/BR 715 ",121000,3]
[727100," BOEING 727-100/JT8D-7 ",169500,1]
[727200," BOEING 727-200/JT8D-7 ",217600,1]
[737300," BOEING 737-300/CFM56-3B-1 ",135000,3]
[737400," BOEING 737-400/CFM56-3C-1 ",150000,3]
[737500," BOEING 737-500/CFM56-3C-1 ",133500,3]
[737700," BOEING 737-700/CFM56-7B24 ",154500,3]
[737800," BOEING 737-800/CFM56-7B26 ",174200,3]
[747100," BOEING 747-100/JT9DBD ",733000,2]
[747200," BOEING 747-200/JT9D-7 ",775000,3]
[747400," BOEING 747-400/PW4056 ",875000,4]
[757300," BOEING 757-300/RB211-535E4B ",275000,3]
[767300," BOEING 767-300/PW4060 ",407000,3]
[767400," BOEING 767-400ER/CF6-80C2B(F) ",450000,3]
[777200," BOEING 777-200ER/GE90-90B ",656000,3]
[777300," BOEING 777-300/TRENT892 ",660000,3]
["1900D "," BEECH 1900D / PT6A67 ",16950,1]
["707QN "," BOEING 707-320B/JT3D-7QN ",334000,2]
["720B "," BOEING 720B/JT3D-3 ",234000,1]
["727D15 "," BOEING 727-200/JT8D-15 ",208000,1]
["727D17 "," BOEING 727-200/JT8D-17 ",208000,2]
["727EM1 "," FEDX 727-100/JT8D-7 ",169500,3]
["727EM2 "," FEDX 727-200/JT8D-15 ",208000,3]
["727Q15 "," BOEING 727-200/JT8D-15QN ",208000,2]
["727Q7 "," BOEING 727-100/JT8D-7QN ",169500,2]
["727Q9 "," BOEING 727-200/JT8D-9 ",191000,2]
["727QF "," UPS 727100 22C 25C ",169000,3]
["7373B2 "," BOEING 737-300/CFM56-3B-2 ",139500,3]
["737D17 "," BOEING 737-200/JT8D-17 ",124000,2]
["737N17 ","B737-200/JT8D-17 NORDAM B737 LGW HUSHKIT",124000,3]
["737N9 "," B737/JT8D-9 NORDAM B737 LGW HUSHKIT ",109000,3]
["737QN "," BOEING 737/JT8D-9QN ",109000,2]
["74710Q "," BOEING 747-100/JT9D-7QN ",733000,3]
["74720A "," BOEING 747-200/JT9D-7A ",785000,3]
["74720B "," BOEING 747-200/JT9D-7Q ",800000,3]
["747SP "," BOEING 747SP/JT9D-7 ",702000,3]
["757PW "," BOEING 757-200/PW2037 ",255000,3]
["757RR "," BOEING 757-200/RB211-535E4 ",255000,3]
["767CF6 "," BOEING 767-200/CF6-80A ",315500,3]
["767JT9 "," BOEING 767-200/JT9D-7R4D ",351000,3]
["7773ER "," Boeing 777-300ER/GE90-115B-EIS ",775000,3]
["7878R "," Boeing 787-8/T1000-C/01 Family Plan Cert ",502500,4]
["A10A "," FAIRCHILD THUNDERBOLT II TF34-GE-100  NM ",50000,0]
["A3 "," MCDONNELL DOUGLAS SKYWARRIOR J79-GE-8 NM ",80000,0]
["A300-622R "," A300-622R\\PW4168 ",378533,3]
["A300B4-203 "," AIRBUS A300B4-200/CF6-50C2 ",364000,3]
["A310-304 "," A310-304\\GE CF6-80 C2A2 ",346126,3]
["A319-131 "," A319-131\\IAE V2522-A5 ",166449,4]
["A320-211 "," A320-211\\CFM56-5A1 ",169756,4]
["A320-232 "," A320-232\\V2527-A5 ",169756,4]
["A321-232 "," A321-232\\V2530-A5 ",196211,3]
["A330-301 "," A330-301\\GE CF6-80 E1A2 ",467380,4]
["A330-343 "," A330-343\\RR TRENT 772B ",513677,4]
["A340-211 "," A340-211\\CFM56-5C2 ",566588,3]
["A340-642 "," A340-642\\Trent 556 ",804687,4]
["A37 "," CESSNA DRAGONFLY J85-GE-17A           NM ",14399,0]
["A380-841 "," A380-841\\RR trent970 ",1254430,4]
["A380-861 "," A380-861\\EA GP7270 ",1254430,4]
["A4C "," MCDONNELL DOUGLAS SKYHAWK J52-P-8A    NM ",24490,0]
["A6A "," GRUMMAN INTRUDER J52-P-8B             NM ",60400,0]
["A7D "," A-7D,E/TF-41-A-1 ",42000,0]
["A7E "," VOUGHT CORSAIR II TF41-A-2            NM ",42000,0]
["B1 "," ROCKWELL LANCER F101-GE-102           NM ",477000,0]
["B2A "," F118-GE-110                           NM ",376000,0]
["B52BDE "," BOEING STRATOFORTRESS J57P-19W        NM ",420000,0]
["B52G "," BOEING STRATOFORTRESS J57-P-43WB      NM ",488000,0]
["B52H "," BOEING STRATOFORTRESS B52H            NM ",0,0]
["B57E "," ENGLISH ELECTRIC CANBERRA J57-PW-P-5  NM ",54800,0]
["BAC111 "," BAC111/SPEY MK511-14 ",89600,2]
["BAE146 "," BAE146-200/ALF502R-5 ",93000,3]
["BAE300 "," BAE146-300/ALF502R-5 ",97500,3]
["BEC58P "," BARON 58P/TS10-520-L ",6100,0]
["C118 "," MCDONNELL DOUGLAS LIFT PW R-2800-CB17 NM ",107000,0]
["C12 "," BEECH SUPER KING AIR HURON PW PT6A-41 NM ",12500,0]
["C130 "," C-130H/T56-A-15 ",155000,3]
["C130AD "," LOCKHEED HERCULES T56-A15             NM ",175000,0]
["C130E "," C-130E/T56-A-7 ",155000,0]
["C-130E "," LOCKHEED HERCULES T56-A15 C130E       NM ",175000,0]
["C130HP "," LOCKHEED HERCULES C130HP              NM ",0,0]
["C131B "," GENERAL DYNAMICS CV34 PW R-2800-99W   NM ",41740,0]
["C135A "," BOEING STRATOLIFTER PW J57-59W        NM ",300000,0]
["C135B "," BOEING STRATOLIFTER C135B             NM ",300000,0]
["C137 "," JT3D-3B                               NM ",322000,0]
["C140 "," LOCKHEED JETSTAR TFE731-3             NM ",44507,0]
["C141A "," LOCKHEED STARLIFTER TF-33-P-7         NM ",342283,0]
["C17 "," F117-PW-100                           NM ",585000,0]
["C18A "," JT41-11                               NM ",331000,0]
["C-20 "," GULFSTREAM III MK611-8RR              NM ",74600,0]
["C21A "," LEARJET 35 TFE731-2-2B                NM ",18300,0]
["C22 "," BOEING 727 TRS18-1                    NM ",0,0]
["C23 "," PT6A-65AR                             NM ",25600,0]
["C5A "," LOCKHEED GALAXY TF39-GE-1             NM ",769000,0]
["C7A "," DEHAVILLAND CARIBOU DHC-4A            NM ",0,0]
["C9A "," MCDONNELL DOUGLAS DC9 JT8D-9          NM ",121000,0]
["CIT3 "," CIT 3/TFE731-3-100S ",20000,3]
["CL600 "," CL600/ALF502L ",36000,3]
["CL601 "," CL601/CF34-3A ",43100,3]
["CNA172 "," CESSNA 172R / LYCOMING IO-360-L2A ",2450,0]
["CNA182 "," Cessna 182H / Continental O-470-R ",2800,2]
["CNA182FLT "," Cessna 182S/Wipline amphibious floats ",3100,0]
["CNA206 "," CESSNA 206H / LYCOMING IO-540-AC ",3600,0]
["CNA208 "," Cessna 208 / PT6A-114 ",8750,3]
["CNA20T "," CESSNA T206H / LYCOMING TIO-540-AJ1A ",3600,0]
["CNA441 "," CONQUEST II/TPE331-8 ",9900,0]
["CNA500 "," CIT 2/JT15D-4 ",14700,3]
["CNA510 "," 510 CITATION MUSTANG ",8645,4]
["CNA525C "," Cessna Model 525C CJ4 ",16950,4]
["CNA55B "," CESSNA 550 CITATION BRAVO / PW530A ",14800,4]
["CNA560E "," Cessna Citation Encore 560 / PW535A ",16300,3]
["CNA560U "," Cessna Citation Ultra 560 / JT15D-5D ",16300,3]
["CNA560XL "," Cessna Citation Excel 560 / PW545A ",20000,3]
["CNA680 "," Cessna Model 680 Sovereign / PW306C ",30000,3]
["CNA750 "," CITATION X / ROLLS ROYCE ALLISON AE3007C ",35700,3]
["COMJET "," 1985 BUSINESS JET ",19200,1]
["COMSEP "," 1985 1-ENG COMP ",2440,0]
["CONCRD "," CONCORDE/OLY593 ",400000,0]
["CRJ9-ER "," CL-600-2D15/CL-600-2D24/CF34-8C5 ",82500,4]
["CRJ9-LR "," CL-600-2D15/CL-600-2D24/CF34-8C5 ",84500,3]
["CVR580 "," CV580/ALL 501-D15 ",58000,3]
["DC1010 "," DC10-10/CF6-6D ",455000,3]
["DC1030 "," DC10-30/CF6-50C2 ",572000,3]
["DC1040 "," DC10-40/JT9D-20 ",555000,3]
["DC3 "," DC3/R1820-86 ",28000,0]
["DC6 "," DC6/R2800-CB17 ",106000,0]
["DC820 "," DC-8-20/JT4A ",317600,1]
["DC850 "," DC8-50/JT3D-3B ",325000,1]
["DC860 "," DC8-60/JT3D-7 ",355000,1]
["DC870 "," DC8-70/CFM56-2C-5 ",355000,3]
["DC8QN "," DC8-60/JT8D-7QN ",355000,2]
["DC910 "," DC9-10/JT8D-7 ",90700,1]
["DC930 "," DC9-30/JT8D-9 ",114000,3]
["DC93LW "," DC9-30/JT8D-9 W/ ABS LIGHTWEIGHT HUSHKIT ",114000,3]
["DC950 "," DC9-50/JT8D-17 ",121000,2]
["DC95HW "," DC9-50/JT8D17 W/ ABS HEAVYWEIGHT HUSHKIT ",121000,3]
["DC9Q7 "," DC9-10/JT8D-7QN ",90700,2]
["DC9Q9 "," DC9-30/JT8D-9QN ",114000,2]
["DHC-2FLT "," DHC-2 Beaver Floatplane ",5090,0]
["DHC6 "," DASH 6/PT6A-27 ",12500,0]
["DHC6QP "," DASH 6/PT6A-27 RAISBECK QUIET PROP MOD ",12500,0]
["DHC7 "," DASH 7/PT6A-50 ",41000,3]
["DHC8 "," DASH 8-100/PW121 ",34500,3]
["DHC830 "," DASH 8-300/PW123 ",43000,3]
["DO228 "," Dornier 228-202 / TPE 311-5 ",13669,3]
["DO328 "," Dornier 328-100 / PW119C ",30843,3]
["E3A "," BOEING SENTRY TF33-PW-100A            NM ",324909,0]
["E4 "," BOEING 747 CF6-50E                    NM ",800000,0]
["EA6B "," J52-P-408                             NM ",65000,0]
["ECLIPSE500 "," Eclipse 500 / PW610F ",6000,4]
["EMB120 "," EMBRAER 120 ER/ PRATT & WHITNEY PW118 ",26433,3]
["EMB145 "," EMBRAER 145 ER/ALLISON AE3007 ",45420,4]
["EMB14L "," EMBRAER 145 LR / ALLISON AE3007A1 ",48500,4]
["EMB170 "," ERJ170-100 ",82012,3]
["EMB175 "," ERJ170-200 ",85517,3]
["EMB190 "," ERJ190-100 ",114199,3]
["EMB195 "," ERJ190-200 ",115280,3]
["F10062 "," F100/TAY 620-15 ",95000,3]
["F10065 "," F100/TAY 650-15 ",98000,3]
["F100D "," ROCKWELL SUPER SABRE PW J57-P-21A     NM ",32839,0]
["F101B "," PW J57-P-55                           NM ",52408,0]
["F102 "," PW J57-P-23                           NM ",31505,0]
["F104G "," LOCKHEED STARFIGHTER J79-GE-11A       NM ",28779,0]
["F105D "," PW J75-P-19W                          NM ",52847,0]
["F106 "," PW J57-P-17                           NM ",41440,0]
["F111AE "," GENERAL DYNAMICS F111AE PW TF30-P-100 NM ",100000,0]
["F111D "," GENERAL DYNAMICS F111D                NM ",0,0]
["F-111F "," GENERAL DYNAMICS F111F                NM ",0,0]
["F117A "," F404-GE-F1D2                          NM ",52500,0]
["F14A "," GRUMMAN TOMCAT TF30-P-414A            NM ",53000,0]
["F15A "," MCDONNELL DOUGLAS EAGLE F100-PW-100   NM ",56000,0]
["F15E20 "," MCDONNELL DOUGLAS EAGLE F100-PW-220   NM ",81000,0]
["F15E29 "," MCDONNELL DOUGLAS EAGLE F100-PW-229   NM ",0,0]
["F16A "," GENERAL DYNAMICS FALCON PW200         NM ",0,0]
["F16GE "," GENERAL DYNAMICS FALCON F110-GE-100   NM ",42300,0]
["F16PW0 "," GENERAL DYNAMICS FALCON F100-PW-220   NM ",42300,0]
["F-18 "," MCDONNELL DOUGLAS HORNET F404-GE-400  NM ",56000,0]
["F28MK2 "," F28-2000/RB183MK555 ",65000,2]
["F28MK4 "," F28-4000/RB183MK555 ",73000,2]
["F4C "," F-4C/J79-GE-15 ",52000,0]
["F-4C "," MCDONNELL DOUGLAS PHANTOM J79-6517A17 NM ",61795,0]
["F5AB "," NORTHRUP TIGER J85-GE-13              NM ",20576,0]
["F5E "," NORTHRUP TIGER J85-GE-21B             NM ",25152,0]
["F8 "," VOUGHT F-8 CRUSADER PW J57-P-201      NM ",27500,0]
["FAL20 "," FALCON 20/CF700-2D-2 ",28700,2]
["FB111A "," GENERAL DYNAMICS FB111 PW TF30-P-100  NM ",100000,0]
["GASEPF "," 1985 1-ENG FP PROP ",2200,0]
["GASEPV "," 1985 1-ENG VP PROP ",3000,0]
["GII "," GULFSTREAM GII/SPEY 511-8 ",64800,2]
["GIIB "," GULFSTREAM GIIB/GIII - SPEY 511-8 ",69700,2]
["GIV "," GULFSTREAM GIV-SP/TAY 611-8 ",74600,3]
["GV "," GULFSTREAM GV/BR 710 ",90500,3]
["HS748A "," HS748/DART MK532-2 ",46500,2]
["IA1125 "," ASTRA 1125/TFE731-3A ",23500,3]
["JAGUAR "," SEPECAT JAGUAR                        NM ",34100,0]
["KC10A "," CFG-50C2                              NM ",590000,0]
["KC135 "," KC135A/J57-P-59W ",300000,0]
["KC-135 "," BOEING STRATOTANKER KC135R F108-CF100 NM ",323000,0]
["KC135B "," KC135B/JT3D-7 ",300000,0]
["KC135R "," KC135R/CFM56-2B-1 ",324000,0]
["L1011 "," L1011/RB211-22B ",430000,3]
["L10115 "," L1011-500/RB211-224B ",510000,3]
["L188 "," L188C/ALL 501-D13 ",116000,0]
["LEAR25 "," LEAR 25/CJ610-8 ",15000,2]
["LEAR35 "," LEAR 36/TFE731-2 ",18300,3]
["MD11GE "," MD-11/CF6-80C2D1F ",682400,3]
["MD11PW "," MD-11/PW 4460 ",682400,3]
["MD81 "," MD-81/JT8D-217 ",140000,3]
["MD82 "," MD-82/JT8D-217A ",149500,3]
["MD83 "," MD-83/JT8D-219 ",160000,3]
["MD9025 "," MD-90/V2525-D5 ",156000,3]
["MD9028 "," MD-90/V2528-D5 ",156000,3]
["MU3001 "," MU300-10/JT15D-5 ",14100,3]
["OV10A "," ROCKWELL BRONCO T76                   NM ",14466,0]
["P3A "," LOCKHEED ORION T56-A-14               NM ",142000,0]
["PA28 "," PIPER WARRIOR PA-28-161 / O-320-D3G ",2325,0]
["PA30 "," PIPER TWIN COMANCHE PA-30 / IO-320-B1A ",3600,0]
["PA31 "," PIPER NAVAJO CHIEFTAIN PA-31-350 / TIO-5 ",7000,0]
["PA42 "," Piper PA-42 / PT6A-41 ",11200,3]
["S3A&B "," LOCKHEED VIKING TF34-6E-2             NM ",52539,0]
["SABR80 "," NA SABRELINER 80 ",33720,2]
["SD330 "," SD330/PT6A-45AR ",22900,3]
["SF340 "," SF340B/CT7-9B ",27300,3]
["SR71 "," JT11D-20B                             NM ",170000,0]
["T1 "," LOCKHEED SEA STAR JT15D-5             NM ",16100,0]
["T29 "," GENERAL DYNAMICS CV34 PW R-2800-99W   NM ",41740,0]
["T-2C "," ROCKWELL BUCKEYE J85-6E-4             NM ",13284,0]
["T3 "," AEIO-540-D4A5                         NM ",2525,0]
["T33A "," LOCKHEED T-33A J33-35                 NM ",0,0]
["T34 "," BEECH MENTOR (BE45) PT6A-25           NM ",4300,0]
["T37B "," CESSNA 318 J69-T-25                   NM ",6625,0]
["T-38A "," NORTHRUP TALON T-38A                  NM ",12093,0]
["T39A "," ROCKWELL SABRELINER GEJ85             NM ",0,0]
["T41 "," CESSNA 172 O-320-E2D                  NM ",0,0]
["T42 "," BEECH BARON (BE55)                    NM ",5500,0]
["T-43A "," BOEING 737 T43A                       NM ",0,0]
["T44 "," T44                                   NM ",0,0]
["TORNAD "," RB199-34R                             NM ",45000,0]
["TR1 "," J75-P-13B                             NM ",40000,0]
["U2 "," LOCKHEED U2 J75-P-13                  NM ",40000,0]
["U21 "," BEECH UTE PW PT6A-20                  NM ",12500,0]
["U6 "," DEHAVILLAND BEAVER PW R-985 DHC-2     NM ",0,0]
["U8F "," BEECH SEMINOLE 0-480-1 D50            NM ",0,0]

{"sheet":"aircraft sub","index":2,"n_rows":739,"n_cols":2,"rows_kept":739,"cut":false,"hidden":false,"merged":[]}
["Aircraft Airframe Model","ANP Aircraft Type"]
["BAE Jetstream 1","1900D"]
["BAE Jetstream 200 Series","1900D"]
["Raytheon Beech 1900-C","1900D"]
["Raytheon Beech 1900-D","1900D"]
["Boeing 707-300 Series","707"]
["Boeing 707-100 Series","707120"]
["Boeing 707-300 Series","707120"]
["Antonov 124 Ruslan","707320"]
["Boeing 707-300 Series","707320"]
["Ilyushin 62 Classic","707320"]
["Boeing 707-300 Series","707QN"]
["Boeing 717-200 Series","717200"]
["Boeing 720","720"]
["Boeing 720","720B"]
["Boeing 727-100 Series","727100"]
["Boeing 727-100 Series Freighter","727100"]
["Yakovlev 42 Clobber","727100"]
["Boeing 727-200 Series","727200"]
["Boeing 727-200 Series Freighter","727200"]
["Boeing 727-200 Series","727D15"]
["Boeing 727-200 Series Freighter","727D15"]
["Boeing 727-200 Series","727D17"]
["Boeing 727-200 Series Freighter","727D17"]
["Tupolev 154 Careless","727D17"]
["Boeing 727-100 Series","727EM1"]
["Boeing 727-100 Series Freighter","727EM1"]
["Boeing 727-200 Series Freighter","727EM1"]
["Boeing 727-200 Series","727EM2"]
["Boeing 727-200 Series Freighter","727EM2"]
["Boeing 727-200 Series Super 27","727EM2"]
["Dassault Mercure 100","727EM2"]
["Boeing 727-100 Series","727Q15"]
["Boeing 727-100 Series Freighter","727Q15"]
["Boeing 727-100 Series","727Q7"]
["Boeing 727-100 Series Freighter","727Q7"]
["Boeing 727-200 Series","727Q9"]
["Boeing 727-200 Series Freighter","727Q9"]
["Boeing 727-100 Series","727QF"]
["Boeing 727-100 Series Freighter","727QF"]
["Boeing 737-100 Series","737"]
["Boeing 737-200 Series","737"]
["Boeing 737-200 Series Freighter","737"]
["Boeing 737-300 Series","737300"]
["Boeing 737-300 Series Freighter","737300"]
["Boeing 737-300 Series","7373B2"]
["Boeing 737-300 Series ANP:7373B2","7373B2"]
["Boeing 737-400 Series","737400"]
["Boeing 737-400 Series Freighter","737400"]
["Boeing 737-500 Series","737500"]
["RRJ-95","737500"]
["Antonov 148-100A","737700"]
["Antonov 148-100B","737700"]
["Antonov 148-100E","737700"]
["BD-500-1A10-CS100","737700"]
["BD-500-1A11-CS300","737700"]
["Boeing 737-600 Series","737700"]
["Boeing 737-700 MAX","737700"]
["Boeing 737-700 Series","737700"]
["Boeing 737-700 with winglets","737700"]
["Boeing 737-900 Series","737700"]
["Boeing 737-900-ER","737700"]
["Bombardier CS-100","737700"]
["Bombardier CS-300","737700"]
["MC-21-200","737700"]
["SMR80","737700"]
["Boeing 737-800 MAX","737800"]
["Boeing 737-800 Series","737800"]
["Boeing 737-800 Short Field Package-Next Gen","737800"]
["Boeing 737-800 with winglets","737800"]
["Boeing 737-900 MAX","737800"]
["Boeing 737-900 Series","737800"]
["Boeing 737-900-ER","737800"]
["Boeing 737-900-ER with winglets","737800"]
["Boeing Business Jet (BBJ)","737800"]
["Boeing Business Jet II","737800"]
["MC-21-300","737800"]
["SMR100","737800"]
["Boeing 737-100 Series","737D17"]
["Boeing 737-200 Series","737D17"]
["Boeing 737-200 Series Freighter","737D17"]
["Boeing 737-100 Series","737N17"]
["Boeing 737-200 Series","737N17"]
["Boeing 737-200 Series Freighter","737N17"]
["Boeing 737-100 Series","737N9"]
["Boeing 737-200 Series","737N9"]
["Boeing 737-200 Series Freighter","737N9"]
["Boeing 737-100 Series","737QN"]
["Boeing 747-100 Series","747100"]
["Boeing 747-100 Series","74710Q"]
["Boeing 747-100 Series Freighter","74710Q"]
["Boeing 747-100SR","74710Q"]
["Boeing 747-200 Series","747200"]
["Boeing 747-200 Series Freighter","747200"]
["Boeing 747-300 Series","747200"]
["Ilyushin 96","747200"]
["Boeing 747-200 Series","74720A"]
["Boeing 747-200 Series Freighter","74720A"]
["Boeing 747-300 Series","74720A"]
["Antonov 124 Ruslan","74720B"]
["Boeing 747-200 Series","74720B"]
["Boeing 747-200 Series Freighter","74720B"]
["Boeing 747-300 Series","74720B"]
["Boeing 747-300 Series Freighter","74720B"]
["Antonov 225","747400"]
["Boeing 747-400 ER","747400"]
["Boeing 747-400 Series","747400"]
["Boeing 747-400 Series Freighter","747400"]
["7478","7478"]
["Boeing 747-800 Freighter","7478"]
["Boeing 747-SP","747SP"]
["Boeing 757-300 Series","757300"]
["Boeing 757-200 Series","757PW"]
["Boeing 757-200 Series Freighter","757PW"]
["Boeing 757-200 Series","757RR"]
["Boeing 757-200 Series Freighter","757RR"]
["Tupolev 204","757RR"]
["Tupolev 204 Freighter","757RR"]
["Tupolev 204 SM","757RR"]
["Tupolev 214","757RR"]
["Boeing 767-200 ER","767300"]
["Boeing 767-200 Series","767300"]
["Boeing 767-200 Series Freighter","767300"]
["Boeing 767-300 ER","767300"]
["Boeing 767-300 ER Freighter","767300"]
["Boeing 767-300 Series","767300"]
["Boeing 767-400","767400"]
["Boeing 767-400 ER","767400"]
["Boeing 767-200 Series","767CF6"]
["Boeing 767-200 Series Freighter","767CF6"]
["Boeing 767-300 Series","767CF6"]
["Boeing 767-200 Series","767JT9"]
["Boeing 767-200 Series Freighter","767JT9"]
["Boeing 777 Freighter","777200"]
["Boeing 777-200 Series","777200"]
["Boeing 777-200-ER","777200"]
["Boeing 777 Freighter","777300"]
["Boeing 777-200-ER","777300"]
["Boeing 777-200-LR","777300"]
["Boeing 777-300 Series","777300"]
["Boeing 777-300 ER","7773ER"]
["Boeing 777-9X","7773ER"]
["B787-8R","7878R"]
["Boeing 787-10 Dreamliner","7878R"]
["Boeing 787-900 Dreamliner","7878R"]
["Airbus A300B4-100 Series","A300-622R"]
["Airbus A300B4-600 Series","A300-622R"]
["Airbus A300F4-600 Series","A300-622R"]
["Airbus A300B2-100 Series","A300B4-203"]
["Airbus A300B2-200 Series","A300B4-203"]
["Airbus A300B2-300 Series","A300B4-203"]
["Airbus A300B4-100 Series","A300B4-203"]
["Airbus A300B4-200 Series","A300B4-203"]
["Airbus A300B4-600 Series","A300B4-203"]
["Airbus A300C4-200 Series","A300B4-203"]
["Airbus A300C4-600 Series","A300B4-203"]
["Airbus A300F4-200 Series","A300B4-203"]
["Airbus A300F4-600ST Beluga","A300B4-203"]
["Ilyushin 76 Candid","A300B4-203"]
["Airbus A310-200 Series","A310-304"]
["Airbus A310-200 Series Freighter","A310-304"]
["Airbus A310-300 Series","A310-304"]
["Airbus A318-100 Series","A319-131"]
["Airbus A319-100 Series","A319-131"]
["Airbus A319-100 X/LR","A319-131"]
["Airbus A319-NEO","A319-131"]
["Airbus A320-100 Series","A320-211"]
["Airbus A320-200 Series","A320-211"]
["Airbus A320-NEO","A320-211"]
["Comac C919ER","A320-211"]
["Airbus A320-200 Series","A320-232"]
["Airbus A320-NEO","A320-232"]
["Airbus A321-100 Series","A321-232"]
["Airbus A321-200 Series","A321-232"]
["Airbus A321-NEO","A321-232"]
["Airbus A330-200 Series","A330-301"]
["Airbus A330-200 Series Freighter","A330-301"]
["Airbus A330-300 Series","A330-301"]
["Airbus A330-200 Series","A330-343"]
["Airbus A330-200 Series Freighter","A330-343"]
["Airbus A330-300 Series","A330-343"]
["Airbus A330-800-NEO","A330-343"]
["Airbus A330-900-NEO","A330-343"]
["Airbus A340-200 Series","A340-211"]
["Airbus A340-300 Series","A340-211"]
["Airbus A340-500 Series","A340-211"]
["Airbus A350-800 Series","A340-211"]
["Airbus A350-900 series","A340-211"]
["Ilyushin 76 Candid","A340-211"]
["Ilyushin 76 Candid Freighter","A340-211"]
["Ilyushin 96","A340-211"]
["Ilyushin 96 Freighter","A340-211"]
["Airbus A340-500 Series","A340-642"]
["Airbus A340-600 Series","A340-642"]
["Airbus A350-1000 Series","A340-642"]
["Airbus A380-800 Series/Trent 970","A380-841"]
["Airbus A380-800 Series/Trent 970","A380-861"]
["A-7E Corsair","A7D"]
["LTV A-7 Corsair II","A7D"]
["BAC 1-11 200","BAC111"]
["BAC 1-11 300/400","BAC111"]
["BAC 1-11 475","BAC111"]
["BAC 1-11 500","BAC111"]
["Avro RJ-100","BAE146"]
["Avro RJ-70","BAE146"]
["Avro RJ-85","BAE146"]
["BAE 146-100","BAE146"]
["BAE 146-100QT Quiet Trader","BAE146"]
["BAE 146-200","BAE146"]
["BAE 146-200QT Quiet Trader","BAE146"]
["BAE 146-RJ100","BAE146"]
["BAE 146-RJ115","BAE146"]
["BAE 146-RJ70","BAE146"]
["BAE 146-RJ85","BAE146"]
["BAE Nimrod MRA4","BAE146"]
["BAE 146-300","BAE300"]
["BAE 146-300QT Quiet Trader","BAE300"]
["Aerostar PA-60","BEC58P"]
["Britten-Norman BN-2 Islander","BEC58P"]
["Britten-Norman BN-2A Mk III Trislander","BEC58P"]
["Cessna 310","BEC58P"]
["Cessna 337 Skymaster","BEC58P"]
["Cessna 340","BEC58P"]
["Cessna 402","BEC58P"]
["Cessna 404 Titan II","BEC58P"]
["Cessna 414","BEC58P"]
["Cessna 421 Golden Eagle","BEC58P"]
["Piper PA-23 Apache/Aztec","BEC58P"]
["Piper PA-27 Aztec","BEC58P"]
["Piper PA-31 Navajo","BEC58P"]
["Piper PA-34 Seneca","BEC58P"]
["Raytheon Beech 55 Baron","BEC58P"]
["Raytheon Beech 60 Duke","BEC58P"]
["Raytheon Beech Baron 58","BEC58P"]
["Rockwell Commander 500","BEC58P"]
["Rockwell Commander 680","BEC58P"]
["Rockwell Commander 700","BEC58P"]
["Aero Spacelines Super Guppy","C130"]
["Antonov 12 Cub","C130"]
["Grumman E-2 Hawkeye","C130"]
["Ilyushin 18 Clam","C130"]
["Lockheed C-130 Hercules","C130"]
["Lockheed P-3 Orion","C130"]
["Lockheed C-130 Hercules","C130E"]
["Cessna 650 Citation III","CIT3"]
["Bombardier Challenger 300","CL600"]
["Bombardier Challenger 600","CL600"]
["Bombardier Challenger 604","CL600"]
["Bombardier Challenger 605","CL600"]
["Bombardier Challenger 850","CL600"]
["Bombardier CRJ-100","CL600"]
["Bombardier CRJ-200","CL600"]
["Bombardier CRJ-200-ER","CL600"]
["Bombardier CRJ-200-LR","CL600"]
["Bombardier CRJ-400","CL600"]
["Bombardier CRJ-400-LR","CL600"]
["Fokker (VFW) 614","CL600"]
["Gulfstream G200","CL600"]
["Bombardier Challenger 601","CL601"]
["Bombardier Challenger 602","CL601"]
["Aviat Husky A1B","CNA172"]
["Cessna 172 Skyhawk","CNA172"]
["Lancair 360","CNA172"]
["Rans S7S","CNA172"]
["Raytheon Beech D17S Staggerwing","CNA172"]
["Cessna 182","CNA182"]
["Cessna 182 Float","CNA182FLT"]
["Cessna 206","CNA206"]
["Cessna 208 Caravan","CNA208"]
["EADS Socata TBM-700","CNA208"]
["Pilatus PC-12","CNA208"]
["Raytheon Beech Bonanza 36","CNA208"]
["Cessna 206","CNA20T"]
["Cessna 425 Conquest I","CNA441"]
["Cessna 441 Conquest II","CNA441"]
["COMMANDER980/1000","CNA441"]
["Piper PA-31T Cheyenne","CNA441"]
["Piper PA46-TP Meridian","CNA441"]
["SOCATA TBM 850","CNA441"]
["Cessna 500 Citation I","CNA500"]
["Cessna 501 Citation ISP","CNA500"]
["Cessna 525 CitationJet","CNA500"]
["Cessna 525A CitationJet","CNA500"]
["Cessna 525B CitationJet","CNA500"]
["Cessna 525C CitationJet","CNA500"]
["Raytheon Beechjet 400","CNA500"]
["Raytheon Premier I","CNA500"]
["CESSNA CITATION 510","CNA510"]
["Embraer 500","CNA510"]
["Cessna 525 CitationJet","CNA525C"]
["Cessna 525B CitationJet","CNA525C"]
["Cessna 525C CitationJet","CNA525C"]
["Aerospatiale SN 601 Corvette","CNA55B"]
["Cessna 550 Citation II","CNA55B"]
["Cessna 551 Citation IISP","CNA55B"]
["Cessna 552 T-47A","CNA55B"]
["Cessna 560 Citation XLS","CNA55B"]
["Cessna S550 Citation S/II","CNA55B"]
["Embraer 505","CNA55B"]
["Raytheon Premier I","CNA55B"]
["Cessna 560 Citation V","CNA560E"]
["Cessna 560 Citation Excel","CNA560U"]
["Cessna 560 Citation V","CNA560U"]
["Cessna 560 Citation XLS","CNA560XL"]
["Cessna 680 Citation Sovereign","CNA680"]
["Cessna 750 Citation X","CNA680"]
["CX 680 SOVEREIGN","CNA680"]
["Bombardier Learjet 60","CNA750"]
["Cessna 750 Citation X","CNA750"]
["CX 750 Citation X+","CNA750"]
["Dassault Falcon 200","CNA750"]
["Dassault Falcon 2000","CNA750"]
["Dassault Falcon 2000-EX","CNA750"]
["Dassault Falcon 2000-LX","CNA750"]
["Dassault Falcon 900-EX","CNA750"]
["Dassault Falcon 900-LX","CNA750"]
["Dornier 328 Jet","CNA750"]
["Falcon 7X","CNA750"]
["Falcon 900DX","CNA750"]
["Gulfstream G200","CNA750"]
["Raytheon Hawker 4000 Horizon","CNA750"]
["1985 BUSINESS JET","COMJET"]
["Dassault Falcon 50","COMJET"]
["Dassault Falcon 50-EX","COMJET"]
["Dassault Falcon 900","COMJET"]
["Dassault Falcon 900-B","COMJET"]
["Dassault Falcon 900-C","COMJET"]
["Dassault Falcon 900-EX","COMJET"]
["Falcon 7X","COMJET"]
["Falcon 900DX","COMJET"]
["1985 1-ENG COMP","COMSEP"]
["Cirrus SR20","COMSEP"]
["Cirrus SR22","COMSEP"]
["Aerospatiale Concorde","CONCRD"]
["Bombardier CRJ-100","CRJ9-ER"]
["Bombardier CRJ-1000","CRJ9-ER"]
["Bombardier CRJ-100-LR","CRJ9-ER"]
["Bombardier CRJ-200","CRJ9-ER"]
["Bombardier CRJ-200-ER","CRJ9-ER"]
["Bombardier CRJ-700","CRJ9-ER"]
["Bombardier CRJ-700-ER","CRJ9-ER"]
["Bombardier CRJ-900","CRJ9-ER"]
["Bombardier CRJ-900-ER","CRJ9-ER"]
["Bombardier CRJ-700-LR","CRJ9-LR"]
["Bombardier CRJ-705-LR","CRJ9-LR"]
["Antonov 32 Cline","CVR580"]
["Antonov 38-100","CVR580"]
["Antonov 38-110","CVR580"]
["Antonov 38-120","CVR580"]
["Antonov 70","CVR580"]
["Bombardier de Havilland Dash 8 Q400","CVR580"]
["Convair CV-580","CVR580"]
["Convair CV-640","CVR580"]
["Vickers Vanguard","CVR580"]
["Boeing DC-10-10 Series","DC1010"]
["Boeing MD-10-1","DC1010"]
["Boeing MD-10-1 Freighter","DC1010"]
["Boeing DC-10-30 Series","DC1030"]
["Boeing DC-10-30ER","DC1030"]
["Boeing MD-10-30","DC1030"]
["Boeing DC-10-40 Series","DC1040"]
["Boeing DC-3","DC3"]
["Grumman G-73 Mallard","DC3"]
["Boeing DC-6","DC6"]
["Boeing DC-8 Series 60","DC820"]
["DC-8-20/JT4A","DC820"]
["Boeing DC-8 Series 50","DC850"]
["Boeing DC-8 Series 60","DC860"]
["Boeing DC-8 Series 60 Freighter","DC860"]
["Boeing DC-8 Series 70","DC860"]
["Boeing DC-8 Series 70","DC870"]
["Boeing DC-8 Series 70 Freighter","DC870"]
["Ilyushin 86 Camber","DC870"]
["Boeing DC-8 Series 60","DC8QN"]
["Aerospatiale Caravelle 10","DC910"]
["Boeing DC-9-10 Series","DC910"]
["Boeing DC-9-10 Series Freighter","DC910"]
["Boeing DC-9-20 Series","DC910"]
["Aerospatiale Caravelle 12","DC930"]
["Antonov 72 Coaler","DC930"]
["Antonov 72 Coaler Freighter","DC930"]
["Antonov 74 Coaler","DC930"]
["Antonov 74 Coaler Freighter","DC930"]
["Boeing DC-9-30 Series","DC930"]
["Boeing DC-9-30 Series ANP:DC930","DC930"]
["Boeing DC-9-30 Series Freighter","DC930"]
["Tupolev 134 Crusty","DC930"]
["Boeing DC-9-10 Series","DC93LW"]
["Boeing DC-9-10 Series Freighter","DC93LW"]
["Boeing DC-9-20 Series","DC93LW"]
["Boeing DC-9-30 Series","DC93LW"]
["Boeing DC-9-30 Series Freighter","DC93LW"]
["Boeing DC-9-40 Series","DC93LW"]
["Boeing DC-9-40 Series Freighter","DC950"]
["Boeing DC-9-50 Series","DC950"]
["Boeing DC-9-30 Series","DC95HW"]
["Boeing DC-9-30 Series Freighter","DC95HW"]
["Boeing DC-9-40 Series","DC95HW"]
["Boeing DC-9-40 Series Freighter","DC95HW"]
["Boeing DC-9-50 Series","DC95HW"]
["Boeing DC-9-50 Series","DC9Q7"]
["Boeing DC-9-30 Series","DC9Q9"]
["Boeing DC-9-30 Series Freighter","DC9Q9"]
["Boeing DC-9-40 Series","DC9Q9"]
["Boeing DC-9-40 Series Freighter","DC9Q9"]
["DeHavilland DHC-2 Mk III Beaver Float","DHC-2FLT"]
["American Jet Hustler 400 A","DHC6"]
["Antonov AN28 Cash","DHC6"]
["Austrailia GAF N22/24 Nomad","DHC6"]
["Ayres Turbo Thrush T-65","DHC6"]
["BAE Jetstream 31","DHC6"]
["BAE Jetstream 32","DHC6"]
["BAE Jetstream 32-EP","DHC6"]
["Bombardier CL-415","DHC6"]
["C-26A","DHC6"]
["CASA 212-100 Series","DHC6"]
["CASA 212-200 Series","DHC6"]
["CASA 212-300 Series","DHC6"]
["CASA 212-400 Series","DHC6"]
["DeHavilland DHC-6-100 Twin Otter","DHC6"]
["DeHavilland DHC-6-200 Twin Otter","DHC6"]
["DeHavilland DHC-6-300 Twin Otter","DHC6"]
["Dornier 128 Skyservant","DHC6"]
["Dornier 228-100 Series","DHC6"]
["Embraer 312 Tucano","DHC6"]
["Embraer EMB110 Bandeirante","DHC6"]
["Equator P-550 Turbo","DHC6"]
["Fairchild Metro IVC","DHC6"]
["Fairchild SA-226-T Merlin III","DHC6"]
["Fairchild SA-226-TC Metro II","DHC6"]
["Fairchild SA-227-AC Metro III","DHC6"]
["Fairchild SA-227-AT Expeditor","DHC6"]
["Fairchild SA-26-T Merlin II","DHC6"]
["Grumman C-1 Trader","DHC6"]
["Grumman G-21G Goose","DHC6"]
["Grumman S-2E Tracker","DHC6"]
["Harbin Y-12","DHC6"]
["Israel IAI-101 Arava","DHC6"]
["Israel IAI-201 Arava","DHC6"]
["Let 410","DHC6"]
["Let 410-UVP","DHC6"]
["Let 420 Tubolet","DHC6"]
["Mitsubishi MU-2","DHC6"]
["Neiva NE-821 Caraja","DHC6"]
["Piaggio P.180 Avanti","DHC6"]
["Piaggio P-166","DHC6"]
["Pilatus PC-6 Porter","DHC6"]
["PZL M-28 Skytruck","DHC6"]
["Raytheon Beech 18","DHC6"]
["Raytheon Beech 99","DHC6"]
["Raytheon C-12 Huron","DHC6"]
["Raytheon King Air 100","DHC6"]
["Raytheon King Air 90","DHC6"]
["Raytheon Starship 2000","DHC6"]
["Raytheon Super King Air 200","DHC6"]
["Raytheon Super King Air 300","DHC6"]
["Reims-Cessna 406 Caravan II","DHC6"]
["Rockwell Commander 690","DHC6"]
["Shorts Skyvan SC7-3-1","DHC6"]
["Shorts Skyvan SC7-3-2","DHC6"]
["Shorts Skyvan SC7-3A-1","DHC6"]
["SIAI-Marchetti SF-600 Canguro","DHC6"]
["Xian Yunshuji Y-7","DHC6"]
["Yakovlev 40 Codling","DHC6"]
["DeHavilland DHC-6-300 Twin Otter","DHC6QP"]
["DeHavilland DHC-7 Dash 7","DHC7"]
["Antonov 24 Coke","DHC8"]
["Antonov 26 Curl","DHC8"]
["Antonov 30 Clank","DHC8"]
["Antonov 32 Cline","DHC8"]
["Antonov 38-100","DHC8"]
["Antonov 38-110","DHC8"]
["Antonov 38-120","DHC8"]
["ATR 42-200","DHC8"]
["ATR 42-300","DHC8"]
["ATR 42-320","DHC8"]
["ATR 42-400","DHC8"]
["ATR 42-500","DHC8"]
["Bombardier de Havilland Dash 8 Q100","DHC8"]
["CASA 295","DHC8"]
["Convair CV-440","DHC8"]
["DeHavilland DHC-8-100","DHC8"]
["Antonov 140","DHC830"]
["ATR 42-400","DHC830"]
["ATR 42-500","DHC830"]
["ATR 72-200","DHC830"]
["Bombardier de Havilland Dash 8 Q200","DHC830"]
["Bombardier de Havilland Dash 8 Q300","DHC830"]
["Bombardier de Havilland Dash 8 Q400","DHC830"]
["DeHavilland DHC-8-200","DHC830"]
["DeHavilland DHC-8-300","DHC830"]
["Ilyushin 114","DHC830"]
["Ilyushin 114-100","DHC830"]
["Ilyushin 114-300","DHC830"]
["Dornier 228-200 Series","DO228"]
["Dornier 328-100 Series","DO328"]
["Eclipse 500 / PW610F","ECLIPSE500"]
["Embraer EMB120 Brasilia","EMB120"]
["Embraer ERJ135","EMB145"]
["Embraer ERJ135 Legacy Business","EMB145"]
["Embraer ERJ135-ER","EMB145"]
["Embraer ERJ135-LR","EMB145"]
["Embraer ERJ140","EMB145"]
["Embraer ERJ145","EMB145"]
["Embraer ERJ145-EP","EMB145"]
["Embraer ERJ145-ER","EMB145"]
["Embraer ERJ145-EU","EMB145"]
["Embraer ERJ145-LU","EMB145"]
["Embraer ERJ145-MP","EMB145"]
["Embraer ERJ145-XR","EMB145"]
["Embraer Legacy","EMB145"]
["Embraer ERJ140-LR","EMB14L"]
["Embraer ERJ145-ER","EMB14L"]
["Embraer ERJ145-EU","EMB14L"]
["Embraer ERJ145-LR","EMB14L"]
["Embraer ERJ145-LU","EMB14L"]
["Embraer ERJ145-MP","EMB14L"]
["Antonov 148-100A","EMB170"]
["Antonov 148-100B","EMB170"]
["Antonov 148-100E","EMB170"]
["Antonov 158","EMB170"]
["Embraer ERJ170","EMB170"]
["Embraer ERJ170-AR","EMB170"]
["Embraer ERJ170-LR","EMB170"]
["MRJ70","EMB170"]
["Embraer ERJ175","EMB175"]
["Embraer ERJ175-E2","EMB175"]
["Embraer ERJ175-LR","EMB175"]
["MRJ90","EMB175"]
["Embraer 1000","EMB190"]
["Embraer ERJ190","EMB190"]
["Embraer ERJ190-AR","EMB190"]
["Embraer ERJ190-E2","EMB190"]
["Embraer ERJ190-LR","EMB190"]
["RRJ-95","EMB190"]
["RRJ95-LR","EMB190"]
["Embraer ERJ195","EMB195"]
["Embraer ERJ195-E2","EMB195"]
["Embraer ERJ195-LR","EMB195"]
["Fokker F100","F10062"]
["Fokker F70","F10062"]
["Fokker F100","F10065"]
["Tupolev Tu-330","F10065"]
["Fokker F28-1000 Series","F28MK2"]
["Fokker F28-2000 Series","F28MK2"]
["Fokker F28-3000 Series","F28MK2"]
["Fokker F28-4000 Series","F28MK4"]
["LMAASA (FMA) IA-63 Pampa","F4C"]
["Lockheed ES-3A Shadow","F4C"]
["McDonnell Douglas F-4 Phantom II","F4C"]
["Dassault Falcon 20-C","FAL20"]
["Dassault Falcon 20-D","FAL20"]
["Dassault Falcon 20-E","FAL20"]
["Dassault Falcon 20-F","FAL20"]
["Dassault Falcon 20-G","FAL20"]
["Hawker HS-125 Series 700","FAL20"]
["Raytheon Hawker 800","FAL20"]
["Cessna 150 Series","GASEPF"]
["EADS Socata TB-9 Tampico","GASEPF"]
["Pilatus Turbo Trainer PC-9","GASEPF"]
["Piper PA-28 Cherokee Series","GASEPF"]
["Piper PA46-TP Meridian","GASEPF"]
["Robin DR 400","GASEPF"]
["Robin R 2160 Alpha Sport","GASEPF"]
["Robin R 3000","GASEPF"]
["Air Tractor 802","GASEPV"]
["Air Tractor AT-502","GASEPV"]
["Air Tractor AT-502A","GASEPV"]
["Air Tractor AT-502B","GASEPV"]
["Air Tractor AT-602","GASEPV"]
["Ayres S2R-T34 Turbo-Thrush","GASEPV"]
["Boeing Stearman PT-17 / A75N1","GASEPV"]
["Cessna 206","GASEPV"]
["Cessna 210 Centurion","GASEPV"]
["DeHavilland DHC-2 Mk III Beaver","GASEPV"]
["DeHavilland DHC-3 Otter ANP:GASEPV","GASEPV"]
["EADS Socata TB-10 Tobago","GASEPV"]
["EADS Socata TB-20 Trinidad","GASEPV"]
["EADS Socata TBM-700","GASEPV"]
["Helio U-10 Super Courier","GASEPV"]
["Maule MT-7-235","GASEPV"]
["Mooney M20-K","GASEPV"]
["Piper PA-24 Comanche","GASEPV"]
["Piper PA-32 Cherokee Six","GASEPV"]
["Ryan Navion B","GASEPV"]
["Ryan Navion F","GASEPV"]
["Ryan ST3KR","GASEPV"]
["Spencer S-12 Air Car","GASEPV"]
["Gulfstream II","GII"]
["Gulfstream II-B","GIIB"]
["Gulfstream II-SP","GIIB"]
["Falcon 7X","GIV"]
["Gulfstream G300","GIV"]
["Gulfstream G350","GIV"]
["Gulfstream G400","GIV"]
["Gulfstream G450","GIV"]
["Gulfstream IV-SP","GIV"]
["Bombardier Global 6000 Business","GV"]
["Bombardier Global Express","GV"]
["Bombardier Global Express Business","GV"]
["GULFSTREAM AEROSPACE Gulfstream G650","GV"]
["Gulfstream G500","GV"]
["Gulfstream G550","GV"]
["Gulfstream V-SP","GV"]
["ATR 72-200","HS748A"]
["ATR 72-500","HS748A"]
["BAE Jetstream 61 ATP","HS748A"]
["Fairchild Hiller FH-227","HS748A"]
["Fokker F27 Friendship","HS748A"]
["Fokker F27-100 Series","HS748A"]
["Fokker F27-200 Series","HS748A"]
["Fokker F27-300 Series","HS748A"]
["Fokker F27-400 Series","HS748A"]
["Fokker F27-500 Series","HS748A"]
["Fokker F27-600 Series","HS748A"]
["Fokker F27-700 Series","HS748A"]
["Fokker F50","HS748A"]
["Fokker F60","HS748A"]
["Gulfstream I","HS748A"]
["Hawker HS748-1","HS748A"]
["Hawker HS748-2","HS748A"]
["Hawker HS748-2A","HS748A"]
["Hawker HS748-2B","HS748A"]
["NAMC YS-11-100 Series","HS748A"]
["NAMC YS-11A-200 Series","HS748A"]
["NAMC YS-11A-300 Series","HS748A"]
["NAMC YS-11A-400 Series","HS748A"]
["NAMC YS-11A-500 Series","HS748A"]
["NAMC YS-11A-600 Series","HS748A"]
["NAMC YS-11A-700 Series","HS748A"]
["Nord Transall C-160","HS748A"]
["Saab 2000","HS748A"]
["Gulfstream G100","IA1125"]
["Gulfstream G150","IA1125"]
["Gulfstream G280","IA1125"]
["Hawker 900XP","IA1125"]
["Hawker HS-125 Series 700","IA1125"]
["Israel IAI-1121 Commodore","IA1125"]
["Israel IAI-1123","IA1125"]
["Israel IAI-1124 Westwind I","IA1125"]
["Israel IAI-1124-A Westwind II","IA1125"]
["Israel IAI-1125 Astra","IA1125"]
["Israel IAI-1126 Galaxy","IA1125"]
["Raytheon Hawker 800","IA1125"]
["Rockwell 1121 Jet Commander","IA1125"]
["Rockwell 1121A Jet Commander-A","IA1125"]
["Rockwell 1121B Jet Commander-B","IA1125"]
["Boeing KC-135 Stratotanker","KC135"]
["Boeing KC-135 Stratotanker","KC135B"]
["Boeing KC-135 Stratotanker","KC135R"]
["Lockheed L-1011 Tristar","L1011"]
["Lockheed L-1011-1 Tristar","L1011"]
["Lockheed L-1011-100 Tristar","L1011"]
["Lockheed L-1011 Tristar","L10115"]
["Lockheed L-1011-200 Tristar","L10115"]
["Lockheed L-1011-250 Tristar","L10115"]
["Lockheed L-1011-500 Tristar","L10115"]
["Lockheed L-188 Electra","L188"]
["Bombardier Learjet 23","LEAR25"]
["Bombardier Learjet 24","LEAR25"]
["Bombardier Learjet 24-XR","LEAR25"]
["Bombardier Learjet 25","LEAR25"]
["Bombardier Learjet 25-XR","LEAR25"]
["Bombardier Learjet 28","LEAR25"]
["Bombardier Learjet 29","LEAR25"]
["CASA C-101 Aviojet","LEAR25"]
["Dassault Falcon 10","LEAR25"]
["Lockheed L-1329 Jetstar I","LEAR25"]
["Raytheon Beechjet 400","LEAR25"]
["Rockwell Sabreliner 40","LEAR25"]
["Rockwell Sabreliner 50","LEAR25"]
["Rockwell Sabreliner 60","LEAR25"]
["Rockwell Sabreliner 75","LEAR25"]
["Bombardier Learjet 31","LEAR35"]
["Bombardier Learjet 35","LEAR35"]
["Bombardier Learjet 35A/36A (C-21A)","LEAR35"]
["Bombardier Learjet 36","LEAR35"]
["Bombardier Learjet 40","LEAR35"]
["Bombardier Learjet 45","LEAR35"]
["Bombardier Learjet 45-XR","LEAR35"]
["Bombardier Learjet 55","LEAR35"]
["Bombardier Learjet 60","LEAR35"]
["Bombardier Learjet 70","LEAR35"]
["Bombardier Learjet 75","LEAR35"]
["Dassault Falcon 10","LEAR35"]
["Dassault Falcon 100","LEAR35"]
["Hawker 900XP","LEAR35"]
["Hawker HS-125 Series 1","LEAR35"]
["Hawker HS-125 Series 3","LEAR35"]
["Hawker HS-125 Series 400","LEAR35"]
["Hawker HS-125 Series 600","LEAR35"]
["Lockheed L-1329 Jetstar I","LEAR35"]
["Lockheed L-1329 Jetstar II","LEAR35"]
["Raytheon Hawker 1000","LEAR35"]
["Raytheon Hawker 900","LEAR35"]
["Raytheon Hawker C-29A","LEAR35"]
["Rockwell Sabreliner 65","LEAR35"]
["Boeing MD-11","MD11GE"]
["Boeing MD-11 Freighter","MD11GE"]
["Boeing MD-11-ER","MD11GE"]
["Boeing MD-11","MD11PW"]
["Boeing MD-11 Freighter","MD11PW"]
["Boeing MD-11-ER","MD11PW"]
["Boeing MD-81","MD81"]
["Boeing MD-87","MD81"]
["Boeing MD-82","MD82"]
["Boeing MD-83","MD83"]
["Boeing MD-87","MD83"]
["Boeing MD-88","MD83"]
["Boeing MD-90","MD9025"]
["Boeing MD-90","MD9028"]
["Mitsubishi MU-300 Diamond","MU3001"]
["Raytheon Premier I","MU3001"]
["Piper PA-28 Cherokee Series","PA28"]
["Partenavia P.68 Victor","PA30"]
["Piper PA-30 Twin Comanche","PA30"]
["Britten-Norman BN-2 Islander","PA31"]
["Cessna 208 Caravan","PA42"]
["Piper PA-42 Cheyenne Series","PA42"]
["Rockwell Sabreliner 80","SABR80"]
["Aerospatiale N 262","SD330"]
["Antonov 32 Cline","SD330"]
["Antonov 38-100","SD330"]
["Antonov 38-110","SD330"]
["Antonov 38-120","SD330"]
["Shorts 330","SD330"]
["Shorts 330-100 Series","SD330"]
["Shorts 330-200 Series","SD330"]
["Shorts 360-100 Series","SD330"]
["Shorts 360-200 Series","SD330"]
["Shorts 360-300 Series","SD330"]
["Shorts SC.5 Belfast","SD330"]
["BAE Jetstream 41","SF340"]
["CASA CN-235-100","SF340"]
["CASA CN-235-200","SF340"]
["CASA CN-235-300","SF340"]
["Saab 340-A","SF340"]
["Saab 340-B","SF340"]
["Saab 340-B-Plus","SF340"]

{"sheet":"a & b","index":3,"n_rows":249,"n_cols":27,"rows_kept":249,"cut":false,"hidden":true,"merged":[]}
["INM 5.2a",null,null,null,"INM 6.0b",null,null,null,"INM 6.0c",null,null,null,"INM 7.0",null,null,null,"INM 7.0c",null,null,null,"INM 7.0d",null,null,null,"AEDT 2c SP2"]
["Aircraft\nType","a","b",null,"Aircraft\nType","a","b",null,"Aircraft\nType","a","b",null,"Aircraft\nType","a","b",null,"Aircraft\nType","a","b",null,"Aircraft\nType","a","b",null,"Aircraft\nType","a","b"]
[707,0.3388137,0.65345779999999998,null,707,0.34832489999999999,0.65097459999999996,null,707,0.33602739999999998,0.65524199999999999,null,"1900D",2.522E-4,1.1665497,null,707,0.34623130000000002,0.67065379999999997,null,707,0.34623130000000002,0.67065379999999997,null,707,0.291876116229843,0.64972738926815998]
[707120,0.45312279999999999,0.64425690000000002,null,707120,0.46114959999999999,0.64560689999999998,null,707120,0.44944279999999998,0.64799810000000002,null,707,0.34623130000000002,0.67065379999999997,null,720,0.220162,0.68260909999999997,null,720,0.220162,0.68260909999999997,null,720,0.16239655266060099,0.68408895676454695]
[707320,0.59271759999999996,0.63967529999999995,null,707320,0.58498399999999995,0.6446712,null,707320,0.58446089999999995,0.64478789999999997,null,707120,0.49244009999999999,0.65423310000000001,null,737,0.20881620000000001,0.70745530000000001,null,737,0.20881620000000001,0.70745530000000001,null,737,0.15474161413041301,0.71023167907906903]
["707QN",0.35752070000000002,0.72829120000000003,null,"707QN",0.32623089999999999,0.73848780000000003,null,"707QN",0.32565430000000001,0.73881640000000004,null,707320,0.68023,0.64525220000000005,null,707120,0.49244009999999999,0.65423310000000001,null,707120,0.49244009999999999,0.65423310000000001,null,7478,2.29304007888105E-2,0.92496799939844898]
[720,0.21048649999999999,0.66866800000000004,null,720,0.2161062,0.66731799999999997,null,717200,8.4633999999999994E-3,0.80255449999999995,null,"707QN",0.37181330000000001,0.75073789999999996,null,707320,0.68023,0.64525220000000005,null,707320,0.68023,0.64525220000000005,null,707120,0.36994793502615603,0.65358808466971696]
["720B",0.34118199999999999,0.61808629999999998,null,"720B",0.34038760000000001,0.62060930000000003,null,720,0.20823530000000001,0.6716164,null,717200,5.5567000000000004E-3,0.85803549999999995,null,717200,5.5567000000000004E-3,0.85803549999999995,null,717200,5.5567000000000004E-3,0.85803549999999995,null,707320,0.50407193525281402,0.64773930831111404]
[727100,0.34118199999999999,0.61808629999999998,null,727100,0.22641339999999999,0.70849119999999999,null,"720B",0.33987539999999999,0.62082740000000003,null,720,0.220162,0.68260909999999997,null,727100,0.20749400000000001,0.72347150000000005,null,727100,0.20749400000000001,0.72347150000000005,null,717200,2.1440197519448399E-2,0.62374758198313096]
[727200,0.29138049999999999,0.74434679999999998,null,727200,0.29954399999999998,0.74448219999999998,null,727100,0.2260762,0.70863569999999998,null,"720B",0.35320659999999998,0.64137770000000005,null,727200,0.28484080000000001,0.74548159999999997,null,727200,0.28484080000000001,0.74548159999999997,null,727100,0.20207587652480699,0.71008373202215302]
["727D15",0.52798959999999995,0.68744769999999999,null,"727D15",0.54183530000000002,0.6516788,null,727200,0.28794890000000001,0.74867910000000004,null,727100,0.20749400000000001,0.72347150000000005,null,737300,5.8618000000000003E-3,0.96602100000000002,null,737300,5.8618000000000003E-3,0.96602100000000002,null,727200,0.23811846974589301,0.72789141267241797]
["727D17",0.58392630000000001,0.66545620000000005,null,"727D17",0.56900770000000001,0.66962089999999996,null,"727D15",0.54092300000000004,0.6519182,null,727200,0.28484080000000001,0.74548159999999997,null,737400,9.7044000000000002E-3,0.93635990000000002,null,737400,9.7044000000000002E-3,0.93635990000000002,null,737300,9.8548501031744291E-3,0.843017806253893]
["727EM1",0.1042551,0.69364809999999999,null,"727EM1",0.1013725,0.69863969999999997,null,"727D17",0.56888119999999998,0.66964230000000002,null,"727D15",0.50230339999999996,0.66497589999999995,null,737500,6.6127E-3,0.95744209999999996,null,737500,6.6127E-3,0.95744209999999996,null,737400,1.08294290086451E-2,0.86614022716246997]
["727EM2",0.19533410000000001,0.70554760000000005,null,"727EM2",0.223639,0.65593829999999997,null,"727EM1",0.1011311,0.69891769999999998,null,"727D17",0.54070059999999998,0.67792359999999996,null,737700,1.0370799999999999E-2,0.94043390000000004,null,737700,1.0370799999999999E-2,0.94043390000000004,null,737500,1.12736581668625E-2,0.83146418148901402]
["727Q15",0.49307669999999998,0.68016089999999996,null,"727Q15",0.53122650000000005,0.63033459999999997,null,"727EM2",0.22270590000000001,0.65657909999999997,null,"727EM1",8.9806499999999997E-2,0.71773480000000001,null,737800,3.38947E-2,0.78675399999999995,null,737800,3.38947E-2,0.78675399999999995,null,737700,1.1213390913859599E-2,0.88338494836619597]
["727Q7",0.18367020000000001,0.70973379999999997,null,"727Q7",0.18104709999999999,0.71393589999999996,null,"727Q15",0.52993950000000001,0.63067879999999998,null,"727EM2",0.1976366,0.67580030000000002,null,747100,0.23026720000000001,0.75443280000000001,null,747100,0.23026720000000001,0.75443280000000001,null,737800,3.2341560822937897E-2,0.74897371218180497]
["727Q9",0.29727550000000003,0.70896300000000001,null,"727Q9",0.3118823,0.69767159999999995,null,"727Q7",0.180724,0.71413040000000005,null,"727Q15",0.49002099999999998,0.64420310000000003,null,747200,0.1086032,0.79864679999999999,null,747200,0.1086032,0.79864679999999999,null,747100,0.176135563822889,0.75031715543255895]
["727QF",4.9522799999999999E-2,0.70375109999999996,null,"727QF",4.6858999999999998E-2,0.71256980000000003,null,"727Q9",0.3116853,0.69771970000000005,null,"727Q7",0.1640385,0.7304079,null,747400,5.1952600000000002E-2,0.86897259999999998,null,747400,5.1952600000000002E-2,0.86897259999999998,null,747200,8.8262674480634906E-2,0.78647342867134096]
[737,0.17955950000000001,0.69890019999999997,null,737,0.18080270000000001,0.69987710000000003,null,"727QF",4.6673699999999999E-2,0.71297100000000002,null,"727Q9",0.28570909999999999,0.71209480000000003,null,757300,7.6860399999999995E-2,0.65391820000000001,null,7478,2.6771199999999998E-2,0.94733319999999999,null,747400,3.6633315093953497E-2,0.87911271124698598]
[737300,6.8557000000000002E-3,0.90175649999999996,null,737300,6.0194999999999997E-3,0.9206337,null,737,0.1805968,0.70001150000000001,null,"727QF",3.9073900000000002E-2,0.73714060000000003,null,767300,6.7091100000000001E-2,0.76214159999999997,null,757300,7.6860399999999995E-2,0.65391820000000001,null,757300,7.1574377861262195E-2,0.62182514518336496]
["7373B2",1.05898E-2,0.85248939999999995,null,"7373B2",9.4839999999999994E-3,0.86827019999999999,null,737300,6.0936999999999996E-3,0.91893539999999996,null,737,0.20881620000000001,0.70745530000000001,null,767400,1.9768500000000001E-2,0.88821159999999999,null,767300,6.7091100000000001E-2,0.76214159999999997,null,767300,5.7242846654023599E-2,0.74016150485536703]
[737400,1.49777E-2,0.82171050000000001,null,737400,1.38681E-2,0.83221339999999999,null,"7373B2",9.5545999999999999E-3,0.86724639999999997,null,737300,5.8618000000000003E-3,0.96602100000000002,null,777200,2.07145E-2,0.85512520000000003,null,767400,1.9768500000000001E-2,0.88821159999999999,null,767400,1.5426488635263901E-2,0.87893003497861699]
[737500,6.9376999999999998E-3,0.90277739999999995,null,737500,6.1457999999999999E-3,0.92041090000000003,null,737400,1.39507E-2,0.83142210000000005,null,"7373B2",8.5207000000000008E-3,0.93685339999999995,null,777300,3.2202599999999998E-2,0.85071300000000005,null,777200,2.07145E-2,0.85512520000000003,null,777200,2.2953502129772201E-2,0.79227803198209201]
["737D17",0.36908439999999998,0.62990860000000004,null,737700,1.1062199999999999E-2,0.89309269999999996,null,737500,6.2185000000000001E-3,0.91877229999999999,null,737400,9.7044000000000002E-3,0.93635990000000002,null,"1900D",2.522E-4,1.1665497,null,777300,3.2202599999999998E-2,0.85071300000000005,null,777300,2.4482360449698402E-2,0.84587763258247295]
["737N17",0.1006658,0.69414940000000003,null,"737D17",0.3671682,0.63255609999999995,null,737700,1.06106E-2,0.90253870000000003,null,737500,6.6127E-3,0.95744209999999996,null,"707QN",0.37181330000000001,0.75073789999999996,null,"7773ER",8.77135E-2,0.73605690000000001,null,"1900D ",1.1806166827730301E-2,0.59288634985654798]
["737N9",5.7335400000000002E-2,0.73980800000000002,null,"737N17",9.6898300000000007E-2,0.70090160000000001,null,"737D17",0.36704779999999998,0.63259909999999997,null,737700,1.0370799999999999E-2,0.94043390000000004,null,"720B",0.35320659999999998,0.64137770000000005,null,"7878R",7.7879000000000004E-3,0.90123120000000001,null,"707QN ",0.29143762955303198,0.74783690328569596]
["737QN",0.1475091,0.7051309,null,"737N9",5.5039999999999999E-2,0.74768500000000004,null,"737N17",9.6881999999999996E-2,0.70092270000000001,null,737800,3.3944299999999997E-2,0.78659219999999996,null,"727D15",0.50230339999999996,0.66497589999999995,null,"1900D",2.522E-4,1.1665497,null,"720B ",0.28523305777441199,0.62730922365179298]
[747100,0.2247104,0.7349871,null,"737QN",0.1450497,0.71023950000000002,null,"737N9",5.5007199999999999E-2,0.74775899999999995,null,"737D17",0.42410560000000003,0.63938669999999997,null,"727D17",0.54070059999999998,0.67792359999999996,null,"707QN",0.37181330000000001,0.75073789999999996,null,"727D15 ",0.388397242318129,0.67166097682099302]
["74710Q",8.8556499999999996E-2,0.76505590000000001,null,747100,0.22809740000000001,0.73523159999999999,null,"737QN",0.14489930000000001,0.71036410000000005,null,"737N17",0.10727739999999999,0.71501409999999999,null,"727EM1",8.9806499999999997E-2,0.71773480000000001,null,"720B",0.35320659999999998,0.64137770000000005,null,"727D17 ",0.43553473444593399,0.66670338291775699]
[747200,0.10356849999999999,0.77472149999999995,null,"74710Q",8.7277300000000002E-2,0.77106680000000005,null,747100,0.2194382,0.73986189999999996,null,"737N9",6.0993400000000003E-2,0.76159809999999994,null,"727EM2",0.1976366,0.67580030000000002,null,"727D15",0.50230339999999996,0.66497589999999995,null,"727EM1 ",9.3815533174471305E-2,0.69249387073808299]
["74720A",0.10309980000000001,0.79295879999999996,null,747200,0.1004085,0.78266570000000002,null,"74710Q",8.6788900000000002E-2,0.77173230000000004,null,"737QN",0.18542410000000001,0.70063779999999998,null,"727Q15",0.49002099999999998,0.64420310000000003,null,"727D17",0.54070059999999998,0.67792359999999996,null,"727EM2 ",0.15543364479132599,0.67029504005051099]
["74720B",0.18560570000000001,0.72875520000000005,null,"74720A",9.9009600000000003E-2,0.80093760000000003,null,747200,9.9978999999999998E-2,0.78319629999999996,null,747100,0.23026720000000001,0.75443280000000001,null,"727Q7",0.1640385,0.7304079,null,"727EM1",8.9806499999999997E-2,0.71773480000000001,null,"727Q15 ",0.43361392035720597,0.65953092127753898]
[747400,8.0874299999999996E-2,0.77972070000000004,null,"74720B",0.18000840000000001,0.73541829999999997,null,"74720A",9.9165199999999995E-2,0.80074639999999997,null,"74710Q",9.7165899999999999E-2,0.78309859999999998,null,"727Q9",0.28570909999999999,0.71209480000000003,null,"727EM2",0.1976366,0.67580030000000002,null,"727Q7 ",0.16469578076822999,0.71289402548835801]
["747SP",7.8458399999999998E-2,0.76294280000000003,null,747400,7.5982999999999995E-2,0.79076009999999997,null,"74720B",0.18015339999999999,0.73532949999999997,null,747200,0.1086032,0.79864679999999999,null,"727QF",3.9073900000000002E-2,0.73714060000000003,null,"727Q15",0.49002099999999998,0.64420310000000003,null,"727Q9 ",0.23807583469993199,0.69565587081726799]
["757PW",1.5695299999999999E-2,0.78384430000000005,null,"747SP",7.8183799999999998E-2,0.76725949999999998,null,747400,7.6309699999999994E-2,0.79025840000000003,null,"74720A",0.10975559999999999,0.81463759999999996,null,"7373B2",8.5207000000000008E-3,0.93685339999999995,null,"727Q7",0.1640385,0.7304079,null,"727QF ",4.5587521455796802E-2,0.69968246765781505]
["757RR",1.6927999999999999E-2,0.76142569999999998,null,"757PW",1.4305099999999999E-2,0.79659829999999998,null,"747SP",7.7583200000000005E-2,0.76819550000000003,null,"74720B",0.19635549999999999,0.7502529,null,"737D17",0.42410560000000003,0.63938669999999997,null,"727Q9",0.28570909999999999,0.71209480000000003,null,"7373B2 ",1.02342841333985E-2,0.85317108556639298]
[767300,6.6517099999999996E-2,0.73660700000000001,null,"757RR",1.5827999999999998E-2,0.77017729999999995,null,"757PW",1.4290300000000001E-2,0.79673340000000004,null,747400,5.1952600000000002E-2,0.86897259999999998,null,"737N17",0.10727739999999999,0.71501409999999999,null,"727QF",3.9073900000000002E-2,0.73714060000000003,null,"737D17 ",0.34110656040071302,0.62855566954805697]
["767CF6",3.2268900000000003E-2,0.77637630000000002,null,767300,6.0849199999999999E-2,0.74621630000000005,null,"757RR",1.5948400000000001E-2,0.76921300000000004,null,"747SP",8.6775500000000005E-2,0.78046919999999997,null,"737N9",6.0993400000000003E-2,0.76159809999999994,null,"7373B2",8.5207000000000008E-3,0.93685339999999995,null,"737N17 ",9.2621145384965006E-2,0.69255180049367904]
["767JT9",2.68539E-2,0.81161760000000005,null,"767CF6",3.0550500000000001E-2,0.78509329999999999,null,767300,6.3638100000000003E-2,0.74301839999999997,null,757300,7.6860399999999995E-2,0.65391820000000001,null,"737QN",0.18542410000000001,0.70063779999999998,null,"737D17",0.42410560000000003,0.63938669999999997,null,"737N9 ",5.19992248587169E-2,0.74115433088650295]
[777200,1.6457599999999999E-2,0.83673050000000004,null,"767JT9",2.5300199999999998E-2,0.82091749999999997,null,"767CF6",3.0555499999999999E-2,0.78509680000000004,null,"757PW",1.1951E-2,0.85369870000000003,null,"74710Q",9.7165899999999999E-2,0.78309859999999998,null,"737N17",0.10727739999999999,0.71501409999999999,null,"737QN ",0.13512258921924,0.70656993067400198]
["A300",4.7272000000000002E-2,0.74013799999999996,null,777200,1.5685500000000002E-2,0.84128590000000003,null,"767JT9",2.5302100000000001E-2,0.820936,null,"757RR",1.4214299999999999E-2,0.87431150000000002,null,"74720A",0.10975559999999999,0.81463759999999996,null,"737N9",6.0993400000000003E-2,0.76159809999999994,null,"74710Q ",7.5210010192395899E-2,0.77813797155437403]
["A310",4.4655199999999999E-2,0.74018269999999997,null,"A300",4.8183700000000003E-2,0.74130189999999996,null,767400,2.11188E-2,0.85208779999999995,null,767300,6.6944299999999998E-2,0.76236009999999998,null,"74720B",0.19635549999999999,0.7502529,null,"737QN",0.18542410000000001,0.70063779999999998,null,"74720A ",8.3631739561847607E-2,0.81212893624257299]
["A320",3.08586E-2,0.70379590000000003,null,"A310",4.7488200000000001E-2,0.73396589999999995,null,777200,1.5685299999999999E-2,0.84131359999999999,null,767400,1.9735099999999998E-2,0.88839579999999996,null,"747SP",8.6775500000000005E-2,0.78046919999999997,null,"74710Q",9.7165899999999999E-2,0.78309859999999998,null,"74720B ",0.161288112154226,0.73488552370997196]
["A7D",0.74027359999999998,0.5491994,null,"A320",2.1014000000000001E-2,0.75449160000000004,null,777300,3.4201500000000003E-2,0.81724470000000005,null,"767CF6",3.1278399999999998E-2,0.80778589999999995,null,"757PW",1.1951E-2,0.85369870000000003,null,"74720A",0.10975559999999999,0.81463759999999996,null,"747SP ",7.2934352977452904E-2,0.76165684087837604]
["BAC111",7.3261599999999996E-2,0.73531480000000005,null,"A330",3.6820600000000002E-2,0.76934369999999996,null,"A300",4.8043000000000002E-2,0.74155210000000005,null,"767JT9",2.64835E-2,0.84104089999999998,null,"757RR",1.4214299999999999E-2,0.87431150000000002,null,"74720B",0.19635549999999999,0.7502529,null,"757PW ",2.2058614155199999E-2,0.71300526173552004]
["BAE146",6.7792E-3,0.92791840000000003,null,"A340",4.9007500000000002E-2,0.72787679999999999,null,"A310",4.7353199999999998E-2,0.7341934,null,777200,2.07145E-2,0.85512520000000003,null,"767CF6",3.1354399999999998E-2,0.80751580000000001,null,"747SP",8.6775500000000005E-2,0.78046919999999997,null,"757RR ",1.6550864033407199E-2,0.80559460942576]
["BAE300",6.4061999999999999E-3,0.9421988,null,"A7D",0.74501430000000002,0.55281210000000003,null,"A319",9.8437999999999998E-3,0.83532399999999996,null,777300,3.2202599999999998E-2,0.85071300000000005,null,"767JT9",2.6557000000000001E-2,0.84072599999999997,null,"757PW",1.1951E-2,0.85369870000000003,null,"767CF6 ",2.9525325596755501E-2,0.77013129844376205]
["BEC58P",4.1488000000000002E-3,0.84725969999999995,null,"BAC111",7.1894E-2,0.73939440000000001,null,"A320",2.33422E-2,0.75578040000000002,null,"A300-622R",5.5871200000000003E-2,0.73124869999999997,null,"A300B4-203",3.92039E-2,0.8013979,null,"757RR",1.4214299999999999E-2,0.87431150000000002,null,"767JT9 ",2.40147405117546E-2,0.80972500791370094]
["C130",2.73043E-2,0.80008809999999997,null,"BAE146",6.4998E-3,0.93251090000000003,null,"A32023",1.8261300000000001E-2,0.76947140000000003,null,"A300B4-203",3.92039E-2,0.8013979,null,"A300-622R",6.1914999999999998E-2,0.73150990000000005,null,"767CF6",3.1354399999999998E-2,0.80751580000000001,null,"7773ER ",5.12701160630177E-2,0.75377940770091401]
["C130E",6.3039000000000003E-3,0.94166119999999998,null,"BAE300",6.1869999999999998E-3,0.945627,null,"A330",4.80989E-2,0.74294179999999999,null,"A310-304",1.6955100000000001E-2,0.83712070000000005,null,"A310-304",1.55172E-2,0.87430620000000003,null,"767JT9",2.6557000000000001E-2,0.84072599999999997,null,"7878R ",1.7811418239991699E-2,0.73009541839872205]
["CIT3",7.8767999999999998E-3,0.82534180000000001,null,"BEC58P",3.2967000000000001E-3,0.87803500000000001,null,"A340",4.2229000000000003E-2,0.77192510000000003,null,"A319-131",9.8939000000000006E-3,0.84518170000000004,null,"A319-131",9.1646999999999996E-3,0.88117979999999996,null,"A300B4-203",3.92039E-2,0.8013979,null,"A10A ",5.6192044612463798E-2,0.66525264115668903]
["CL600",8.1404000000000008E-3,0.79118809999999995,null,"C130",2.60225E-2,0.80866939999999998,null,"A7D",0.74501430000000002,0.55281210000000003,null,"A320-211",2.3801200000000002E-2,0.7539323,null,"A320-211",1.9823500000000001E-2,0.79798380000000002,null,"A300-622R",6.1914999999999998E-2,0.73150990000000005,null,"A3 ",0.24019558350248901,0.88224471481172295]
["CL601",1.00438E-2,0.7045361,null,"C130E",5.9230999999999997E-3,0.95294350000000005,null,"BAC111",7.1522199999999994E-2,0.73993790000000004,null,"A320-232",1.3512700000000001E-2,0.81541050000000004,null,"A320-232",1.2245799999999999E-2,0.83564349999999998,null,"A310-304",1.55172E-2,0.87430620000000003,null,"A300-622R ",5.2333247362453698E-2,0.71254310627388195]
["CNA441",3.8769999999999999E-4,0.92578609999999995,null,"CIT3",6.2464E-3,0.8521782,null,"BAE146",6.4965999999999999E-3,0.93258439999999998,null,"A321-232",4.93882E-2,0.66407269999999996,null,"A321-232",4.44412E-2,0.69123219999999996,null,"A319-131",9.1646999999999996E-3,0.88117979999999996,null,"A300B4-203 ",4.3536095763550497E-2,0.73880606949805805]
["CNA500",3.9529999999999999E-3,0.88946309999999995,null,"CL600",6.3952999999999996E-3,0.8216078,null,"BAE300",6.1850000000000004E-3,0.94567219999999996,null,"A330-301",5.1365399999999999E-2,0.7689144,null,"A330-301",4.6729100000000003E-2,0.79091889999999998,null,"A320-211",1.9823500000000001E-2,0.79798380000000002,null,"A310-304 ",1.5720356260337999E-2,0.82427656625312695]
["COMJET",0.15187700000000001,0.63217420000000002,null,"CL601",8.0911000000000004E-3,0.73506879999999997,null,"BEC58P",3.2967000000000001E-3,0.87803540000000002,null,"A330-343",5.2212000000000001E-2,0.72607120000000003,null,"A330-343",4.5225000000000001E-2,0.76459750000000004,null,"A320-232",1.2245799999999999E-2,0.83564349999999998,null,"A319-131 ",1.18017437228268E-2,0.79852449202468201]
["COMSEP",2.5779999999999998E-4,1.0988468,null,"CNA172",9.7700000000000003E-5,1.0522708000000001,null,"C130",2.60225E-2,0.80866939999999998,null,"A340-211",4.4273100000000003E-2,0.73760970000000003,null,"A340-211",3.4556000000000003E-2,0.79836879999999999,null,"A321-232",4.44412E-2,0.69123219999999996,null,"A320-211 ",2.2653648116157301E-2,0.73353110637593999]
["CONCRD",2.8449312,0.85309690000000005,null,"CNA206",1.1303999999999999E-3,1.1165959999999999,null,"C130E",5.9230999999999997E-3,0.95294369999999995,null,"A7D",0.87797619999999998,0.5511395,null,"A340-642",3.3253199999999997E-2,0.77802899999999997,null,"A330-301",4.6729100000000003E-2,0.79091889999999998,null,"A320-232 ",1.5382196459700299E-2,0.75751782097409903]
["CVR580",3.3094999999999999E-3,0.9359423,null,"CNA20T",6.3700000000000003E-5,1.2036739000000001,null,"CIT3",6.1853999999999998E-3,0.85335810000000001,null,"BAC111",6.3716999999999996E-2,0.75793259999999996,null,"A380-841",2.5503000000000001E-2,0.87007420000000002,null,"A330-343",4.5225000000000001E-2,0.76459750000000004,null,"A321-232 ",4.2287226828830599E-2,0.65584248177738802]
["DC1010",6.7268400000000006E-2,0.71989610000000004,null,"CNA441",2.0460000000000001E-4,1.0208706999999999,null,"CL600",6.3952999999999996E-3,0.82160820000000001,null,"BAE146",6.5935000000000004E-3,0.95807810000000004,null,"A380-861",2.9868100000000002E-2,0.85304329999999995,null,"A340-211",3.4556000000000003E-2,0.79836879999999999,null,"A330-301 ",4.38270814353552E-2,0.75485072960517896]
["DC1030",8.4920999999999996E-2,0.72983529999999996,null,"CNA500",2.5634E-3,0.95342229999999994,null,"CL601",8.0117999999999995E-3,0.73629160000000005,null,"BAE300",6.0597999999999997E-3,0.97624350000000004,null,"A7D",0.87797619999999998,0.5511395,null,"A340-642",3.3253199999999997E-2,0.77802899999999997,null,"A330-343 ",4.3646955041138601E-2,0.72317828213804702]
["DC1040",8.6300000000000002E-2,0.72155619999999998,null,"CNA55B",4.9344000000000002E-3,0.83289619999999998,null,"CNA172",9.7700000000000003E-5,1.0522708000000001,null,"BEC58P",3.9966000000000003E-3,0.88563820000000004,null,"BAC111",6.3716999999999996E-2,0.75793259999999996,null,"A380-841",2.5503000000000001E-2,0.87007420000000002,null,"A340-211 ",3.04172958306205E-2,0.772319607747745]
["DC3",3.07447E-2,0.86849460000000001,null,"COMJET",0.14279749999999999,0.64143139999999998,null,"CNA206",1.1303999999999999E-3,1.1165959999999999,null,"C130",3.04759E-2,0.81645679999999998,null,"BAE146",6.5935000000000004E-3,0.95807810000000004,null,"A380-861",2.9868100000000002E-2,0.85304329999999995,null,"A340-642 ",3.8421715222779602E-2,0.74135286865337002]
["DC6",4.6726200000000002E-2,0.90871519999999995,null,"COMSEP",2.084E-4,1.1224399,null,"CNA20T",6.3700000000000003E-5,1.2036739000000001,null,"C130E",6.3041E-3,0.97458160000000005,null,"BAE300",6.0597999999999997E-3,0.97624350000000004,null,"A7D",0.87797619999999998,0.5511395,null,"A37 ",0.212968647718242,0.58504292417417603]
["DC820",0.44604120000000003,0.63592510000000002,null,"CONCRD",2.7113535999999998,0.86609769999999997,null,"CNA441",2.0460000000000001E-4,1.0208706999999999,null,"CIT3",4.0930999999999997E-3,0.91094180000000002,null,"BEC58P",3.9966000000000003E-3,0.88563820000000004,null,"BAC111",6.3716999999999996E-2,0.75793259999999996,null,"A380-841 ",2.08230898006426E-2,0.85520243885668201]
["DC850",0.48501490000000003,0.62309079999999994,null,"CVR580",3.0247E-3,0.95050889999999999,null,"CNA500",2.5165000000000001E-3,0.9561134,null,"CL600",4.1281E-3,0.88080340000000001,null,"C130",3.04759E-2,0.81645679999999998,null,"BAE146",6.5935000000000004E-3,0.95807810000000004,null,"A380-861 ",2.3735372411900001E-2,0.84246596257511197]
["DC860",0.57223409999999997,0.63134369999999995,null,"DC1010",6.2267500000000003E-2,0.7311995,null,"CNA55B",4.9471000000000003E-3,0.83250789999999997,null,"CL601",4.2433999999999996E-3,0.82029229999999997,null,"C130E",6.3041E-3,0.97458160000000005,null,"BAE300",6.0597999999999997E-3,0.97624350000000004,null,"A4C ",0.34100279251156301,0.50012663436488503]
["DC870",4.3214700000000002E-2,0.78454769999999996,null,"DC1030",7.8486100000000003E-2,0.74148250000000004,null,"CNA750",4.2208999999999997E-3,0.80824859999999998,null,"CNA172",1.195E-4,1.0660749,null,"CIT3",4.0930999999999997E-3,0.91094180000000002,null,"BEC58P",3.9966000000000003E-3,0.88563820000000004,null,"A6A ",0.60619778538384195,0.77111639397621601]
["DC8QN",0.35642879999999999,0.71360659999999998,null,"DC1040",8.9829800000000001E-2,0.71368739999999997,null,"COMJET",0.14247470000000001,0.6416615,null,"CNA206",1.0403000000000001E-3,1.1542334999999999,null,"CL600",4.1281E-3,0.88080340000000001,null,"C130",3.04759E-2,0.81645679999999998,null,"A7D ",0.54835513874908703,0.55620340105729205]
["DC910",9.6121999999999999E-2,0.7540308,null,"DC3",2.9017000000000001E-2,0.87764880000000001,null,"COMSEP",2.096E-4,1.1217386,null,"CNA20T",4.2899999999999999E-5,1.2784495,null,"CL601",4.2433999999999996E-3,0.82029229999999997,null,"C130E",6.3041E-3,0.97458160000000005,null,"A7E ",0.69185103025140504,0.56416119680653498]
["DC930",0.1784403,0.72439200000000004,null,"DC6",4.4141600000000003E-2,0.91817389999999999,null,"CONCRD",2.7006139,0.86709499999999995,null,"CNA441",2.6039999999999999E-4,1.0144403,null,"CNA172",1.195E-4,1.0660749,null,"CIT3",4.0930999999999997E-3,0.91094180000000002,null,"B1 ",1.47715190094704,0.58095827490876395]
["DC950",0.30697530000000001,0.67010349999999996,null,"DC820",0.4576482,0.63633119999999999,null,"CVR580",3.0247E-3,0.95050889999999999,null,"CNA500",1.8977E-3,0.99295089999999997,null,"CNA206",1.0403000000000001E-3,1.1542334999999999,null,"CL600",4.1281E-3,0.88080340000000001,null,"B2A ",1.3620421079898599,0.73013609727251705]
["DC93LW",5.3136599999999999E-2,0.74595040000000001,null,"DC850",0.48014889999999999,0.62723779999999996,null,"DC1010",6.1826399999999997E-2,0.73200810000000005,null,"CNA55B",3.7312999999999999E-3,0.86936820000000004,null,"CNA182",4.2298099999999998E-2,0.53361349999999996,null,"CL601",4.2433999999999996E-3,0.82029229999999997,null,"B52BDE ",5.6524194744758898,0.855222901587811]
["DC95HW",7.1933300000000006E-2,0.71680980000000005,null,"DC860",0.56568569999999996,0.63584750000000001,null,"DC1030",7.8253199999999995E-2,0.74184139999999998,null,"CNA750",2.7273000000000002E-3,0.86222929999999998,null,"CNA182FLT",5.0219999999999996E-4,1.1355379999999999,null,"CNA172",1.195E-4,1.0660749,null,"B52G ",4.3331195141410204,0.47304633481534702]
["DC9Q7",7.4056700000000003E-2,0.76570700000000003,null,"DC870",4.16015E-2,0.79075470000000003,null,"DC1040",8.9507000000000003E-2,0.71409889999999998,null,"COMJET",0.13581570000000001,0.65005900000000005,null,"CNA208",3.5930000000000001E-4,1.1608771,null,"CNA206",1.0403000000000001E-3,1.1542334999999999,null,"B52H ",0.63072483604468699,0.69135751513202703]
["DC9Q9",0.1557567,0.72065729999999995,null,"DC8QN",0.32338670000000003,0.72539920000000002,null,"DC3",2.9017000000000001E-2,0.87764880000000001,null,"COMSEP",2.7490000000000001E-4,1.1241828,null,"CNA20T",4.2899999999999999E-5,1.2784495,null,"CNA182",4.2298099999999998E-2,0.53361349999999996,null,"B57E ",0.34817526281216499,0.72493617940488397]
["DHC6",5.8390000000000004E-4,1.1831782,null,"DC910",9.3511899999999995E-2,0.76017670000000004,null,"DC6",4.4141600000000003E-2,0.91817389999999999,null,"CONCRD",2.966612,0.90029800000000004,null,"CNA441",2.6039999999999999E-4,1.0144403,null,"CNA182FLT",5.0920000000000002E-4,1.1337092,null,"BAC111 ",5.75844712239027E-2,0.72936738770687604]
["DHC7",1.1739999999999999E-4,1.0929251,null,"DC930",0.17709720000000001,0.72800290000000001,null,"DC820",0.4429092,0.6398239,null,"CVR580",3.3322999999999998E-3,0.96508570000000005,null,"CNA500",1.8977E-3,0.99295089999999997,null,"CNA208",3.5930000000000001E-4,1.1608771,null,"BAE146 ",7.5148727615529003E-3,0.89164724980417998]
["DHC8",4.6059999999999997E-4,0.98310560000000002,null,"DC93LW",5.2089299999999998E-2,0.75165099999999996,null,"DC850",0.47940860000000002,0.62743740000000003,null,"DC1010",6.5789500000000001E-2,0.74940989999999996,null,"CNA510",1.5857E-3,0.93600740000000004,null,"CNA20T",4.2899999999999999E-5,1.2784495,null,"BAE300 ",7.0719419982417098E-3,0.90595376267453898]
["DHC830",4.3740000000000001E-4,0.97373690000000002,null,"DC950",0.30357620000000002,0.67409010000000003,null,"DC860",0.56517249999999997,0.63596430000000004,null,"DC1030",8.4340999999999999E-2,0.75830880000000001,null,"CNA525C",1.2876200000000001E-2,0.69572239999999996,null,"CNA441",2.6039999999999999E-4,1.0144403,null,"BEC58P ",1.2900486403844299E-2,0.67096474991342703]
["EMB145",2.4604000000000002E-3,0.88206329999999999,null,"DC95HW",6.8174100000000001E-2,0.7264661,null,"DC870",4.17907E-2,0.79024329999999998,null,"DC1040",8.0638899999999999E-2,0.75823039999999997,null,"CNA55B",3.7312999999999999E-3,0.86936820000000004,null,"CNA500",1.8977E-3,0.99295089999999997,null,"C118 ",0.10956329292934799,0.95548827045773999]
["F4C",1.6945154,0.54933849999999995,null,"DC9Q7",7.22468E-2,0.77115979999999995,null,"DC8QN",0.32305010000000001,0.72551869999999996,null,"DC3",3.65867E-2,0.8783666,null,"CNA560E",6.5487000000000002E-3,0.83054320000000004,null,"CNA510",1.5857E-3,0.93600740000000004,null,"C12 ",1.07829310051272E-2,0.52796012881170595]
["F16A",0.57811400000000002,0.53468720000000003,null,"DC9Q9",0.15373329999999999,0.72488520000000001,null,"DC910",9.3421000000000004E-2,0.76027679999999997,null,"DC6",5.1485799999999998E-2,0.92863099999999998,null,"CNA560U",6.0357399999999999E-2,0.58033480000000004,null,"CNA525C",1.2876200000000001E-2,0.69572239999999996,null,"C130 ",2.5875067006751001E-2,0.79649819302951697]
["F16GE",9.6447699999999997E-2,0.55360399999999998,null,"DHC6",5.6959999999999997E-4,1.1888582999999999,null,"DC930",0.1768672,0.72815669999999999,null,"DC820",0.46444950000000002,0.65259650000000002,null,"CNA560XL",2.7425000000000001E-3,0.88672079999999998,null,"CNA55B",3.7312999999999999E-3,0.86936820000000004,null,"C130AD ",2.5619914959846599E-2,0.79427705940272098]
["F16PW0",0.56957630000000004,0.53644360000000002,null,"DHC6QP",6.2335000000000003E-3,0.73481600000000002,null,"DC93LW",5.19243E-2,0.75203620000000004,null,"DC850",0.55532519999999996,0.62862289999999998,null,"CNA680",2.7870999999999998E-3,0.89951709999999996,null,"CNA560E",6.5487000000000002E-3,0.83054320000000004,null,"C130E ",1.0540796273303401E-2,0.85196778369967796]
["F16PW9",0.64797539999999998,0.60149699999999995,null,"DHC7",1.1739999999999999E-4,1.0877095999999999,null,"DC950",0.30341590000000002,0.67416549999999997,null,"DC860",0.65977419999999998,0.63599059999999996,null,"CNA750",2.7273000000000002E-3,0.86222929999999998,null,"CNA560U",6.0357399999999999E-2,0.58033480000000004,null,"C-130E ",3.1778367132911101E-2,0.730575027824102]
["F10062",2.1745E-2,0.73887729999999996,null,"DHC8",5.0600000000000005E-4,0.85884229999999995,null,"DC95HW",6.8067000000000003E-2,0.72662760000000004,null,"DC870",4.3265199999999997E-2,0.81302540000000001,null,"COMJET",0.13581570000000001,0.65005900000000005,null,"CNA560XL",2.7425000000000001E-3,0.88672079999999998,null,"C130HP ",1.0704494404795499E-2,0.88754642586062105]
["F10065",2.9582399999999998E-2,0.68373859999999997,null,"DHC830",8.9179999999999999E-4,0.77795519999999996,null,"DC9Q7",7.2164400000000004E-2,0.77128770000000002,null,"DC8QN",0.37962479999999998,0.73114849999999998,null,"COMSEP",2.7490000000000001E-4,1.1241828,null,"CNA680",2.7870999999999998E-3,0.89951709999999996,null,"C131B ",5.9560261591785402E-2,0.70561690686108802]
["F28MK2",9.4463900000000003E-2,0.8276192,null,"EMB120",4.4124000000000003E-3,0.75863979999999998,null,"DC9Q9",0.1535405,0.72503309999999999,null,"DC910",8.9769799999999997E-2,0.76917250000000004,null,"CONCRD",2.966612,0.90029800000000004,null,"CNA750",2.7273000000000002E-3,0.86222929999999998,null,"C135A ",2.3007534304686499,0.67442565247700503]
["F28MK4",6.8641400000000005E-2,0.80480149999999995,null,"EMB145",2.1643000000000001E-3,0.90482379999999996,null,"DHC6",5.6959999999999997E-4,1.1888582999999999,null,"DC930",0.16543289999999999,0.74119029999999997,null,"CRJ9-ER",2.1798999999999998E-3,0.98747419999999997,null,"COMJET",0.13581570000000001,0.65005900000000005,null,"C135B ",0.42723510434552697,0.58911967457570003]
["FAL20",5.7719399999999997E-2,0.70063059999999999,null,"EMB14L",2.4398000000000002E-3,0.90937230000000002,null,"DHC6QP",6.2239000000000001E-3,0.73501150000000004,null,"DC93LW",4.6441000000000003E-2,0.76954480000000003,null,"CRJ9-LR",2.0817000000000001E-3,0.99172479999999996,null,"COMSEP",2.7490000000000001E-4,1.1241828,null,"C137 ",0.29013396269559499,0.694922955319075]
["GASEPF",6.8300000000000007E-5,1.1589495000000001,null,"F10062",2.1507700000000001E-2,0.73668880000000003,null,"DHC7",1.2740000000000001E-4,1.0767708,null,"DC950",0.29101080000000001,0.68363529999999995,null,"CVR580",3.3322999999999998E-3,0.96508570000000005,null,"CONCRD",2.966612,0.90029800000000004,null,"C140 ",0.126856225333876,0.66136434588477699]
["GASEPV",3.2650999999999999E-3,0.84608660000000002,null,"F10065",2.71541E-2,0.69631220000000005,null,"DHC8",1.2443000000000001E-3,0.78406920000000002,null,"DC95HW",6.2752699999999995E-2,0.74019639999999998,null,"DC1010",6.5789500000000001E-2,0.74940989999999996,null,"CRJ9-ER",2.1798999999999998E-3,0.98747419999999997,null,"C141A ",0.15103255931568299,0.727943862814458]
["GIIB",0.44324219999999998,0.65396600000000005,null,"F16A",0.54789149999999998,0.54227289999999995,null,"DHC830",2.4702999999999999E-3,0.70205629999999997,null,"DC9Q7",6.8614999999999995E-2,0.7820357,null,"DC1030",8.4340999999999999E-2,0.75830880000000001,null,"CRJ9-LR",2.0817000000000001E-3,0.99172479999999996,null,"C17 ",7.7897322274993394E-2,0.749300388681994]
["GIV",1.45766E-2,0.76987499999999998,null,"F16GE",0.13058259999999999,0.59343639999999998,null,"EMB120",4.7996999999999996E-3,0.75031559999999997,null,"DC9Q9",0.1235281,0.76367079999999998,null,"DC1040",8.0638899999999999E-2,0.75823039999999997,null,"CVR580",3.3322999999999998E-3,0.96508570000000005,null,"C18A ",0.35185749152337398,0.56183667398183301]
["HS748A",1.5767799999999998E-2,0.79672569999999998,null,"F16PW0",0.50538479999999997,0.54689659999999995,null,"EMB145",2.15E-3,0.90550969999999997,null,"DHC6",7.2900000000000005E-4,1.1927896,null,"DC3",3.65867E-2,0.8783666,null,"DC1010",6.5789500000000001E-2,0.74940989999999996,null,"C-20 ",4.4656433734841801E-2,1.0610887843907499]
["IA1125",1.38058E-2,0.77393049999999997,null,"F16PW9",0.59419869999999997,0.56934269999999998,null,"EMB14L",2.4242000000000001E-3,0.9100355,null,"DHC6QP",6.5646000000000003E-3,0.77086080000000001,null,"DC6",5.1485799999999998E-2,0.92863099999999998,null,"DC1030",8.4340999999999999E-2,0.75830880000000001,null,"C21A ",4.7862778713762197E-3,0.916753584651674]
["KC135",2.4977065999999999,0.63153890000000001,null,"F28MK2",8.2262199999999994E-2,0.86109429999999998,null,"F10062",2.1501099999999999E-2,0.73673259999999996,null,"DHC7",1.247E-4,1.1124039999999999,null,"DC820",0.46444950000000002,0.65259650000000002,null,"DC1040",8.0638899999999999E-2,0.75823039999999997,null,"C22 ",7.2229536940320097E-2,0.81903124453181897]
["KC135B",0.52957109999999996,0.63258270000000005,null,"F28MK4",6.2312100000000002E-2,0.82280410000000004,null,"F10065",2.7157500000000001E-2,0.6963047,null,"DHC8",3.2229999999999997E-4,0.95023429999999998,null,"DC850",0.55532519999999996,0.62862289999999998,null,"DC3",3.65867E-2,0.8783666,null,"C23 ",1.1221387760890199E-2,0.51274444081835502]
["KC135R",3.2743700000000001E-2,0.85301289999999996,null,"F4C",1.5512264,0.58231880000000003,null,"F16A",0.53646360000000004,0.54235129999999998,null,"DHC830",5.9889999999999997E-4,0.85479000000000005,null,"DC860",0.65977419999999998,0.63599059999999996,null,"DC6",5.1485799999999998E-2,0.92863099999999998,null,"C5A ",2.3201299975613598,0.50167110804302595]
["L1011",7.70652E-2,0.71752519999999997,null,"FAL20",6.4533099999999996E-2,0.68241600000000002,null,"F16GE",0.12852820000000001,0.59288320000000005,null,"EMB120",4.9142999999999999E-3,0.77050070000000004,null,"DC870",4.3265199999999997E-2,0.81302540000000001,null,"DC820",0.46444950000000002,0.65259650000000002,null,"C7A ",2.8792341801926798E-2,0.76569264627960099]
["L10115",8.2109500000000002E-2,0.73075259999999997,null,"GASEPF",9.3499999999999996E-5,1.0999878999999999,null,"F16PW0",0.49307659999999998,0.54682629999999999,null,"EMB145",1.305E-3,0.96811650000000005,null,"DC8QN",0.37962479999999998,0.73114849999999998,null,"DC850",0.55532519999999996,0.62862289999999998,null,"C9A ",0.19973404442506201,0.62305960933987203]
["L188",5.0711000000000003E-3,0.95904829999999996,null,"GASEPV",1.1918E-3,0.97134189999999998,null,"F16PW9",0.57592860000000001,0.57038800000000001,null,"EMB14L",1.4605E-3,0.97310850000000004,null,"DC910",8.9769799999999997E-2,0.76917250000000004,null,"DC860",0.65977419999999998,0.63599059999999996,null,"CIT3 ",2.6796432451937701E-2,0.58981799889549202]
["LEAR25",0.31828869999999998,0.63501079999999999,null,"GIIB",0.41708119999999999,0.66157469999999996,null,"F28MK2",8.2248500000000002E-2,0.86111859999999996,null,"F10062",1.68436E-2,0.77001039999999998,null,"DC930",0.16543289999999999,0.74119029999999997,null,"DC870",4.3265199999999997E-2,0.81302540000000001,null,"CL600 ",3.36204530247027E-2,0.53012940193427804]
["LEAR35",6.7591499999999999E-2,0.57518290000000005,null,"GIV",1.37865E-2,0.77354020000000001,null,"F28MK4",6.2289299999999999E-2,0.82285319999999995,null,"F10065",2.1043800000000001E-2,0.73114440000000003,null,"DC93LW",4.6441000000000003E-2,0.76954480000000003,null,"DC8QN",0.37962479999999998,0.73114849999999998,null,"CL601 ",7.8405079335941805E-2,0.36158387466160202]
["MD11GE",4.2637700000000001E-2,0.75918759999999996,null,"HS748A",1.4784E-2,0.80582670000000001,null,"F4C",4.9006882000000003,0.4059661,null,"F16A",0.26279520000000001,0.65837480000000004,null,"DC950",0.29101080000000001,0.68363529999999995,null,"DC910",8.9769799999999997E-2,0.76917250000000004,null,"CNA172 ",7.8718587514554992E-3,0.48695146602369699]
["MD11PW",3.8121599999999999E-2,0.77539709999999995,null,"IA1125",1.1401E-2,0.79490340000000004,null,"FAL20",6.4488400000000001E-2,0.68246169999999995,null,"F16GE",0.13907459999999999,0.63393350000000004,null,"DC95HW",6.2752699999999995E-2,0.74019639999999998,null,"DC930",0.16543289999999999,0.74119029999999997,null,"CNA182 ",3.4892831787269603E-2,0.55728331486753702]
["MD81",2.7591000000000001E-2,0.82122470000000003,null,"KC135",2.4961277000000002,0.74624179999999996,null,"GASEPF",9.3499999999999996E-5,1.0999878999999999,null,"F16PW0",0.50384530000000005,0.56620970000000004,null,"DC9Q7",6.8614999999999995E-2,0.7820357,null,"DC93LW",4.6441000000000003E-2,0.76954480000000003,null,"CNA182FLT ",4.29795266142983E-3,0.79153522387792996]
["MD82",4.1216999999999997E-2,0.78958539999999999,null,"KC135B",0.51699189999999995,0.63907840000000005,null,"GASEPV",2.2601000000000001E-3,0.89216640000000003,null,"F16PW9",0.52564060000000001,0.70287549999999999,null,"DC9Q9",0.1235281,0.76367079999999998,null,"DC950",0.29101080000000001,0.68363529999999995,null,"CNA206 ",1.37833291928157E-3,1.07252273419794]
["MD83",5.3525999999999997E-2,0.77311260000000004,null,"KC135R",2.9655500000000001E-2,0.868815,null,"GII",6.5273300000000006E-2,0.90943770000000002,null,"F28MK2",7.9265500000000003E-2,0.86861290000000002,null,"DHC-2FLT",2.5103999999999999E-3,1.1315464,null,"DC95HW",6.2752699999999995E-2,0.74019639999999998,null,"CNA208 ",4.38320725636021E-3,0.76212191672073304]
["MD9025",1.17181E-2,0.82420340000000003,null,"L1011",7.1298700000000007E-2,0.72891680000000003,null,"GIIB",4.1590200000000001E-2,0.9758637,null,"F28MK4",5.6699199999999998E-2,0.83911389999999997,null,"DHC6",7.2900000000000005E-4,1.1927896,null,"DC9Q7",6.8614999999999995E-2,0.7820357,null,"CNA20T ",6.9492341675209401E-3,0.54239280522438105]
["MD9028",2.3254899999999998E-2,0.73642039999999998,null,"L10115",8.1884899999999997E-2,0.72992239999999997,null,"GIV",7.2328999999999996E-3,0.75507460000000004,null,"F4C",1.67181,0.59032850000000003,null,"DHC6QP",6.5646000000000003E-3,0.77086080000000001,null,"DC9Q9",0.1235281,0.76367079999999998,null,"CNA441 ",1.63122511390544E-2,0.44350111028504902]
["MU3001",1.9706399999999999E-2,0.77667379999999997,null,"L188",4.9833999999999998E-3,0.96296760000000003,null,"GV",6.5728000000000002E-3,0.83368889999999995,null,"FAL20",5.7041000000000001E-2,0.70091820000000005,null,"DHC7",1.247E-4,1.1124039999999999,null,"DHC-2FLT",2.5110000000000002E-3,1.1315108,null,"CNA500 ",2.6340589928864601E-2,0.56168426844658104]
["SABR80",5.7705800000000002E-2,0.70063580000000003,null,"LEAR25",0.31064930000000002,0.64051389999999997,null,"HS748A",1.48083E-2,0.80537930000000002,null,"GASEPF",1.236E-4,1.0992987999999999,null,"DHC8",3.2229999999999997E-4,0.95023429999999998,null,"DHC6",7.2900000000000005E-4,1.1927896,null,"CNA510 ",8.9019497831872001E-3,0.65002234488153399]
["SD330",2.1202E-3,0.95059749999999998,null,"LEAR35",6.0851200000000001E-2,0.58657539999999997,null,"IA1125",1.13083E-2,0.79582010000000003,null,"GASEPV",3.3544E-3,0.88173400000000002,null,"DHC830",5.9889999999999997E-4,0.85479000000000005,null,"DHC6QP",6.5646000000000003E-3,0.77086080000000001,null,"CNA525C ",1.8610694117279499E-2,0.626276407314588]
["SF340",5.6534000000000003E-3,0.77230509999999997,null,"MD11GE",4.1236299999999997E-2,0.75438870000000002,null,"KC135",2.4539802000000002,0.7498262,null,"GII",6.0221499999999997E-2,0.92367980000000005,null,"DO228",1.7980000000000001E-4,1.1242588,null,"DHC7",1.247E-4,1.1124039999999999,null,"CNA55B ",1.1398576127073999E-2,0.67034695242559095]
[null,null,null,null,"MD11PW",3.7251100000000002E-2,0.77260740000000006,null,"KC135B",0.51643399999999995,0.63922619999999997,null,"GIIB",3.8501800000000003E-2,0.99018629999999996,null,"DO328",2.1264999999999999E-3,0.91449650000000005,null,"DHC8",3.2229999999999997E-4,0.95023429999999998,null,"CNA560E ",1.17938620586935E-2,0.70517568149965604]
[null,null,null,null,"MD81",2.9683299999999999E-2,0.80323639999999996,null,"KC135R",2.97568E-2,0.8683265,null,"GIV",5.4197000000000004E-3,0.7932728,null,"ECLIPSE500",7.9759999999999998E-4,0.84922050000000004,null,"DHC830",5.9889999999999997E-4,0.85479000000000005,null,"CNA560U ",5.5767401751445698E-2,0.55394345573047199]
[null,null,null,null,"MD82",4.3461199999999998E-2,0.77454310000000004,null,"L1011",7.0898100000000006E-2,0.72956310000000002,null,"GV",4.5980999999999999E-3,0.88273199999999996,null,"EMB120",4.9142999999999999E-3,0.77050070000000004,null,"DO228",1.7980000000000001E-4,1.1242588,null,"CNA560XL ",1.5664415393862E-2,0.59845621129984405]
[null,null,null,null,"MD83",5.3528899999999997E-2,0.77236260000000001,null,"L10115",8.1513100000000005E-2,0.73043999999999998,null,"HS748A",1.6170899999999998E-2,0.82228840000000003,null,"EMB145",1.305E-3,0.96811650000000005,null,"DO328",2.0303999999999999E-3,0.91503380000000001,null,"CNA680 ",7.6112885051862903E-3,0.730076170054903]
[null,null,null,null,"MD9025",1.0217E-2,0.84011380000000002,null,"L188",4.9833999999999998E-3,0.96296760000000003,null,"IA1125",7.6427999999999999E-3,0.84968339999999998,null,"EMB14L",1.4605E-3,0.97310850000000004,null,"ECLIPSE500",7.9759999999999998E-4,0.84922050000000004,null,"CNA750 ",2.33572824122305E-2,0.53536312354338]
[null,null,null,null,"MD9028",2.1636499999999999E-2,0.74204049999999999,null,"LEAR25",0.30946750000000001,0.64088679999999998,null,"KC135",2.8255843,0.76298310000000003,null,"F10062",1.68436E-2,0.77001039999999998,null,"EMB120",4.9142999999999999E-3,0.77050070000000004,null,"COMJET ",9.89759071970715E-2,0.656320291838424]
[null,null,null,null,"MU3001",1.71234E-2,0.79257180000000005,null,"LEAR35",6.2147599999999997E-2,0.58415249999999996,null,"KC135B",0.58799049999999997,0.64279330000000001,null,"F10065",2.1043800000000001E-2,0.73114440000000003,null,"EMB145",1.305E-3,0.96811650000000005,null,"COMSEP ",4.2043822054878797E-3,0.70086937398215599]
[null,null,null,null,"SABR80",5.6271399999999999E-2,0.70566260000000003,null,"MD11GE",4.1145899999999999E-2,0.75464640000000005,null,"KC135R",2.9931200000000002E-2,0.89780689999999996,null,"F28MK2",7.9265500000000003E-2,0.86861290000000002,null,"EMB14L",1.4605E-3,0.97310850000000004,null,"CONCRD ",4.3115752686284496,0.56660071031936898]
[null,null,null,null,"SD330",1.8407E-3,0.97315010000000002,null,"MD11PW",3.7466300000000001E-2,0.77189839999999998,null,"L1011",7.4988899999999997E-2,0.74838700000000002,null,"F28MK4",5.6699199999999998E-2,0.83911389999999997,null,"EMB170",4.2636000000000002E-3,0.94898669999999996,null,"CRJ9-ER ",1.72930326675928E-2,0.64852178428700502]
[null,null,null,null,"SF340",4.7632000000000004E-3,0.79604010000000003,null,"MD81",2.9676500000000001E-2,0.80325650000000004,null,"L10115",7.8320600000000004E-2,0.76470059999999995,null,"F4C",1.67181,0.59032850000000003,null,"EMB175",4.4980000000000003E-3,0.94722300000000004,null,"CRJ9-LR ",1.62039271586512E-2,0.65603532381336704]
[null,null,null,null,null,null,null,null,"MD82",4.3464999999999997E-2,0.77453329999999998,null,"L188",5.3585999999999998E-3,0.98184150000000003,null,"FAL20",5.7041000000000001E-2,0.70091820000000005,null,"EMB190",5.6379999999999998E-3,0.95427689999999998,null,"CVR580 ",7.0084396945482103E-2,0.444826219243663]
[null,null,null,null,null,null,null,null,"MD83",5.3537000000000001E-2,0.77234659999999999,null,"LEAR25",0.29863190000000001,0.64797470000000001,null,"GASEPF",1.236E-4,1.0992987999999999,null,"EMB195",5.6366000000000003E-3,0.96118720000000002,null,"DC1010 ",5.8329895636483699E-2,0.72290526467431504]
[null,null,null,null,null,null,null,null,"MD9025",1.02472E-2,0.8397346,null,"LEAR35",5.4107000000000002E-2,0.60406130000000002,null,"GASEPV",3.3544E-3,0.88173400000000002,null,"F10062",1.68436E-2,0.77001039999999998,null,"DC1030 ",5.49050090846065E-2,0.78904081470991805]
[null,null,null,null,null,null,null,null,"MD9028",2.16674E-2,0.74186830000000004,null,"MD11GE",4.7761900000000003E-2,0.75727900000000004,null,"GII",6.0221499999999997E-2,0.92367980000000005,null,"F10065",2.1043800000000001E-2,0.73114440000000003,null,"DC1040 ",8.3128734804673796E-2,0.707606067687647]
[null,null,null,null,null,null,null,null,"MU3001",1.6844100000000001E-2,0.79469120000000004,null,"MD11PW",3.8303700000000003E-2,0.79255419999999999,null,"GIIB",3.8501800000000003E-2,0.99018629999999996,null,"F28MK2",7.9265500000000003E-2,0.86861290000000002,null,"DC3 ",2.7514499051748301E-2,0.87783737388223404]
[null,null,null,null,null,null,null,null,"SABR80",6.4100599999999994E-2,0.68312110000000004,null,"MD81",3.1331900000000003E-2,0.84512350000000003,null,"GIV",5.4197000000000004E-3,0.7932728,null,"F28MK4",5.6699199999999998E-2,0.83911389999999997,null,"DC6 ",4.1437172690564801E-2,0.91780277143940603]
[null,null,null,null,null,null,null,null,"SD330",1.8825999999999999E-3,0.97026389999999996,null,"MD82",3.6620199999999999E-2,0.8374047,null,"GV",4.5980999999999999E-3,0.88273199999999996,null,"F4C",1.67181,0.59032850000000003,null,"DC820 ",0.37209624296288202,0.64097014271026698]
[null,null,null,null,null,null,null,null,"SF340",4.7965000000000004E-3,0.79512879999999997,null,"MD83",4.7430100000000003E-2,0.81341870000000005,null,"HS748A",1.6170899999999998E-2,0.82228840000000003,null,"FAL20",5.7041000000000001E-2,0.70091820000000005,null,"DC850 ",0.40329037233385001,0.63438596428842997]
[null,null,null,null,null,null,null,null,null,null,null,null,"MD9025",6.5453000000000004E-3,0.89927780000000002,null,"IA1125",7.6427999999999999E-3,0.84968339999999998,null,"GASEPF",1.236E-4,1.0992987999999999,null,"DC860 ",0.48925276193296502,0.63842168436050195]
[null,null,null,null,null,null,null,null,null,null,null,null,"MD9028",1.54781E-2,0.78619039999999996,null,"KC135",2.8255843,0.76298310000000003,null,"GASEPV",3.3544E-3,0.88173400000000002,null,"DC870 ",4.0449889366053697E-2,0.778370309551767]
[null,null,null,null,null,null,null,null,null,null,null,null,"MU3001",1.39162E-2,0.82370109999999996,null,"KC135B",0.58799049999999997,0.64279330000000001,null,"GII",6.0221499999999997E-2,0.92367980000000005,null,"DC8QN ",0.31684538043004301,0.71349024791277205]
[null,null,null,null,null,null,null,null,null,null,null,null,"PA28",9.5299999999999999E-5,1.1758481000000001,null,"KC135R",2.9931200000000002E-2,0.89780689999999996,null,"GIIB",3.8501800000000003E-2,0.99018629999999996,null,"DC910 ",7.3879170747324002E-2,0.75513270373592001]
[null,null,null,null,null,null,null,null,null,null,null,null,"PA30",3.0719699999999999E-2,0.6490456,null,"L1011",7.4988899999999997E-2,0.74838700000000002,null,"GIV",5.4197000000000004E-3,0.7932728,null,"DC930 ",0.121554874150852,0.74587125515117303]
[null,null,null,null,null,null,null,null,null,null,null,null,"PA31",7.7439999999999996E-4,1.0161631,null,"L10115",7.8320600000000004E-2,0.76470059999999995,null,"GV",4.5980999999999999E-3,0.88273199999999996,null,"DC93LW ",3.7067116317187503E-2,0.76039339099831804]
[null,null,null,null,null,null,null,null,null,null,null,null,"SABR80",5.16415E-2,0.70919220000000005,null,"L188",5.3585999999999998E-3,0.98184150000000003,null,"HS748A",1.6170899999999998E-2,0.82228840000000003,null,"DC950 ",0.20193645178818201,0.69889040398140501]
[null,null,null,null,null,null,null,null,null,null,null,null,"SD330",2.2679000000000002E-3,0.97679020000000005,null,"LEAR25",0.29863190000000001,0.64797470000000001,null,"IA1125",7.6427999999999999E-3,0.84968339999999998,null,"DC95HW ",5.6516760921475603E-2,0.71236530762847305]
[null,null,null,null,null,null,null,null,null,null,null,null,"SF340",5.2487000000000002E-3,0.81646640000000004,null,"LEAR35",5.4107000000000002E-2,0.60406130000000002,null,"KC135",2.8255843,0.76298310000000003,null,"DC9Q7 ",5.25157999822045E-2,0.77984816572597504]
[null,null,null,null,null,null,null,null,null,null,null,null,null,null,null,null,"MD11GE",4.7761900000000003E-2,0.75727900000000004,null,"KC135B",0.58799049999999997,0.64279330000000001,null,"DC9Q9 ",9.9511594633334505E-2,0.75309702747343898]
[null,null,null,null,null,null,null,null,null,null,null,null,null,null,null,null,"MD11PW",3.8303700000000003E-2,0.79255419999999999,null,"KC135R",2.9931200000000002E-2,0.89780689999999996,null,"DHC-2FLT ",7.2536216017117104E-4,1.2736303338514099]
[null,null,null,null,null,null,null,null,null,null,null,null,null,null,null,null,"MD81",3.1331900000000003E-2,0.84512350000000003,null,"L1011",7.4988899999999997E-2,0.74838700000000002,null,"DHC6 ",1.7448262146911699E-3,1.01620552463522]
[null,null,null,null,null,null,null,null,null,null,null,null,null,null,null,null,"MD82",3.6620199999999999E-2,0.8374047,null,"L10115",7.8320600000000004E-2,0.76470059999999995,null,"DHC6QP ",1.12397461642484E-2,0.66070815117764403]
[null,null,null,null,null,null,null,null,null,null,null,null,null,null,null,null,"MD83",4.7430100000000003E-2,0.81341870000000005,null,"L188",5.3585999999999998E-3,0.98184150000000003,null,"DHC7 ",1.3953706500385301E-2,0.44283413153281698]
[null,null,null,null,null,null,null,null,null,null,null,null,null,null,null,null,"MD9025",6.5453000000000004E-3,0.89927780000000002,null,"LEAR25",0.29863190000000001,0.64797470000000001,null,"DHC8 ",2.1417601147984099E-2,0.38323239221215999]
[null,null,null,null,null,null,null,null,null,null,null,null,null,null,null,null,"MD9028",1.54781E-2,0.78619039999999996,null,"LEAR35",5.4107000000000002E-2,0.60406130000000002,null,"DHC830 ",5.4125559693591098E-2,0.27202778731872701]
[null,null,null,null,null,null,null,null,null,null,null,null,null,null,null,null,"MU3001",1.39162E-2,0.82370109999999996,null,"MD11GE",4.7761900000000003E-2,0.75727900000000004,null,"DO228 ",8.8236284984348108E-3,0.55500871499385795]
[null,null,null,null,null,null,null,null,null,null,null,null,null,null,null,null,"PA28",9.5299999999999999E-5,1.1758481000000001,null,"MD11PW",3.8303700000000003E-2,0.79255419999999999,null,"DO328 ",1.7320620171517399E-2,0.573166895336918]
[null,null,null,null,null,null,null,null,null,null,null,null,null,null,null,null,"PA30",3.0719699999999999E-2,0.6490456,null,"MD81",3.1331900000000003E-2,0.84512350000000003,null,"E3A ",0.58008226180448597,0.640941055242499]
[null,null,null,null,null,null,null,null,null,null,null,null,null,null,null,null,"PA31",7.7439999999999996E-4,1.0161631,null,"MD82",3.6620199999999999E-2,0.8374047,null,"E4 ",8.0077426683445599E-2,0.68510233352752703]
[null,null,null,null,null,null,null,null,null,null,null,null,null,null,null,null,"PA42",7.494E-4,0.97119129999999998,null,"MD83",4.7430100000000003E-2,0.81341870000000005,null,"EA6B ",0.74546133790819702,0.77380840613225998]
[null,null,null,null,null,null,null,null,null,null,null,null,null,null,null,null,"SABR80",5.16415E-2,0.70919220000000005,null,"MD9025",6.5453000000000004E-3,0.89927780000000002,null,"ECLIPSE500 ",2.2729121669875299E-2,0.36818399457899398]
[null,null,null,null,null,null,null,null,null,null,null,null,null,null,null,null,"SD330",2.2679000000000002E-3,0.97679020000000005,null,"MD9028",1.54781E-2,0.78619039999999996,null,"EMB120 ",2.3116416235421801E-2,0.51641431589074205]
[null,null,null,null,null,null,null,null,null,null,null,null,null,null,null,null,"SF340",5.2487000000000002E-3,0.81646640000000004,null,"MU3001",1.39162E-2,0.82370109999999996,null,"EMB145 ",2.2960750471345801E-2,0.52139630219816901]
[null,null,null,null,null,null,null,null,null,null,null,null,null,null,null,null,"F16A",0.26279520000000001,0.65837480000000004,null,"PA28",9.5299999999999999E-5,1.1758481000000001,null,"EMB14L ",1.4964112291973201E-2,0.60764677394883104]
[null,null,null,null,null,null,null,null,null,null,null,null,null,null,null,null,"F16GE",0.13907459999999999,0.63393350000000004,null,"PA30",3.0719699999999999E-2,0.6490456,null,"EMB170 ",8.5194535903674404E-3,0.83085825162187199]
[null,null,null,null,null,null,null,null,null,null,null,null,null,null,null,null,"F16PW0",0.50384530000000005,0.56620970000000004,null,"PA31",7.7439999999999996E-4,1.0161631,null,"EMB175 ",8.4279488582767095E-3,0.83867067665603201]
[null,null,null,null,null,null,null,null,null,null,null,null,null,null,null,null,"F16PW9",0.52564060000000001,0.70287549999999999,null,"PA42",7.494E-4,0.97119129999999998,null,"EMB190 ",8.0131493525893698E-3,0.85476423847161098]
[null,null,null,null,null,null,null,null,null,null,null,null,null,null,null,null,null,null,null,null,"SABR80",5.16415E-2,0.70919220000000005,null,"EMB195 ",8.1171099423421097E-3,0.85937087333093898]
[null,null,null,null,null,null,null,null,null,null,null,null,null,null,null,null,null,null,null,null,"SD330",2.2679000000000002E-3,0.97679020000000005,null,"F10062 ",2.3753746848249501E-2,0.67778010116384502]
[null,null,null,null,null,null,null,null,null,null,null,null,null,null,null,null,null,null,null,null,"SF340",5.2487000000000002E-3,0.81646640000000004,null,"F10065 ",2.6820935267248901E-2,0.65614707854383203]
[null,null,null,null,null,null,null,null,null,null,null,null,null,null,null,null,null,null,null,null,"F16A",0.26279520000000001,0.65837480000000004,null,"F100D ",0.62474104640540695,0.61061615302215499]
[null,null,null,null,null,null,null,null,null,null,null,null,null,null,null,null,null,null,null,null,"F16GE",0.13907459999999999,0.63393350000000004,null,"F101B ",0.39867870449891402,0.72151429179065396]
[null,null,null,null,null,null,null,null,null,null,null,null,null,null,null,null,null,null,null,null,"F16PW0",0.50384530000000005,0.56620970000000004,null,"F102 ",5.33715876548021E-2,0.86056854750667799]
[null,null,null,null,null,null,null,null,null,null,null,null,null,null,null,null,null,null,null,null,"F16PW9",0.52564060000000001,0.70287549999999999,null,"F104G ",0.19619836445945699,0.92512476038277602]
[null,null,null,null,null,null,null,null,null,null,null,null,null,null,null,null,null,null,null,null,null,null,null,null,"F105D ",0.63005208809415403,0.56558479430543895]
[null,null,null,null,null,null,null,null,null,null,null,null,null,null,null,null,null,null,null,null,null,null,null,null,"F106 ",1.00919484272405,0.492342414453868]
[null,null,null,null,null,null,null,null,null,null,null,null,null,null,null,null,null,null,null,null,null,null,null,null,"F111AE ",1.0440265430198199,0.56576416624907]
[null,null,null,null,null,null,null,null,null,null,null,null,null,null,null,null,null,null,null,null,null,null,null,null,"F111D ",1.4861290038236299,0.49279523791093799]
[null,null,null,null,null,null,null,null,null,null,null,null,null,null,null,null,null,null,null,null,null,null,null,null,"F-111F ",2.40998916042148,0.51203978271206396]
[null,null,null,null,null,null,null,null,null,null,null,null,null,null,null,null,null,null,null,null,null,null,null,null,"F117A ",0.44521886682562001,0.897303812413906]
[null,null,null,null,null,null,null,null,null,null,null,null,null,null,null,null,null,null,null,null,null,null,null,null,"F14A ",1.0883219275929701,0.37836404015299002]
[null,null,null,null,null,null,null,null,null,null,null,null,null,null,null,null,null,null,null,null,null,null,null,null,"F15A ",0.50196564043487901,0.64039524490875899]
[null,null,null,null,null,null,null,null,null,null,null,null,null,null,null,null,null,null,null,null,null,null,null,null,"F15E20 ",0.82798428958724701,0.69692057536007201]
[null,null,null,null,null,null,null,null,null,null,null,null,null,null,null,null,null,null,null,null,null,null,null,null,"F15E29 ",1.63520363846413,0.71681026621471799]
[null,null,null,null,null,null,null,null,null,null,null,null,null,null,null,null,null,null,null,null,null,null,null,null,"F16A ",0.22261835199308699,0.63769783417064596]
[null,null,null,null,null,null,null,null,null,null,null,null,null,null,null,null,null,null,null,null,null,null,null,null,"F16GE ",0.106125779664482,0.63319628076888301]
[null,null,null,null,null,null,null,null,null,null,null,null,null,null,null,null,null,null,null,null,null,null,null,null,"F16PW0 ",0.41086645390207999,0.553944152194221]
[null,null,null,null,null,null,null,null,null,null,null,null,null,null,null,null,null,null,null,null,null,null,null,null,"F-18 ",0.56854381941454202,0.70984548150746496]
[null,null,null,null,null,null,null,null,null,null,null,null,null,null,null,null,null,null,null,null,null,null,null,null,"F28MK2 ",6.4316529801768996E-2,0.85663769698946302]
[null,null,null,null,null,null,null,null,null,null,null,null,null,null,null,null,null,null,null,null,null,null,null,null,"F28MK4 ",4.1216422760415899E-2,0.844761283690598]
[null,null,null,null,null,null,null,null,null,null,null,null,null,null,null,null,null,null,null,null,null,null,null,null,"F4C ",1.3123667574264699,0.53838646995744799]
[null,null,null,null,null,null,null,null,null,null,null,null,null,null,null,null,null,null,null,null,null,null,null,null,"F-4C ",1.1915154018193099,0.61898619783958497]
[null,null,null,null,null,null,null,null,null,null,null,null,null,null,null,null,null,null,null,null,null,null,null,null,"F5AB ",0.53772361217836795,0.53775384473270005]
[null,null,null,null,null,null,null,null,null,null,null,null,null,null,null,null,null,null,null,null,null,null,null,null,"F5E ",0.62855975479358805,0.53052749475462802]
[null,null,null,null,null,null,null,null,null,null,null,null,null,null,null,null,null,null,null,null,null,null,null,null,"F8 ",1.6350680048422299,0.46784203098452798]
[null,null,null,null,null,null,null,null,null,null,null,null,null,null,null,null,null,null,null,null,null,null,null,null,"FAL20 ",4.84824346141274E-2,0.681554415604124]
[null,null,null,null,null,null,null,null,null,null,null,null,null,null,null,null,null,null,null,null,null,null,null,null,"FB111A ",0.83164867695877498,0.50009113322353305]
[null,null,null,null,null,null,null,null,null,null,null,null,null,null,null,null,null,null,null,null,null,null,null,null,"GASEPF ",6.1021186617463098E-3,0.55284787150828696]
[null,null,null,null,null,null,null,null,null,null,null,null,null,null,null,null,null,null,null,null,null,null,null,null,"GASEPV ",9.3378753118591208E-3,0.68681650829420104]
[null,null,null,null,null,null,null,null,null,null,null,null,null,null,null,null,null,null,null,null,null,null,null,null,"GII ",8.3769491148434502E-2,0.82469053475091403]
[null,null,null,null,null,null,null,null,null,null,null,null,null,null,null,null,null,null,null,null,null,null,null,null,"GIIB ",4.8600230058242801E-2,0.907055616426096]
[null,null,null,null,null,null,null,null,null,null,null,null,null,null,null,null,null,null,null,null,null,null,null,null,"GIV ",1.92863002948933E-2,0.56946084412284403]
[null,null,null,null,null,null,null,null,null,null,null,null,null,null,null,null,null,null,null,null,null,null,null,null,"GV ",1.31708782768667E-2,0.68953421493315503]
[null,null,null,null,null,null,null,null,null,null,null,null,null,null,null,null,null,null,null,null,null,null,null,null,"HS748A ",1.6888626462383299E-2,0.77100591108892003]
[null,null,null,null,null,null,null,null,null,null,null,null,null,null,null,null,null,null,null,null,null,null,null,null,"IA1125 ",1.6363699788608601E-2,0.70175683950957501]
[null,null,null,null,null,null,null,null,null,null,null,null,null,null,null,null,null,null,null,null,null,null,null,null,"JAGUAR ",0.308803435644944,0.78490955882715996]
[null,null,null,null,null,null,null,null,null,null,null,null,null,null,null,null,null,null,null,null,null,null,null,null,"KC10A ",7.1897403479448105E-2,0.69492192172241496]
[null,null,null,null,null,null,null,null,null,null,null,null,null,null,null,null,null,null,null,null,null,null,null,null,"KC135 ",2.8425712819576501,0.68323566438415795]
[null,null,null,null,null,null,null,null,null,null,null,null,null,null,null,null,null,null,null,null,null,null,null,null,"KC-135 ",1.3652952280816401E-2,0.91777665008876097]
[null,null,null,null,null,null,null,null,null,null,null,null,null,null,null,null,null,null,null,null,null,null,null,null,"KC135B ",0.458408958716441,0.63663137914288004]
[null,null,null,null,null,null,null,null,null,null,null,null,null,null,null,null,null,null,null,null,null,null,null,null,"KC135R ",3.2262688900133903E-2,0.83917339514435796]
[null,null,null,null,null,null,null,null,null,null,null,null,null,null,null,null,null,null,null,null,null,null,null,null,"L1011 ",6.2657181555062405E-2,0.73100243623737504]
[null,null,null,null,null,null,null,null,null,null,null,null,null,null,null,null,null,null,null,null,null,null,null,null,"L10115 ",6.8755927544641507E-2,0.73908472786856205]
[null,null,null,null,null,null,null,null,null,null,null,null,null,null,null,null,null,null,null,null,null,null,null,null,"L188 ",8.1190188733212907E-3,0.87292641869907195]
[null,null,null,null,null,null,null,null,null,null,null,null,null,null,null,null,null,null,null,null,null,null,null,null,"LEAR25 ",0.23934717559617999,0.63731212771469403]
[null,null,null,null,null,null,null,null,null,null,null,null,null,null,null,null,null,null,null,null,null,null,null,null,"LEAR35 ",4.6502821403811498E-2,0.58809257309501195]
[null,null,null,null,null,null,null,null,null,null,null,null,null,null,null,null,null,null,null,null,null,null,null,null,"MD11GE ",4.2710462385257601E-2,0.72909632543200498]
[null,null,null,null,null,null,null,null,null,null,null,null,null,null,null,null,null,null,null,null,null,null,null,null,"MD11PW ",3.4242013387315799E-2,0.76467598185032803]
[null,null,null,null,null,null,null,null,null,null,null,null,null,null,null,null,null,null,null,null,null,null,null,null,"MD81 ",2.6476486487204801E-2,0.82865098924207503]
[null,null,null,null,null,null,null,null,null,null,null,null,null,null,null,null,null,null,null,null,null,null,null,null,"MD82 ",3.1619240554150801E-2,0.81722448060072295]
[null,null,null,null,null,null,null,null,null,null,null,null,null,null,null,null,null,null,null,null,null,null,null,null,"MD83 ",3.6702338515202902E-2,0.81050917902313302]
[null,null,null,null,null,null,null,null,null,null,null,null,null,null,null,null,null,null,null,null,null,null,null,null,"MD9025 ",1.77556889771378E-2,0.71313517489215605]
[null,null,null,null,null,null,null,null,null,null,null,null,null,null,null,null,null,null,null,null,null,null,null,null,"MD9028 ",2.5924323737067399E-2,0.67000722999588402]
[null,null,null,null,null,null,null,null,null,null,null,null,null,null,null,null,null,null,null,null,null,null,null,null,"MU3001 ",1.58052413619768E-2,0.765506655225342]
[null,null,null,null,null,null,null,null,null,null,null,null,null,null,null,null,null,null,null,null,null,null,null,null,"OV10A ",1.41749122042994E-3,1.26391655126328]
[null,null,null,null,null,null,null,null,null,null,null,null,null,null,null,null,null,null,null,null,null,null,null,null,"P3A ",1.3369262252087E-2,0.82363365061773697]
[null,null,null,null,null,null,null,null,null,null,null,null,null,null,null,null,null,null,null,null,null,null,null,null,"PA28 ",3.5708058851294201E-3,0.68289382618199301]
[null,null,null,null,null,null,null,null,null,null,null,null,null,null,null,null,null,null,null,null,null,null,null,null,"PA30 ",3.6964298921301098E-2,0.61253498561428998]
[null,null,null,null,null,null,null,null,null,null,null,null,null,null,null,null,null,null,null,null,null,null,null,null,"PA31 ",9.7314764877282304E-3,0.62641431636116296]
[null,null,null,null,null,null,null,null,null,null,null,null,null,null,null,null,null,null,null,null,null,null,null,null,"PA42 ",2.27352394218697E-2,0.47185869649228201]
[null,null,null,null,null,null,null,null,null,null,null,null,null,null,null,null,null,null,null,null,null,null,null,null,"S3A&B ",6.16260297091E-2,0.544633740019692]
[null,null,null,null,null,null,null,null,null,null,null,null,null,null,null,null,null,null,null,null,null,null,null,null,"SABR80 ",4.5230725101024202E-2,0.68540402853261695]
[null,null,null,null,null,null,null,null,null,null,null,null,null,null,null,null,null,null,null,null,null,null,null,null,"SD330 ",1.96238945041049E-2,0.61339798423496095]
[null,null,null,null,null,null,null,null,null,null,null,null,null,null,null,null,null,null,null,null,null,null,null,null,"SF340 ",3.1607210074176502E-2,0.50930985108780602]
[null,null,null,null,null,null,null,null,null,null,null,null,null,null,null,null,null,null,null,null,null,null,null,null,"SR71 ",2.2981523606851399,0.60341459294383804]
[null,null,null,null,null,null,null,null,null,null,null,null,null,null,null,null,null,null,null,null,null,null,null,null,"T1 ",7.2239824368022301E-3,1.19492730518032]
[null,null,null,null,null,null,null,null,null,null,null,null,null,null,null,null,null,null,null,null,null,null,null,null,"T29 ",4.7649354694802297E-2,0.75150060091396498]
[null,null,null,null,null,null,null,null,null,null,null,null,null,null,null,null,null,null,null,null,null,null,null,null,"T-2C ",0.25413233875143598,0.66135824093060602]
[null,null,null,null,null,null,null,null,null,null,null,null,null,null,null,null,null,null,null,null,null,null,null,null,"T3 ",1.3790074090101301E-2,0.58473097940463303]
[null,null,null,null,null,null,null,null,null,null,null,null,null,null,null,null,null,null,null,null,null,null,null,null,"T33A ",4.1633772804206201E-2,0.68929130833262098]
[null,null,null,null,null,null,null,null,null,null,null,null,null,null,null,null,null,null,null,null,null,null,null,null,"T34 ",1.5833632782601002E-2,0.41983034863803897]
[null,null,null,null,null,null,null,null,null,null,null,null,null,null,null,null,null,null,null,null,null,null,null,null,"T37B ",2.13544285693626E-2,0.81290660917323598]
[null,null,null,null,null,null,null,null,null,null,null,null,null,null,null,null,null,null,null,null,null,null,null,null,"T-38A ",0.25953609094755598,0.63724744918905896]
[null,null,null,null,null,null,null,null,null,null,null,null,null,null,null,null,null,null,null,null,null,null,null,null,"T39A ",0.143744104680675,0.84773248567870796]
[null,null,null,null,null,null,null,null,null,null,null,null,null,null,null,null,null,null,null,null,null,null,null,null,"T41 ",1.9405260927228898E-2,0.37585804631199898]
[null,null,null,null,null,null,null,null,null,null,null,null,null,null,null,null,null,null,null,null,null,null,null,null,"T42 ",5.29537342111191E-3,0.81063130242049597]
[null,null,null,null,null,null,null,null,null,null,null,null,null,null,null,null,null,null,null,null,null,null,null,null,"T-43A ",0.106803098084154,0.66983634821609706]
[null,null,null,null,null,null,null,null,null,null,null,null,null,null,null,null,null,null,null,null,null,null,null,null,"T44 ",1.3657031940449401E-2,0.47301911659136597]
[null,null,null,null,null,null,null,null,null,null,null,null,null,null,null,null,null,null,null,null,null,null,null,null,"TORNAD ",0.45053001026476802,0.71803975431187295]
[null,null,null,null,null,null,null,null,null,null,null,null,null,null,null,null,null,null,null,null,null,null,null,null,"TR1 ",0.22300462688264899,0.65687633775445897]
[null,null,null,null,null,null,null,null,null,null,null,null,null,null,null,null,null,null,null,null,null,null,null,null,"U2 ",0.21699791932738099,0.64739267757673102]
[null,null,null,null,null,null,null,null,null,null,null,null,null,null,null,null,null,null,null,null,null,null,null,null,"U21 ",1.85428218780994E-2,0.42711759295901502]
[null,null,null,null,null,null,null,null,null,null,null,null,null,null,null,null,null,null,null,null,null,null,null,null,"U6 ",1.6997302369002799E-2,0.40400147432269201]
[null,null,null,null,null,null,null,null,null,null,null,null,null,null,null,null,null,null,null,null,null,null,null,null,"U8F ",3.9213422569711496E-3,0.94914049289891]

{"sheet":"AEE Noise Inventories","index":4,"n_rows":20,"n_cols":8,"rows_kept":20,"cut":false,"hidden":false,"merged":[[12,0,12,7]]}
["DNL (dBA)","Baseline Area (Sq. Mi.)","Alternative Area (Sq. Mi.)","Percent Change in Area "]
[{"$f":"aem2csp2!A11","v":65},{"$f":"aem2csp2!B11","v":0},{"$f":"aem2csp2!C11","v":0},{"$f":"aem2csp2!D11","v":0}]
[{"$f":"aem2csp2!A12","v":0},{"$f":"aem2csp2!B12","v":0},{"$f":"aem2csp2!C12","v":0},{"$f":"aem2csp2!D12","v":0}]
[{"$f":"aem2csp2!A13","v":0},{"$f":"aem2csp2!B13","v":0},{"$f":"aem2csp2!C13","v":0},{"$f":"aem2csp2!D13","v":0}]
[{"$f":"aem2csp2!A14","v":0},{"$f":"aem2csp2!B14","v":0},{"$f":"aem2csp2!C14","v":0},{"$f":"aem2csp2!D14","v":0}]
[{"$f":"aem2csp2!A15","v":0},{"$f":"aem2csp2!B15","v":0},{"$f":"aem2csp2!C15","v":0},{"$f":"aem2csp2!D15","v":0}]
[{"$f":"aem2csp2!A16","v":0},{"$f":"aem2csp2!B16","v":0},{"$f":"aem2csp2!C16","v":0},{"$f":"aem2csp2!D16","v":0}]
[]
[]
[]
[]
[]
["AEE Noise Inventories"]
["DNL (dBA)","DNL Baseline Inventory Area (Sq. Mi.)","Alternative Area (Sq. Mi.)","Percent Change in Area ","AEM Base Sphere","AEM Alt Sphere","Base Sphere","Alt Eng."]
[{"$f":"aem2csp2!A11","v":65},null,{"$f":"'Inventory calc'!A2","v":0},{"$f":"'Inventory calc'!B2","v":0},{"$f":"'Inventory calc'!C2","v":0},{"$f":"'Inventory calc'!D2","v":0},{"$f":"'Inventory calc'!E2","v":0},{"$f":"'Inventory calc'!F2","v":0}]
[{"$f":"aem2csp2!A12","v":0},null,{"$f":"'Inventory calc'!A3","v":0},{"$f":"'Inventory calc'!B3","v":0},{"$f":"'Inventory calc'!C3","v":0},{"$f":"'Inventory calc'!D3","v":0},{"$f":"'Inventory calc'!E3","v":0},{"$f":"'Inventory calc'!F3","v":0}]
[{"$f":"aem2csp2!A13","v":0},null,{"$f":"'Inventory calc'!A4","v":0},{"$f":"'Inventory calc'!B4","v":0},{"$f":"'Inventory calc'!C4","v":0},{"$f":"'Inventory calc'!D4","v":0},{"$f":"'Inventory calc'!E4","v":0},{"$f":"'Inventory calc'!F4","v":0}]
[{"$f":"aem2csp2!A14","v":0},null,{"$f":"'Inventory calc'!A5","v":0},{"$f":"'Inventory calc'!B5","v":0},{"$f":"'Inventory calc'!C5","v":0},{"$f":"'Inventory calc'!D5","v":0},{"$f":"'Inventory calc'!E5","v":0},{"$f":"'Inventory calc'!F5","v":0}]
[{"$f":"aem2csp2!A15","v":0},null,{"$f":"'Inventory calc'!A6","v":0},{"$f":"'Inventory calc'!B6","v":0},{"$f":"'Inventory calc'!C6","v":0},{"$f":"'Inventory calc'!D6","v":0},{"$f":"'Inventory calc'!E6","v":0},{"$f":"'Inventory calc'!F6","v":0}]
[{"$f":"aem2csp2!A16","v":0},null,{"$f":"'Inventory calc'!A7","v":0},{"$f":"'Inventory calc'!B7","v":0},{"$f":"'Inventory calc'!C7","v":0},{"$f":"'Inventory calc'!D7","v":0},{"$f":"'Inventory calc'!E7","v":0},{"$f":"'Inventory calc'!F7","v":0}]

{"sheet":"aem analysis","index":5,"n_rows":270,"n_cols":80,"rows_kept":270,"cut":false,"hidden":true,"merged":[]}
[]
[]
[]
[]
[]
[]
[]
[]
[]
[]
[null,null,null,null,null,{"$f":"+IFERROR(((aem2csp2!C11-aem2csp2!B11)/aem2csp2!B11),0)","v":0}]
[null,null,null,null,null,{"$f":"+IFERROR(((aem2csp2!C12-aem2csp2!B12)/aem2csp2!B12),0)","v":0}]
[null,null,null,null,null,{"$f":"+IFERROR(((aem2csp2!C13-aem2csp2!B13)/aem2csp2!B13),0)","v":0}]
[null,null,null,null,null,{"$f":"+IFERROR(((aem2csp2!C14-aem2csp2!B14)/aem2csp2!B14),0)","v":0}]
[null,null,null,null,null,{"$f":"+IFERROR(((aem2csp2!C15-aem2csp2!B15)/aem2csp2!B15),0)","v":0}]
[null,null,null,null,null,{"$f":"+IFERROR(((aem2csp2!C16-aem2csp2!B16)/aem2csp2!B16),0)","v":0}]
[]
[]
[null,null,null,null,"Aircraft\nType","a","b","Effective\nLTOs (N)","Aircraft\nArea (A)","Aircraft\nEnergy (E)","Aircraft\nWeighting\nFactor (W)","No. of\nLTOs","Effective\nLTOs","Effective\nLTOs (N)","Aircraft\nArea (A)","Aircraft\nEnergy (E)","Aircraft\nWeighting\nFactor (W)","No. of\nLTOs","Effective\nLTOs","Effective\nLTOs (N)","Aircraft\nArea (A)","Aircraft\nEnergy (E)","Aircraft\nWeighting\nFactor (W)","No. of\nLTOs","Effective\nLTOs","Effective\nLTOs (N)","Aircraft\nArea (A)","Aircraft\nEnergy (E)","Aircraft\nWeighting\nFactor (W)","No. of\nLTOs","Effective\nLTOs","Effective\nLTOs (N)","Aircraft\nArea (A)","Aircraft\nEnergy (E)","Aircraft\nWeighting\nFactor (W)","No. of\nLTOs","Effective\nLTOs","Effective\nLTOs (N)","Aircraft\nArea (A)","Aircraft\nEnergy (E)","Aircraft\nWeighting\nFactor (W)","No. of\nLTOs","Effective\nLTOs","No.","Effective\nLTOs (N)","Aircraft\nArea (A)","Aircraft\nEnergy (E)","Aircraft\nWeighting\nFactor (W)","No. of\nLTOs","Effective\nLTOs","Effective\nLTOs (N)","Aircraft\nArea (A)","Aircraft\nEnergy (E)","Aircraft\nWeighting\nFactor (W)","No. of\nLTOs","Effective\nLTOs","Effective\nLTOs (N)","Aircraft\nArea (A)","Aircraft\nEnergy (E)","Aircraft\nWeighting\nFactor (W)","No. of\nLTOs","Effective\nLTOs","Effective\nLTOs (N)","Aircraft\nArea (A)","Aircraft\nEnergy (E)","Aircraft\nWeighting\nFactor (W)","No. of\nLTOs","Effective\nLTOs","Effective\nLTOs (N)","Aircraft\nArea (A)","Aircraft\nEnergy (E)","Aircraft\nWeighting\nFactor (W)","No. of\nLTOs","Effective\nLTOs","Effective\nLTOs (N)","Aircraft\nArea (A)","Aircraft\nEnergy (E)","Aircraft\nWeighting\nFactor (W)","No. of\nLTOs","Effective\nLTOs"]
[null,null,null,null,707,0.291876116229843,0.64972738926815998,{"$f":"+(aem2csp2!B20+(aem2csp2!C20*10))*(10^((65-aem2csp2!$A$11)/10))","v":0},{"$f":"+F20*(H20^G20)","v":0},{"$f":"+(I20/$I$267)^(1/G20)","v":{"$error":"#DIV/0!"}},{"$f":"+J20/G20","v":{"$error":"#DIV/0!"}},{"$f":"+($L$269/F20)^(1/G20)","v":{"$error":"#DIV/0!"}},{"$f":"+H20/L20","v":{"$error":"#DIV/0!"}},{"$f":"+(aem2csp2!B20+(aem2csp2!C20*10))*(10^((65-aem2csp2!$A$12)/10))","v":0},{"$f":"+F20*(N20^G20)","v":0},{"$f":"+(O20/$O$267)^(1/G20)","v":{"$error":"#DIV/0!"}},{"$f":"+P20/G20","v":{"$error":"#DIV/0!"}},{"$f":"+($R$269/F20)^(1/G20)","v":{"$error":"#DIV/0!"}},{"$f":"+N20/R20","v":{"$error":"#DIV/0!"}},{"$f":"+(aem2csp2!B20+(aem2csp2!C20*10))*(10^((65-aem2csp2!$A$13)/10))","v":0},{"$f":"+F20*(T20^G20)","v":0},{"$f":"+(U20/$U$267)^(1/G20)","v":{"$error":"#DIV/0!"}},{"$f":"+V20/G20","v":{"$error":"#DIV/0!"}},{"$f":"+($X$269/F20)^(1/G20)","v":{"$error":"#DIV/0!"}},{"$f":"+T20/X20","v":{"$error":"#DIV/0!"}},{"$f":"+(aem2csp2!B20+(aem2csp2!C20*10))*(10^((65-aem2csp2!$A$14)/10))","v":0},{"$f":"+F20*(Z20^G20)","v":0},{"$f":"+(AA20/$AA$267)^(1/G20)","v":{"$error":"#DIV/0!"}},{"$f":"+AB20/G20","v":{"$error":"#DIV/0!"}},{"$f":"+($AD$269/F20)^(1/G20)","v":{"$error":"#DIV/0!"}},{"$f":"+Z20/AD20","v":{"$error":"#DIV/0!"}},{"$f":"+(aem2csp2!B20+(aem2csp2!C20*10))*(10^((65-aem2csp2!$A$15)/10))","v":0},{"$f":"+F20*(AF20^G20)","v":0},{"$f":"+(AG20/$AG$267)^(1/G20)","v":{"$error":"#DIV/0!"}},{"$f":"+AH20/G20","v":{"$error":"#DIV/0!"}},{"$f":"+($AJ$269/F20)^(1/G20)","v":{"$error":"#DIV/0!"}},{"$f":"+AF20/AJ20","v":{"$error":"#DIV/0!"}},{"$f":"+(aem2csp2!B20+(aem2csp2!C20*10))*(10^((65-aem2csp2!$A$16)/10))","v":0},{"$f":"+F20*(AL20^G20)","v":0},{"$f":"+(AM20/$AM$267)^(1/G20)","v":{"$error":"#DIV/0!"}},{"$f":"+AN20/G20","v":{"$error":"#DIV/0!"}},{"$f":"+($AP$269/F20)^(1/G20)","v":{"$error":"#DIV/0!"}},{"$f":"+AL20/AP20","v":{"$error":"#DIV/0!"}},1,{"$f":"+(aem2csp2!D20+(aem2csp2!E20*10))*(10^((65-aem2csp2!$A$11)/10))","v":0},{"$f":"+F20*(AS20^G20)","v":0},{"$f":"+(AT20/$AT$267)^(1/G20)","v":{"$error":"#DIV/0!"}},{"$f":"+AU20/G20","v":{"$error":"#DIV/0!"}},{"$f":"+($AW$269/F20)^(1/G20)","v":{"$error":"#DIV/0!"}},{"$f":"+AS20/AW20","v":{"$error":"#DIV/0!"}},{"$f":"+(aem2csp2!D20+(aem2csp2!E20*10))*(10^((65-aem2csp2!$A$12)/10))","v":0},{"$f":"+F20*(AY20^G20)","v":0},{"$f":"+(AZ20/$AZ$267)^(1/G20)","v":{"$error":"#DIV/0!"}},{"$f":"+BA20/G20","v":{"$error":"#DIV/0!"}},{"$f":"+($BC$269/F20)^(1/G20)","v":{"$error":"#DIV/0!"}},{"$f":"+AY20/BC20","v":{"$error":"#DIV/0!"}},{"$f":"+(aem2csp2!D20+(aem2csp2!E20*10))*(10^((65-aem2csp2!$A$13)/10))","v":0},{"$f":"+F20*(BE20^G20)","v":0},{"$f":"+(BF20/$BF$267)^(1/G20)","v":{"$error":"#DIV/0!"}},{"$f":"+BG20/G20","v":{"$error":"#DIV/0!"}},{"$f":"+($BI$269/F20)^(1/G20)","v":{"$error":"#DIV/0!"}},{"$f":"+BE20/BI20","v":{"$error":"#DIV/0!"}},{"$f":"+(aem2csp2!D20+(aem2csp2!E20*10))*(10^((65-aem2csp2!$A$14)/10))","v":0},{"$f":"+F20*(BK20^G20)","v":0},{"$f":"+(BL20/$BL$267)^(1/G20)","v":{"$error":"#DIV/0!"}},{"$f":"+BM20/G20","v":{"$error":"#DIV/0!"}},{"$f":"+($BO$269/F20)^(1/G20)","v":{"$error":"#DIV/0!"}},{"$f":"+BK20/BO20","v":{"$error":"#DIV/0!"}},{"$f":"+(aem2csp2!D20+(aem2csp2!E20*10))*(10^((65-aem2csp2!$A$15)/10))","v":0},{"$f":"+F20*(BQ20^G20)","v":0},{"$f":"+(BR20/$BR$267)^(1/G20)","v":{"$error":"#DIV/0!"}},{"$f":"+BS20/G20","v":{"$error":"#DIV/0!"}},{"$f":"+($BU$269/F20)^(1/G20)","v":{"$error":"#DIV/0!"}},{"$f":"+BQ20/BU20","v":{"$error":"#DIV/0!"}},{"$f":"+(aem2csp2!D20+(aem2csp2!E20*10))*(10^((65-aem2csp2!$A$16)/10))","v":0},{"$f":"+F20*(BW20^G20)","v":0},{"$f":"+(BX20/$BX$267)^(1/G20)","v":{"$error":"#DIV/0!"}},{"$f":"+BY20/G20","v":{"$error":"#DIV/0!"}},{"$f":"+($CA$269/F20)^(1/G20)","v":{"$error":"#DIV/0!"}},{"$f":"+BW20/CA20","v":{"$error":"#DIV/0!"}}]
[null,null,null,null,720,0.16239655266060099,0.68408895676454695,{"$f":"+(aem2csp2!B21+(aem2csp2!C21*10))*(10^((65-aem2csp2!$A$11)/10))","v":0},0,{"$error":"#DIV/0!"},{"$error":"#DIV/0!"},{"$error":"#DIV/0!"},{"$error":"#DIV/0!"},{"$f":"+(aem2csp2!B21+(aem2csp2!C21*10))*(10^((65-aem2csp2!$A$12)/10))","v":0},0,{"$error":"#DIV/0!"},{"$error":"#DIV/0!"},{"$error":"#DIV/0!"},{"$error":"#DIV/0!"},{"$f":"+(aem2csp2!B21+(aem2csp2!C21*10))*(10^((65-aem2csp2!$A$13)/10))","v":0},0,{"$error":"#DIV/0!"},{"$error":"#DIV/0!"},{"$error":"#DIV/0!"},{"$error":"#DIV/0!"},{"$f":"+(aem2csp2!B21+(aem2csp2!C21*10))*(10^((65-aem2csp2!$A$14)/10))","v":0},0,{"$error":"#DIV/0!"},{"$error":"#DIV/0!"},{"$error":"#DIV/0!"},{"$error":"#DIV/0!"},{"$f":"+(aem2csp2!B21+(aem2csp2!C21*10))*(10^((65-aem2csp2!$A$15)/10))","v":0},0,{"$error":"#DIV/0!"},{"$error":"#DIV/0!"},{"$error":"#DIV/0!"},{"$error":"#DIV/0!"},{"$f":"+(aem2csp2!B21+(aem2csp2!C21*10))*(10^((65-aem2csp2!$A$16)/10))","v":0},0,{"$error":"#DIV/0!"},{"$error":"#DIV/0!"},{"$error":"#DIV/0!"},{"$error":"#DIV/0!"},1,{"$f":"+(aem2csp2!D21+(aem2csp2!E21*10))*(10^((65-aem2csp2!$A$11)/10))","v":0},0,{"$error":"#DIV/0!"},{"$error":"#DIV/0!"},{"$error":"#DIV/0!"},{"$error":"#DIV/0!"},{"$f":"+(aem2csp2!D21+(aem2csp2!E21*10))*(10^((65-aem2csp2!$A$12)/10))","v":0},0,{"$error":"#DIV/0!"},{"$error":"#DIV/0!"},{"$error":"#DIV/0!"},{"$error":"#DIV/0!"},{"$f":"+(aem2csp2!D21+(aem2csp2!E21*10))*(10^((65-aem2csp2!$A$13)/10))","v":0},0,{"$error":"#DIV/0!"},{"$error":"#DIV/0!"},{"$error":"#DIV/0!"},{"$error":"#DIV/0!"},{"$f":"+(aem2csp2!D21+(aem2csp2!E21*10))*(10^((65-aem2csp2!$A$14)/10))","v":0},0,{"$error":"#DIV/0!"},{"$error":"#DIV/0!"},{"$error":"#DIV/0!"},{"$error":"#DIV/0!"},{"$f":"+(aem2csp2!D21+(aem2csp2!E21*10))*(10^((65-aem2csp2!$A$15)/10))","v":0},0,{"$error":"#DIV/0!"},{"$error":"#DIV/0!"},{"$error":"#DIV/0!"},{"$error":"#DIV/0!"},{"$f":"+(aem2csp2!D21+(aem2csp2!E21*10))*(10^((65-aem2csp2!$A$16)/10))","v":0},0,{"$error":"#DIV/0!"},{"$error":"#DIV/0!"},{"$error":"#DIV/0!"},{"$error":"#DIV/0!"}]
[null,null,null,null,737,0.15474161413041301,0.71023167907906903,{"$f":"+(aem2csp2!B22+(aem2csp2!C22*10))*(10^((65-aem2csp2!$A$11)/10))","v":0},0,{"$error":"#DIV/0!"},{"$error":"#DIV/0!"},{"$error":"#DIV/0!"},{"$error":"#DIV/0!"},{"$f":"+(aem2csp2!B22+(aem2csp2!C22*10))*(10^((65-aem2csp2!$A$12)/10))","v":0},0,{"$error":"#DIV/0!"},{"$error":"#DIV/0!"},{"$error":"#DIV/0!"},{"$error":"#DIV/0!"},{"$f":"+(aem2csp2!B22+(aem2csp2!C22*10))*(10^((65-aem2csp2!$A$13)/10))","v":0},0,{"$error":"#DIV/0!"},{"$error":"#DIV/0!"},{"$error":"#DIV/0!"},{"$error":"#DIV/0!"},{"$f":"+(aem2csp2!B22+(aem2csp2!C22*10))*(10^((65-aem2csp2!$A$14)/10))","v":0},0,{"$error":"#DIV/0!"},{"$error":"#DIV/0!"},{"$error":"#DIV/0!"},{"$error":"#DIV/0!"},{"$f":"+(aem2csp2!B22+(aem2csp2!C22*10))*(10^((65-aem2csp2!$A$15)/10))","v":0},0,{"$error":"#DIV/0!"},{"$error":"#DIV/0!"},{"$error":"#DIV/0!"},{"$error":"#DIV/0!"},{"$f":"+(aem2csp2!B22+(aem2csp2!C22*10))*(10^((65-aem2csp2!$A$16)/10))","v":0},0,{"$error":"#DIV/0!"},{"$error":"#DIV/0!"},{"$error":"#DIV/0!"},{"$error":"#DIV/0!"},1,{"$f":"+(aem2csp2!D22+(aem2csp2!E22*10))*(10^((65-aem2csp2!$A$11)/10))","v":0},0,{"$error":"#DIV/0!"},{"$error":"#DIV/0!"},{"$error":"#DIV/0!"},{"$error":"#DIV/0!"},{"$f":"+(aem2csp2!D22+(aem2csp2!E22*10))*(10^((65-aem2csp2!$A$12)/10))","v":0},0,{"$error":"#DIV/0!"},{"$error":"#DIV/0!"},{"$error":"#DIV/0!"},{"$error":"#DIV/0!"},{"$f":"+(aem2csp2!D22+(aem2csp2!E22*10))*(10^((65-aem2csp2!$A$13)/10))","v":0},0,{"$error":"#DIV/0!"},{"$error":"#DIV/0!"},{"$error":"#DIV/0!"},{"$error":"#DIV/0!"},{"$f":"+(aem2csp2!D22+(aem2csp2!E22*10))*(10^((65-aem2csp2!$A$14)/10))","v":0},0,{"$error":"#DIV/0!"},{"$error":"#DIV/0!"},{"$error":"#DIV/0!"},{"$error":"#DIV/0!"},{"$f":"+(aem2csp2!D22+(aem2csp2!E22*10))*(10^((65-aem2csp2!$A$15)/10))","v":0},0,{"$error":"#DIV/0!"},{"$error":"#DIV/0!"},{"$error":"#DIV/0!"},{"$error":"#DIV/0!"},{"$f":"+(aem2csp2!D22+(aem2csp2!E22*10))*(10^((65-aem2csp2!$A$16)/10))","v":0},0,{"$error":"#DIV/0!"},{"$error":"#DIV/0!"},{"$error":"#DIV/0!"},{"$error":"#DIV/0!"}]
[null,null,null,null,7478,2.29304007888105E-2,0.92496799939844898,{"$f":"+(aem2csp2!B23+(aem2csp2!C23*10))*(10^((65-aem2csp2!$A$11)/10))","v":0},0,{"$error":"#DIV/0!"},{"$error":"#DIV/0!"},{"$error":"#DIV/0!"},{"$error":"#DIV/0!"},{"$f":"+(aem2csp2!B23+(aem2csp2!C23*10))*(10^((65-aem2csp2!$A$12)/10))","v":0},0,{"$error":"#DIV/0!"},{"$error":"#DIV/0!"},{"$error":"#DIV/0!"},{"$error":"#DIV/0!"},{"$f":"+(aem2csp2!B23+(aem2csp2!C23*10))*(10^((65-aem2csp2!$A$13)/10))","v":0},0,{"$error":"#DIV/0!"},{"$error":"#DIV/0!"},{"$error":"#DIV/0!"},{"$error":"#DIV/0!"},{"$f":"+(aem2csp2!B23+(aem2csp2!C23*10))*(10^((65-aem2csp2!$A$14)/10))","v":0},0,{"$error":"#DIV/0!"},{"$error":"#DIV/0!"},{"$error":"#DIV/0!"},{"$error":"#DIV/0!"},{"$f":"+(aem2csp2!B23+(aem2csp2!C23*10))*(10^((65-aem2csp2!$A$15)/10))","v":0},0,{"$error":"#DIV/0!"},{"$error":"#DIV/0!"},{"$error":"#DIV/0!"},{"$error":"#DIV/0!"},{"$f":"+(aem2csp2!B23+(aem2csp2!C23*10))*(10^((65-aem2csp2!$A$16)/10))","v":0},0,{"$error":"#DIV/0!"},{"$error":"#DIV/0!"},{"$error":"#DIV/0!"},{"$error":"#DIV/0!"},1,{"$f":"+(aem2csp2!D23+(aem2csp2!E23*10))*(10^((65-aem2csp2!$A$11)/10))","v":0},0,{"$error":"#DIV/0!"},{"$error":"#DIV/0!"},{"$error":"#DIV/0!"},{"$error":"#DIV/0!"},{"$f":"+(aem2csp2!D23+(aem2csp2!E23*10))*(10^((65-aem2csp2!$A$12)/10))","v":0},0,{"$error":"#DIV/0!"},{"$error":"#DIV/0!"},{"$error":"#DIV/0!"},{"$error":"#DIV/0!"},{"$f":"+(aem2csp2!D23+(aem2csp2!E23*10))*(10^((65-aem2csp2!$A$13)/10))","v":0},0,{"$error":"#DIV/0!"},{"$error":"#DIV/0!"},{"$error":"#DIV/0!"},{"$error":"#DIV/0!"},{"$f":"+(aem2csp2!D23+(aem2csp2!E23*10))*(10^((65-aem2csp2!$A$14)/10))","v":0},0,{"$error":"#DIV/0!"},{"$error":"#DIV/0!"},{"$error":"#DIV/0!"},{"$error":"#DIV/0!"},{"$f":"+(aem2csp2!D23+(aem2csp2!E23*10))*(10^((65-aem2csp2!$A$15)/10))","v":0},0,{"$error":"#DIV/0!"},{"$error":"#DIV/0!"},{"$error":"#DIV/0!"},{"$error":"#DIV/0!"},{"$f":"+(aem2csp2!D23+(aem2csp2!E23*10))*(10^((65-aem2csp2!$A$16)/10))","v":0},0,{"$error":"#DIV/0!"},{"$error":"#DIV/0!"},{"$error":"#DIV/0!"},{"$error":"#DIV/0!"}]
[null,null,null,null,707120,0.36994793502615603,0.65358808466971696,{"$f":"+(aem2csp2!B24+(aem2csp2!C24*10))*(10^((65-aem2csp2!$A$11)/10))","v":0},0,{"$error":"#DIV/0!"},{"$error":"#DIV/0!"},{"$error":"#DIV/0!"},{"$error":"#DIV/0!"},{"$f":"+(aem2csp2!B24+(aem2csp2!C24*10))*(10^((65-aem2csp2!$A$12)/10))","v":0},0,{"$error":"#DIV/0!"},{"$error":"#DIV/0!"},{"$error":"#DIV/0!"},{"$error":"#DIV/0!"},{"$f":"+(aem2csp2!B24+(aem2csp2!C24*10))*(10^((65-aem2csp2!$A$13)/10))","v":0},0,{"$error":"#DIV/0!"},{"$error":"#DIV/0!"},{"$error":"#DIV/0!"},{"$error":"#DIV/0!"},{"$f":"+(aem2csp2!B24+(aem2csp2!C24*10))*(10^((65-aem2csp2!$A$14)/10))","v":0},0,{"$error":"#DIV/0!"},{"$error":"#DIV/0!"},{"$error":"#DIV/0!"},{"$error":"#DIV/0!"},{"$f":"+(aem2csp2!B24+(aem2csp2!C24*10))*(10^((65-aem2csp2!$A$15)/10))","v":0},0,{"$error":"#DIV/0!"},{"$error":"#DIV/0!"},{"$error":"#DIV/0!"},{"$error":"#DIV/0!"},{"$f":"+(aem2csp2!B24+(aem2csp2!C24*10))*(10^((65-aem2csp2!$A$16)/10))","v":0},0,{"$error":"#DIV/0!"},{"$error":"#DIV/0!"},{"$error":"#DIV/0!"},{"$error":"#DIV/0!"},1,{"$f":"+(aem2csp2!D24+(aem2csp2!E24*10))*(10^((65-aem2csp2!$A$11)/10))","v":0},0,{"$error":"#DIV/0!"},{"$error":"#DIV/0!"},{"$error":"#DIV/0!"},{"$error":"#DIV/0!"},{"$f":"+(aem2csp2!D24+(aem2csp2!E24*10))*(10^((65-aem2csp2!$A$12)/10))","v":0},0,{"$error":"#DIV/0!"},{"$error":"#DIV/0!"},{"$error":"#DIV/0!"},{"$error":"#DIV/0!"},{"$f":"+(aem2csp2!D24+(aem2csp2!E24*10))*(10^((65-aem2csp2!$A$13)/10))","v":0},0,{"$error":"#DIV/0!"},{"$error":"#DIV/0!"},{"$error":"#DIV/0!"},{"$error":"#DIV/0!"},{"$f":"+(aem2csp2!D24+(aem2csp2!E24*10))*(10^((65-aem2csp2!$A$14)/10))","v":0},0,{"$error":"#DIV/0!"},{"$error":"#DIV/0!"},{"$error":"#DIV/0!"},{"$error":"#DIV/0!"},{"$f":"+(aem2csp2!D24+(aem2csp2!E24*10))*(10^((65-aem2csp2!$A$15)/10))","v":0},0,{"$error":"#DIV/0!"},{"$error":"#DIV/0!"},{"$error":"#DIV/0!"},{"$error":"#DIV/0!"},{"$f":"+(aem2csp2!D24+(aem2csp2!E24*10))*(10^((65-aem2csp2!$A$16)/10))","v":0},0,{"$error":"#DIV/0!"},{"$error":"#DIV/0!"},{"$error":"#DIV/0!"},{"$error":"#DIV/0!"}]
[null,null,null,null,707320,0.50407193525281402,0.64773930831111404,{"$f":"+(aem2csp2!B25+(aem2csp2!C25*10))*(10^((65-aem2csp2!$A$11)/10))","v":0},0,{"$error":"#DIV/0!"},{"$error":"#DIV/0!"},{"$error":"#DIV/0!"},{"$error":"#DIV/0!"},{"$f":"+(aem2csp2!B25+(aem2csp2!C25*10))*(10^((65-aem2csp2!$A$12)/10))","v":0},0,{"$error":"#DIV/0!"},{"$error":"#DIV/0!"},{"$error":"#DIV/0!"},{"$error":"#DIV/0!"},{"$f":"+(aem2csp2!B25+(aem2csp2!C25*10))*(10^((65-aem2csp2!$A$13)/10))","v":0},0,{"$error":"#DIV/0!"},{"$error":"#DIV/0!"},{"$error":"#DIV/0!"},{"$error":"#DIV/0!"},{"$f":"+(aem2csp2!B25+(aem2csp2!C25*10))*(10^((65-aem2csp2!$A$14)/10))","v":0},0,{"$error":"#DIV/0!"},{"$error":"#DIV/0!"},{"$error":"#DIV/0!"},{"$error":"#DIV/0!"},{"$f":"+(aem2csp2!B25+(aem2csp2!C25*10))*(10^((65-aem2csp2!$A$15)/10))","v":0},0,{"$error":"#DIV/0!"},{"$error":"#DIV/0!"},{"$error":"#DIV/0!"},{"$error":"#DIV/0!"},{"$f":"+(aem2csp2!B25+(aem2csp2!C25*10))*(10^((65-aem2csp2!$A$16)/10))","v":0},0,{"$error":"#DIV/0!"},{"$error":"#DIV/0!"},{"$error":"#DIV/0!"},{"$error":"#DIV/0!"},1,{"$f":"+(aem2csp2!D25+(aem2csp2!E25*10))*(10^((65-aem2csp2!$A$11)/10))","v":0},0,{"$error":"#DIV/0!"},{"$error":"#DIV/0!"},{"$error":"#DIV/0!"},{"$error":"#DIV/0!"},{"$f":"+(aem2csp2!D25+(aem2csp2!E25*10))*(10^((65-aem2csp2!$A$12)/10))","v":0},0,{"$error":"#DIV/0!"},{"$error":"#DIV/0!"},{"$error":"#DIV/0!"},{"$error":"#DIV/0!"},{"$f":"+(aem2csp2!D25+(aem2csp2!E25*10))*(10^((65-aem2csp2!$A$13)/10))","v":0},0,{"$error":"#DIV/0!"},{"$error":"#DIV/0!"},{"$error":"#DIV/0!"},{"$error":"#DIV/0!"},{"$f":"+(aem2csp2!D25+(aem2csp2!E25*10))*(10^((65-aem2csp2!$A$14)/10))","v":0},0,{"$error":"#DIV/0!"},{"$error":"#DIV/0!"},{"$error":"#DIV/0!"},{"$error":"#DIV/0!"},{"$f":"+(aem2csp2!D25+(aem2csp2!E25*10))*(10^((65-aem2csp2!$A$15)/10))","v":0},0,{"$error":"#DIV/0!"},{"$error":"#DIV/0!"},{"$error":"#DIV/0!"},{"$error":"#DIV/0!"},{"$f":"+(aem2csp2!D25+(aem2csp2!E25*10))*(10^((65-aem2csp2!$A$16)/10))","v":0},0,{"$error":"#DIV/0!"},{"$error":"#DIV/0!"},{"$error":"#DIV/0!"},{"$error":"#DIV/0!"}]
[null,null,null,null,717200,2.1440197519448399E-2,0.62374758198313096,{"$f":"+(aem2csp2!B26+(aem2csp2!C26*10))*(10^((65-aem2csp2!$A$11)/10))","v":0},0,{"$error":"#DIV/0!"},{"$error":"#DIV/0!"},{"$error":"#DIV/0!"},{"$error":"#DIV/0!"},{"$f":"+(aem2csp2!B26+(aem2csp2!C26*10))*(10^((65-aem2csp2!$A$12)/10))","v":0},0,{"$error":"#DIV/0!"},{"$error":"#DIV/0!"},{"$error":"#DIV/0!"},{"$error":"#DIV/0!"},{"$f":"+(aem2csp2!B26+(aem2csp2!C26*10))*(10^((65-aem2csp2!$A$13)/10))","v":0},0,{"$error":"#DIV/0!"},{"$error":"#DIV/0!"},{"$error":"#DIV/0!"},{"$error":"#DIV/0!"},{"$f":"+(aem2csp2!B26+(aem2csp2!C26*10))*(10^((65-aem2csp2!$A$14)/10))","v":0},0,{"$error":"#DIV/0!"},{"$error":"#DIV/0!"},{"$error":"#DIV/0!"},{"$error":"#DIV/0!"},{"$f":"+(aem2csp2!B26+(aem2csp2!C26*10))*(10^((65-aem2csp2!$A$15)/10))","v":0},0,{"$error":"#DIV/0!"},{"$error":"#DIV/0!"},{"$error":"#DIV/0!"},{"$error":"#DIV/0!"},{"$f":"+(aem2csp2!B26+(aem2csp2!C26*10))*(10^((65-aem2csp2!$A$16)/10))","v":0},0,{"$error":"#DIV/0!"},{"$error":"#DIV/0!"},{"$error":"#DIV/0!"},{"$error":"#DIV/0!"},1,{"$f":"+(aem2csp2!D26+(aem2csp2!E26*10))*(10^((65-aem2csp2!$A$11)/10))","v":0},0,{"$error":"#DIV/0!"},{"$error":"#DIV/0!"},{"$error":"#DIV/0!"},{"$error":"#DIV/0!"},{"$f":"+(aem2csp2!D26+(aem2csp2!E26*10))*(10^((65-aem2csp2!$A$12)/10))","v":0},0,{"$error":"#DIV/0!"},{"$error":"#DIV/0!"},{"$error":"#DIV/0!"},{"$error":"#DIV/0!"},{"$f":"+(aem2csp2!D26+(aem2csp2!E26*10))*(10^((65-aem2csp2!$A$13)/10))","v":0},0,{"$error":"#DIV/0!"},{"$error":"#DIV/0!"},{"$error":"#DIV/0!"},{"$error":"#DIV/0!"},{"$f":"+(aem2csp2!D26+(aem2csp2!E26*10))*(10^((65-aem2csp2!$A$14)/10))","v":0},0,{"$error":"#DIV/0!"},{"$error":"#DIV/0!"},{"$error":"#DIV/0!"},{"$error":"#DIV/0!"},{"$f":"+(aem2csp2!D26+(aem2csp2!E26*10))*(10^((65-aem2csp2!$A$15)/10))","v":0},0,{"$error":"#DIV/0!"},{"$error":"#DIV/0!"},{"$error":"#DIV/0!"},{"$error":"#DIV/0!"},{"$f":"+(aem2csp2!D26+(aem2csp2!E26*10))*(10^((65-aem2csp2!$A$16)/10))","v":0},0,{"$error":"#DIV/0!"},{"$error":"#DIV/0!"},{"$error":"#DIV/0!"},{"$error":"#DIV/0!"}]
[null,null,null,null,727100,0.20207587652480699,0.71008373202215302,{"$f":"+(aem2csp2!B27+(aem2csp2!C27*10))*(10^((65-aem2csp2!$A$11)/10))","v":0},0,{"$error":"#DIV/0!"},{"$error":"#DIV/0!"},{"$error":"#DIV/0!"},{"$error":"#DIV/0!"},{"$f":"+(aem2csp2!B27+(aem2csp2!C27*10))*(10^((65-aem2csp2!$A$12)/10))","v":0},0,{"$error":"#DIV/0!"},{"$error":"#DIV/0!"},{"$error":"#DIV/0!"},{"$error":"#DIV/0!"},{"$f":"+(aem2csp2!B27+(aem2csp2!C27*10))*(10^((65-aem2csp2!$A$13)/10))","v":0},0,{"$error":"#DIV/0!"},{"$error":"#DIV/0!"},{"$error":"#DIV/0!"},{"$error":"#DIV/0!"},{"$f":"+(aem2csp2!B27+(aem2csp2!C27*10))*(10^((65-aem2csp2!$A$14)/10))","v":0},0,{"$error":"#DIV/0!"},{"$error":"#DIV/0!"},{"$error":"#DIV/0!"},{"$error":"#DIV/0!"},{"$f":"+(aem2csp2!B27+(aem2csp2!C27*10))*(10^((65-aem2csp2!$A$15)/10))","v":0},0,{"$error":"#DIV/0!"},{"$error":"#DIV/0!"},{"$error":"#DIV/0!"},{"$error":"#DIV/0!"},{"$f":"+(aem2csp2!B27+(aem2csp2!C27*10))*(10^((65-aem2csp2!$A$16)/10))","v":0},0,{"$error":"#DIV/0!"},{"$error":"#DIV/0!"},{"$error":"#DIV/0!"},{"$error":"#DIV/0!"},1,{"$f":"+(aem2csp2!D27+(aem2csp2!E27*10))*(10^((65-aem2csp2!$A$11)/10))","v":0},0,{"$error":"#DIV/0!"},{"$error":"#DIV/0!"},{"$error":"#DIV/0!"},{"$error":"#DIV/0!"},{"$f":"+(aem2csp2!D27+(aem2csp2!E27*10))*(10^((65-aem2csp2!$A$12)/10))","v":0},0,{"$error":"#DIV/0!"},{"$error":"#DIV/0!"},{"$error":"#DIV/0!"},{"$error":"#DIV/0!"},{"$f":"+(aem2csp2!D27+(aem2csp2!E27*10))*(10^((65-aem2csp2!$A$13)/10))","v":0},0,{"$error":"#DIV/0!"},{"$error":"#DIV/0!"},{"$error":"#DIV/0!"},{"$error":"#DIV/0!"},{"$f":"+(aem2csp2!D27+(aem2csp2!E27*10))*(10^((65-aem2csp2!$A$14)/10))","v":0},0,{"$error":"#DIV/0!"},{"$error":"#DIV/0!"},{"$error":"#DIV/0!"},{"$error":"#DIV/0!"},{"$f":"+(aem2csp2!D27+(aem2csp2!E27*10))*(10^((65-aem2csp2!$A$15)/10))","v":0},0,{"$error":"#DIV/0!"},{"$error":"#DIV/0!"},{"$error":"#DIV/0!"},{"$error":"#DIV/0!"},{"$f":"+(aem2csp2!D27+(aem2csp2!E27*10))*(10^((65-aem2csp2!$A$16)/10))","v":0},0,{"$error":"#DIV/0!"},{"$error":"#DIV/0!"},{"$error":"#DIV/0!"},{"$error":"#DIV/0!"}]
[null,null,null,null,727200,0.23811846974589301,0.72789141267241797,{"$f":"+(aem2csp2!B28+(aem2csp2!C28*10))*(10^((65-aem2csp2!$A$11)/10))","v":0},0,{"$error":"#DIV/0!"},{"$error":"#DIV/0!"},{"$error":"#DIV/0!"},{"$error":"#DIV/0!"},{"$f":"+(aem2csp2!B28+(aem2csp2!C28*10))*(10^((65-aem2csp2!$A$12)/10))","v":0},0,{"$error":"#DIV/0!"},{"$error":"#DIV/0!"},{"$error":"#DIV/0!"},{"$error":"#DIV/0!"},{"$f":"+(aem2csp2!B28+(aem2csp2!C28*10))*(10^((65-aem2csp2!$A$13)/10))","v":0},0,{"$error":"#DIV/0!"},{"$error":"#DIV/0!"},{"$error":"#DIV/0!"},{"$error":"#DIV/0!"},{"$f":"+(aem2csp2!B28+(aem2csp2!C28*10))*(10^((65-aem2csp2!$A$14)/10))","v":0},0,{"$error":"#DIV/0!"},{"$error":"#DIV/0!"},{"$error":"#DIV/0!"},{"$error":"#DIV/0!"},{"$f":"+(aem2csp2!B28+(aem2csp2!C28*10))*(10^((65-aem2csp2!$A$15)/10))","v":0},0,{"$error":"#DIV/0!"},{"$error":"#DIV/0!"},{"$error":"#DIV/0!"},{"$error":"#DIV/0!"},{"$f":"+(aem2csp2!B28+(aem2csp2!C28*10))*(10^((65-aem2csp2!$A$16)/10))","v":0},0,{"$error":"#DIV/0!"},{"$error":"#DIV/0!"},{"$error":"#DIV/0!"},{"$error":"#DIV/0!"},1,{"$f":"+(aem2csp2!D28+(aem2csp2!E28*10))*(10^((65-aem2csp2!$A$11)/10))","v":0},0,{"$error":"#DIV/0!"},{"$error":"#DIV/0!"},{"$error":"#DIV/0!"},{"$error":"#DIV/0!"},{"$f":"+(aem2csp2!D28+(aem2csp2!E28*10))*(10^((65-aem2csp2!$A$12)/10))","v":0},0,{"$error":"#DIV/0!"},{"$error":"#DIV/0!"},{"$error":"#DIV/0!"},{"$error":"#DIV/0!"},{"$f":"+(aem2csp2!D28+(aem2csp2!E28*10))*(10^((65-aem2csp2!$A$13)/10))","v":0},0,{"$error":"#DIV/0!"},{"$error":"#DIV/0!"},{"$error":"#DIV/0!"},{"$error":"#DIV/0!"},{"$f":"+(aem2csp2!D28+(aem2csp2!E28*10))*(10^((65-aem2csp2!$A$14)/10))","v":0},0,{"$error":"#DIV/0!"},{"$error":"#DIV/0!"},{"$error":"#DIV/0!"},{"$error":"#DIV/0!"},{"$f":"+(aem2csp2!D28+(aem2csp2!E28*10))*(10^((65-aem2csp2!$A$15)/10))","v":0},0,{"$error":"#DIV/0!"},{"$error":"#DIV/0!"},{"$error":"#DIV/0!"},{"$error":"#DIV/0!"},{"$f":"+(aem2csp2!D28+(aem2csp2!E28*10))*(10^((65-aem2csp2!$A$16)/10))","v":0},0,{"$error":"#DIV/0!"},{"$error":"#DIV/0!"},{"$error":"#DIV/0!"},{"$error":"#DIV/0!"}]
[null,null,null,null,737300,9.8548501031744291E-3,0.843017806253893,{"$f":"+(aem2csp2!B29+(aem2csp2!C29*10))*(10^((65-aem2csp2!$A$11)/10))","v":0},0,{"$error":"#DIV/0!"},{"$error":"#DIV/0!"},{"$error":"#DIV/0!"},{"$error":"#DIV/0!"},{"$f":"+(aem2csp2!B29+(aem2csp2!C29*10))*(10^((65-aem2csp2!$A$12)/10))","v":0},0,{"$error":"#DIV/0!"},{"$error":"#DIV/0!"},{"$error":"#DIV/0!"},{"$error":"#DIV/0!"},{"$f":"+(aem2csp2!B29+(aem2csp2!C29*10))*(10^((65-aem2csp2!$A$13)/10))","v":0},0,{"$error":"#DIV/0!"},{"$error":"#DIV/0!"},{"$error":"#DIV/0!"},{"$error":"#DIV/0!"},{"$f":"+(aem2csp2!B29+(aem2csp2!C29*10))*(10^((65-aem2csp2!$A$14)/10))","v":0},0,{"$error":"#DIV/0!"},{"$error":"#DIV/0!"},{"$error":"#DIV/0!"},{"$error":"#DIV/0!"},{"$f":"+(aem2csp2!B29+(aem2csp2!C29*10))*(10^((65-aem2csp2!$A$15)/10))","v":0},0,{"$error":"#DIV/0!"},{"$error":"#DIV/0!"},{"$error":"#DIV/0!"},{"$error":"#DIV/0!"},{"$f":"+(aem2csp2!B29+(aem2csp2!C29*10))*(10^((65-aem2csp2!$A$16)/10))","v":0},0,{"$error":"#DIV/0!"},{"$error":"#DIV/0!"},{"$error":"#DIV/0!"},{"$error":"#DIV/0!"},1,{"$f":"+(aem2csp2!D29+(aem2csp2!E29*10))*(10^((65-aem2csp2!$A$11)/10))","v":0},0,{"$error":"#DIV/0!"},{"$error":"#DIV/0!"},{"$error":"#DIV/0!"},{"$error":"#DIV/0!"},{"$f":"+(aem2csp2!D29+(aem2csp2!E29*10))*(10^((65-aem2csp2!$A$12)/10))","v":0},0,{"$error":"#DIV/0!"},{"$error":"#DIV/0!"},{"$error":"#DIV/0!"},{"$error":"#DIV/0!"},{"$f":"+(aem2csp2!D29+(aem2csp2!E29*10))*(10^((65-aem2csp2!$A$13)/10))","v":0},0,{"$error":"#DIV/0!"},{"$error":"#DIV/0!"},{"$error":"#DIV/0!"},{"$error":"#DIV/0!"},{"$f":"+(aem2csp2!D29+(aem2csp2!E29*10))*(10^((65-aem2csp2!$A$14)/10))","v":0},0,{"$error":"#DIV/0!"},{"$error":"#DIV/0!"},{"$error":"#DIV/0!"},{"$error":"#DIV/0!"},{"$f":"+(aem2csp2!D29+(aem2csp2!E29*10))*(10^((65-aem2csp2!$A$15)/10))","v":0},0,{"$error":"#DIV/0!"},{"$error":"#DIV/0!"},{"$error":"#DIV/0!"},{"$error":"#DIV/0!"},{"$f":"+(aem2csp2!D29+(aem2csp2!E29*10))*(10^((65-aem2csp2!$A$16)/10))","v":0},0,{"$error":"#DIV/0!"},{"$error":"#DIV/0!"},{"$error":"#DIV/0!"},{"$error":"#DIV/0!"}]
[null,null,null,null,737400,1.08294290086451E-2,0.86614022716246997,{"$f":"+(aem2csp2!B30+(aem2csp2!C30*10))*(10^((65-aem2csp2!$A$11)/10))","v":0},0,{"$error":"#DIV/0!"},{"$error":"#DIV/0!"},{"$error":"#DIV/0!"},{"$error":"#DIV/0!"},{"$f":"+(aem2csp2!B30+(aem2csp2!C30*10))*(10^((65-aem2csp2!$A$12)/10))","v":0},0,{"$error":"#DIV/0!"},{"$error":"#DIV/0!"},{"$error":"#DIV/0!"},{"$f":"+N30/R30","v":{"$error":"#DIV/0!"}},{"$f":"+(aem2csp2!B30+(aem2csp2!C30*10))*(10^((65-aem2csp2!$A$13)/10))","v":0},{"$f":"+F30*(T30^G30)","v":0},{"$f":"+(U30/$U$267)^(1/G30)","v":{"$error":"#DIV/0!"}},{"$f":"+V30/G30","v":{"$error":"#DIV/0!"}},{"$f":"+($X$269/F30)^(1/G30)","v":{"$error":"#DIV/0!"}},{"$error":"#DIV/0!"},{"$f":"+(aem2csp2!B30+(aem2csp2!C30*10))*(10^((65-aem2csp2!$A$14)/10))","v":0},0,{"$error":"#DIV/0!"},{"$error":"#DIV/0!"},{"$error":"#DIV/0!"},{"$error":"#DIV/0!"},{"$f":"+(aem2csp2!B30+(aem2csp2!C30*10))*(10^((65-aem2csp2!$A$15)/10))","v":0},0,{"$error":"#DIV/0!"},{"$error":"#DIV/0!"},{"$error":"#DIV/0!"},{"$error":"#DIV/0!"},{"$f":"+(aem2csp2!B30+(aem2csp2!C30*10))*(10^((65-aem2csp2!$A$16)/10))","v":0},0,{"$error":"#DIV/0!"},{"$error":"#DIV/0!"},{"$error":"#DIV/0!"},{"$error":"#DIV/0!"},1,{"$f":"+(aem2csp2!D30+(aem2csp2!E30*10))*(10^((65-aem2csp2!$A$11)/10))","v":0},0,{"$error":"#DIV/0!"},{"$error":"#DIV/0!"},{"$error":"#DIV/0!"},{"$error":"#DIV/0!"},{"$f":"+(aem2csp2!D30+(aem2csp2!E30*10))*(10^((65-aem2csp2!$A$12)/10))","v":0},0,{"$error":"#DIV/0!"},{"$error":"#DIV/0!"},{"$error":"#DIV/0!"},{"$error":"#DIV/0!"},{"$f":"+(aem2csp2!D30+(aem2csp2!E30*10))*(10^((65-aem2csp2!$A$13)/10))","v":0},0,{"$error":"#DIV/0!"},{"$error":"#DIV/0!"},{"$error":"#DIV/0!"},{"$error":"#DIV/0!"},{"$f":"+(aem2csp2!D30+(aem2csp2!E30*10))*(10^((65-aem2csp2!$A$14)/10))","v":0},0,{"$error":"#DIV/0!"},{"$error":"#DIV/0!"},{"$error":"#DIV/0!"},{"$error":"#DIV/0!"},{"$f":"+(aem2csp2!D30+(aem2csp2!E30*10))*(10^((65-aem2csp2!$A$15)/10))","v":0},0,{"$error":"#DIV/0!"},{"$error":"#DIV/0!"},{"$error":"#DIV/0!"},{"$error":"#DIV/0!"},{"$f":"+(aem2csp2!D30+(aem2csp2!E30*10))*(10^((65-aem2csp2!$A$16)/10))","v":0},0,{"$error":"#DIV/0!"},{"$error":"#DIV/0!"},{"$error":"#DIV/0!"},{"$error":"#DIV/0!"}]
[null,null,null,null,737500,1.12736581668625E-2,0.83146418148901402,{"$f":"+(aem2csp2!B31+(aem2csp2!C31*10))*(10^((65-aem2csp2!$A$11)/10))","v":0},0,{"$error":"#DIV/0!"},{"$error":"#DIV/0!"},{"$error":"#DIV/0!"},{"$error":"#DIV/0!"},{"$f":"+(aem2csp2!B31+(aem2csp2!C31*10))*(10^((65-aem2csp2!$A$12)/10))","v":0},0,{"$error":"#DIV/0!"},{"$error":"#DIV/0!"},{"$error":"#DIV/0!"},{"$error":"#DIV/0!"},{"$f":"+(aem2csp2!B31+(aem2csp2!C31*10))*(10^((65-aem2csp2!$A$13)/10))","v":0},0,{"$error":"#DIV/0!"},{"$error":"#DIV/0!"},{"$error":"#DIV/0!"},{"$error":"#DIV/0!"},{"$f":"+(aem2csp2!B31+(aem2csp2!C31*10))*(10^((65-aem2csp2!$A$14)/10))","v":0},0,{"$error":"#DIV/0!"},{"$error":"#DIV/0!"},{"$error":"#DIV/0!"},{"$error":"#DIV/0!"},{"$f":"+(aem2csp2!B31+(aem2csp2!C31*10))*(10^((65-aem2csp2!$A$15)/10))","v":0},0,{"$error":"#DIV/0!"},{"$error":"#DIV/0!"},{"$error":"#DIV/0!"},{"$error":"#DIV/0!"},{"$f":"+(aem2csp2!B31+(aem2csp2!C31*10))*(10^((65-aem2csp2!$A$16)/10))","v":0},0,{"$error":"#DIV/0!"},{"$error":"#DIV/0!"},{"$error":"#DIV/0!"},{"$error":"#DIV/0!"},2,{"$f":"+(aem2csp2!D31+(aem2csp2!E31*10))*(10^((65-aem2csp2!$A$11)/10))","v":0},0,{"$error":"#DIV/0!"},{"$error":"#DIV/0!"},{"$error":"#DIV/0!"},{"$error":"#DIV/0!"},{"$f":"+(aem2csp2!D31+(aem2csp2!E31*10))*(10^((65-aem2csp2!$A$12)/10))","v":0},0,{"$error":"#DIV/0!"},{"$error":"#DIV/0!"},{"$error":"#DIV/0!"},{"$error":"#DIV/0!"},{"$f":"+(aem2csp2!D31+(aem2csp2!E31*10))*(10^((65-aem2csp2!$A$13)/10))","v":0},0,{"$error":"#DIV/0!"},{"$error":"#DIV/0!"},{"$error":"#DIV/0!"},{"$error":"#DIV/0!"},{"$f":"+(aem2csp2!D31+(aem2csp2!E31*10))*(10^((65-aem2csp2!$A$14)/10))","v":0},0,{"$error":"#DIV/0!"},{"$error":"#DIV/0!"},{"$error":"#DIV/0!"},{"$error":"#DIV/0!"},{"$f":"+(aem2csp2!D31+(aem2csp2!E31*10))*(10^((65-aem2csp2!$A$15)/10))","v":0},0,{"$error":"#DIV/0!"},{"$error":"#DIV/0!"},{"$error":"#DIV/0!"},{"$error":"#DIV/0!"},{"$f":"+(aem2csp2!D31+(aem2csp2!E31*10))*(10^((65-aem2csp2!$A$16)/10))","v":0},0,{"$error":"#DIV/0!"},{"$error":"#DIV/0!"},{"$error":"#DIV/0!"},{"$error":"#DIV/0!"}]
[null,null,null,null,737700,1.1213390913859599E-2,0.88338494836619597,{"$f":"+(aem2csp2!B32+(aem2csp2!C32*10))*(10^((65-aem2csp2!$A$11)/10))","v":0},0,{"$error":"#DIV/0!"},{"$error":"#DIV/0!"},{"$error":"#DIV/0!"},{"$error":"#DIV/0!"},{"$f":"+(aem2csp2!B32+(aem2csp2!C32*10))*(10^((65-aem2csp2!$A$12)/10))","v":0},0,{"$error":"#DIV/0!"},{"$error":"#DIV/0!"},{"$error":"#DIV/0!"},{"$error":"#DIV/0!"},{"$f":"+(aem2csp2!B32+(aem2csp2!C32*10))*(10^((65-aem2csp2!$A$13)/10))","v":0},0,{"$error":"#DIV/0!"},{"$error":"#DIV/0!"},{"$error":"#DIV/0!"},{"$error":"#DIV/0!"},{"$f":"+(aem2csp2!B32+(aem2csp2!C32*10))*(10^((65-aem2csp2!$A$14)/10))","v":0},0,{"$error":"#DIV/0!"},{"$error":"#DIV/0!"},{"$error":"#DIV/0!"},{"$error":"#DIV/0!"},{"$f":"+(aem2csp2!B32+(aem2csp2!C32*10))*(10^((65-aem2csp2!$A$15)/10))","v":0},0,{"$error":"#DIV/0!"},{"$error":"#DIV/0!"},{"$error":"#DIV/0!"},{"$error":"#DIV/0!"},{"$f":"+(aem2csp2!B32+(aem2csp2!C32*10))*(10^((65-aem2csp2!$A$16)/10))","v":0},0,{"$error":"#DIV/0!"},{"$error":"#DIV/0!"},{"$error":"#DIV/0!"},{"$error":"#DIV/0!"},3,{"$f":"+(aem2csp2!D32+(aem2csp2!E32*10))*(10^((65-aem2csp2!$A$11)/10))","v":0},0,{"$error":"#DIV/0!"},{"$error":"#DIV/0!"},{"$error":"#DIV/0!"},{"$error":"#DIV/0!"},{"$f":"+(aem2csp2!D32+(aem2csp2!E32*10))*(10^((65-aem2csp2!$A$12)/10))","v":0},0,{"$error":"#DIV/0!"},{"$error":"#DIV/0!"},{"$error":"#DIV/0!"},{"$error":"#DIV/0!"},{"$f":"+(aem2csp2!D32+(aem2csp2!E32*10))*(10^((65-aem2csp2!$A$13)/10))","v":0},0,{"$error":"#DIV/0!"},{"$error":"#DIV/0!"},{"$error":"#DIV/0!"},{"$error":"#DIV/0!"},{"$f":"+(aem2csp2!D32+(aem2csp2!E32*10))*(10^((65-aem2csp2!$A$14)/10))","v":0},0,{"$error":"#DIV/0!"},{"$error":"#DIV/0!"},{"$error":"#DIV/0!"},{"$error":"#DIV/0!"},{"$f":"+(aem2csp2!D32+(aem2csp2!E32*10))*(10^((65-aem2csp2!$A$15)/10))","v":0},0,{"$error":"#DIV/0!"},{"$error":"#DIV/0!"},{"$error":"#DIV/0!"},{"$error":"#DIV/0!"},{"$f":"+(aem2csp2!D32+(aem2csp2!E32*10))*(10^((65-aem2csp2!$A$16)/10))","v":0},0,{"$error":"#DIV/0!"},{"$error":"#DIV/0!"},{"$error":"#DIV/0!"},{"$error":"#DIV/0!"}]
[null,null,null,null,737800,3.2341560822937897E-2,0.74897371218180497,{"$f":"+(aem2csp2!B33+(aem2csp2!C33*10))*(10^((65-aem2csp2!$A$11)/10))","v":0},0,{"$error":"#DIV/0!"},{"$error":"#DIV/0!"},{"$error":"#DIV/0!"},{"$error":"#DIV/0!"},{"$f":"+(aem2csp2!B33+(aem2csp2!C33*10))*(10^((65-aem2csp2!$A$12)/10))","v":0},0,{"$error":"#DIV/0!"},{"$error":"#DIV/0!"},{"$error":"#DIV/0!"},{"$error":"#DIV/0!"},{"$f":"+(aem2csp2!B33+(aem2csp2!C33*10))*(10^((65-aem2csp2!$A$13)/10))","v":0},0,{"$error":"#DIV/0!"},{"$error":"#DIV/0!"},{"$error":"#DIV/0!"},{"$error":"#DIV/0!"},{"$f":"+(aem2csp2!B33+(aem2csp2!C33*10))*(10^((65-aem2csp2!$A$14)/10))","v":0},0,{"$error":"#DIV/0!"},{"$error":"#DIV/0!"},{"$error":"#DIV/0!"},{"$error":"#DIV/0!"},{"$f":"+(aem2csp2!B33+(aem2csp2!C33*10))*(10^((65-aem2csp2!$A$15)/10))","v":0},0,{"$error":"#DIV/0!"},{"$error":"#DIV/0!"},{"$error":"#DIV/0!"},{"$error":"#DIV/0!"},{"$f":"+(aem2csp2!B33+(aem2csp2!C33*10))*(10^((65-aem2csp2!$A$16)/10))","v":0},0,{"$error":"#DIV/0!"},{"$error":"#DIV/0!"},{"$error":"#DIV/0!"},{"$error":"#DIV/0!"},4,{"$f":"+(aem2csp2!D33+(aem2csp2!E33*10))*(10^((65-aem2csp2!$A$11)/10))","v":0},0,{"$error":"#DIV/0!"},{"$error":"#DIV/0!"},{"$error":"#DIV/0!"},{"$error":"#DIV/0!"},{"$f":"+(aem2csp2!D33+(aem2csp2!E33*10))*(10^((65-aem2csp2!$A$12)/10))","v":0},0,{"$error":"#DIV/0!"},{"$error":"#DIV/0!"},{"$error":"#DIV/0!"},{"$error":"#DIV/0!"},{"$f":"+(aem2csp2!D33+(aem2csp2!E33*10))*(10^((65-aem2csp2!$A$13)/10))","v":0},0,{"$error":"#DIV/0!"},{"$error":"#DIV/0!"},{"$error":"#DIV/0!"},{"$error":"#DIV/0!"},{"$f":"+(aem2csp2!D33+(aem2csp2!E33*10))*(10^((65-aem2csp2!$A$14)/10))","v":0},0,{"$error":"#DIV/0!"},{"$error":"#DIV/0!"},{"$error":"#DIV/0!"},{"$error":"#DIV/0!"},{"$f":"+(aem2csp2!D33+(aem2csp2!E33*10))*(10^((65-aem2csp2!$A$15)/10))","v":0},0,{"$error":"#DIV/0!"},{"$error":"#DIV/0!"},{"$error":"#DIV/0!"},{"$error":"#DIV/0!"},{"$f":"+(aem2csp2!D33+(aem2csp2!E33*10))*(10^((65-aem2csp2!$A$16)/10))","v":0},0,{"$error":"#DIV/0!"},{"$error":"#DIV/0!"},{"$error":"#DIV/0!"},{"$error":"#DIV/0!"}]
[null,null,null,null,747100,0.176135563822889,0.75031715543255895,{"$f":"+(aem2csp2!B34+(aem2csp2!C34*10))*(10^((65-aem2csp2!$A$11)/10))","v":0},0,{"$error":"#DIV/0!"},{"$error":"#DIV/0!"},{"$error":"#DIV/0!"},{"$error":"#DIV/0!"},{"$f":"+(aem2csp2!B34+(aem2csp2!C34*10))*(10^((65-aem2csp2!$A$12)/10))","v":0},0,{"$error":"#DIV/0!"},{"$error":"#DIV/0!"},{"$error":"#DIV/0!"},{"$error":"#DIV/0!"},{"$f":"+(aem2csp2!B34+(aem2csp2!C34*10))*(10^((65-aem2csp2!$A$13)/10))","v":0},0,{"$error":"#DIV/0!"},{"$error":"#DIV/0!"},{"$error":"#DIV/0!"},{"$error":"#DIV/0!"},{"$f":"+(aem2csp2!B34+(aem2csp2!C34*10))*(10^((65-aem2csp2!$A$14)/10))","v":0},0,{"$error":"#DIV/0!"},{"$error":"#DIV/0!"},{"$error":"#DIV/0!"},{"$error":"#DIV/0!"},{"$f":"+(aem2csp2!B34+(aem2csp2!C34*10))*(10^((65-aem2csp2!$A$15)/10))","v":0},0,{"$error":"#DIV/0!"},{"$error":"#DIV/0!"},{"$error":"#DIV/0!"},{"$error":"#DIV/0!"},{"$f":"+(aem2csp2!B34+(aem2csp2!C34*10))*(10^((65-aem2csp2!$A$16)/10))","v":0},0,{"$error":"#DIV/0!"},{"$error":"#DIV/0!"},{"$error":"#DIV/0!"},{"$error":"#DIV/0!"},5,{"$f":"+(aem2csp2!D34+(aem2csp2!E34*10))*(10^((65-aem2csp2!$A$11)/10))","v":0},0,{"$error":"#DIV/0!"},{"$error":"#DIV/0!"},{"$error":"#DIV/0!"},{"$error":"#DIV/0!"},{"$f":"+(aem2csp2!D34+(aem2csp2!E34*10))*(10^((65-aem2csp2!$A$12)/10))","v":0},0,{"$error":"#DIV/0!"},{"$error":"#DIV/0!"},{"$error":"#DIV/0!"},{"$error":"#DIV/0!"},{"$f":"+(aem2csp2!D34+(aem2csp2!E34*10))*(10^((65-aem2csp2!$A$13)/10))","v":0},0,{"$error":"#DIV/0!"},{"$error":"#DIV/0!"},{"$error":"#DIV/0!"},{"$error":"#DIV/0!"},{"$f":"+(aem2csp2!D34+(aem2csp2!E34*10))*(10^((65-aem2csp2!$A$14)/10))","v":0},0,{"$error":"#DIV/0!"},{"$error":"#DIV/0!"},{"$error":"#DIV/0!"},{"$error":"#DIV/0!"},{"$f":"+(aem2csp2!D34+(aem2csp2!E34*10))*(10^((65-aem2csp2!$A$15)/10))","v":0},0,{"$error":"#DIV/0!"},{"$error":"#DIV/0!"},{"$error":"#DIV/0!"},{"$error":"#DIV/0!"},{"$f":"+(aem2csp2!D34+(aem2csp2!E34*10))*(10^((65-aem2csp2!$A$16)/10))","v":0},0,{"$error":"#DIV/0!"},{"$error":"#DIV/0!"},{"$error":"#DIV/0!"},{"$error":"#DIV/0!"}]
[null,null,null,null,747200,8.8262674480634906E-2,0.78647342867134096,{"$f":"+(aem2csp2!B35+(aem2csp2!C35*10))*(10^((65-aem2csp2!$A$11)/10))","v":0},0,{"$error":"#DIV/0!"},{"$error":"#DIV/0!"},{"$error":"#DIV/0!"},{"$error":"#DIV/0!"},{"$f":"+(aem2csp2!B35+(aem2csp2!C35*10))*(10^((65-aem2csp2!$A$12)/10))","v":0},0,{"$error":"#DIV/0!"},{"$error":"#DIV/0!"},{"$error":"#DIV/0!"},{"$error":"#DIV/0!"},{"$f":"+(aem2csp2!B35+(aem2csp2!C35*10))*(10^((65-aem2csp2!$A$13)/10))","v":0},0,{"$error":"#DIV/0!"},{"$error":"#DIV/0!"},{"$error":"#DIV/0!"},{"$f":"+T35/X35","v":{"$error":"#DIV/0!"}},{"$f":"+(aem2csp2!B35+(aem2csp2!C35*10))*(10^((65-aem2csp2!$A$14)/10))","v":0},{"$f":"+F35*(Z35^G35)","v":0},{"$f":"+(AA35/$AA$267)^(1/G35)","v":{"$error":"#DIV/0!"}},{"$f":"+AB35/G35","v":{"$error":"#DIV/0!"}},{"$f":"+($AD$269/F35)^(1/G35)","v":{"$error":"#DIV/0!"}},{"$f":"+Z35/AD35","v":{"$error":"#DIV/0!"}},{"$f":"+(aem2csp2!B35+(aem2csp2!C35*10))*(10^((65-aem2csp2!$A$15)/10))","v":0},{"$f":"+F35*(AF35^G35)","v":0},{"$f":"+(AG35/$AG$267)^(1/G35)","v":{"$error":"#DIV/0!"}},{"$f":"+AH35/G35","v":{"$error":"#DIV/0!"}},{"$f":"+($AJ$269/F35)^(1/G35)","v":{"$error":"#DIV/0!"}},{"$f":"+AF35/AJ35","v":{"$error":"#DIV/0!"}},{"$f":"+(aem2csp2!B35+(aem2csp2!C35*10))*(10^((65-aem2csp2!$A$16)/10))","v":0},{"$f":"+F35*(AL35^G35)","v":0},{"$f":"+(AM35/$AM$267)^(1/G35)","v":{"$error":"#DIV/0!"}},{"$f":"+AN35/G35","v":{"$error":"#DIV/0!"}},{"$f":"+($AP$269/F35)^(1/G35)","v":{"$error":"#DIV/0!"}},{"$f":"+AL35/AP35","v":{"$error":"#DIV/0!"}},6,{"$f":"+(aem2csp2!D35+(aem2csp2!E35*10))*(10^((65-aem2csp2!$A$11)/10))","v":0},{"$f":"+F35*(AS35^G35)","v":0},{"$f":"+(AT35/$AT$267)^(1/G35)","v":{"$error":"#DIV/0!"}},{"$f":"+AU35/G35","v":{"$error":"#DIV/0!"}},{"$f":"+($AW$269/F35)^(1/G35)","v":{"$error":"#DIV/0!"}},{"$f":"+AS35/AW35","v":{"$error":"#DIV/0!"}},{"$f":"+(aem2csp2!D35+(aem2csp2!E35*10))*(10^((65-aem2csp2!$A$12)/10))","v":0},{"$f":"+F35*(AY35^G35)","v":0},{"$f":"+(AZ35/$AZ$267)^(1/G35)","v":{"$error":"#DIV/0!"}},{"$f":"+BA35/G35","v":{"$error":"#DIV/0!"}},{"$f":"+($BC$269/F35)^(1/G35)","v":{"$error":"#DIV/0!"}},{"$f":"+AY35/BC35","v":{"$error":"#DIV/0!"}},{"$f":"+(aem2csp2!D35+(aem2csp2!E35*10))*(10^((65-aem2csp2!$A$13)/10))","v":0},{"$f":"+F35*(BE35^G35)","v":0},{"$f":"+(BF35/$BF$267)^(1/G35)","v":{"$error":"#DIV/0!"}},{"$f":"+BG35/G35","v":{"$error":"#DIV/0!"}},{"$f":"+($BI$269/F35)^(1/G35)","v":{"$error":"#DIV/0!"}},{"$f":"+BE35/BI35","v":{"$error":"#DIV/0!"}},{"$f":"+(aem2csp2!D35+(aem2csp2!E35*10))*(10^((65-aem2csp2!$A$14)/10))","v":0},{"$f":"+F35*(BK35^G35)","v":0},{"$f":"+(BL35/$BL$267)^(1/G35)","v":{"$error":"#DIV/0!"}},{"$f":"+BM35/G35","v":{"$error":"#DIV/0!"}},{"$f":"+($BO$269/F35)^(1/G35)","v":{"$error":"#DIV/0!"}},{"$f":"+BK35/BO35","v":{"$error":"#DIV/0!"}},{"$f":"+(aem2csp2!D35+(aem2csp2!E35*10))*(10^((65-aem2csp2!$A$15)/10))","v":0},{"$f":"+F35*(BQ35^G35)","v":0},{"$f":"+(BR35/$BR$267)^(1/G35)","v":{"$error":"#DIV/0!"}},{"$f":"+BS35/G35","v":{"$error":"#DIV/0!"}},{"$f":"+($BU$269/F35)^(1/G35)","v":{"$error":"#DIV/0!"}},{"$f":"+BQ35/BU35","v":{"$error":"#DIV/0!"}},{"$f":"+(aem2csp2!D35+(aem2csp2!E35*10))*(10^((65-aem2csp2!$A$16)/10))","v":0},{"$f":"+F35*(BW35^G35)","v":0},{"$f":"+(BX35/$BX$267)^(1/G35)","v":{"$error":"#DIV/0!"}},{"$f":"+BY35/G35","v":{"$error":"#DIV/0!"}},{"$f":"+($CA$269/F35)^(1/G35)","v":{"$error":"#DIV/0!"}},{"$f":"+BW35/CA35","v":{"$error":"#DIV/0!"}}]
[null,null,null,null,747400,3.6633315093953497E-2,0.87911271124698598,{"$f":"+(aem2csp2!B36+(aem2csp2!C36*10))*(10^((65-aem2csp2!$A$11)/10))","v":0},0,{"$error":"#DIV/0!"},{"$error":"#DIV/0!"},{"$error":"#DIV/0!"},{"$error":"#DIV/0!"},{"$f":"+(aem2csp2!B36+(aem2csp2!C36*10))*(10^((65-aem2csp2!$A$12)/10))","v":0},0,{"$error":"#DIV/0!"},{"$error":"#DIV/0!"},{"$error":"#DIV/0!"},{"$error":"#DIV/0!"},{"$f":"+(aem2csp2!B36+(aem2csp2!C36*10))*(10^((65-aem2csp2!$A$13)/10))","v":0},0,{"$error":"#DIV/0!"},{"$error":"#DIV/0!"},{"$error":"#DIV/0!"},{"$error":"#DIV/0!"},{"$f":"+(aem2csp2!B36+(aem2csp2!C36*10))*(10^((65-aem2csp2!$A$14)/10))","v":0},0,{"$error":"#DIV/0!"},{"$error":"#DIV/0!"},{"$error":"#DIV/0!"},{"$error":"#DIV/0!"},{"$f":"+(aem2csp2!B36+(aem2csp2!C36*10))*(10^((65-aem2csp2!$A$15)/10))","v":0},0,{"$error":"#DIV/0!"},{"$error":"#DIV/0!"},{"$error":"#DIV/0!"},{"$error":"#DIV/0!"},{"$f":"+(aem2csp2!B36+(aem2csp2!C36*10))*(10^((65-aem2csp2!$A$16)/10))","v":0},0,{"$error":"#DIV/0!"},{"$error":"#DIV/0!"},{"$error":"#DIV/0!"},{"$error":"#DIV/0!"},7,{"$f":"+(aem2csp2!D36+(aem2csp2!E36*10))*(10^((65-aem2csp2!$A$11)/10))","v":0},0,{"$error":"#DIV/0!"},{"$error":"#DIV/0!"},{"$error":"#DIV/0!"},{"$error":"#DIV/0!"},{"$f":"+(aem2csp2!D36+(aem2csp2!E36*10))*(10^((65-aem2csp2!$A$12)/10))","v":0},0,{"$error":"#DIV/0!"},{"$error":"#DIV/0!"},{"$error":"#DIV/0!"},{"$error":"#DIV/0!"},{"$f":"+(aem2csp2!D36+(aem2csp2!E36*10))*(10^((65-aem2csp2!$A$13)/10))","v":0},0,{"$error":"#DIV/0!"},{"$error":"#DIV/0!"},{"$error":"#DIV/0!"},{"$error":"#DIV/0!"},{"$f":"+(aem2csp2!D36+(aem2csp2!E36*10))*(10^((65-aem2csp2!$A$14)/10))","v":0},0,{"$error":"#DIV/0!"},{"$error":"#DIV/0!"},{"$error":"#DIV/0!"},{"$error":"#DIV/0!"},{"$f":"+(aem2csp2!D36+(aem2csp2!E36*10))*(10^((65-aem2csp2!$A$15)/10))","v":0},0,{"$error":"#DIV/0!"},{"$error":"#DIV/0!"},{"$error":"#DIV/0!"},{"$error":"#DIV/0!"},{"$f":"+(aem2csp2!D36+(aem2csp2!E36*10))*(10^((65-aem2csp2!$A$16)/10))","v":0},0,{"$error":"#DIV/0!"},{"$error":"#DIV/0!"},{"$error":"#DIV/0!"},{"$error":"#DIV/0!"}]
[null,null,null,null,757300,7.1574377861262195E-2,0.62182514518336496,{"$f":"+(aem2csp2!B37+(aem2csp2!C37*10))*(10^((65-aem2csp2!$A$11)/10))","v":0},0,{"$error":"#DIV/0!"},{"$error":"#DIV/0!"},{"$error":"#DIV/0!"},{"$error":"#DIV/0!"},{"$f":"+(aem2csp2!B37+(aem2csp2!C37*10))*(10^((65-aem2csp2!$A$12)/10))","v":0},0,{"$error":"#DIV/0!"},{"$error":"#DIV/0!"},{"$error":"#DIV/0!"},{"$error":"#DIV/0!"},{"$f":"+(aem2csp2!B37+(aem2csp2!C37*10))*(10^((65-aem2csp2!$A$13)/10))","v":0},0,{"$error":"#DIV/0!"},{"$error":"#DIV/0!"},{"$error":"#DIV/0!"},{"$error":"#DIV/0!"},{"$f":"+(aem2csp2!B37+(aem2csp2!C37*10))*(10^((65-aem2csp2!$A$14)/10))","v":0},0,{"$error":"#DIV/0!"},{"$error":"#DIV/0!"},{"$error":"#DIV/0!"},{"$error":"#DIV/0!"},{"$f":"+(aem2csp2!B37+(aem2csp2!C37*10))*(10^((65-aem2csp2!$A$15)/10))","v":0},0,{"$error":"#DIV/0!"},{"$error":"#DIV/0!"},{"$error":"#DIV/0!"},{"$error":"#DIV/0!"},{"$f":"+(aem2csp2!B37+(aem2csp2!C37*10))*(10^((65-aem2csp2!$A$16)/10))","v":0},0,{"$error":"#DIV/0!"},{"$error":"#DIV/0!"},{"$error":"#DIV/0!"},{"$error":"#DIV/0!"},8,{"$f":"+(aem2csp2!D37+(aem2csp2!E37*10))*(10^((65-aem2csp2!$A$11)/10))","v":0},0,{"$error":"#DIV/0!"},{"$error":"#DIV/0!"},{"$error":"#DIV/0!"},{"$error":"#DIV/0!"},{"$f":"+(aem2csp2!D37+(aem2csp2!E37*10))*(10^((65-aem2csp2!$A$12)/10))","v":0},0,{"$error":"#DIV/0!"},{"$error":"#DIV/0!"},{"$error":"#DIV/0!"},{"$error":"#DIV/0!"},{"$f":"+(aem2csp2!D37+(aem2csp2!E37*10))*(10^((65-aem2csp2!$A$13)/10))","v":0},0,{"$error":"#DIV/0!"},{"$error":"#DIV/0!"},{"$error":"#DIV/0!"},{"$error":"#DIV/0!"},{"$f":"+(aem2csp2!D37+(aem2csp2!E37*10))*(10^((65-aem2csp2!$A$14)/10))","v":0},0,{"$error":"#DIV/0!"},{"$error":"#DIV/0!"},{"$error":"#DIV/0!"},{"$error":"#DIV/0!"},{"$f":"+(aem2csp2!D37+(aem2csp2!E37*10))*(10^((65-aem2csp2!$A$15)/10))","v":0},0,{"$error":"#DIV/0!"},{"$error":"#DIV/0!"},{"$error":"#DIV/0!"},{"$error":"#DIV/0!"},{"$f":"+(aem2csp2!D37+(aem2csp2!E37*10))*(10^((65-aem2csp2!$A$16)/10))","v":0},0,{"$error":"#DIV/0!"},{"$error":"#DIV/0!"},{"$error":"#DIV/0!"},{"$error":"#DIV/0!"}]
[null,null,null,null,767300,5.7242846654023599E-2,0.74016150485536703,{"$f":"+(aem2csp2!B38+(aem2csp2!C38*10))*(10^((65-aem2csp2!$A$11)/10))","v":0},0,{"$error":"#DIV/0!"},{"$error":"#DIV/0!"},{"$error":"#DIV/0!"},{"$error":"#DIV/0!"},{"$f":"+(aem2csp2!B38+(aem2csp2!C38*10))*(10^((65-aem2csp2!$A$12)/10))","v":0},0,{"$error":"#DIV/0!"},{"$error":"#DIV/0!"},{"$error":"#DIV/0!"},{"$error":"#DIV/0!"},{"$f":"+(aem2csp2!B38+(aem2csp2!C38*10))*(10^((65-aem2csp2!$A$13)/10))","v":0},0,{"$error":"#DIV/0!"},{"$error":"#DIV/0!"},{"$error":"#DIV/0!"},{"$error":"#DIV/0!"},{"$f":"+(aem2csp2!B38+(aem2csp2!C38*10))*(10^((65-aem2csp2!$A$14)/10))","v":0},0,{"$error":"#DIV/0!"},{"$error":"#DIV/0!"},{"$error":"#DIV/0!"},{"$error":"#DIV/0!"},{"$f":"+(aem2csp2!B38+(aem2csp2!C38*10))*(10^((65-aem2csp2!$A$15)/10))","v":0},0,{"$error":"#DIV/0!"},{"$error":"#DIV/0!"},{"$error":"#DIV/0!"},{"$error":"#DIV/0!"},{"$f":"+(aem2csp2!B38+(aem2csp2!C38*10))*(10^((65-aem2csp2!$A$16)/10))","v":0},0,{"$error":"#DIV/0!"},{"$error":"#DIV/0!"},{"$error":"#DIV/0!"},{"$error":"#DIV/0!"},9,{"$f":"+(aem2csp2!D38+(aem2csp2!E38*10))*(10^((65-aem2csp2!$A$11)/10))","v":0},0,{"$error":"#DIV/0!"},{"$error":"#DIV/0!"},{"$error":"#DIV/0!"},{"$error":"#DIV/0!"},{"$f":"+(aem2csp2!D38+(aem2csp2!E38*10))*(10^((65-aem2csp2!$A$12)/10))","v":0},0,{"$error":"#DIV/0!"},{"$error":"#DIV/0!"},{"$error":"#DIV/0!"},{"$error":"#DIV/0!"},{"$f":"+(aem2csp2!D38+(aem2csp2!E38*10))*(10^((65-aem2csp2!$A$13)/10))","v":0},0,{"$error":"#DIV/0!"},{"$error":"#DIV/0!"},{"$error":"#DIV/0!"},{"$error":"#DIV/0!"},{"$f":"+(aem2csp2!D38+(aem2csp2!E38*10))*(10^((65-aem2csp2!$A$14)/10))","v":0},0,{"$error":"#DIV/0!"},{"$error":"#DIV/0!"},{"$error":"#DIV/0!"},{"$error":"#DIV/0!"},{"$f":"+(aem2csp2!D38+(aem2csp2!E38*10))*(10^((65-aem2csp2!$A$15)/10))","v":0},0,{"$error":"#DIV/0!"},{"$error":"#DIV/0!"},{"$error":"#DIV/0!"},{"$error":"#DIV/0!"},{"$f":"+(aem2csp2!D38+(aem2csp2!E38*10))*(10^((65-aem2csp2!$A$16)/10))","v":0},0,{"$error":"#DIV/0!"},{"$error":"#DIV/0!"},{"$error":"#DIV/0!"},{"$error":"#DIV/0!"}]
[null,null,null,null,767400,1.5426488635263901E-2,0.87893003497861699,{"$f":"+(aem2csp2!B39+(aem2csp2!C39*10))*(10^((65-aem2csp2!$A$11)/10))","v":0},0,{"$error":"#DIV/0!"},{"$error":"#DIV/0!"},{"$error":"#DIV/0!"},{"$error":"#DIV/0!"},{"$f":"+(aem2csp2!B39+(aem2csp2!C39*10))*(10^((65-aem2csp2!$A$12)/10))","v":0},0,{"$error":"#DIV/0!"},{"$error":"#DIV/0!"},{"$error":"#DIV/0!"},{"$error":"#DIV/0!"},{"$f":"+(aem2csp2!B39+(aem2csp2!C39*10))*(10^((65-aem2csp2!$A$13)/10))","v":0},0,{"$error":"#DIV/0!"},{"$error":"#DIV/0!"},{"$error":"#DIV/0!"},{"$error":"#DIV/0!"},{"$f":"+(aem2csp2!B39+(aem2csp2!C39*10))*(10^((65-aem2csp2!$A$14)/10))","v":0},0,{"$error":"#DIV/0!"},{"$error":"#DIV/0!"},{"$error":"#DIV/0!"},{"$error":"#DIV/0!"},{"$f":"+(aem2csp2!B39+(aem2csp2!C39*10))*(10^((65-aem2csp2!$A$15)/10))","v":0},0,{"$error":"#DIV/0!"},{"$error":"#DIV/0!"},{"$error":"#DIV/0!"},{"$error":"#DIV/0!"},{"$f":"+(aem2csp2!B39+(aem2csp2!C39*10))*(10^((65-aem2csp2!$A$16)/10))","v":0},0,{"$error":"#DIV/0!"},{"$error":"#DIV/0!"},{"$error":"#DIV/0!"},{"$error":"#DIV/0!"},10,{"$f":"+(aem2csp2!D39+(aem2csp2!E39*10))*(10^((65-aem2csp2!$A$11)/10))","v":0},0,{"$error":"#DIV/0!"},{"$error":"#DIV/0!"},{"$error":"#DIV/0!"},{"$error":"#DIV/0!"},{"$f":"+(aem2csp2!D39+(aem2csp2!E39*10))*(10^((65-aem2csp2!$A$12)/10))","v":0},0,{"$error":"#DIV/0!"},{"$error":"#DIV/0!"},{"$error":"#DIV/0!"},{"$error":"#DIV/0!"},{"$f":"+(aem2csp2!D39+(aem2csp2!E39*10))*(10^((65-aem2csp2!$A$13)/10))","v":0},0,{"$error":"#DIV/0!"},{"$error":"#DIV/0!"},{"$error":"#DIV/0!"},{"$error":"#DIV/0!"},{"$f":"+(aem2csp2!D39+(aem2csp2!E39*10))*(10^((65-aem2csp2!$A$14)/10))","v":0},0,{"$error":"#DIV/0!"},{"$error":"#DIV/0!"},{"$error":"#DIV/0!"},{"$error":"#DIV/0!"},{"$f":"+(aem2csp2!D39+(aem2csp2!E39*10))*(10^((65-aem2csp2!$A$15)/10))","v":0},0,{"$error":"#DIV/0!"},{"$error":"#DIV/0!"},{"$error":"#DIV/0!"},{"$error":"#DIV/0!"},{"$f":"+(aem2csp2!D39+(aem2csp2!E39*10))*(10^((65-aem2csp2!$A$16)/10))","v":0},0,{"$error":"#DIV/0!"},{"$error":"#DIV/0!"},{"$error":"#DIV/0!"},{"$error":"#DIV/0!"}]
[null,null,null,null,777200,2.2953502129772201E-2,0.79227803198209201,{"$f":"+(aem2csp2!B40+(aem2csp2!C40*10))*(10^((65-aem2csp2!$A$11)/10))","v":0},0,{"$error":"#DIV/0!"},{"$error":"#DIV/0!"},{"$error":"#DIV/0!"},{"$error":"#DIV/0!"},{"$f":"+(aem2csp2!B40+(aem2csp2!C40*10))*(10^((65-aem2csp2!$A$12)/10))","v":0},0,{"$error":"#DIV/0!"},{"$error":"#DIV/0!"},{"$error":"#DIV/0!"},{"$error":"#DIV/0!"},{"$f":"+(aem2csp2!B40+(aem2csp2!C40*10))*(10^((65-aem2csp2!$A$13)/10))","v":0},0,{"$error":"#DIV/0!"},{"$error":"#DIV/0!"},{"$error":"#DIV/0!"},{"$error":"#DIV/0!"},{"$f":"+(aem2csp2!B40+(aem2csp2!C40*10))*(10^((65-aem2csp2!$A$14)/10))","v":0},0,{"$error":"#DIV/0!"},{"$error":"#DIV/0!"},{"$error":"#DIV/0!"},{"$error":"#DIV/0!"},{"$f":"+(aem2csp2!B40+(aem2csp2!C40*10))*(10^((65-aem2csp2!$A$15)/10))","v":0},0,{"$error":"#DIV/0!"},{"$error":"#DIV/0!"},{"$error":"#DIV/0!"},{"$error":"#DIV/0!"},{"$f":"+(aem2csp2!B40+(aem2csp2!C40*10))*(10^((65-aem2csp2!$A$16)/10))","v":0},0,{"$error":"#DIV/0!"},{"$error":"#DIV/0!"},{"$error":"#DIV/0!"},{"$error":"#DIV/0!"},11,{"$f":"+(aem2csp2!D40+(aem2csp2!E40*10))*(10^((65-aem2csp2!$A$11)/10))","v":0},0,{"$error":"#DIV/0!"},{"$error":"#DIV/0!"},{"$error":"#DIV/0!"},{"$error":"#DIV/0!"},{"$f":"+(aem2csp2!D40+(aem2csp2!E40*10))*(10^((65-aem2csp2!$A$12)/10))","v":0},0,{"$error":"#DIV/0!"},{"$error":"#DIV/0!"},{"$error":"#DIV/0!"},{"$error":"#DIV/0!"},{"$f":"+(aem2csp2!D40+(aem2csp2!E40*10))*(10^((65-aem2csp2!$A$13)/10))","v":0},0,{"$error":"#DIV/0!"},{"$error":"#DIV/0!"},{"$error":"#DIV/0!"},{"$error":"#DIV/0!"},{"$f":"+(aem2csp2!D40+(aem2csp2!E40*10))*(10^((65-aem2csp2!$A$14)/10))","v":0},0,{"$error":"#DIV/0!"},{"$error":"#DIV/0!"},{"$error":"#DIV/0!"},{"$error":"#DIV/0!"},{"$f":"+(aem2csp2!D40+(aem2csp2!E40*10))*(10^((65-aem2csp2!$A$15)/10))","v":0},0,{"$error":"#DIV/0!"},{"$error":"#DIV/0!"},{"$error":"#DIV/0!"},{"$error":"#DIV/0!"},{"$f":"+(aem2csp2!D40+(aem2csp2!E40*10))*(10^((65-aem2csp2!$A$16)/10))","v":0},0,{"$error":"#DIV/0!"},{"$error":"#DIV/0!"},{"$error":"#DIV/0!"},{"$error":"#DIV/0!"}]
[null,null,null,null,777300,2.4482360449698402E-2,0.84587763258247295,{"$f":"+(aem2csp2!B41+(aem2csp2!C41*10))*(10^((65-aem2csp2!$A$11)/10))","v":0},0,{"$error":"#DIV/0!"},{"$error":"#DIV/0!"},{"$error":"#DIV/0!"},{"$error":"#DIV/0!"},{"$f":"+(aem2csp2!B41+(aem2csp2!C41*10))*(10^((65-aem2csp2!$A$12)/10))","v":0},0,{"$error":"#DIV/0!"},{"$error":"#DIV/0!"},{"$error":"#DIV/0!"},{"$error":"#DIV/0!"},{"$f":"+(aem2csp2!B41+(aem2csp2!C41*10))*(10^((65-aem2csp2!$A$13)/10))","v":0},0,{"$error":"#DIV/0!"},{"$error":"#DIV/0!"},{"$error":"#DIV/0!"},{"$error":"#DIV/0!"},{"$f":"+(aem2csp2!B41+(aem2csp2!C41*10))*(10^((65-aem2csp2!$A$14)/10))","v":0},0,{"$error":"#DIV/0!"},{"$error":"#DIV/0!"},{"$error":"#DIV/0!"},{"$error":"#DIV/0!"},{"$f":"+(aem2csp2!B41+(aem2csp2!C41*10))*(10^((65-aem2csp2!$A$15)/10))","v":0},0,{"$error":"#DIV/0!"},{"$error":"#DIV/0!"},{"$error":"#DIV/0!"},{"$error":"#DIV/0!"},{"$f":"+(aem2csp2!B41+(aem2csp2!C41*10))*(10^((65-aem2csp2!$A$16)/10))","v":0},0,{"$error":"#DIV/0!"},{"$error":"#DIV/0!"},{"$error":"#DIV/0!"},{"$error":"#DIV/0!"},12,{"$f":"+(aem2csp2!D41+(aem2csp2!E41*10))*(10^((65-aem2csp2!$A$11)/10))","v":0},0,{"$error":"#DIV/0!"},{"$error":"#DIV/0!"},{"$error":"#DIV/0!"},{"$error":"#DIV/0!"},{"$f":"+(aem2csp2!D41+(aem2csp2!E41*10))*(10^((65-aem2csp2!$A$12)/10))","v":0},0,{"$error":"#DIV/0!"},{"$error":"#DIV/0!"},{"$error":"#DIV/0!"},{"$error":"#DIV/0!"},{"$f":"+(aem2csp2!D41+(aem2csp2!E41*10))*(10^((65-aem2csp2!$A$13)/10))","v":0},0,{"$error":"#DIV/0!"},{"$error":"#DIV/0!"},{"$error":"#DIV/0!"},{"$error":"#DIV/0!"},{"$f":"+(aem2csp2!D41+(aem2csp2!E41*10))*(10^((65-aem2csp2!$A$14)/10))","v":0},0,{"$error":"#DIV/0!"},{"$error":"#DIV/0!"},{"$error":"#DIV/0!"},{"$error":"#DIV/0!"},{"$f":"+(aem2csp2!D41+(aem2csp2!E41*10))*(10^((65-aem2csp2!$A$15)/10))","v":0},0,{"$error":"#DIV/0!"},{"$error":"#DIV/0!"},{"$error":"#DIV/0!"},{"$error":"#DIV/0!"},{"$f":"+(aem2csp2!D41+(aem2csp2!E41*10))*(10^((65-aem2csp2!$A$16)/10))","v":0},0,{"$error":"#DIV/0!"},{"$error":"#DIV/0!"},{"$error":"#DIV/0!"},{"$error":"#DIV/0!"}]
[null,null,null,null,"1900D ",1.1806166827730301E-2,0.59288634985654798,{"$f":"+(aem2csp2!B42+(aem2csp2!C42*10))*(10^((65-aem2csp2!$A$11)/10))","v":0},0,{"$f":"+(I42/$I$267)^(1/G42)","v":{"$error":"#DIV/0!"}},{"$error":"#DIV/0!"},{"$f":"+($L$269/F42)^(1/G42)","v":{"$error":"#DIV/0!"}},{"$error":"#DIV/0!"},{"$f":"+(aem2csp2!B42+(aem2csp2!C42*10))*(10^((65-aem2csp2!$A$12)/10))","v":0},0,{"$error":"#DIV/0!"},{"$error":"#DIV/0!"},{"$error":"#DIV/0!"},{"$error":"#DIV/0!"},{"$f":"+(aem2csp2!B42+(aem2csp2!C42*10))*(10^((65-aem2csp2!$A$13)/10))","v":0},0,{"$error":"#DIV/0!"},{"$error":"#DIV/0!"},{"$error":"#DIV/0!"},{"$error":"#DIV/0!"},{"$f":"+(aem2csp2!B42+(aem2csp2!C42*10))*(10^((65-aem2csp2!$A$14)/10))","v":0},0,{"$error":"#DIV/0!"},{"$error":"#DIV/0!"},{"$error":"#DIV/0!"},{"$error":"#DIV/0!"},{"$f":"+(aem2csp2!B42+(aem2csp2!C42*10))*(10^((65-aem2csp2!$A$15)/10))","v":0},0,{"$error":"#DIV/0!"},{"$error":"#DIV/0!"},{"$error":"#DIV/0!"},{"$error":"#DIV/0!"},{"$f":"+(aem2csp2!B42+(aem2csp2!C42*10))*(10^((65-aem2csp2!$A$16)/10))","v":0},0,{"$error":"#DIV/0!"},{"$error":"#DIV/0!"},{"$error":"#DIV/0!"},{"$error":"#DIV/0!"},13,{"$f":"+(aem2csp2!D42+(aem2csp2!E42*10))*(10^((65-aem2csp2!$A$11)/10))","v":0},0,{"$error":"#DIV/0!"},{"$error":"#DIV/0!"},{"$error":"#DIV/0!"},{"$error":"#DIV/0!"},{"$f":"+(aem2csp2!D42+(aem2csp2!E42*10))*(10^((65-aem2csp2!$A$12)/10))","v":0},0,{"$error":"#DIV/0!"},{"$error":"#DIV/0!"},{"$error":"#DIV/0!"},{"$error":"#DIV/0!"},{"$f":"+(aem2csp2!D42+(aem2csp2!E42*10))*(10^((65-aem2csp2!$A$13)/10))","v":0},0,{"$error":"#DIV/0!"},{"$error":"#DIV/0!"},{"$error":"#DIV/0!"},{"$error":"#DIV/0!"},{"$f":"+(aem2csp2!D42+(aem2csp2!E42*10))*(10^((65-aem2csp2!$A$14)/10))","v":0},0,{"$error":"#DIV/0!"},{"$error":"#DIV/0!"},{"$error":"#DIV/0!"},{"$error":"#DIV/0!"},{"$f":"+(aem2csp2!D42+(aem2csp2!E42*10))*(10^((65-aem2csp2!$A$15)/10))","v":0},0,{"$error":"#DIV/0!"},{"$error":"#DIV/0!"},{"$error":"#DIV/0!"},{"$error":"#DIV/0!"},{"$f":"+(aem2csp2!D42+(aem2csp2!E42*10))*(10^((65-aem2csp2!$A$16)/10))","v":0},0,{"$error":"#DIV/0!"},{"$error":"#DIV/0!"},{"$error":"#DIV/0!"},{"$error":"#DIV/0!"}]
[null,null,null,null,"707QN ",0.29143762955303198,0.74783690328569596,{"$f":"+(aem2csp2!B43+(aem2csp2!C43*10))*(10^((65-aem2csp2!$A$11)/10))","v":0},0,{"$error":"#DIV/0!"},{"$error":"#DIV/0!"},{"$error":"#DIV/0!"},{"$error":"#DIV/0!"},{"$f":"+(aem2csp2!B43+(aem2csp2!C43*10))*(10^((65-aem2csp2!$A$12)/10))","v":0},0,{"$error":"#DIV/0!"},{"$error":"#DIV/0!"},{"$error":"#DIV/0!"},{"$error":"#DIV/0!"},{"$f":"+(aem2csp2!B43+(aem2csp2!C43*10))*(10^((65-aem2csp2!$A$13)/10))","v":0},0,{"$error":"#DIV/0!"},{"$error":"#DIV/0!"},{"$error":"#DIV/0!"},{"$error":"#DIV/0!"},{"$f":"+(aem2csp2!B43+(aem2csp2!C43*10))*(10^((65-aem2csp2!$A$14)/10))","v":0},0,{"$error":"#DIV/0!"},{"$error":"#DIV/0!"},{"$error":"#DIV/0!"},{"$error":"#DIV/0!"},{"$f":"+(aem2csp2!B43+(aem2csp2!C43*10))*(10^((65-aem2csp2!$A$15)/10))","v":0},0,{"$error":"#DIV/0!"},{"$error":"#DIV/0!"},{"$error":"#DIV/0!"},{"$error":"#DIV/0!"},{"$f":"+(aem2csp2!B43+(aem2csp2!C43*10))*(10^((65-aem2csp2!$A$16)/10))","v":0},0,{"$error":"#DIV/0!"},{"$error":"#DIV/0!"},{"$error":"#DIV/0!"},{"$error":"#DIV/0!"},14,{"$f":"+(aem2csp2!D43+(aem2csp2!E43*10))*(10^((65-aem2csp2!$A$11)/10))","v":0},0,{"$error":"#DIV/0!"},{"$error":"#DIV/0!"},{"$error":"#DIV/0!"},{"$error":"#DIV/0!"},{"$f":"+(aem2csp2!D43+(aem2csp2!E43*10))*(10^((65-aem2csp2!$A$12)/10))","v":0},0,{"$error":"#DIV/0!"},{"$error":"#DIV/0!"},{"$error":"#DIV/0!"},{"$error":"#DIV/0!"},{"$f":"+(aem2csp2!D43+(aem2csp2!E43*10))*(10^((65-aem2csp2!$A$13)/10))","v":0},0,{"$error":"#DIV/0!"},{"$error":"#DIV/0!"},{"$error":"#DIV/0!"},{"$error":"#DIV/0!"},{"$f":"+(aem2csp2!D43+(aem2csp2!E43*10))*(10^((65-aem2csp2!$A$14)/10))","v":0},0,{"$error":"#DIV/0!"},{"$error":"#DIV/0!"},{"$error":"#DIV/0!"},{"$error":"#DIV/0!"},{"$f":"+(aem2csp2!D43+(aem2csp2!E43*10))*(10^((65-aem2csp2!$A$15)/10))","v":0},0,{"$error":"#DIV/0!"},{"$error":"#DIV/0!"},{"$error":"#DIV/0!"},{"$error":"#DIV/0!"},{"$f":"+(aem2csp2!D43+(aem2csp2!E43*10))*(10^((65-aem2csp2!$A$16)/10))","v":0},0,{"$error":"#DIV/0!"},{"$error":"#DIV/0!"},{"$error":"#DIV/0!"},{"$error":"#DIV/0!"}]
[null,null,null,null,"720B ",0.28523305777441199,0.62730922365179298,{"$f":"+(aem2csp2!B44+(aem2csp2!C44*10))*(10^((65-aem2csp2!$A$11)/10))","v":0},0,{"$error":"#DIV/0!"},{"$error":"#DIV/0!"},{"$error":"#DIV/0!"},{"$f":"+H44/L44","v":{"$error":"#DIV/0!"}},{"$f":"+(aem2csp2!B44+(aem2csp2!C44*10))*(10^((65-aem2csp2!$A$12)/10))","v":0},{"$f":"+F44*(N44^G44)","v":0},{"$f":"+(O44/$O$267)^(1/G44)","v":{"$error":"#DIV/0!"}},{"$f":"+P44/G44","v":{"$error":"#DIV/0!"}},{"$error":"#DIV/0!"},{"$error":"#DIV/0!"},{"$f":"+(aem2csp2!B44+(aem2csp2!C44*10))*(10^((65-aem2csp2!$A$13)/10))","v":0},0,{"$error":"#DIV/0!"},{"$error":"#DIV/0!"},{"$error":"#DIV/0!"},{"$error":"#DIV/0!"},{"$f":"+(aem2csp2!B44+(aem2csp2!C44*10))*(10^((65-aem2csp2!$A$14)/10))","v":0},0,{"$error":"#DIV/0!"},{"$error":"#DIV/0!"},{"$error":"#DIV/0!"},{"$error":"#DIV/0!"},{"$f":"+(aem2csp2!B44+(aem2csp2!C44*10))*(10^((65-aem2csp2!$A$15)/10))","v":0},0,{"$error":"#DIV/0!"},{"$error":"#DIV/0!"},{"$error":"#DIV/0!"},{"$error":"#DIV/0!"},{"$f":"+(aem2csp2!B44+(aem2csp2!C44*10))*(10^((65-aem2csp2!$A$16)/10))","v":0},0,{"$error":"#DIV/0!"},{"$error":"#DIV/0!"},{"$error":"#DIV/0!"},{"$error":"#DIV/0!"},15,{"$f":"+(aem2csp2!D44+(aem2csp2!E44*10))*(10^((65-aem2csp2!$A$11)/10))","v":0},0,{"$error":"#DIV/0!"},{"$error":"#DIV/0!"},{"$error":"#DIV/0!"},{"$error":"#DIV/0!"},{"$f":"+(aem2csp2!D44+(aem2csp2!E44*10))*(10^((65-aem2csp2!$A$12)/10))","v":0},0,{"$error":"#DIV/0!"},{"$error":"#DIV/0!"},{"$error":"#DIV/0!"},{"$error":"#DIV/0!"},{"$f":"+(aem2csp2!D44+(aem2csp2!E44*10))*(10^((65-aem2csp2!$A$13)/10))","v":0},0,{"$error":"#DIV/0!"},{"$error":"#DIV/0!"},{"$error":"#DIV/0!"},{"$error":"#DIV/0!"},{"$f":"+(aem2csp2!D44+(aem2csp2!E44*10))*(10^((65-aem2csp2!$A$14)/10))","v":0},0,{"$error":"#DIV/0!"},{"$error":"#DIV/0!"},{"$error":"#DIV/0!"},{"$error":"#DIV/0!"},{"$f":"+(aem2csp2!D44+(aem2csp2!E44*10))*(10^((65-aem2csp2!$A$15)/10))","v":0},0,{"$error":"#DIV/0!"},{"$error":"#DIV/0!"},{"$error":"#DIV/0!"},{"$error":"#DIV/0!"},{"$f":"+(aem2csp2!D44+(aem2csp2!E44*10))*(10^((65-aem2csp2!$A$16)/10))","v":0},0,{"$error":"#DIV/0!"},{"$error":"#DIV/0!"},{"$error":"#DIV/0!"},{"$error":"#DIV/0!"}]
[null,null,null,null,"727D15 ",0.388397242318129,0.67166097682099302,{"$f":"+(aem2csp2!B45+(aem2csp2!C45*10))*(10^((65-aem2csp2!$A$11)/10))","v":0},0,{"$error":"#DIV/0!"},{"$error":"#DIV/0!"},{"$error":"#DIV/0!"},{"$error":"#DIV/0!"},{"$f":"+(aem2csp2!B45+(aem2csp2!C45*10))*(10^((65-aem2csp2!$A$12)/10))","v":0},0,{"$error":"#DIV/0!"},{"$error":"#DIV/0!"},{"$error":"#DIV/0!"},{"$error":"#DIV/0!"},{"$f":"+(aem2csp2!B45+(aem2csp2!C45*10))*(10^((65-aem2csp2!$A$13)/10))","v":0},0,{"$error":"#DIV/0!"},{"$error":"#DIV/0!"},{"$error":"#DIV/0!"},{"$error":"#DIV/0!"},{"$f":"+(aem2csp2!B45+(aem2csp2!C45*10))*(10^((65-aem2csp2!$A$14)/10))","v":0},0,{"$error":"#DIV/0!"},{"$error":"#DIV/0!"},{"$error":"#DIV/0!"},{"$error":"#DIV/0!"},{"$f":"+(aem2csp2!B45+(aem2csp2!C45*10))*(10^((65-aem2csp2!$A$15)/10))","v":0},0,{"$error":"#DIV/0!"},{"$error":"#DIV/0!"},{"$error":"#DIV/0!"},{"$error":"#DIV/0!"},{"$f":"+(aem2csp2!B45+(aem2csp2!C45*10))*(10^((65-aem2csp2!$A$16)/10))","v":0},0,{"$error":"#DIV/0!"},{"$error":"#DIV/0!"},{"$error":"#DIV/0!"},{"$error":"#DIV/0!"},16,{"$f":"+(aem2csp2!D45+(aem2csp2!E45*10))*(10^((65-aem2csp2!$A$11)/10))","v":0},0,{"$error":"#DIV/0!"},{"$error":"#DIV/0!"},{"$error":"#DIV/0!"},{"$error":"#DIV/0!"},{"$f":"+(aem2csp2!D45+(aem2csp2!E45*10))*(10^((65-aem2csp2!$A$12)/10))","v":0},0,{"$error":"#DIV/0!"},{"$error":"#DIV/0!"},{"$error":"#DIV/0!"},{"$error":"#DIV/0!"},{"$f":"+(aem2csp2!D45+(aem2csp2!E45*10))*(10^((65-aem2csp2!$A$13)/10))","v":0},0,{"$error":"#DIV/0!"},{"$error":"#DIV/0!"},{"$error":"#DIV/0!"},{"$error":"#DIV/0!"},{"$f":"+(aem2csp2!D45+(aem2csp2!E45*10))*(10^((65-aem2csp2!$A$14)/10))","v":0},0,{"$error":"#DIV/0!"},{"$error":"#DIV/0!"},{"$error":"#DIV/0!"},{"$error":"#DIV/0!"},{"$f":"+(aem2csp2!D45+(aem2csp2!E45*10))*(10^((65-aem2csp2!$A$15)/10))","v":0},0,{"$error":"#DIV/0!"},{"$error":"#DIV/0!"},{"$error":"#DIV/0!"},{"$error":"#DIV/0!"},{"$f":"+(aem2csp2!D45+(aem2csp2!E45*10))*(10^((65-aem2csp2!$A$16)/10))","v":0},0,{"$error":"#DIV/0!"},{"$error":"#DIV/0!"},{"$error":"#DIV/0!"},{"$error":"#DIV/0!"}]
[null,null,null,null,"727D17 ",0.43553473444593399,0.66670338291775699,{"$f":"+(aem2csp2!B46+(aem2csp2!C46*10))*(10^((65-aem2csp2!$A$11)/10))","v":0},0,{"$error":"#DIV/0!"},{"$error":"#DIV/0!"},{"$error":"#DIV/0!"},{"$error":"#DIV/0!"},{"$f":"+(aem2csp2!B46+(aem2csp2!C46*10))*(10^((65-aem2csp2!$A$12)/10))","v":0},0,{"$error":"#DIV/0!"},{"$error":"#DIV/0!"},{"$f":"+($R$269/F46)^(1/G46)","v":{"$error":"#DIV/0!"}},{"$error":"#DIV/0!"},{"$f":"+(aem2csp2!B46+(aem2csp2!C46*10))*(10^((65-aem2csp2!$A$13)/10))","v":0},0,{"$error":"#DIV/0!"},{"$error":"#DIV/0!"},{"$error":"#DIV/0!"},{"$error":"#DIV/0!"},{"$f":"+(aem2csp2!B46+(aem2csp2!C46*10))*(10^((65-aem2csp2!$A$14)/10))","v":0},0,{"$error":"#DIV/0!"},{"$error":"#DIV/0!"},{"$error":"#DIV/0!"},{"$error":"#DIV/0!"},{"$f":"+(aem2csp2!B46+(aem2csp2!C46*10))*(10^((65-aem2csp2!$A$15)/10))","v":0},0,{"$error":"#DIV/0!"},{"$error":"#DIV/0!"},{"$error":"#DIV/0!"},{"$error":"#DIV/0!"},{"$f":"+(aem2csp2!B46+(aem2csp2!C46*10))*(10^((65-aem2csp2!$A$16)/10))","v":0},0,{"$error":"#DIV/0!"},{"$error":"#DIV/0!"},{"$error":"#DIV/0!"},{"$error":"#DIV/0!"},17,{"$f":"+(aem2csp2!D46+(aem2csp2!E46*10))*(10^((65-aem2csp2!$A$11)/10))","v":0},0,{"$error":"#DIV/0!"},{"$error":"#DIV/0!"},{"$error":"#DIV/0!"},{"$error":"#DIV/0!"},{"$f":"+(aem2csp2!D46+(aem2csp2!E46*10))*(10^((65-aem2csp2!$A$12)/10))","v":0},0,{"$error":"#DIV/0!"},{"$error":"#DIV/0!"},{"$error":"#DIV/0!"},{"$error":"#DIV/0!"},{"$f":"+(aem2csp2!D46+(aem2csp2!E46*10))*(10^((65-aem2csp2!$A$13)/10))","v":0},0,{"$error":"#DIV/0!"},{"$error":"#DIV/0!"},{"$error":"#DIV/0!"},{"$error":"#DIV/0!"},{"$f":"+(aem2csp2!D46+(aem2csp2!E46*10))*(10^((65-aem2csp2!$A$14)/10))","v":0},0,{"$error":"#DIV/0!"},{"$error":"#DIV/0!"},{"$error":"#DIV/0!"},{"$error":"#DIV/0!"},{"$f":"+(aem2csp2!D46+(aem2csp2!E46*10))*(10^((65-aem2csp2!$A$15)/10))","v":0},0,{"$error":"#DIV/0!"},{"$error":"#DIV/0!"},{"$error":"#DIV/0!"},{"$error":"#DIV/0!"},{"$f":"+(aem2csp2!D46+(aem2csp2!E46*10))*(10^((65-aem2csp2!$A$16)/10))","v":0},0,{"$error":"#DIV/0!"},{"$error":"#DIV/0!"},{"$error":"#DIV/0!"},{"$error":"#DIV/0!"}]
[null,null,null,null,"727EM1 ",9.3815533174471305E-2,0.69249387073808299,{"$f":"+(aem2csp2!B47+(aem2csp2!C47*10))*(10^((65-aem2csp2!$A$11)/10))","v":0},0,{"$error":"#DIV/0!"},{"$error":"#DIV/0!"},{"$error":"#DIV/0!"},{"$error":"#DIV/0!"},{"$f":"+(aem2csp2!B47+(aem2csp2!C47*10))*(10^((65-aem2csp2!$A$12)/10))","v":0},0,{"$error":"#DIV/0!"},{"$error":"#DIV/0!"},{"$error":"#DIV/0!"},{"$error":"#DIV/0!"},{"$f":"+(aem2csp2!B47+(aem2csp2!C47*10))*(10^((65-aem2csp2!$A$13)/10))","v":0},0,{"$error":"#DIV/0!"},{"$error":"#DIV/0!"},{"$error":"#DIV/0!"},{"$error":"#DIV/0!"},{"$f":"+(aem2csp2!B47+(aem2csp2!C47*10))*(10^((65-aem2csp2!$A$14)/10))","v":0},0,{"$error":"#DIV/0!"},{"$error":"#DIV/0!"},{"$error":"#DIV/0!"},{"$error":"#DIV/0!"},{"$f":"+(aem2csp2!B47+(aem2csp2!C47*10))*(10^((65-aem2csp2!$A$15)/10))","v":0},0,{"$error":"#DIV/0!"},{"$error":"#DIV/0!"},{"$error":"#DIV/0!"},{"$error":"#DIV/0!"},{"$f":"+(aem2csp2!B47+(aem2csp2!C47*10))*(10^((65-aem2csp2!$A$16)/10))","v":0},0,{"$error":"#DIV/0!"},{"$error":"#DIV/0!"},{"$error":"#DIV/0!"},{"$error":"#DIV/0!"},18,{"$f":"+(aem2csp2!D47+(aem2csp2!E47*10))*(10^((65-aem2csp2!$A$11)/10))","v":0},0,{"$error":"#DIV/0!"},{"$error":"#DIV/0!"},{"$error":"#DIV/0!"},{"$error":"#DIV/0!"},{"$f":"+(aem2csp2!D47+(aem2csp2!E47*10))*(10^((65-aem2csp2!$A$12)/10))","v":0},0,{"$error":"#DIV/0!"},{"$error":"#DIV/0!"},{"$error":"#DIV/0!"},{"$error":"#DIV/0!"},{"$f":"+(aem2csp2!D47+(aem2csp2!E47*10))*(10^((65-aem2csp2!$A$13)/10))","v":0},0,{"$error":"#DIV/0!"},{"$error":"#DIV/0!"},{"$error":"#DIV/0!"},{"$error":"#DIV/0!"},{"$f":"+(aem2csp2!D47+(aem2csp2!E47*10))*(10^((65-aem2csp2!$A$14)/10))","v":0},0,{"$error":"#DIV/0!"},{"$error":"#DIV/0!"},{"$error":"#DIV/0!"},{"$error":"#DIV/0!"},{"$f":"+(aem2csp2!D47+(aem2csp2!E47*10))*(10^((65-aem2csp2!$A$15)/10))","v":0},0,{"$error":"#DIV/0!"},{"$error":"#DIV/0!"},{"$error":"#DIV/0!"},{"$error":"#DIV/0!"},{"$f":"+(aem2csp2!D47+(aem2csp2!E47*10))*(10^((65-aem2csp2!$A$16)/10))","v":0},0,{"$error":"#DIV/0!"},{"$error":"#DIV/0!"},{"$error":"#DIV/0!"},{"$error":"#DIV/0!"}]
[null,null,null,null,"727EM2 ",0.15543364479132599,0.67029504005051099,{"$f":"+(aem2csp2!B48+(aem2csp2!C48*10))*(10^((65-aem2csp2!$A$11)/10))","v":0},0,{"$error":"#DIV/0!"},{"$error":"#DIV/0!"},{"$error":"#DIV/0!"},{"$error":"#DIV/0!"},{"$f":"+(aem2csp2!B48+(aem2csp2!C48*10))*(10^((65-aem2csp2!$A$12)/10))","v":0},0,{"$error":"#DIV/0!"},{"$error":"#DIV/0!"},{"$error":"#DIV/0!"},{"$error":"#DIV/0!"},{"$f":"+(aem2csp2!B48+(aem2csp2!C48*10))*(10^((65-aem2csp2!$A$13)/10))","v":0},0,{"$error":"#DIV/0!"},{"$error":"#DIV/0!"},{"$error":"#DIV/0!"},{"$error":"#DIV/0!"},{"$f":"+(aem2csp2!B48+(aem2csp2!C48*10))*(10^((65-aem2csp2!$A$14)/10))","v":0},0,{"$error":"#DIV/0!"},{"$error":"#DIV/0!"},{"$error":"#DIV/0!"},{"$error":"#DIV/0!"},{"$f":"+(aem2csp2!B48+(aem2csp2!C48*10))*(10^((65-aem2csp2!$A$15)/10))","v":0},0,{"$error":"#DIV/0!"},{"$error":"#DIV/0!"},{"$error":"#DIV/0!"},{"$error":"#DIV/0!"},{"$f":"+(aem2csp2!B48+(aem2csp2!C48*10))*(10^((65-aem2csp2!$A$16)/10))","v":0},0,{"$error":"#DIV/0!"},{"$error":"#DIV/0!"},{"$error":"#DIV/0!"},{"$error":"#DIV/0!"},19,{"$f":"+(aem2csp2!D48+(aem2csp2!E48*10))*(10^((65-aem2csp2!$A$11)/10))","v":0},0,{"$error":"#DIV/0!"},{"$error":"#DIV/0!"},{"$error":"#DIV/0!"},{"$error":"#DIV/0!"},{"$f":"+(aem2csp2!D48+(aem2csp2!E48*10))*(10^((65-aem2csp2!$A$12)/10))","v":0},0,{"$error":"#DIV/0!"},{"$error":"#DIV/0!"},{"$error":"#DIV/0!"},{"$error":"#DIV/0!"},{"$f":"+(aem2csp2!D48+(aem2csp2!E48*10))*(10^((65-aem2csp2!$A$13)/10))","v":0},0,{"$error":"#DIV/0!"},{"$error":"#DIV/0!"},{"$error":"#DIV/0!"},{"$error":"#DIV/0!"},{"$f":"+(aem2csp2!D48+(aem2csp2!E48*10))*(10^((65-aem2csp2!$A$14)/10))","v":0},0,{"$error":"#DIV/0!"},{"$error":"#DIV/0!"},{"$error":"#DIV/0!"},{"$error":"#DIV/0!"},{"$f":"+(aem2csp2!D48+(aem2csp2!E48*10))*(10^((65-aem2csp2!$A$15)/10))","v":0},0,{"$error":"#DIV/0!"},{"$error":"#DIV/0!"},{"$error":"#DIV/0!"},{"$error":"#DIV/0!"},{"$f":"+(aem2csp2!D48+(aem2csp2!E48*10))*(10^((65-aem2csp2!$A$16)/10))","v":0},0,{"$error":"#DIV/0!"},{"$error":"#DIV/0!"},{"$error":"#DIV/0!"},{"$error":"#DIV/0!"}]
[null,null,null,null,"727Q15 ",0.43361392035720597,0.65953092127753898,{"$f":"+(aem2csp2!B49+(aem2csp2!C49*10))*(10^((65-aem2csp2!$A$11)/10))","v":0},0,{"$error":"#DIV/0!"},{"$error":"#DIV/0!"},{"$error":"#DIV/0!"},{"$error":"#DIV/0!"},{"$f":"+(aem2csp2!B49+(aem2csp2!C49*10))*(10^((65-aem2csp2!$A$12)/10))","v":0},0,{"$error":"#DIV/0!"},{"$error":"#DIV/0!"},{"$error":"#DIV/0!"},{"$error":"#DIV/0!"},{"$f":"+(aem2csp2!B49+(aem2csp2!C49*10))*(10^((65-aem2csp2!$A$13)/10))","v":0},0,{"$error":"#DIV/0!"},{"$error":"#DIV/0!"},{"$error":"#DIV/0!"},{"$error":"#DIV/0!"},{"$f":"+(aem2csp2!B49+(aem2csp2!C49*10))*(10^((65-aem2csp2!$A$14)/10))","v":0},0,{"$error":"#DIV/0!"},{"$error":"#DIV/0!"},{"$error":"#DIV/0!"},{"$error":"#DIV/0!"},{"$f":"+(aem2csp2!B49+(aem2csp2!C49*10))*(10^((65-aem2csp2!$A$15)/10))","v":0},0,{"$error":"#DIV/0!"},{"$error":"#DIV/0!"},{"$error":"#DIV/0!"},{"$error":"#DIV/0!"},{"$f":"+(aem2csp2!B49+(aem2csp2!C49*10))*(10^((65-aem2csp2!$A$16)/10))","v":0},0,{"$error":"#DIV/0!"},{"$error":"#DIV/0!"},{"$error":"#DIV/0!"},{"$error":"#DIV/0!"},20,{"$f":"+(aem2csp2!D49+(aem2csp2!E49*10))*(10^((65-aem2csp2!$A$11)/10))","v":0},0,{"$error":"#DIV/0!"},{"$error":"#DIV/0!"},{"$error":"#DIV/0!"},{"$error":"#DIV/0!"},{"$f":"+(aem2csp2!D49+(aem2csp2!E49*10))*(10^((65-aem2csp2!$A$12)/10))","v":0},0,{"$error":"#DIV/0!"},{"$error":"#DIV/0!"},{"$error":"#DIV/0!"},{"$error":"#DIV/0!"},{"$f":"+(aem2csp2!D49+(aem2csp2!E49*10))*(10^((65-aem2csp2!$A$13)/10))","v":0},0,{"$error":"#DIV/0!"},{"$error":"#DIV/0!"},{"$error":"#DIV/0!"},{"$error":"#DIV/0!"},{"$f":"+(aem2csp2!D49+(aem2csp2!E49*10))*(10^((65-aem2csp2!$A$14)/10))","v":0},0,{"$error":"#DIV/0!"},{"$error":"#DIV/0!"},{"$error":"#DIV/0!"},{"$error":"#DIV/0!"},{"$f":"+(aem2csp2!D49+(aem2csp2!E49*10))*(10^((65-aem2csp2!$A$15)/10))","v":0},0,{"$error":"#DIV/0!"},{"$error":"#DIV/0!"},{"$error":"#DIV/0!"},{"$error":"#DIV/0!"},{"$f":"+(aem2csp2!D49+(aem2csp2!E49*10))*(10^((65-aem2csp2!$A$16)/10))","v":0},0,{"$error":"#DIV/0!"},{"$error":"#DIV/0!"},{"$error":"#DIV/0!"},{"$error":"#DIV/0!"}]
[null,null,null,null,"727Q7 ",0.16469578076822999,0.71289402548835801,{"$f":"+(aem2csp2!B50+(aem2csp2!C50*10))*(10^((65-aem2csp2!$A$11)/10))","v":0},0,{"$error":"#DIV/0!"},{"$error":"#DIV/0!"},{"$error":"#DIV/0!"},{"$error":"#DIV/0!"},{"$f":"+(aem2csp2!B50+(aem2csp2!C50*10))*(10^((65-aem2csp2!$A$12)/10))","v":0},0,{"$error":"#DIV/0!"},{"$error":"#DIV/0!"},{"$error":"#DIV/0!"},{"$error":"#DIV/0!"},{"$f":"+(aem2csp2!B50+(aem2csp2!C50*10))*(10^((65-aem2csp2!$A$13)/10))","v":0},0,{"$error":"#DIV/0!"},{"$error":"#DIV/0!"},{"$error":"#DIV/0!"},{"$error":"#DIV/0!"},{"$f":"+(aem2csp2!B50+(aem2csp2!C50*10))*(10^((65-aem2csp2!$A$14)/10))","v":0},0,{"$error":"#DIV/0!"},{"$error":"#DIV/0!"},{"$error":"#DIV/0!"},{"$error":"#DIV/0!"},{"$f":"+(aem2csp2!B50+(aem2csp2!C50*10))*(10^((65-aem2csp2!$A$15)/10))","v":0},0,{"$error":"#DIV/0!"},{"$error":"#DIV/0!"},{"$error":"#DIV/0!"},{"$error":"#DIV/0!"},{"$f":"+(aem2csp2!B50+(aem2csp2!C50*10))*(10^((65-aem2csp2!$A$16)/10))","v":0},0,{"$error":"#DIV/0!"},{"$error":"#DIV/0!"},{"$error":"#DIV/0!"},{"$error":"#DIV/0!"},21,{"$f":"+(aem2csp2!D50+(aem2csp2!E50*10))*(10^((65-aem2csp2!$A$11)/10))","v":0},0,{"$error":"#DIV/0!"},{"$error":"#DIV/0!"},{"$error":"#DIV/0!"},{"$error":"#DIV/0!"},{"$f":"+(aem2csp2!D50+(aem2csp2!E50*10))*(10^((65-aem2csp2!$A$12)/10))","v":0},0,{"$error":"#DIV/0!"},{"$error":"#DIV/0!"},{"$error":"#DIV/0!"},{"$error":"#DIV/0!"},{"$f":"+(aem2csp2!D50+(aem2csp2!E50*10))*(10^((65-aem2csp2!$A$13)/10))","v":0},0,{"$error":"#DIV/0!"},{"$error":"#DIV/0!"},{"$error":"#DIV/0!"},{"$error":"#DIV/0!"},{"$f":"+(aem2csp2!D50+(aem2csp2!E50*10))*(10^((65-aem2csp2!$A$14)/10))","v":0},0,{"$error":"#DIV/0!"},{"$error":"#DIV/0!"},{"$error":"#DIV/0!"},{"$error":"#DIV/0!"},{"$f":"+(aem2csp2!D50+(aem2csp2!E50*10))*(10^((65-aem2csp2!$A$15)/10))","v":0},0,{"$error":"#DIV/0!"},{"$error":"#DIV/0!"},{"$error":"#DIV/0!"},{"$error":"#DIV/0!"},{"$f":"+(aem2csp2!D50+(aem2csp2!E50*10))*(10^((65-aem2csp2!$A$16)/10))","v":0},0,{"$error":"#DIV/0!"},{"$error":"#DIV/0!"},{"$error":"#DIV/0!"},{"$error":"#DIV/0!"}]
[null,null,null,null,"727Q9 ",0.23807583469993199,0.69565587081726799,{"$f":"+(aem2csp2!B51+(aem2csp2!C51*10))*(10^((65-aem2csp2!$A$11)/10))","v":0},0,{"$error":"#DIV/0!"},{"$error":"#DIV/0!"},{"$error":"#DIV/0!"},{"$error":"#DIV/0!"},{"$f":"+(aem2csp2!B51+(aem2csp2!C51*10))*(10^((65-aem2csp2!$A$12)/10))","v":0},0,{"$error":"#DIV/0!"},{"$error":"#DIV/0!"},{"$error":"#DIV/0!"},{"$error":"#DIV/0!"},{"$f":"+(aem2csp2!B51+(aem2csp2!C51*10))*(10^((65-aem2csp2!$A$13)/10))","v":0},0,{"$error":"#DIV/0!"},{"$error":"#DIV/0!"},{"$error":"#DIV/0!"},{"$error":"#DIV/0!"},{"$f":"+(aem2csp2!B51+(aem2csp2!C51*10))*(10^((65-aem2csp2!$A$14)/10))","v":0},0,{"$error":"#DIV/0!"},{"$error":"#DIV/0!"},{"$error":"#DIV/0!"},{"$error":"#DIV/0!"},{"$f":"+(aem2csp2!B51+(aem2csp2!C51*10))*(10^((65-aem2csp2!$A$15)/10))","v":0},0,{"$error":"#DIV/0!"},{"$error":"#DIV/0!"},{"$error":"#DIV/0!"},{"$error":"#DIV/0!"},{"$f":"+(aem2csp2!B51+(aem2csp2!C51*10))*(10^((65-aem2csp2!$A$16)/10))","v":0},0,{"$error":"#DIV/0!"},{"$error":"#DIV/0!"},{"$error":"#DIV/0!"},{"$error":"#DIV/0!"},22,{"$f":"+(aem2csp2!D51+(aem2csp2!E51*10))*(10^((65-aem2csp2!$A$11)/10))","v":0},0,{"$error":"#DIV/0!"},{"$error":"#DIV/0!"},{"$error":"#DIV/0!"},{"$error":"#DIV/0!"},{"$f":"+(aem2csp2!D51+(aem2csp2!E51*10))*(10^((65-aem2csp2!$A$12)/10))","v":0},0,{"$error":"#DIV/0!"},{"$error":"#DIV/0!"},{"$error":"#DIV/0!"},{"$error":"#DIV/0!"},{"$f":"+(aem2csp2!D51+(aem2csp2!E51*10))*(10^((65-aem2csp2!$A$13)/10))","v":0},0,{"$error":"#DIV/0!"},{"$error":"#DIV/0!"},{"$error":"#DIV/0!"},{"$error":"#DIV/0!"},{"$f":"+(aem2csp2!D51+(aem2csp2!E51*10))*(10^((65-aem2csp2!$A$14)/10))","v":0},0,{"$error":"#DIV/0!"},{"$error":"#DIV/0!"},{"$error":"#DIV/0!"},{"$error":"#DIV/0!"},{"$f":"+(aem2csp2!D51+(aem2csp2!E51*10))*(10^((65-aem2csp2!$A$15)/10))","v":0},0,{"$error":"#DIV/0!"},{"$error":"#DIV/0!"},{"$error":"#DIV/0!"},{"$error":"#DIV/0!"},{"$f":"+(aem2csp2!D51+(aem2csp2!E51*10))*(10^((65-aem2csp2!$A$16)/10))","v":0},0,{"$error":"#DIV/0!"},{"$error":"#DIV/0!"},{"$error":"#DIV/0!"},{"$error":"#DIV/0!"}]
[null,null,null,null,"727QF ",4.5587521455796802E-2,0.69968246765781505,{"$f":"+(aem2csp2!B52+(aem2csp2!C52*10))*(10^((65-aem2csp2!$A$11)/10))","v":0},0,{"$error":"#DIV/0!"},{"$error":"#DIV/0!"},{"$error":"#DIV/0!"},{"$error":"#DIV/0!"},{"$f":"+(aem2csp2!B52+(aem2csp2!C52*10))*(10^((65-aem2csp2!$A$12)/10))","v":0},0,{"$error":"#DIV/0!"},{"$error":"#DIV/0!"},{"$error":"#DIV/0!"},{"$error":"#DIV/0!"},{"$f":"+(aem2csp2!B52+(aem2csp2!C52*10))*(10^((65-aem2csp2!$A$13)/10))","v":0},0,{"$error":"#DIV/0!"},{"$error":"#DIV/0!"},{"$error":"#DIV/0!"},{"$error":"#DIV/0!"},{"$f":"+(aem2csp2!B52+(aem2csp2!C52*10))*(10^((65-aem2csp2!$A$14)/10))","v":0},0,{"$error":"#DIV/0!"},{"$error":"#DIV/0!"},{"$error":"#DIV/0!"},{"$error":"#DIV/0!"},{"$f":"+(aem2csp2!B52+(aem2csp2!C52*10))*(10^((65-aem2csp2!$A$15)/10))","v":0},0,{"$error":"#DIV/0!"},{"$error":"#DIV/0!"},{"$error":"#DIV/0!"},{"$error":"#DIV/0!"},{"$f":"+(aem2csp2!B52+(aem2csp2!C52*10))*(10^((65-aem2csp2!$A$16)/10))","v":0},0,{"$error":"#DIV/0!"},{"$error":"#DIV/0!"},{"$error":"#DIV/0!"},{"$error":"#DIV/0!"},23,{"$f":"+(aem2csp2!D52+(aem2csp2!E52*10))*(10^((65-aem2csp2!$A$11)/10))","v":0},0,{"$error":"#DIV/0!"},{"$error":"#DIV/0!"},{"$error":"#DIV/0!"},{"$error":"#DIV/0!"},{"$f":"+(aem2csp2!D52+(aem2csp2!E52*10))*(10^((65-aem2csp2!$A$12)/10))","v":0},0,{"$error":"#DIV/0!"},{"$error":"#DIV/0!"},{"$error":"#DIV/0!"},{"$error":"#DIV/0!"},{"$f":"+(aem2csp2!D52+(aem2csp2!E52*10))*(10^((65-aem2csp2!$A$13)/10))","v":0},0,{"$error":"#DIV/0!"},{"$error":"#DIV/0!"},{"$error":"#DIV/0!"},{"$error":"#DIV/0!"},{"$f":"+(aem2csp2!D52+(aem2csp2!E52*10))*(10^((65-aem2csp2!$A$14)/10))","v":0},0,{"$error":"#DIV/0!"},{"$error":"#DIV/0!"},{"$error":"#DIV/0!"},{"$error":"#DIV/0!"},{"$f":"+(aem2csp2!D52+(aem2csp2!E52*10))*(10^((65-aem2csp2!$A$15)/10))","v":0},0,{"$error":"#DIV/0!"},{"$error":"#DIV/0!"},{"$error":"#DIV/0!"},{"$error":"#DIV/0!"},{"$f":"+(aem2csp2!D52+(aem2csp2!E52*10))*(10^((65-aem2csp2!$A$16)/10))","v":0},0,{"$error":"#DIV/0!"},{"$error":"#DIV/0!"},{"$error":"#DIV/0!"},{"$error":"#DIV/0!"}]
[null,null,null,null,"7373B2 ",1.02342841333985E-2,0.85317108556639298,{"$f":"+(aem2csp2!B53+(aem2csp2!C53*10))*(10^((65-aem2csp2!$A$11)/10))","v":0},0,{"$error":"#DIV/0!"},{"$error":"#DIV/0!"},{"$error":"#DIV/0!"},{"$error":"#DIV/0!"},{"$f":"+(aem2csp2!B53+(aem2csp2!C53*10))*(10^((65-aem2csp2!$A$12)/10))","v":0},0,{"$error":"#DIV/0!"},{"$error":"#DIV/0!"},{"$error":"#DIV/0!"},{"$error":"#DIV/0!"},{"$f":"+(aem2csp2!B53+(aem2csp2!C53*10))*(10^((65-aem2csp2!$A$13)/10))","v":0},0,{"$error":"#DIV/0!"},{"$error":"#DIV/0!"},{"$error":"#DIV/0!"},{"$error":"#DIV/0!"},{"$f":"+(aem2csp2!B53+(aem2csp2!C53*10))*(10^((65-aem2csp2!$A$14)/10))","v":0},0,{"$error":"#DIV/0!"},{"$error":"#DIV/0!"},{"$error":"#DIV/0!"},{"$error":"#DIV/0!"},{"$f":"+(aem2csp2!B53+(aem2csp2!C53*10))*(10^((65-aem2csp2!$A$15)/10))","v":0},0,{"$error":"#DIV/0!"},{"$error":"#DIV/0!"},{"$error":"#DIV/0!"},{"$error":"#DIV/0!"},{"$f":"+(aem2csp2!B53+(aem2csp2!C53*10))*(10^((65-aem2csp2!$A$16)/10))","v":0},0,{"$error":"#DIV/0!"},{"$error":"#DIV/0!"},{"$error":"#DIV/0!"},{"$error":"#DIV/0!"},24,{"$f":"+(aem2csp2!D53+(aem2csp2!E53*10))*(10^((65-aem2csp2!$A$11)/10))","v":0},0,{"$error":"#DIV/0!"},{"$error":"#DIV/0!"},{"$error":"#DIV/0!"},{"$error":"#DIV/0!"},{"$f":"+(aem2csp2!D53+(aem2csp2!E53*10))*(10^((65-aem2csp2!$A$12)/10))","v":0},0,{"$error":"#DIV/0!"},{"$error":"#DIV/0!"},{"$error":"#DIV/0!"},{"$error":"#DIV/0!"},{"$f":"+(aem2csp2!D53+(aem2csp2!E53*10))*(10^((65-aem2csp2!$A$13)/10))","v":0},0,{"$error":"#DIV/0!"},{"$error":"#DIV/0!"},{"$error":"#DIV/0!"},{"$error":"#DIV/0!"},{"$f":"+(aem2csp2!D53+(aem2csp2!E53*10))*(10^((65-aem2csp2!$A$14)/10))","v":0},0,{"$error":"#DIV/0!"},{"$error":"#DIV/0!"},{"$error":"#DIV/0!"},{"$error":"#DIV/0!"},{"$f":"+(aem2csp2!D53+(aem2csp2!E53*10))*(10^((65-aem2csp2!$A$15)/10))","v":0},0,{"$error":"#DIV/0!"},{"$error":"#DIV/0!"},{"$error":"#DIV/0!"},{"$error":"#DIV/0!"},{"$f":"+(aem2csp2!D53+(aem2csp2!E53*10))*(10^((65-aem2csp2!$A$16)/10))","v":0},0,{"$error":"#DIV/0!"},{"$error":"#DIV/0!"},{"$error":"#DIV/0!"},{"$error":"#DIV/0!"}]
[null,null,null,null,"737D17 ",0.34110656040071302,0.62855566954805697,{"$f":"+(aem2csp2!B54+(aem2csp2!C54*10))*(10^((65-aem2csp2!$A$11)/10))","v":0},0,{"$error":"#DIV/0!"},{"$error":"#DIV/0!"},{"$error":"#DIV/0!"},{"$error":"#DIV/0!"},{"$f":"+(aem2csp2!B54+(aem2csp2!C54*10))*(10^((65-aem2csp2!$A$12)/10))","v":0},0,{"$error":"#DIV/0!"},{"$error":"#DIV/0!"},{"$error":"#DIV/0!"},{"$error":"#DIV/0!"},{"$f":"+(aem2csp2!B54+(aem2csp2!C54*10))*(10^((65-aem2csp2!$A$13)/10))","v":0},0,{"$error":"#DIV/0!"},{"$error":"#DIV/0!"},{"$error":"#DIV/0!"},{"$error":"#DIV/0!"},{"$f":"+(aem2csp2!B54+(aem2csp2!C54*10))*(10^((65-aem2csp2!$A$14)/10))","v":0},0,{"$error":"#DIV/0!"},{"$error":"#DIV/0!"},{"$error":"#DIV/0!"},{"$error":"#DIV/0!"},{"$f":"+(aem2csp2!B54+(aem2csp2!C54*10))*(10^((65-aem2csp2!$A$15)/10))","v":0},0,{"$error":"#DIV/0!"},{"$error":"#DIV/0!"},{"$error":"#DIV/0!"},{"$error":"#DIV/0!"},{"$f":"+(aem2csp2!B54+(aem2csp2!C54*10))*(10^((65-aem2csp2!$A$16)/10))","v":0},0,{"$error":"#DIV/0!"},{"$error":"#DIV/0!"},{"$error":"#DIV/0!"},{"$error":"#DIV/0!"},25,{"$f":"+(aem2csp2!D54+(aem2csp2!E54*10))*(10^((65-aem2csp2!$A$11)/10))","v":0},0,{"$error":"#DIV/0!"},{"$error":"#DIV/0!"},{"$error":"#DIV/0!"},{"$error":"#DIV/0!"},{"$f":"+(aem2csp2!D54+(aem2csp2!E54*10))*(10^((65-aem2csp2!$A$12)/10))","v":0},0,{"$error":"#DIV/0!"},{"$error":"#DIV/0!"},{"$error":"#DIV/0!"},{"$error":"#DIV/0!"},{"$f":"+(aem2csp2!D54+(aem2csp2!E54*10))*(10^((65-aem2csp2!$A$13)/10))","v":0},0,{"$error":"#DIV/0!"},{"$error":"#DIV/0!"},{"$error":"#DIV/0!"},{"$error":"#DIV/0!"},{"$f":"+(aem2csp2!D54+(aem2csp2!E54*10))*(10^((65-aem2csp2!$A$14)/10))","v":0},0,{"$error":"#DIV/0!"},{"$error":"#DIV/0!"},{"$error":"#DIV/0!"},{"$error":"#DIV/0!"},{"$f":"+(aem2csp2!D54+(aem2csp2!E54*10))*(10^((65-aem2csp2!$A$15)/10))","v":0},0,{"$error":"#DIV/0!"},{"$error":"#DIV/0!"},{"$error":"#DIV/0!"},{"$error":"#DIV/0!"},{"$f":"+(aem2csp2!D54+(aem2csp2!E54*10))*(10^((65-aem2csp2!$A$16)/10))","v":0},0,{"$error":"#DIV/0!"},{"$error":"#DIV/0!"},{"$error":"#DIV/0!"},{"$error":"#DIV/0!"}]
[null,null,null,null,"737N17 ",9.2621145384965006E-2,0.69255180049367904,{"$f":"+(aem2csp2!B55+(aem2csp2!C55*10))*(10^((65-aem2csp2!$A$11)/10))","v":0},{"$f":"+F55*(H55^G55)","v":0},{"$f":"+(I55/$I$267)^(1/G55)","v":{"$error":"#DIV/0!"}},{"$f":"+J55/G55","v":{"$error":"#DIV/0!"}},{"$f":"+($L$269/F55)^(1/G55)","v":{"$error":"#DIV/0!"}},{"$f":"+H55/L55","v":{"$error":"#DIV/0!"}},{"$f":"+(aem2csp2!B55+(aem2csp2!C55*10))*(10^((65-aem2csp2!$A$12)/10))","v":0},{"$f":"+F55*(N55^G55)","v":0},{"$f":"+(O55/$O$267)^(1/G55)","v":{"$error":"#DIV/0!"}},{"$f":"+P55/G55","v":{"$error":"#DIV/0!"}},{"$f":"+($R$269/F55)^(1/G55)","v":{"$error":"#DIV/0!"}},{"$f":"+N55/R55","v":{"$error":"#DIV/0!"}},{"$f":"+(aem2csp2!B55+(aem2csp2!C55*10))*(10^((65-aem2csp2!$A$13)/10))","v":0},{"$f":"+F55*(T55^G55)","v":0},{"$f":"+(U55/$U$267)^(1/G55)","v":{"$error":"#DIV/0!"}},{"$f":"+V55/G55","v":{"$error":"#DIV/0!"}},{"$f":"+($X$269/F55)^(1/G55)","v":{"$error":"#DIV/0!"}},{"$f":"+T55/X55","v":{"$error":"#DIV/0!"}},{"$f":"+(aem2csp2!B55+(aem2csp2!C55*10))*(10^((65-aem2csp2!$A$14)/10))","v":0},{"$f":"+F55*(Z55^G55)","v":0},{"$f":"+(AA55/$AA$267)^(1/G55)","v":{"$error":"#DIV/0!"}},{"$f":"+AB55/G55","v":{"$error":"#DIV/0!"}},{"$f":"+($AD$269/F55)^(1/G55)","v":{"$error":"#DIV/0!"}},{"$f":"+Z55/AD55","v":{"$error":"#DIV/0!"}},{"$f":"+(aem2csp2!B55+(aem2csp2!C55*10))*(10^((65-aem2csp2!$A$15)/10))","v":0},{"$f":"+F55*(AF55^G55)","v":0},{"$f":"+(AG55/$AG$267)^(1/G55)","v":{"$error":"#DIV/0!"}},{"$f":"+AH55/G55","v":{"$error":"#DIV/0!"}},{"$f":"+($AJ$269/F55)^(1/G55)","v":{"$error":"#DIV/0!"}},{"$f":"+AF55/AJ55","v":{"$error":"#DIV/0!"}},{"$f":"+(aem2csp2!B55+(aem2csp2!C55*10))*(10^((65-aem2csp2!$A$16)/10))","v":0},{"$f":"+F55*(AL55^G55)","v":0},{"$f":"+(AM55/$AM$267)^(1/G55)","v":{"$error":"#DIV/0!"}},{"$f":"+AN55/G55","v":{"$error":"#DIV/0!"}},{"$f":"+($AP$269/F55)^(1/G55)","v":{"$error":"#DIV/0!"}},{"$f":"+AL55/AP55","v":{"$error":"#DIV/0!"}},237,{"$f":"+(aem2csp2!D55+(aem2csp2!E55*10))*(10^((65-aem2csp2!$A$11)/10))","v":0},{"$f":"+F55*(AS55^G55)","v":0},{"$f":"+(AT55/$AT$267)^(1/G55)","v":{"$error":"#DIV/0!"}},{"$f":"+AU55/G55","v":{"$error":"#DIV/0!"}},{"$f":"+($AW$269/F55)^(1/G55)","v":{"$error":"#DIV/0!"}},{"$f":"+AS55/AW55","v":{"$error":"#DIV/0!"}},{"$f":"+(aem2csp2!D55+(aem2csp2!E55*10))*(10^((65-aem2csp2!$A$12)/10))","v":0},{"$f":"+F55*(AY55^G55)","v":0},{"$f":"+(AZ55/$AZ$267)^(1/G55)","v":{"$error":"#DIV/0!"}},{"$f":"+BA55/G55","v":{"$error":"#DIV/0!"}},{"$f":"+($BC$269/F55)^(1/G55)","v":{"$error":"#DIV/0!"}},{"$f":"+AY55/BC55","v":{"$error":"#DIV/0!"}},{"$f":"+(aem2csp2!D55+(aem2csp2!E55*10))*(10^((65-aem2csp2!$A$13)/10))","v":0},{"$f":"+F55*(BE55^G55)","v":0},{"$f":"+(BF55/$BF$267)^(1/G55)","v":{"$error":"#DIV/0!"}},{"$f":"+BG55/G55","v":{"$error":"#DIV/0!"}},{"$f":"+($BI$269/F55)^(1/G55)","v":{"$error":"#DIV/0!"}},{"$f":"+BE55/BI55","v":{"$error":"#DIV/0!"}},{"$f":"+(aem2csp2!D55+(aem2csp2!E55*10))*(10^((65-aem2csp2!$A$14)/10))","v":0},{"$f":"+F55*(BK55^G55)","v":0},{"$f":"+(BL55/$BL$267)^(1/G55)","v":{"$error":"#DIV/0!"}},{"$f":"+BM55/G55","v":{"$error":"#DIV/0!"}},{"$f":"+($BO$269/F55)^(1/G55)","v":{"$error":"#DIV/0!"}},{"$f":"+BK55/BO55","v":{"$error":"#DIV/0!"}},{"$f":"+(aem2csp2!D55+(aem2csp2!E55*10))*(10^((65-aem2csp2!$A$15)/10))","v":0},{"$f":"+F55*(BQ55^G55)","v":0},{"$f":"+(BR55/$BR$267)^(1/G55)","v":{"$error":"#DIV/0!"}},{"$f":"+BS55/G55","v":{"$error":"#DIV/0!"}},{"$f":"+($BU$269/F55)^(1/G55)","v":{"$error":"#DIV/0!"}},{"$f":"+BQ55/BU55","v":{"$error":"#DIV/0!"}},{"$f":"+(aem2csp2!D55+(aem2csp2!E55*10))*(10^((65-aem2csp2!$A$16)/10))","v":0},{"$f":"+F55*(BW55^G55)","v":0},{"$f":"+(BX55/$BX$267)^(1/G55)","v":{"$error":"#DIV/0!"}},{"$f":"+BY55/G55","v":{"$error":"#DIV/0!"}},{"$f":"+($CA$269/F55)^(1/G55)","v":{"$error":"#DIV/0!"}},{"$f":"+BW55/CA55","v":{"$error":"#DIV/0!"}}]
[null,null,null,null,"737N9 ",5.19992248587169E-2,0.74115433088650295,{"$f":"+(aem2csp2!B56+(aem2csp2!C56*10))*(10^((65-aem2csp2!$A$11)/10))","v":0},0,{"$error":"#DIV/0!"},{"$error":"#DIV/0!"},{"$error":"#DIV/0!"},{"$error":"#DIV/0!"},{"$f":"+(aem2csp2!B56+(aem2csp2!C56*10))*(10^((65-aem2csp2!$A$12)/10))","v":0},0,{"$error":"#DIV/0!"},{"$error":"#DIV/0!"},{"$error":"#DIV/0!"},{"$error":"#DIV/0!"},{"$f":"+(aem2csp2!B56+(aem2csp2!C56*10))*(10^((65-aem2csp2!$A$13)/10))","v":0},0,{"$error":"#DIV/0!"},{"$error":"#DIV/0!"},{"$error":"#DIV/0!"},{"$error":"#DIV/0!"},{"$f":"+(aem2csp2!B56+(aem2csp2!C56*10))*(10^((65-aem2csp2!$A$14)/10))","v":0},0,{"$error":"#DIV/0!"},{"$error":"#DIV/0!"},{"$error":"#DIV/0!"},{"$error":"#DIV/0!"},{"$f":"+(aem2csp2!B56+(aem2csp2!C56*10))*(10^((65-aem2csp2!$A$15)/10))","v":0},0,{"$error":"#DIV/0!"},{"$error":"#DIV/0!"},{"$error":"#DIV/0!"},{"$error":"#DIV/0!"},{"$f":"+(aem2csp2!B56+(aem2csp2!C56*10))*(10^((65-aem2csp2!$A$16)/10))","v":0},0,{"$error":"#DIV/0!"},{"$error":"#DIV/0!"},{"$error":"#DIV/0!"},{"$error":"#DIV/0!"},26,{"$f":"+(aem2csp2!D56+(aem2csp2!E56*10))*(10^((65-aem2csp2!$A$11)/10))","v":0},0,{"$error":"#DIV/0!"},{"$error":"#DIV/0!"},{"$error":"#DIV/0!"},{"$error":"#DIV/0!"},{"$f":"+(aem2csp2!D56+(aem2csp2!E56*10))*(10^((65-aem2csp2!$A$12)/10))","v":0},0,{"$error":"#DIV/0!"},{"$error":"#DIV/0!"},{"$error":"#DIV/0!"},{"$error":"#DIV/0!"},{"$f":"+(aem2csp2!D56+(aem2csp2!E56*10))*(10^((65-aem2csp2!$A$13)/10))","v":0},0,{"$error":"#DIV/0!"},{"$error":"#DIV/0!"},{"$error":"#DIV/0!"},{"$error":"#DIV/0!"},{"$f":"+(aem2csp2!D56+(aem2csp2!E56*10))*(10^((65-aem2csp2!$A$14)/10))","v":0},0,{"$error":"#DIV/0!"},{"$error":"#DIV/0!"},{"$error":"#DIV/0!"},{"$error":"#DIV/0!"},{"$f":"+(aem2csp2!D56+(aem2csp2!E56*10))*(10^((65-aem2csp2!$A$15)/10))","v":0},0,{"$error":"#DIV/0!"},{"$error":"#DIV/0!"},{"$error":"#DIV/0!"},{"$error":"#DIV/0!"},{"$f":"+(aem2csp2!D56+(aem2csp2!E56*10))*(10^((65-aem2csp2!$A$16)/10))","v":0},0,{"$error":"#DIV/0!"},{"$error":"#DIV/0!"},{"$error":"#DIV/0!"},{"$error":"#DIV/0!"}]
[null,null,null,null,"737QN ",0.13512258921924,0.70656993067400198,{"$f":"+(aem2csp2!B57+(aem2csp2!C57*10))*(10^((65-aem2csp2!$A$11)/10))","v":0},0,{"$error":"#DIV/0!"},{"$error":"#DIV/0!"},{"$error":"#DIV/0!"},{"$error":"#DIV/0!"},{"$f":"+(aem2csp2!B57+(aem2csp2!C57*10))*(10^((65-aem2csp2!$A$12)/10))","v":0},0,{"$error":"#DIV/0!"},{"$error":"#DIV/0!"},{"$error":"#DIV/0!"},{"$error":"#DIV/0!"},{"$f":"+(aem2csp2!B57+(aem2csp2!C57*10))*(10^((65-aem2csp2!$A$13)/10))","v":0},0,{"$error":"#DIV/0!"},{"$error":"#DIV/0!"},{"$error":"#DIV/0!"},{"$error":"#DIV/0!"},{"$f":"+(aem2csp2!B57+(aem2csp2!C57*10))*(10^((65-aem2csp2!$A$14)/10))","v":0},0,{"$error":"#DIV/0!"},{"$error":"#DIV/0!"},{"$error":"#DIV/0!"},{"$error":"#DIV/0!"},{"$f":"+(aem2csp2!B57+(aem2csp2!C57*10))*(10^((65-aem2csp2!$A$15)/10))","v":0},0,{"$error":"#DIV/0!"},{"$error":"#DIV/0!"},{"$error":"#DIV/0!"},{"$error":"#DIV/0!"},{"$f":"+(aem2csp2!B57+(aem2csp2!C57*10))*(10^((65-aem2csp2!$A$16)/10))","v":0},0,{"$error":"#DIV/0!"},{"$error":"#DIV/0!"},{"$error":"#DIV/0!"},{"$error":"#DIV/0!"},27,{"$f":"+(aem2csp2!D57+(aem2csp2!E57*10))*(10^((65-aem2csp2!$A$11)/10))","v":0},0,{"$error":"#DIV/0!"},{"$error":"#DIV/0!"},{"$error":"#DIV/0!"},{"$error":"#DIV/0!"},{"$f":"+(aem2csp2!D57+(aem2csp2!E57*10))*(10^((65-aem2csp2!$A$12)/10))","v":0},0,{"$error":"#DIV/0!"},{"$error":"#DIV/0!"},{"$error":"#DIV/0!"},{"$error":"#DIV/0!"},{"$f":"+(aem2csp2!D57+(aem2csp2!E57*10))*(10^((65-aem2csp2!$A$13)/10))","v":0},0,{"$error":"#DIV/0!"},{"$error":"#DIV/0!"},{"$error":"#DIV/0!"},{"$error":"#DIV/0!"},{"$f":"+(aem2csp2!D57+(aem2csp2!E57*10))*(10^((65-aem2csp2!$A$14)/10))","v":0},0,{"$error":"#DIV/0!"},{"$error":"#DIV/0!"},{"$error":"#DIV/0!"},{"$error":"#DIV/0!"},{"$f":"+(aem2csp2!D57+(aem2csp2!E57*10))*(10^((65-aem2csp2!$A$15)/10))","v":0},0,{"$error":"#DIV/0!"},{"$error":"#DIV/0!"},{"$error":"#DIV/0!"},{"$error":"#DIV/0!"},{"$f":"+(aem2csp2!D57+(aem2csp2!E57*10))*(10^((65-aem2csp2!$A$16)/10))","v":0},0,{"$error":"#DIV/0!"},{"$error":"#DIV/0!"},{"$error":"#DIV/0!"},{"$error":"#DIV/0!"}]
[null,null,null,null,"74710Q ",7.5210010192395899E-2,0.77813797155437403,{"$f":"+(aem2csp2!B58+(aem2csp2!C58*10))*(10^((65-aem2csp2!$A$11)/10))","v":0},0,{"$error":"#DIV/0!"},{"$error":"#DIV/0!"},{"$error":"#DIV/0!"},{"$error":"#DIV/0!"},{"$f":"+(aem2csp2!B58+(aem2csp2!C58*10))*(10^((65-aem2csp2!$A$12)/10))","v":0},0,{"$error":"#DIV/0!"},{"$error":"#DIV/0!"},{"$error":"#DIV/0!"},{"$error":"#DIV/0!"},{"$f":"+(aem2csp2!B58+(aem2csp2!C58*10))*(10^((65-aem2csp2!$A$13)/10))","v":0},0,{"$error":"#DIV/0!"},{"$error":"#DIV/0!"},{"$error":"#DIV/0!"},{"$error":"#DIV/0!"},{"$f":"+(aem2csp2!B58+(aem2csp2!C58*10))*(10^((65-aem2csp2!$A$14)/10))","v":0},0,{"$error":"#DIV/0!"},{"$error":"#DIV/0!"},{"$error":"#DIV/0!"},{"$error":"#DIV/0!"},{"$f":"+(aem2csp2!B58+(aem2csp2!C58*10))*(10^((65-aem2csp2!$A$15)/10))","v":0},0,{"$error":"#DIV/0!"},{"$error":"#DIV/0!"},{"$error":"#DIV/0!"},{"$error":"#DIV/0!"},{"$f":"+(aem2csp2!B58+(aem2csp2!C58*10))*(10^((65-aem2csp2!$A$16)/10))","v":0},0,{"$error":"#DIV/0!"},{"$error":"#DIV/0!"},{"$error":"#DIV/0!"},{"$error":"#DIV/0!"},28,{"$f":"+(aem2csp2!D58+(aem2csp2!E58*10))*(10^((65-aem2csp2!$A$11)/10))","v":0},0,{"$error":"#DIV/0!"},{"$error":"#DIV/0!"},{"$error":"#DIV/0!"},{"$error":"#DIV/0!"},{"$f":"+(aem2csp2!D58+(aem2csp2!E58*10))*(10^((65-aem2csp2!$A$12)/10))","v":0},0,{"$error":"#DIV/0!"},{"$error":"#DIV/0!"},{"$error":"#DIV/0!"},{"$error":"#DIV/0!"},{"$f":"+(aem2csp2!D58+(aem2csp2!E58*10))*(10^((65-aem2csp2!$A$13)/10))","v":0},0,{"$error":"#DIV/0!"},{"$error":"#DIV/0!"},{"$error":"#DIV/0!"},{"$error":"#DIV/0!"},{"$f":"+(aem2csp2!D58+(aem2csp2!E58*10))*(10^((65-aem2csp2!$A$14)/10))","v":0},0,{"$error":"#DIV/0!"},{"$error":"#DIV/0!"},{"$error":"#DIV/0!"},{"$error":"#DIV/0!"},{"$f":"+(aem2csp2!D58+(aem2csp2!E58*10))*(10^((65-aem2csp2!$A$15)/10))","v":0},0,{"$error":"#DIV/0!"},{"$error":"#DIV/0!"},{"$error":"#DIV/0!"},{"$error":"#DIV/0!"},{"$f":"+(aem2csp2!D58+(aem2csp2!E58*10))*(10^((65-aem2csp2!$A$16)/10))","v":0},0,{"$error":"#DIV/0!"},{"$error":"#DIV/0!"},{"$error":"#DIV/0!"},{"$error":"#DIV/0!"}]
[null,null,null,null,"74720A ",8.3631739561847607E-2,0.81212893624257299,{"$f":"+(aem2csp2!B59+(aem2csp2!C59*10))*(10^((65-aem2csp2!$A$11)/10))","v":0},0,{"$error":"#DIV/0!"},{"$error":"#DIV/0!"},{"$error":"#DIV/0!"},{"$error":"#DIV/0!"},{"$f":"+(aem2csp2!B59+(aem2csp2!C59*10))*(10^((65-aem2csp2!$A$12)/10))","v":0},0,{"$error":"#DIV/0!"},{"$error":"#DIV/0!"},{"$error":"#DIV/0!"},{"$error":"#DIV/0!"},{"$f":"+(aem2csp2!B59+(aem2csp2!C59*10))*(10^((65-aem2csp2!$A$13)/10))","v":0},0,{"$error":"#DIV/0!"},{"$error":"#DIV/0!"},{"$error":"#DIV/0!"},{"$error":"#DIV/0!"},{"$f":"+(aem2csp2!B59+(aem2csp2!C59*10))*(10^((65-aem2csp2!$A$14)/10))","v":0},0,{"$error":"#DIV/0!"},{"$error":"#DIV/0!"},{"$error":"#DIV/0!"},{"$error":"#DIV/0!"},{"$f":"+(aem2csp2!B59+(aem2csp2!C59*10))*(10^((65-aem2csp2!$A$15)/10))","v":0},0,{"$error":"#DIV/0!"},{"$error":"#DIV/0!"},{"$error":"#DIV/0!"},{"$error":"#DIV/0!"},{"$f":"+(aem2csp2!B59+(aem2csp2!C59*10))*(10^((65-aem2csp2!$A$16)/10))","v":0},0,{"$error":"#DIV/0!"},{"$error":"#DIV/0!"},{"$error":"#DIV/0!"},{"$error":"#DIV/0!"},29,{"$f":"+(aem2csp2!D59+(aem2csp2!E59*10))*(10^((65-aem2csp2!$A$11)/10))","v":0},0,{"$error":"#DIV/0!"},{"$error":"#DIV/0!"},{"$error":"#DIV/0!"},{"$error":"#DIV/0!"},{"$f":"+(aem2csp2!D59+(aem2csp2!E59*10))*(10^((65-aem2csp2!$A$12)/10))","v":0},0,{"$error":"#DIV/0!"},{"$error":"#DIV/0!"},{"$error":"#DIV/0!"},{"$error":"#DIV/0!"},{"$f":"+(aem2csp2!D59+(aem2csp2!E59*10))*(10^((65-aem2csp2!$A$13)/10))","v":0},0,{"$error":"#DIV/0!"},{"$error":"#DIV/0!"},{"$error":"#DIV/0!"},{"$error":"#DIV/0!"},{"$f":"+(aem2csp2!D59+(aem2csp2!E59*10))*(10^((65-aem2csp2!$A$14)/10))","v":0},0,{"$error":"#DIV/0!"},{"$error":"#DIV/0!"},{"$error":"#DIV/0!"},{"$error":"#DIV/0!"},{"$f":"+(aem2csp2!D59+(aem2csp2!E59*10))*(10^((65-aem2csp2!$A$15)/10))","v":0},0,{"$error":"#DIV/0!"},{"$error":"#DIV/0!"},{"$error":"#DIV/0!"},{"$error":"#DIV/0!"},{"$f":"+(aem2csp2!D59+(aem2csp2!E59*10))*(10^((65-aem2csp2!$A$16)/10))","v":0},0,{"$error":"#DIV/0!"},{"$error":"#DIV/0!"},{"$error":"#DIV/0!"},{"$error":"#DIV/0!"}]
[null,null,null,null,"74720B ",0.161288112154226,0.73488552370997196,{"$f":"+(aem2csp2!B60+(aem2csp2!C60*10))*(10^((65-aem2csp2!$A$11)/10))","v":0},0,{"$error":"#DIV/0!"},{"$error":"#DIV/0!"},{"$error":"#DIV/0!"},{"$error":"#DIV/0!"},{"$f":"+(aem2csp2!B60+(aem2csp2!C60*10))*(10^((65-aem2csp2!$A$12)/10))","v":0},0,{"$error":"#DIV/0!"},{"$error":"#DIV/0!"},{"$error":"#DIV/0!"},{"$error":"#DIV/0!"},{"$f":"+(aem2csp2!B60+(aem2csp2!C60*10))*(10^((65-aem2csp2!$A$13)/10))","v":0},0,{"$error":"#DIV/0!"},{"$error":"#DIV/0!"},{"$error":"#DIV/0!"},{"$error":"#DIV/0!"},{"$f":"+(aem2csp2!B60+(aem2csp2!C60*10))*(10^((65-aem2csp2!$A$14)/10))","v":0},0,{"$error":"#DIV/0!"},{"$error":"#DIV/0!"},{"$error":"#DIV/0!"},{"$error":"#DIV/0!"},{"$f":"+(aem2csp2!B60+(aem2csp2!C60*10))*(10^((65-aem2csp2!$A$15)/10))","v":0},0,{"$error":"#DIV/0!"},{"$error":"#DIV/0!"},{"$error":"#DIV/0!"},{"$error":"#DIV/0!"},{"$f":"+(aem2csp2!B60+(aem2csp2!C60*10))*(10^((65-aem2csp2!$A$16)/10))","v":0},0,{"$error":"#DIV/0!"},{"$error":"#DIV/0!"},{"$error":"#DIV/0!"},{"$error":"#DIV/0!"},30,{"$f":"+(aem2csp2!D60+(aem2csp2!E60*10))*(10^((65-aem2csp2!$A$11)/10))","v":0},0,{"$error":"#DIV/0!"},{"$error":"#DIV/0!"},{"$error":"#DIV/0!"},{"$error":"#DIV/0!"},{"$f":"+(aem2csp2!D60+(aem2csp2!E60*10))*(10^((65-aem2csp2!$A$12)/10))","v":0},0,{"$error":"#DIV/0!"},{"$error":"#DIV/0!"},{"$error":"#DIV/0!"},{"$error":"#DIV/0!"},{"$f":"+(aem2csp2!D60+(aem2csp2!E60*10))*(10^((65-aem2csp2!$A$13)/10))","v":0},0,{"$error":"#DIV/0!"},{"$error":"#DIV/0!"},{"$error":"#DIV/0!"},{"$error":"#DIV/0!"},{"$f":"+(aem2csp2!D60+(aem2csp2!E60*10))*(10^((65-aem2csp2!$A$14)/10))","v":0},0,{"$error":"#DIV/0!"},{"$error":"#DIV/0!"},{"$error":"#DIV/0!"},{"$error":"#DIV/0!"},{"$f":"+(aem2csp2!D60+(aem2csp2!E60*10))*(10^((65-aem2csp2!$A$15)/10))","v":0},0,{"$error":"#DIV/0!"},{"$error":"#DIV/0!"},{"$error":"#DIV/0!"},{"$error":"#DIV/0!"},{"$f":"+(aem2csp2!D60+(aem2csp2!E60*10))*(10^((65-aem2csp2!$A$16)/10))","v":0},0,{"$error":"#DIV/0!"},{"$error":"#DIV/0!"},{"$error":"#DIV/0!"},{"$error":"#DIV/0!"}]
[null,null,null,null,"747SP ",7.2934352977452904E-2,0.76165684087837604,{"$f":"+(aem2csp2!B61+(aem2csp2!C61*10))*(10^((65-aem2csp2!$A$11)/10))","v":0},0,{"$error":"#DIV/0!"},{"$error":"#DIV/0!"},{"$error":"#DIV/0!"},{"$error":"#DIV/0!"},{"$f":"+(aem2csp2!B61+(aem2csp2!C61*10))*(10^((65-aem2csp2!$A$12)/10))","v":0},0,{"$error":"#DIV/0!"},{"$error":"#DIV/0!"},{"$error":"#DIV/0!"},{"$error":"#DIV/0!"},{"$f":"+(aem2csp2!B61+(aem2csp2!C61*10))*(10^((65-aem2csp2!$A$13)/10))","v":0},0,{"$error":"#DIV/0!"},{"$error":"#DIV/0!"},{"$error":"#DIV/0!"},{"$error":"#DIV/0!"},{"$f":"+(aem2csp2!B61+(aem2csp2!C61*10))*(10^((65-aem2csp2!$A$14)/10))","v":0},0,{"$error":"#DIV/0!"},{"$error":"#DIV/0!"},{"$error":"#DIV/0!"},{"$error":"#DIV/0!"},{"$f":"+(aem2csp2!B61+(aem2csp2!C61*10))*(10^((65-aem2csp2!$A$15)/10))","v":0},0,{"$error":"#DIV/0!"},{"$error":"#DIV/0!"},{"$error":"#DIV/0!"},{"$error":"#DIV/0!"},{"$f":"+(aem2csp2!B61+(aem2csp2!C61*10))*(10^((65-aem2csp2!$A$16)/10))","v":0},0,{"$error":"#DIV/0!"},{"$error":"#DIV/0!"},{"$error":"#DIV/0!"},{"$error":"#DIV/0!"},31,{"$f":"+(aem2csp2!D61+(aem2csp2!E61*10))*(10^((65-aem2csp2!$A$11)/10))","v":0},0,{"$error":"#DIV/0!"},{"$error":"#DIV/0!"},{"$error":"#DIV/0!"},{"$error":"#DIV/0!"},{"$f":"+(aem2csp2!D61+(aem2csp2!E61*10))*(10^((65-aem2csp2!$A$12)/10))","v":0},0,{"$error":"#DIV/0!"},{"$error":"#DIV/0!"},{"$error":"#DIV/0!"},{"$error":"#DIV/0!"},{"$f":"+(aem2csp2!D61+(aem2csp2!E61*10))*(10^((65-aem2csp2!$A$13)/10))","v":0},0,{"$error":"#DIV/0!"},{"$error":"#DIV/0!"},{"$error":"#DIV/0!"},{"$error":"#DIV/0!"},{"$f":"+(aem2csp2!D61+(aem2csp2!E61*10))*(10^((65-aem2csp2!$A$14)/10))","v":0},0,{"$error":"#DIV/0!"},{"$error":"#DIV/0!"},{"$error":"#DIV/0!"},{"$error":"#DIV/0!"},{"$f":"+(aem2csp2!D61+(aem2csp2!E61*10))*(10^((65-aem2csp2!$A$15)/10))","v":0},0,{"$error":"#DIV/0!"},{"$error":"#DIV/0!"},{"$error":"#DIV/0!"},{"$error":"#DIV/0!"},{"$f":"+(aem2csp2!D61+(aem2csp2!E61*10))*(10^((65-aem2csp2!$A$16)/10))","v":0},0,{"$error":"#DIV/0!"},{"$error":"#DIV/0!"},{"$error":"#DIV/0!"},{"$error":"#DIV/0!"}]
[null,null,null,null,"757PW ",2.2058614155199999E-2,0.71300526173552004,{"$f":"+(aem2csp2!B62+(aem2csp2!C62*10))*(10^((65-aem2csp2!$A$11)/10))","v":0},0,{"$error":"#DIV/0!"},{"$error":"#DIV/0!"},{"$error":"#DIV/0!"},{"$error":"#DIV/0!"},{"$f":"+(aem2csp2!B62+(aem2csp2!C62*10))*(10^((65-aem2csp2!$A$12)/10))","v":0},0,{"$error":"#DIV/0!"},{"$error":"#DIV/0!"},{"$error":"#DIV/0!"},{"$error":"#DIV/0!"},{"$f":"+(aem2csp2!B62+(aem2csp2!C62*10))*(10^((65-aem2csp2!$A$13)/10))","v":0},0,{"$error":"#DIV/0!"},{"$error":"#DIV/0!"},{"$error":"#DIV/0!"},{"$error":"#DIV/0!"},{"$f":"+(aem2csp2!B62+(aem2csp2!C62*10))*(10^((65-aem2csp2!$A$14)/10))","v":0},0,{"$error":"#DIV/0!"},{"$error":"#DIV/0!"},{"$error":"#DIV/0!"},{"$error":"#DIV/0!"},{"$f":"+(aem2csp2!B62+(aem2csp2!C62*10))*(10^((65-aem2csp2!$A$15)/10))","v":0},0,{"$error":"#DIV/0!"},{"$error":"#DIV/0!"},{"$error":"#DIV/0!"},{"$error":"#DIV/0!"},{"$f":"+(aem2csp2!B62+(aem2csp2!C62*10))*(10^((65-aem2csp2!$A$16)/10))","v":0},0,{"$error":"#DIV/0!"},{"$error":"#DIV/0!"},{"$error":"#DIV/0!"},{"$error":"#DIV/0!"},32,{"$f":"+(aem2csp2!D62+(aem2csp2!E62*10))*(10^((65-aem2csp2!$A$11)/10))","v":0},0,{"$error":"#DIV/0!"},{"$error":"#DIV/0!"},{"$error":"#DIV/0!"},{"$error":"#DIV/0!"},{"$f":"+(aem2csp2!D62+(aem2csp2!E62*10))*(10^((65-aem2csp2!$A$12)/10))","v":0},0,{"$error":"#DIV/0!"},{"$error":"#DIV/0!"},{"$error":"#DIV/0!"},{"$error":"#DIV/0!"},{"$f":"+(aem2csp2!D62+(aem2csp2!E62*10))*(10^((65-aem2csp2!$A$13)/10))","v":0},0,{"$error":"#DIV/0!"},{"$error":"#DIV/0!"},{"$error":"#DIV/0!"},{"$error":"#DIV/0!"},{"$f":"+(aem2csp2!D62+(aem2csp2!E62*10))*(10^((65-aem2csp2!$A$14)/10))","v":0},0,{"$error":"#DIV/0!"},{"$error":"#DIV/0!"},{"$error":"#DIV/0!"},{"$error":"#DIV/0!"},{"$f":"+(aem2csp2!D62+(aem2csp2!E62*10))*(10^((65-aem2csp2!$A$15)/10))","v":0},0,{"$error":"#DIV/0!"},{"$error":"#DIV/0!"},{"$error":"#DIV/0!"},{"$error":"#DIV/0!"},{"$f":"+(aem2csp2!D62+(aem2csp2!E62*10))*(10^((65-aem2csp2!$A$16)/10))","v":0},0,{"$error":"#DIV/0!"},{"$error":"#DIV/0!"},{"$error":"#DIV/0!"},{"$error":"#DIV/0!"}]
[null,null,null,null,"757RR ",1.6550864033407199E-2,0.80559460942576,{"$f":"+(aem2csp2!B63+(aem2csp2!C63*10))*(10^((65-aem2csp2!$A$11)/10))","v":0},0,{"$error":"#DIV/0!"},{"$error":"#DIV/0!"},{"$error":"#DIV/0!"},{"$error":"#DIV/0!"},{"$f":"+(aem2csp2!B63+(aem2csp2!C63*10))*(10^((65-aem2csp2!$A$12)/10))","v":0},0,{"$error":"#DIV/0!"},{"$error":"#DIV/0!"},{"$error":"#DIV/0!"},{"$error":"#DIV/0!"},{"$f":"+(aem2csp2!B63+(aem2csp2!C63*10))*(10^((65-aem2csp2!$A$13)/10))","v":0},0,{"$error":"#DIV/0!"},{"$error":"#DIV/0!"},{"$error":"#DIV/0!"},{"$error":"#DIV/0!"},{"$f":"+(aem2csp2!B63+(aem2csp2!C63*10))*(10^((65-aem2csp2!$A$14)/10))","v":0},0,{"$error":"#DIV/0!"},{"$error":"#DIV/0!"},{"$error":"#DIV/0!"},{"$error":"#DIV/0!"},{"$f":"+(aem2csp2!B63+(aem2csp2!C63*10))*(10^((65-aem2csp2!$A$15)/10))","v":0},0,{"$error":"#DIV/0!"},{"$error":"#DIV/0!"},{"$error":"#DIV/0!"},{"$error":"#DIV/0!"},{"$f":"+(aem2csp2!B63+(aem2csp2!C63*10))*(10^((65-aem2csp2!$A$16)/10))","v":0},0,{"$error":"#DIV/0!"},{"$error":"#DIV/0!"},{"$error":"#DIV/0!"},{"$error":"#DIV/0!"},33,{"$f":"+(aem2csp2!D63+(aem2csp2!E63*10))*(10^((65-aem2csp2!$A$11)/10))","v":0},0,{"$error":"#DIV/0!"},{"$error":"#DIV/0!"},{"$error":"#DIV/0!"},{"$error":"#DIV/0!"},{"$f":"+(aem2csp2!D63+(aem2csp2!E63*10))*(10^((65-aem2csp2!$A$12)/10))","v":0},0,{"$error":"#DIV/0!"},{"$error":"#DIV/0!"},{"$error":"#DIV/0!"},{"$error":"#DIV/0!"},{"$f":"+(aem2csp2!D63+(aem2csp2!E63*10))*(10^((65-aem2csp2!$A$13)/10))","v":0},0,{"$error":"#DIV/0!"},{"$error":"#DIV/0!"},{"$error":"#DIV/0!"},{"$error":"#DIV/0!"},{"$f":"+(aem2csp2!D63+(aem2csp2!E63*10))*(10^((65-aem2csp2!$A$14)/10))","v":0},0,{"$error":"#DIV/0!"},{"$error":"#DIV/0!"},{"$error":"#DIV/0!"},{"$error":"#DIV/0!"},{"$f":"+(aem2csp2!D63+(aem2csp2!E63*10))*(10^((65-aem2csp2!$A$15)/10))","v":0},0,{"$error":"#DIV/0!"},{"$error":"#DIV/0!"},{"$error":"#DIV/0!"},{"$error":"#DIV/0!"},{"$f":"+(aem2csp2!D63+(aem2csp2!E63*10))*(10^((65-aem2csp2!$A$16)/10))","v":0},0,{"$error":"#DIV/0!"},{"$error":"#DIV/0!"},{"$error":"#DIV/0!"},{"$error":"#DIV/0!"}]
[null,null,null,null,"767CF6 ",2.9525325596755501E-2,0.77013129844376205,{"$f":"+(aem2csp2!B64+(aem2csp2!C64*10))*(10^((65-aem2csp2!$A$11)/10))","v":0},0,{"$error":"#DIV/0!"},{"$error":"#DIV/0!"},{"$error":"#DIV/0!"},{"$error":"#DIV/0!"},{"$f":"+(aem2csp2!B64+(aem2csp2!C64*10))*(10^((65-aem2csp2!$A$12)/10))","v":0},0,{"$error":"#DIV/0!"},{"$error":"#DIV/0!"},{"$error":"#DIV/0!"},{"$error":"#DIV/0!"},{"$f":"+(aem2csp2!B64+(aem2csp2!C64*10))*(10^((65-aem2csp2!$A$13)/10))","v":0},0,{"$error":"#DIV/0!"},{"$error":"#DIV/0!"},{"$error":"#DIV/0!"},{"$error":"#DIV/0!"},{"$f":"+(aem2csp2!B64+(aem2csp2!C64*10))*(10^((65-aem2csp2!$A$14)/10))","v":0},0,{"$error":"#DIV/0!"},{"$error":"#DIV/0!"},{"$error":"#DIV/0!"},{"$error":"#DIV/0!"},{"$f":"+(aem2csp2!B64+(aem2csp2!C64*10))*(10^((65-aem2csp2!$A$15)/10))","v":0},0,{"$error":"#DIV/0!"},{"$error":"#DIV/0!"},{"$error":"#DIV/0!"},{"$error":"#DIV/0!"},{"$f":"+(aem2csp2!B64+(aem2csp2!C64*10))*(10^((65-aem2csp2!$A$16)/10))","v":0},0,{"$error":"#DIV/0!"},{"$error":"#DIV/0!"},{"$error":"#DIV/0!"},{"$error":"#DIV/0!"},34,{"$f":"+(aem2csp2!D64+(aem2csp2!E64*10))*(10^((65-aem2csp2!$A$11)/10))","v":0},0,{"$error":"#DIV/0!"},{"$error":"#DIV/0!"},{"$error":"#DIV/0!"},{"$error":"#DIV/0!"},{"$f":"+(aem2csp2!D64+(aem2csp2!E64*10))*(10^((65-aem2csp2!$A$12)/10))","v":0},0,{"$error":"#DIV/0!"},{"$error":"#DIV/0!"},{"$error":"#DIV/0!"},{"$error":"#DIV/0!"},{"$f":"+(aem2csp2!D64+(aem2csp2!E64*10))*(10^((65-aem2csp2!$A$13)/10))","v":0},0,{"$error":"#DIV/0!"},{"$error":"#DIV/0!"},{"$error":"#DIV/0!"},{"$error":"#DIV/0!"},{"$f":"+(aem2csp2!D64+(aem2csp2!E64*10))*(10^((65-aem2csp2!$A$14)/10))","v":0},0,{"$error":"#DIV/0!"},{"$error":"#DIV/0!"},{"$error":"#DIV/0!"},{"$error":"#DIV/0!"},{"$f":"+(aem2csp2!D64+(aem2csp2!E64*10))*(10^((65-aem2csp2!$A$15)/10))","v":0},0,{"$error":"#DIV/0!"},{"$error":"#DIV/0!"},{"$error":"#DIV/0!"},{"$error":"#DIV/0!"},{"$f":"+(aem2csp2!D64+(aem2csp2!E64*10))*(10^((65-aem2csp2!$A$16)/10))","v":0},0,{"$error":"#DIV/0!"},{"$error":"#DIV/0!"},{"$error":"#DIV/0!"},{"$error":"#DIV/0!"}]
[null,null,null,null,"767JT9 ",2.40147405117546E-2,0.80972500791370094,{"$f":"+(aem2csp2!B65+(aem2csp2!C65*10))*(10^((65-aem2csp2!$A$11)/10))","v":0},0,{"$error":"#DIV/0!"},{"$error":"#DIV/0!"},{"$error":"#DIV/0!"},{"$error":"#DIV/0!"},{"$f":"+(aem2csp2!B65+(aem2csp2!C65*10))*(10^((65-aem2csp2!$A$12)/10))","v":0},0,{"$error":"#DIV/0!"},{"$error":"#DIV/0!"},{"$error":"#DIV/0!"},{"$error":"#DIV/0!"},{"$f":"+(aem2csp2!B65+(aem2csp2!C65*10))*(10^((65-aem2csp2!$A$13)/10))","v":0},0,{"$error":"#DIV/0!"},{"$error":"#DIV/0!"},{"$error":"#DIV/0!"},{"$error":"#DIV/0!"},{"$f":"+(aem2csp2!B65+(aem2csp2!C65*10))*(10^((65-aem2csp2!$A$14)/10))","v":0},0,{"$error":"#DIV/0!"},{"$error":"#DIV/0!"},{"$error":"#DIV/0!"},{"$error":"#DIV/0!"},{"$f":"+(aem2csp2!B65+(aem2csp2!C65*10))*(10^((65-aem2csp2!$A$15)/10))","v":0},0,{"$error":"#DIV/0!"},{"$error":"#DIV/0!"},{"$error":"#DIV/0!"},{"$error":"#DIV/0!"},{"$f":"+(aem2csp2!B65+(aem2csp2!C65*10))*(10^((65-aem2csp2!$A$16)/10))","v":0},0,{"$error":"#DIV/0!"},{"$error":"#DIV/0!"},{"$error":"#DIV/0!"},{"$error":"#DIV/0!"},35,{"$f":"+(aem2csp2!D65+(aem2csp2!E65*10))*(10^((65-aem2csp2!$A$11)/10))","v":0},0,{"$error":"#DIV/0!"},{"$error":"#DIV/0!"},{"$error":"#DIV/0!"},{"$error":"#DIV/0!"},{"$f":"+(aem2csp2!D65+(aem2csp2!E65*10))*(10^((65-aem2csp2!$A$12)/10))","v":0},0,{"$error":"#DIV/0!"},{"$error":"#DIV/0!"},{"$error":"#DIV/0!"},{"$error":"#DIV/0!"},{"$f":"+(aem2csp2!D65+(aem2csp2!E65*10))*(10^((65-aem2csp2!$A$13)/10))","v":0},0,{"$error":"#DIV/0!"},{"$error":"#DIV/0!"},{"$error":"#DIV/0!"},{"$error":"#DIV/0!"},{"$f":"+(aem2csp2!D65+(aem2csp2!E65*10))*(10^((65-aem2csp2!$A$14)/10))","v":0},0,{"$error":"#DIV/0!"},{"$error":"#DIV/0!"},{"$error":"#DIV/0!"},{"$error":"#DIV/0!"},{"$f":"+(aem2csp2!D65+(aem2csp2!E65*10))*(10^((65-aem2csp2!$A$15)/10))","v":0},0,{"$error":"#DIV/0!"},{"$error":"#DIV/0!"},{"$error":"#DIV/0!"},{"$error":"#DIV/0!"},{"$f":"+(aem2csp2!D65+(aem2csp2!E65*10))*(10^((65-aem2csp2!$A$16)/10))","v":0},0,{"$error":"#DIV/0!"},{"$error":"#DIV/0!"},{"$error":"#DIV/0!"},{"$error":"#DIV/0!"}]
[null,null,null,null,"7773ER ",5.12701160630177E-2,0.75377940770091401,{"$f":"+(aem2csp2!B66+(aem2csp2!C66*10))*(10^((65-aem2csp2!$A$11)/10))","v":0},0,{"$error":"#DIV/0!"},{"$error":"#DIV/0!"},{"$error":"#DIV/0!"},{"$error":"#DIV/0!"},{"$f":"+(aem2csp2!B66+(aem2csp2!C66*10))*(10^((65-aem2csp2!$A$12)/10))","v":0},0,{"$error":"#DIV/0!"},{"$error":"#DIV/0!"},{"$error":"#DIV/0!"},{"$error":"#DIV/0!"},{"$f":"+(aem2csp2!B66+(aem2csp2!C66*10))*(10^((65-aem2csp2!$A$13)/10))","v":0},0,{"$error":"#DIV/0!"},{"$error":"#DIV/0!"},{"$error":"#DIV/0!"},{"$error":"#DIV/0!"},{"$f":"+(aem2csp2!B66+(aem2csp2!C66*10))*(10^((65-aem2csp2!$A$14)/10))","v":0},0,{"$error":"#DIV/0!"},{"$error":"#DIV/0!"},{"$error":"#DIV/0!"},{"$error":"#DIV/0!"},{"$f":"+(aem2csp2!B66+(aem2csp2!C66*10))*(10^((65-aem2csp2!$A$15)/10))","v":0},0,{"$error":"#DIV/0!"},{"$error":"#DIV/0!"},{"$error":"#DIV/0!"},{"$error":"#DIV/0!"},{"$f":"+(aem2csp2!B66+(aem2csp2!C66*10))*(10^((65-aem2csp2!$A$16)/10))","v":0},0,{"$error":"#DIV/0!"},{"$error":"#DIV/0!"},{"$error":"#DIV/0!"},{"$error":"#DIV/0!"},36,{"$f":"+(aem2csp2!D66+(aem2csp2!E66*10))*(10^((65-aem2csp2!$A$11)/10))","v":0},0,{"$error":"#DIV/0!"},{"$error":"#DIV/0!"},{"$error":"#DIV/0!"},{"$error":"#DIV/0!"},{"$f":"+(aem2csp2!D66+(aem2csp2!E66*10))*(10^((65-aem2csp2!$A$12)/10))","v":0},0,{"$error":"#DIV/0!"},{"$error":"#DIV/0!"},{"$error":"#DIV/0!"},{"$error":"#DIV/0!"},{"$f":"+(aem2csp2!D66+(aem2csp2!E66*10))*(10^((65-aem2csp2!$A$13)/10))","v":0},0,{"$error":"#DIV/0!"},{"$error":"#DIV/0!"},{"$error":"#DIV/0!"},{"$error":"#DIV/0!"},{"$f":"+(aem2csp2!D66+(aem2csp2!E66*10))*(10^((65-aem2csp2!$A$14)/10))","v":0},0,{"$error":"#DIV/0!"},{"$error":"#DIV/0!"},{"$error":"#DIV/0!"},{"$error":"#DIV/0!"},{"$f":"+(aem2csp2!D66+(aem2csp2!E66*10))*(10^((65-aem2csp2!$A$15)/10))","v":0},0,{"$error":"#DIV/0!"},{"$error":"#DIV/0!"},{"$error":"#DIV/0!"},{"$error":"#DIV/0!"},{"$f":"+(aem2csp2!D66+(aem2csp2!E66*10))*(10^((65-aem2csp2!$A$16)/10))","v":0},0,{"$error":"#DIV/0!"},{"$error":"#DIV/0!"},{"$error":"#DIV/0!"},{"$error":"#DIV/0!"}]
[null,null,null,null,"7878R ",1.7811418239991699E-2,0.73009541839872205,{"$f":"+(aem2csp2!B67+(aem2csp2!C67*10))*(10^((65-aem2csp2!$A$11)/10))","v":0},0,{"$error":"#DIV/0!"},{"$error":"#DIV/0!"},{"$error":"#DIV/0!"},{"$error":"#DIV/0!"},{"$f":"+(aem2csp2!B67+(aem2csp2!C67*10))*(10^((65-aem2csp2!$A$12)/10))","v":0},0,{"$error":"#DIV/0!"},{"$error":"#DIV/0!"},{"$error":"#DIV/0!"},{"$error":"#DIV/0!"},{"$f":"+(aem2csp2!B67+(aem2csp2!C67*10))*(10^((65-aem2csp2!$A$13)/10))","v":0},0,{"$error":"#DIV/0!"},{"$error":"#DIV/0!"},{"$error":"#DIV/0!"},{"$error":"#DIV/0!"},{"$f":"+(aem2csp2!B67+(aem2csp2!C67*10))*(10^((65-aem2csp2!$A$14)/10))","v":0},0,{"$error":"#DIV/0!"},{"$error":"#DIV/0!"},{"$error":"#DIV/0!"},{"$error":"#DIV/0!"},{"$f":"+(aem2csp2!B67+(aem2csp2!C67*10))*(10^((65-aem2csp2!$A$15)/10))","v":0},0,{"$error":"#DIV/0!"},{"$error":"#DIV/0!"},{"$error":"#DIV/0!"},{"$error":"#DIV/0!"},{"$f":"+(aem2csp2!B67+(aem2csp2!C67*10))*(10^((65-aem2csp2!$A$16)/10))","v":0},0,{"$error":"#DIV/0!"},{"$error":"#DIV/0!"},{"$error":"#DIV/0!"},{"$error":"#DIV/0!"},37,{"$f":"+(aem2csp2!D67+(aem2csp2!E67*10))*(10^((65-aem2csp2!$A$11)/10))","v":0},0,{"$error":"#DIV/0!"},{"$error":"#DIV/0!"},{"$error":"#DIV/0!"},{"$error":"#DIV/0!"},{"$f":"+(aem2csp2!D67+(aem2csp2!E67*10))*(10^((65-aem2csp2!$A$12)/10))","v":0},0,{"$error":"#DIV/0!"},{"$error":"#DIV/0!"},{"$error":"#DIV/0!"},{"$error":"#DIV/0!"},{"$f":"+(aem2csp2!D67+(aem2csp2!E67*10))*(10^((65-aem2csp2!$A$13)/10))","v":0},0,{"$error":"#DIV/0!"},{"$error":"#DIV/0!"},{"$error":"#DIV/0!"},{"$error":"#DIV/0!"},{"$f":"+(aem2csp2!D67+(aem2csp2!E67*10))*(10^((65-aem2csp2!$A$14)/10))","v":0},0,{"$error":"#DIV/0!"},{"$error":"#DIV/0!"},{"$error":"#DIV/0!"},{"$error":"#DIV/0!"},{"$f":"+(aem2csp2!D67+(aem2csp2!E67*10))*(10^((65-aem2csp2!$A$15)/10))","v":0},0,{"$error":"#DIV/0!"},{"$error":"#DIV/0!"},{"$error":"#DIV/0!"},{"$error":"#DIV/0!"},{"$f":"+(aem2csp2!D67+(aem2csp2!E67*10))*(10^((65-aem2csp2!$A$16)/10))","v":0},0,{"$error":"#DIV/0!"},{"$error":"#DIV/0!"},{"$error":"#DIV/0!"},{"$error":"#DIV/0!"}]
[null,null,null,null,"A10A ",5.6192044612463798E-2,0.66525264115668903,{"$f":"+(aem2csp2!B68+(aem2csp2!C68*10))*(10^((65-aem2csp2!$A$11)/10))","v":0},0,{"$error":"#DIV/0!"},{"$error":"#DIV/0!"},{"$error":"#DIV/0!"},{"$error":"#DIV/0!"},{"$f":"+(aem2csp2!B68+(aem2csp2!C68*10))*(10^((65-aem2csp2!$A$12)/10))","v":0},0,{"$error":"#DIV/0!"},{"$error":"#DIV/0!"},{"$error":"#DIV/0!"},{"$error":"#DIV/0!"},{"$f":"+(aem2csp2!B68+(aem2csp2!C68*10))*(10^((65-aem2csp2!$A$13)/10))","v":0},0,{"$error":"#DIV/0!"},{"$error":"#DIV/0!"},{"$error":"#DIV/0!"},{"$error":"#DIV/0!"},{"$f":"+(aem2csp2!B68+(aem2csp2!C68*10))*(10^((65-aem2csp2!$A$14)/10))","v":0},0,{"$error":"#DIV/0!"},{"$error":"#DIV/0!"},{"$error":"#DIV/0!"},{"$error":"#DIV/0!"},{"$f":"+(aem2csp2!B68+(aem2csp2!C68*10))*(10^((65-aem2csp2!$A$15)/10))","v":0},0,{"$error":"#DIV/0!"},{"$error":"#DIV/0!"},{"$error":"#DIV/0!"},{"$error":"#DIV/0!"},{"$f":"+(aem2csp2!B68+(aem2csp2!C68*10))*(10^((65-aem2csp2!$A$16)/10))","v":0},0,{"$error":"#DIV/0!"},{"$error":"#DIV/0!"},{"$error":"#DIV/0!"},{"$error":"#DIV/0!"},38,{"$f":"+(aem2csp2!D68+(aem2csp2!E68*10))*(10^((65-aem2csp2!$A$11)/10))","v":0},0,{"$error":"#DIV/0!"},{"$error":"#DIV/0!"},{"$error":"#DIV/0!"},{"$error":"#DIV/0!"},{"$f":"+(aem2csp2!D68+(aem2csp2!E68*10))*(10^((65-aem2csp2!$A$12)/10))","v":0},0,{"$error":"#DIV/0!"},{"$error":"#DIV/0!"},{"$error":"#DIV/0!"},{"$error":"#DIV/0!"},{"$f":"+(aem2csp2!D68+(aem2csp2!E68*10))*(10^((65-aem2csp2!$A$13)/10))","v":0},0,{"$error":"#DIV/0!"},{"$error":"#DIV/0!"},{"$error":"#DIV/0!"},{"$error":"#DIV/0!"},{"$f":"+(aem2csp2!D68+(aem2csp2!E68*10))*(10^((65-aem2csp2!$A$14)/10))","v":0},0,{"$error":"#DIV/0!"},{"$error":"#DIV/0!"},{"$error":"#DIV/0!"},{"$error":"#DIV/0!"},{"$f":"+(aem2csp2!D68+(aem2csp2!E68*10))*(10^((65-aem2csp2!$A$15)/10))","v":0},0,{"$error":"#DIV/0!"},{"$error":"#DIV/0!"},{"$error":"#DIV/0!"},{"$error":"#DIV/0!"},{"$f":"+(aem2csp2!D68+(aem2csp2!E68*10))*(10^((65-aem2csp2!$A$16)/10))","v":0},0,{"$error":"#DIV/0!"},{"$error":"#DIV/0!"},{"$error":"#DIV/0!"},{"$error":"#DIV/0!"}]
[null,null,null,null,"A3 ",0.24019558350248901,0.88224471481172295,{"$f":"+(aem2csp2!B69+(aem2csp2!C69*10))*(10^((65-aem2csp2!$A$11)/10))","v":0},0,{"$error":"#DIV/0!"},{"$error":"#DIV/0!"},{"$error":"#DIV/0!"},{"$error":"#DIV/0!"},{"$f":"+(aem2csp2!B69+(aem2csp2!C69*10))*(10^((65-aem2csp2!$A$12)/10))","v":0},0,{"$error":"#DIV/0!"},{"$error":"#DIV/0!"},{"$error":"#DIV/0!"},{"$error":"#DIV/0!"},{"$f":"+(aem2csp2!B69+(aem2csp2!C69*10))*(10^((65-aem2csp2!$A$13)/10))","v":0},0,{"$error":"#DIV/0!"},{"$error":"#DIV/0!"},{"$error":"#DIV/0!"},{"$error":"#DIV/0!"},{"$f":"+(aem2csp2!B69+(aem2csp2!C69*10))*(10^((65-aem2csp2!$A$14)/10))","v":0},0,{"$error":"#DIV/0!"},{"$error":"#DIV/0!"},{"$error":"#DIV/0!"},{"$error":"#DIV/0!"},{"$f":"+(aem2csp2!B69+(aem2csp2!C69*10))*(10^((65-aem2csp2!$A$15)/10))","v":0},0,{"$error":"#DIV/0!"},{"$error":"#DIV/0!"},{"$error":"#DIV/0!"},{"$error":"#DIV/0!"},{"$f":"+(aem2csp2!B69+(aem2csp2!C69*10))*(10^((65-aem2csp2!$A$16)/10))","v":0},0,{"$error":"#DIV/0!"},{"$error":"#DIV/0!"},{"$error":"#DIV/0!"},{"$error":"#DIV/0!"},39,{"$f":"+(aem2csp2!D69+(aem2csp2!E69*10))*(10^((65-aem2csp2!$A$11)/10))","v":0},0,{"$error":"#DIV/0!"},{"$error":"#DIV/0!"},{"$error":"#DIV/0!"},{"$error":"#DIV/0!"},{"$f":"+(aem2csp2!D69+(aem2csp2!E69*10))*(10^((65-aem2csp2!$A$12)/10))","v":0},0,{"$error":"#DIV/0!"},{"$error":"#DIV/0!"},{"$error":"#DIV/0!"},{"$error":"#DIV/0!"},{"$f":"+(aem2csp2!D69+(aem2csp2!E69*10))*(10^((65-aem2csp2!$A$13)/10))","v":0},0,{"$error":"#DIV/0!"},{"$error":"#DIV/0!"},{"$error":"#DIV/0!"},{"$error":"#DIV/0!"},{"$f":"+(aem2csp2!D69+(aem2csp2!E69*10))*(10^((65-aem2csp2!$A$14)/10))","v":0},0,{"$error":"#DIV/0!"},{"$error":"#DIV/0!"},{"$error":"#DIV/0!"},{"$error":"#DIV/0!"},{"$f":"+(aem2csp2!D69+(aem2csp2!E69*10))*(10^((65-aem2csp2!$A$15)/10))","v":0},0,{"$error":"#DIV/0!"},{"$error":"#DIV/0!"},{"$error":"#DIV/0!"},{"$error":"#DIV/0!"},{"$f":"+(aem2csp2!D69+(aem2csp2!E69*10))*(10^((65-aem2csp2!$A$16)/10))","v":0},0,{"$error":"#DIV/0!"},{"$error":"#DIV/0!"},{"$error":"#DIV/0!"},{"$error":"#DIV/0!"}]
[null,null,null,null,"A300-622R ",5.2333247362453698E-2,0.71254310627388195,{"$f":"+(aem2csp2!B70+(aem2csp2!C70*10))*(10^((65-aem2csp2!$A$11)/10))","v":0},0,{"$error":"#DIV/0!"},{"$error":"#DIV/0!"},{"$error":"#DIV/0!"},{"$error":"#DIV/0!"},{"$f":"+(aem2csp2!B70+(aem2csp2!C70*10))*(10^((65-aem2csp2!$A$12)/10))","v":0},0,{"$error":"#DIV/0!"},{"$error":"#DIV/0!"},{"$error":"#DIV/0!"},{"$error":"#DIV/0!"},{"$f":"+(aem2csp2!B70+(aem2csp2!C70*10))*(10^((65-aem2csp2!$A$13)/10))","v":0},0,{"$error":"#DIV/0!"},{"$error":"#DIV/0!"},{"$error":"#DIV/0!"},{"$error":"#DIV/0!"},{"$f":"+(aem2csp2!B70+(aem2csp2!C70*10))*(10^((65-aem2csp2!$A$14)/10))","v":0},0,{"$error":"#DIV/0!"},{"$error":"#DIV/0!"},{"$error":"#DIV/0!"},{"$error":"#DIV/0!"},{"$f":"+(aem2csp2!B70+(aem2csp2!C70*10))*(10^((65-aem2csp2!$A$15)/10))","v":0},0,{"$error":"#DIV/0!"},{"$error":"#DIV/0!"},{"$error":"#DIV/0!"},{"$error":"#DIV/0!"},{"$f":"+(aem2csp2!B70+(aem2csp2!C70*10))*(10^((65-aem2csp2!$A$16)/10))","v":0},0,{"$error":"#DIV/0!"},{"$error":"#DIV/0!"},{"$error":"#DIV/0!"},{"$error":"#DIV/0!"},40,{"$f":"+(aem2csp2!D70+(aem2csp2!E70*10))*(10^((65-aem2csp2!$A$11)/10))","v":0},0,{"$error":"#DIV/0!"},{"$error":"#DIV/0!"},{"$error":"#DIV/0!"},{"$error":"#DIV/0!"},{"$f":"+(aem2csp2!D70+(aem2csp2!E70*10))*(10^((65-aem2csp2!$A$12)/10))","v":0},0,{"$error":"#DIV/0!"},{"$error":"#DIV/0!"},{"$error":"#DIV/0!"},{"$error":"#DIV/0!"},{"$f":"+(aem2csp2!D70+(aem2csp2!E70*10))*(10^((65-aem2csp2!$A$13)/10))","v":0},0,{"$error":"#DIV/0!"},{"$error":"#DIV/0!"},{"$error":"#DIV/0!"},{"$error":"#DIV/0!"},{"$f":"+(aem2csp2!D70+(aem2csp2!E70*10))*(10^((65-aem2csp2!$A$14)/10))","v":0},0,{"$error":"#DIV/0!"},{"$error":"#DIV/0!"},{"$error":"#DIV/0!"},{"$error":"#DIV/0!"},{"$f":"+(aem2csp2!D70+(aem2csp2!E70*10))*(10^((65-aem2csp2!$A$15)/10))","v":0},0,{"$error":"#DIV/0!"},{"$error":"#DIV/0!"},{"$error":"#DIV/0!"},{"$error":"#DIV/0!"},{"$f":"+(aem2csp2!D70+(aem2csp2!E70*10))*(10^((65-aem2csp2!$A$16)/10))","v":0},0,{"$error":"#DIV/0!"},{"$error":"#DIV/0!"},{"$error":"#DIV/0!"},{"$error":"#DIV/0!"}]
[null,null,null,null,"A300B4-203 ",4.3536095763550497E-2,0.73880606949805805,{"$f":"+(aem2csp2!B71+(aem2csp2!C71*10))*(10^((65-aem2csp2!$A$11)/10))","v":0},0,{"$error":"#DIV/0!"},{"$error":"#DIV/0!"},{"$error":"#DIV/0!"},{"$error":"#DIV/0!"},{"$f":"+(aem2csp2!B71+(aem2csp2!C71*10))*(10^((65-aem2csp2!$A$12)/10))","v":0},0,{"$error":"#DIV/0!"},{"$error":"#DIV/0!"},{"$error":"#DIV/0!"},{"$error":"#DIV/0!"},{"$f":"+(aem2csp2!B71+(aem2csp2!C71*10))*(10^((65-aem2csp2!$A$13)/10))","v":0},0,{"$error":"#DIV/0!"},{"$error":"#DIV/0!"},{"$error":"#DIV/0!"},{"$error":"#DIV/0!"},{"$f":"+(aem2csp2!B71+(aem2csp2!C71*10))*(10^((65-aem2csp2!$A$14)/10))","v":0},0,{"$error":"#DIV/0!"},{"$error":"#DIV/0!"},{"$error":"#DIV/0!"},{"$error":"#DIV/0!"},{"$f":"+(aem2csp2!B71+(aem2csp2!C71*10))*(10^((65-aem2csp2!$A$15)/10))","v":0},0,{"$error":"#DIV/0!"},{"$error":"#DIV/0!"},{"$error":"#DIV/0!"},{"$error":"#DIV/0!"},{"$f":"+(aem2csp2!B71+(aem2csp2!C71*10))*(10^((65-aem2csp2!$A$16)/10))","v":0},0,{"$error":"#DIV/0!"},{"$error":"#DIV/0!"},{"$error":"#DIV/0!"},{"$error":"#DIV/0!"},41,{"$f":"+(aem2csp2!D71+(aem2csp2!E71*10))*(10^((65-aem2csp2!$A$11)/10))","v":0},0,{"$error":"#DIV/0!"},{"$error":"#DIV/0!"},{"$error":"#DIV/0!"},{"$error":"#DIV/0!"},{"$f":"+(aem2csp2!D71+(aem2csp2!E71*10))*(10^((65-aem2csp2!$A$12)/10))","v":0},0,{"$error":"#DIV/0!"},{"$error":"#DIV/0!"},{"$error":"#DIV/0!"},{"$error":"#DIV/0!"},{"$f":"+(aem2csp2!D71+(aem2csp2!E71*10))*(10^((65-aem2csp2!$A$13)/10))","v":0},0,{"$error":"#DIV/0!"},{"$error":"#DIV/0!"},{"$error":"#DIV/0!"},{"$error":"#DIV/0!"},{"$f":"+(aem2csp2!D71+(aem2csp2!E71*10))*(10^((65-aem2csp2!$A$14)/10))","v":0},0,{"$error":"#DIV/0!"},{"$error":"#DIV/0!"},{"$error":"#DIV/0!"},{"$error":"#DIV/0!"},{"$f":"+(aem2csp2!D71+(aem2csp2!E71*10))*(10^((65-aem2csp2!$A$15)/10))","v":0},0,{"$error":"#DIV/0!"},{"$error":"#DIV/0!"},{"$error":"#DIV/0!"},{"$error":"#DIV/0!"},{"$f":"+(aem2csp2!D71+(aem2csp2!E71*10))*(10^((65-aem2csp2!$A$16)/10))","v":0},0,{"$error":"#DIV/0!"},{"$error":"#DIV/0!"},{"$error":"#DIV/0!"},{"$error":"#DIV/0!"}]
[null,null,null,null,"A310-304 ",1.5720356260337999E-2,0.82427656625312695,{"$f":"+(aem2csp2!B72+(aem2csp2!C72*10))*(10^((65-aem2csp2!$A$11)/10))","v":0},0,{"$error":"#DIV/0!"},{"$error":"#DIV/0!"},{"$error":"#DIV/0!"},{"$error":"#DIV/0!"},{"$f":"+(aem2csp2!B72+(aem2csp2!C72*10))*(10^((65-aem2csp2!$A$12)/10))","v":0},0,{"$error":"#DIV/0!"},{"$error":"#DIV/0!"},{"$error":"#DIV/0!"},{"$error":"#DIV/0!"},{"$f":"+(aem2csp2!B72+(aem2csp2!C72*10))*(10^((65-aem2csp2!$A$13)/10))","v":0},0,{"$error":"#DIV/0!"},{"$error":"#DIV/0!"},{"$error":"#DIV/0!"},{"$error":"#DIV/0!"},{"$f":"+(aem2csp2!B72+(aem2csp2!C72*10))*(10^((65-aem2csp2!$A$14)/10))","v":0},0,{"$error":"#DIV/0!"},{"$error":"#DIV/0!"},{"$error":"#DIV/0!"},{"$error":"#DIV/0!"},{"$f":"+(aem2csp2!B72+(aem2csp2!C72*10))*(10^((65-aem2csp2!$A$15)/10))","v":0},0,{"$error":"#DIV/0!"},{"$error":"#DIV/0!"},{"$error":"#DIV/0!"},{"$error":"#DIV/0!"},{"$f":"+(aem2csp2!B72+(aem2csp2!C72*10))*(10^((65-aem2csp2!$A$16)/10))","v":0},0,{"$error":"#DIV/0!"},{"$error":"#DIV/0!"},{"$error":"#DIV/0!"},{"$error":"#DIV/0!"},42,{"$f":"+(aem2csp2!D72+(aem2csp2!E72*10))*(10^((65-aem2csp2!$A$11)/10))","v":0},0,{"$error":"#DIV/0!"},{"$error":"#DIV/0!"},{"$error":"#DIV/0!"},{"$error":"#DIV/0!"},{"$f":"+(aem2csp2!D72+(aem2csp2!E72*10))*(10^((65-aem2csp2!$A$12)/10))","v":0},0,{"$error":"#DIV/0!"},{"$error":"#DIV/0!"},{"$error":"#DIV/0!"},{"$error":"#DIV/0!"},{"$f":"+(aem2csp2!D72+(aem2csp2!E72*10))*(10^((65-aem2csp2!$A$13)/10))","v":0},0,{"$error":"#DIV/0!"},{"$error":"#DIV/0!"},{"$error":"#DIV/0!"},{"$error":"#DIV/0!"},{"$f":"+(aem2csp2!D72+(aem2csp2!E72*10))*(10^((65-aem2csp2!$A$14)/10))","v":0},0,{"$error":"#DIV/0!"},{"$error":"#DIV/0!"},{"$error":"#DIV/0!"},{"$error":"#DIV/0!"},{"$f":"+(aem2csp2!D72+(aem2csp2!E72*10))*(10^((65-aem2csp2!$A$15)/10))","v":0},0,{"$error":"#DIV/0!"},{"$error":"#DIV/0!"},{"$error":"#DIV/0!"},{"$error":"#DIV/0!"},{"$f":"+(aem2csp2!D72+(aem2csp2!E72*10))*(10^((65-aem2csp2!$A$16)/10))","v":0},0,{"$error":"#DIV/0!"},{"$error":"#DIV/0!"},{"$error":"#DIV/0!"},{"$error":"#DIV/0!"}]
[null,null,null,null,"A319-131 ",1.18017437228268E-2,0.79852449202468201,{"$f":"+(aem2csp2!B73+(aem2csp2!C73*10))*(10^((65-aem2csp2!$A$11)/10))","v":0},0,{"$error":"#DIV/0!"},{"$error":"#DIV/0!"},{"$error":"#DIV/0!"},{"$error":"#DIV/0!"},{"$f":"+(aem2csp2!B73+(aem2csp2!C73*10))*(10^((65-aem2csp2!$A$12)/10))","v":0},0,{"$error":"#DIV/0!"},{"$error":"#DIV/0!"},{"$error":"#DIV/0!"},{"$error":"#DIV/0!"},{"$f":"+(aem2csp2!B73+(aem2csp2!C73*10))*(10^((65-aem2csp2!$A$13)/10))","v":0},0,{"$error":"#DIV/0!"},{"$error":"#DIV/0!"},{"$error":"#DIV/0!"},{"$error":"#DIV/0!"},{"$f":"+(aem2csp2!B73+(aem2csp2!C73*10))*(10^((65-aem2csp2!$A$14)/10))","v":0},0,{"$error":"#DIV/0!"},{"$error":"#DIV/0!"},{"$error":"#DIV/0!"},{"$error":"#DIV/0!"},{"$f":"+(aem2csp2!B73+(aem2csp2!C73*10))*(10^((65-aem2csp2!$A$15)/10))","v":0},0,{"$error":"#DIV/0!"},{"$error":"#DIV/0!"},{"$error":"#DIV/0!"},{"$error":"#DIV/0!"},{"$f":"+(aem2csp2!B73+(aem2csp2!C73*10))*(10^((65-aem2csp2!$A$16)/10))","v":0},0,{"$error":"#DIV/0!"},{"$error":"#DIV/0!"},{"$error":"#DIV/0!"},{"$error":"#DIV/0!"},43,{"$f":"+(aem2csp2!D73+(aem2csp2!E73*10))*(10^((65-aem2csp2!$A$11)/10))","v":0},0,{"$error":"#DIV/0!"},{"$error":"#DIV/0!"},{"$error":"#DIV/0!"},{"$error":"#DIV/0!"},{"$f":"+(aem2csp2!D73+(aem2csp2!E73*10))*(10^((65-aem2csp2!$A$12)/10))","v":0},0,{"$error":"#DIV/0!"},{"$error":"#DIV/0!"},{"$error":"#DIV/0!"},{"$error":"#DIV/0!"},{"$f":"+(aem2csp2!D73+(aem2csp2!E73*10))*(10^((65-aem2csp2!$A$13)/10))","v":0},0,{"$error":"#DIV/0!"},{"$error":"#DIV/0!"},{"$error":"#DIV/0!"},{"$error":"#DIV/0!"},{"$f":"+(aem2csp2!D73+(aem2csp2!E73*10))*(10^((65-aem2csp2!$A$14)/10))","v":0},0,{"$error":"#DIV/0!"},{"$error":"#DIV/0!"},{"$error":"#DIV/0!"},{"$error":"#DIV/0!"},{"$f":"+(aem2csp2!D73+(aem2csp2!E73*10))*(10^((65-aem2csp2!$A$15)/10))","v":0},0,{"$error":"#DIV/0!"},{"$error":"#DIV/0!"},{"$error":"#DIV/0!"},{"$error":"#DIV/0!"},{"$f":"+(aem2csp2!D73+(aem2csp2!E73*10))*(10^((65-aem2csp2!$A$16)/10))","v":0},0,{"$error":"#DIV/0!"},{"$error":"#DIV/0!"},{"$error":"#DIV/0!"},{"$error":"#DIV/0!"}]
[null,null,null,null,"A320-211 ",2.2653648116157301E-2,0.73353110637593999,{"$f":"+(aem2csp2!B74+(aem2csp2!C74*10))*(10^((65-aem2csp2!$A$11)/10))","v":0},0,{"$error":"#DIV/0!"},{"$error":"#DIV/0!"},{"$error":"#DIV/0!"},{"$error":"#DIV/0!"},{"$f":"+(aem2csp2!B74+(aem2csp2!C74*10))*(10^((65-aem2csp2!$A$12)/10))","v":0},0,{"$error":"#DIV/0!"},{"$error":"#DIV/0!"},{"$error":"#DIV/0!"},{"$error":"#DIV/0!"},{"$f":"+(aem2csp2!B74+(aem2csp2!C74*10))*(10^((65-aem2csp2!$A$13)/10))","v":0},0,{"$error":"#DIV/0!"},{"$error":"#DIV/0!"},{"$error":"#DIV/0!"},{"$error":"#DIV/0!"},{"$f":"+(aem2csp2!B74+(aem2csp2!C74*10))*(10^((65-aem2csp2!$A$14)/10))","v":0},0,{"$error":"#DIV/0!"},{"$error":"#DIV/0!"},{"$error":"#DIV/0!"},{"$error":"#DIV/0!"},{"$f":"+(aem2csp2!B74+(aem2csp2!C74*10))*(10^((65-aem2csp2!$A$15)/10))","v":0},0,{"$error":"#DIV/0!"},{"$error":"#DIV/0!"},{"$error":"#DIV/0!"},{"$error":"#DIV/0!"},{"$f":"+(aem2csp2!B74+(aem2csp2!C74*10))*(10^((65-aem2csp2!$A$16)/10))","v":0},0,{"$error":"#DIV/0!"},{"$error":"#DIV/0!"},{"$error":"#DIV/0!"},{"$error":"#DIV/0!"},44,{"$f":"+(aem2csp2!D74+(aem2csp2!E74*10))*(10^((65-aem2csp2!$A$11)/10))","v":0},0,{"$error":"#DIV/0!"},{"$error":"#DIV/0!"},{"$error":"#DIV/0!"},{"$error":"#DIV/0!"},{"$f":"+(aem2csp2!D74+(aem2csp2!E74*10))*(10^((65-aem2csp2!$A$12)/10))","v":0},0,{"$error":"#DIV/0!"},{"$error":"#DIV/0!"},{"$error":"#DIV/0!"},{"$error":"#DIV/0!"},{"$f":"+(aem2csp2!D74+(aem2csp2!E74*10))*(10^((65-aem2csp2!$A$13)/10))","v":0},0,{"$error":"#DIV/0!"},{"$error":"#DIV/0!"},{"$error":"#DIV/0!"},{"$error":"#DIV/0!"},{"$f":"+(aem2csp2!D74+(aem2csp2!E74*10))*(10^((65-aem2csp2!$A$14)/10))","v":0},0,{"$error":"#DIV/0!"},{"$error":"#DIV/0!"},{"$error":"#DIV/0!"},{"$error":"#DIV/0!"},{"$f":"+(aem2csp2!D74+(aem2csp2!E74*10))*(10^((65-aem2csp2!$A$15)/10))","v":0},0,{"$error":"#DIV/0!"},{"$error":"#DIV/0!"},{"$error":"#DIV/0!"},{"$error":"#DIV/0!"},{"$f":"+(aem2csp2!D74+(aem2csp2!E74*10))*(10^((65-aem2csp2!$A$16)/10))","v":0},0,{"$error":"#DIV/0!"},{"$error":"#DIV/0!"},{"$error":"#DIV/0!"},{"$error":"#DIV/0!"}]
[null,null,null,null,"A320-232 ",1.5382196459700299E-2,0.75751782097409903,{"$f":"+(aem2csp2!B75+(aem2csp2!C75*10))*(10^((65-aem2csp2!$A$11)/10))","v":0},0,{"$error":"#DIV/0!"},{"$error":"#DIV/0!"},{"$error":"#DIV/0!"},{"$error":"#DIV/0!"},{"$f":"+(aem2csp2!B75+(aem2csp2!C75*10))*(10^((65-aem2csp2!$A$12)/10))","v":0},0,{"$error":"#DIV/0!"},{"$error":"#DIV/0!"},{"$error":"#DIV/0!"},{"$error":"#DIV/0!"},{"$f":"+(aem2csp2!B75+(aem2csp2!C75*10))*(10^((65-aem2csp2!$A$13)/10))","v":0},0,{"$error":"#DIV/0!"},{"$error":"#DIV/0!"},{"$error":"#DIV/0!"},{"$error":"#DIV/0!"},{"$f":"+(aem2csp2!B75+(aem2csp2!C75*10))*(10^((65-aem2csp2!$A$14)/10))","v":0},0,{"$error":"#DIV/0!"},{"$error":"#DIV/0!"},{"$error":"#DIV/0!"},{"$error":"#DIV/0!"},{"$f":"+(aem2csp2!B75+(aem2csp2!C75*10))*(10^((65-aem2csp2!$A$15)/10))","v":0},0,{"$error":"#DIV/0!"},{"$error":"#DIV/0!"},{"$error":"#DIV/0!"},{"$error":"#DIV/0!"},{"$f":"+(aem2csp2!B75+(aem2csp2!C75*10))*(10^((65-aem2csp2!$A$16)/10))","v":0},0,{"$error":"#DIV/0!"},{"$error":"#DIV/0!"},{"$error":"#DIV/0!"},{"$error":"#DIV/0!"},45,{"$f":"+(aem2csp2!D75+(aem2csp2!E75*10))*(10^((65-aem2csp2!$A$11)/10))","v":0},0,{"$error":"#DIV/0!"},{"$error":"#DIV/0!"},{"$error":"#DIV/0!"},{"$error":"#DIV/0!"},{"$f":"+(aem2csp2!D75+(aem2csp2!E75*10))*(10^((65-aem2csp2!$A$12)/10))","v":0},0,{"$error":"#DIV/0!"},{"$error":"#DIV/0!"},{"$error":"#DIV/0!"},{"$error":"#DIV/0!"},{"$f":"+(aem2csp2!D75+(aem2csp2!E75*10))*(10^((65-aem2csp2!$A$13)/10))","v":0},0,{"$error":"#DIV/0!"},{"$error":"#DIV/0!"},{"$error":"#DIV/0!"},{"$error":"#DIV/0!"},{"$f":"+(aem2csp2!D75+(aem2csp2!E75*10))*(10^((65-aem2csp2!$A$14)/10))","v":0},0,{"$error":"#DIV/0!"},{"$error":"#DIV/0!"},{"$error":"#DIV/0!"},{"$error":"#DIV/0!"},{"$f":"+(aem2csp2!D75+(aem2csp2!E75*10))*(10^((65-aem2csp2!$A$15)/10))","v":0},0,{"$error":"#DIV/0!"},{"$error":"#DIV/0!"},{"$error":"#DIV/0!"},{"$error":"#DIV/0!"},{"$f":"+(aem2csp2!D75+(aem2csp2!E75*10))*(10^((65-aem2csp2!$A$16)/10))","v":0},0,{"$error":"#DIV/0!"},{"$error":"#DIV/0!"},{"$error":"#DIV/0!"},{"$error":"#DIV/0!"}]
[null,null,null,null,"A321-232 ",4.2287226828830599E-2,0.65584248177738802,{"$f":"+(aem2csp2!B76+(aem2csp2!C76*10))*(10^((65-aem2csp2!$A$11)/10))","v":0},0,{"$error":"#DIV/0!"},{"$error":"#DIV/0!"},{"$error":"#DIV/0!"},{"$error":"#DIV/0!"},{"$f":"+(aem2csp2!B76+(aem2csp2!C76*10))*(10^((65-aem2csp2!$A$12)/10))","v":0},0,{"$error":"#DIV/0!"},{"$error":"#DIV/0!"},{"$error":"#DIV/0!"},{"$error":"#DIV/0!"},{"$f":"+(aem2csp2!B76+(aem2csp2!C76*10))*(10^((65-aem2csp2!$A$13)/10))","v":0},0,{"$error":"#DIV/0!"},{"$error":"#DIV/0!"},{"$error":"#DIV/0!"},{"$error":"#DIV/0!"},{"$f":"+(aem2csp2!B76+(aem2csp2!C76*10))*(10^((65-aem2csp2!$A$14)/10))","v":0},0,{"$error":"#DIV/0!"},{"$error":"#DIV/0!"},{"$error":"#DIV/0!"},{"$error":"#DIV/0!"},{"$f":"+(aem2csp2!B76+(aem2csp2!C76*10))*(10^((65-aem2csp2!$A$15)/10))","v":0},0,{"$error":"#DIV/0!"},{"$error":"#DIV/0!"},{"$error":"#DIV/0!"},{"$error":"#DIV/0!"},{"$f":"+(aem2csp2!B76+(aem2csp2!C76*10))*(10^((65-aem2csp2!$A$16)/10))","v":0},0,{"$error":"#DIV/0!"},{"$error":"#DIV/0!"},{"$error":"#DIV/0!"},{"$error":"#DIV/0!"},46,{"$f":"+(aem2csp2!D76+(aem2csp2!E76*10))*(10^((65-aem2csp2!$A$11)/10))","v":0},0,{"$error":"#DIV/0!"},{"$error":"#DIV/0!"},{"$error":"#DIV/0!"},{"$error":"#DIV/0!"},{"$f":"+(aem2csp2!D76+(aem2csp2!E76*10))*(10^((65-aem2csp2!$A$12)/10))","v":0},0,{"$error":"#DIV/0!"},{"$error":"#DIV/0!"},{"$error":"#DIV/0!"},{"$error":"#DIV/0!"},{"$f":"+(aem2csp2!D76+(aem2csp2!E76*10))*(10^((65-aem2csp2!$A$13)/10))","v":0},0,{"$error":"#DIV/0!"},{"$error":"#DIV/0!"},{"$error":"#DIV/0!"},{"$error":"#DIV/0!"},{"$f":"+(aem2csp2!D76+(aem2csp2!E76*10))*(10^((65-aem2csp2!$A$14)/10))","v":0},0,{"$error":"#DIV/0!"},{"$error":"#DIV/0!"},{"$error":"#DIV/0!"},{"$error":"#DIV/0!"},{"$f":"+(aem2csp2!D76+(aem2csp2!E76*10))*(10^((65-aem2csp2!$A$15)/10))","v":0},0,{"$error":"#DIV/0!"},{"$error":"#DIV/0!"},{"$error":"#DIV/0!"},{"$error":"#DIV/0!"},{"$f":"+(aem2csp2!D76+(aem2csp2!E76*10))*(10^((65-aem2csp2!$A$16)/10))","v":0},0,{"$error":"#DIV/0!"},{"$error":"#DIV/0!"},{"$error":"#DIV/0!"},{"$error":"#DIV/0!"}]
[null,null,null,null,"A330-301 ",4.38270814353552E-2,0.75485072960517896,{"$f":"+(aem2csp2!B77+(aem2csp2!C77*10))*(10^((65-aem2csp2!$A$11)/10))","v":0},0,{"$error":"#DIV/0!"},{"$error":"#DIV/0!"},{"$error":"#DIV/0!"},{"$error":"#DIV/0!"},{"$f":"+(aem2csp2!B77+(aem2csp2!C77*10))*(10^((65-aem2csp2!$A$12)/10))","v":0},0,{"$error":"#DIV/0!"},{"$error":"#DIV/0!"},{"$error":"#DIV/0!"},{"$error":"#DIV/0!"},{"$f":"+(aem2csp2!B77+(aem2csp2!C77*10))*(10^((65-aem2csp2!$A$13)/10))","v":0},0,{"$error":"#DIV/0!"},{"$error":"#DIV/0!"},{"$error":"#DIV/0!"},{"$error":"#DIV/0!"},{"$f":"+(aem2csp2!B77+(aem2csp2!C77*10))*(10^((65-aem2csp2!$A$14)/10))","v":0},0,{"$error":"#DIV/0!"},{"$error":"#DIV/0!"},{"$error":"#DIV/0!"},{"$error":"#DIV/0!"},{"$f":"+(aem2csp2!B77+(aem2csp2!C77*10))*(10^((65-aem2csp2!$A$15)/10))","v":0},0,{"$error":"#DIV/0!"},{"$error":"#DIV/0!"},{"$error":"#DIV/0!"},{"$error":"#DIV/0!"},{"$f":"+(aem2csp2!B77+(aem2csp2!C77*10))*(10^((65-aem2csp2!$A$16)/10))","v":0},0,{"$error":"#DIV/0!"},{"$error":"#DIV/0!"},{"$error":"#DIV/0!"},{"$error":"#DIV/0!"},47,{"$f":"+(aem2csp2!D77+(aem2csp2!E77*10))*(10^((65-aem2csp2!$A$11)/10))","v":0},0,{"$error":"#DIV/0!"},{"$error":"#DIV/0!"},{"$error":"#DIV/0!"},{"$error":"#DIV/0!"},{"$f":"+(aem2csp2!D77+(aem2csp2!E77*10))*(10^((65-aem2csp2!$A$12)/10))","v":0},0,{"$error":"#DIV/0!"},{"$error":"#DIV/0!"},{"$error":"#DIV/0!"},{"$error":"#DIV/0!"},{"$f":"+(aem2csp2!D77+(aem2csp2!E77*10))*(10^((65-aem2csp2!$A$13)/10))","v":0},0,{"$error":"#DIV/0!"},{"$error":"#DIV/0!"},{"$error":"#DIV/0!"},{"$error":"#DIV/0!"},{"$f":"+(aem2csp2!D77+(aem2csp2!E77*10))*(10^((65-aem2csp2!$A$14)/10))","v":0},0,{"$error":"#DIV/0!"},{"$error":"#DIV/0!"},{"$error":"#DIV/0!"},{"$error":"#DIV/0!"},{"$f":"+(aem2csp2!D77+(aem2csp2!E77*10))*(10^((65-aem2csp2!$A$15)/10))","v":0},0,{"$error":"#DIV/0!"},{"$error":"#DIV/0!"},{"$error":"#DIV/0!"},{"$error":"#DIV/0!"},{"$f":"+(aem2csp2!D77+(aem2csp2!E77*10))*(10^((65-aem2csp2!$A$16)/10))","v":0},0,{"$error":"#DIV/0!"},{"$error":"#DIV/0!"},{"$error":"#DIV/0!"},{"$error":"#DIV/0!"}]
[null,null,null,null,"A330-343 ",4.3646955041138601E-2,0.72317828213804702,{"$f":"+(aem2csp2!B78+(aem2csp2!C78*10))*(10^((65-aem2csp2!$A$11)/10))","v":0},0,{"$error":"#DIV/0!"},{"$error":"#DIV/0!"},{"$error":"#DIV/0!"},{"$error":"#DIV/0!"},{"$f":"+(aem2csp2!B78+(aem2csp2!C78*10))*(10^((65-aem2csp2!$A$12)/10))","v":0},0,{"$error":"#DIV/0!"},{"$error":"#DIV/0!"},{"$error":"#DIV/0!"},{"$error":"#DIV/0!"},{"$f":"+(aem2csp2!B78+(aem2csp2!C78*10))*(10^((65-aem2csp2!$A$13)/10))","v":0},0,{"$error":"#DIV/0!"},{"$error":"#DIV/0!"},{"$error":"#DIV/0!"},{"$error":"#DIV/0!"},{"$f":"+(aem2csp2!B78+(aem2csp2!C78*10))*(10^((65-aem2csp2!$A$14)/10))","v":0},0,{"$error":"#DIV/0!"},{"$error":"#DIV/0!"},{"$error":"#DIV/0!"},{"$error":"#DIV/0!"},{"$f":"+(aem2csp2!B78+(aem2csp2!C78*10))*(10^((65-aem2csp2!$A$15)/10))","v":0},0,{"$error":"#DIV/0!"},{"$error":"#DIV/0!"},{"$error":"#DIV/0!"},{"$error":"#DIV/0!"},{"$f":"+(aem2csp2!B78+(aem2csp2!C78*10))*(10^((65-aem2csp2!$A$16)/10))","v":0},0,{"$error":"#DIV/0!"},{"$error":"#DIV/0!"},{"$error":"#DIV/0!"},{"$error":"#DIV/0!"},48,{"$f":"+(aem2csp2!D78+(aem2csp2!E78*10))*(10^((65-aem2csp2!$A$11)/10))","v":0},0,{"$error":"#DIV/0!"},{"$error":"#DIV/0!"},{"$error":"#DIV/0!"},{"$error":"#DIV/0!"},{"$f":"+(aem2csp2!D78+(aem2csp2!E78*10))*(10^((65-aem2csp2!$A$12)/10))","v":0},0,{"$error":"#DIV/0!"},{"$error":"#DIV/0!"},{"$error":"#DIV/0!"},{"$error":"#DIV/0!"},{"$f":"+(aem2csp2!D78+(aem2csp2!E78*10))*(10^((65-aem2csp2!$A$13)/10))","v":0},0,{"$error":"#DIV/0!"},{"$error":"#DIV/0!"},{"$error":"#DIV/0!"},{"$error":"#DIV/0!"},{"$f":"+(aem2csp2!D78+(aem2csp2!E78*10))*(10^((65-aem2csp2!$A$14)/10))","v":0},0,{"$error":"#DIV/0!"},{"$error":"#DIV/0!"},{"$error":"#DIV/0!"},{"$error":"#DIV/0!"},{"$f":"+(aem2csp2!D78+(aem2csp2!E78*10))*(10^((65-aem2csp2!$A$15)/10))","v":0},0,{"$error":"#DIV/0!"},{"$error":"#DIV/0!"},{"$error":"#DIV/0!"},{"$error":"#DIV/0!"},{"$f":"+(aem2csp2!D78+(aem2csp2!E78*10))*(10^((65-aem2csp2!$A$16)/10))","v":0},0,{"$error":"#DIV/0!"},{"$error":"#DIV/0!"},{"$error":"#DIV/0!"},{"$error":"#DIV/0!"}]
[null,null,null,null,"A340-211 ",3.04172958306205E-2,0.772319607747745,{"$f":"+(aem2csp2!B79+(aem2csp2!C79*10))*(10^((65-aem2csp2!$A$11)/10))","v":0},0,{"$error":"#DIV/0!"},{"$error":"#DIV/0!"},{"$error":"#DIV/0!"},{"$error":"#DIV/0!"},{"$f":"+(aem2csp2!B79+(aem2csp2!C79*10))*(10^((65-aem2csp2!$A$12)/10))","v":0},0,{"$error":"#DIV/0!"},{"$error":"#DIV/0!"},{"$error":"#DIV/0!"},{"$error":"#DIV/0!"},{"$f":"+(aem2csp2!B79+(aem2csp2!C79*10))*(10^((65-aem2csp2!$A$13)/10))","v":0},0,{"$error":"#DIV/0!"},{"$error":"#DIV/0!"},{"$error":"#DIV/0!"},{"$error":"#DIV/0!"},{"$f":"+(aem2csp2!B79+(aem2csp2!C79*10))*(10^((65-aem2csp2!$A$14)/10))","v":0},0,{"$error":"#DIV/0!"},{"$error":"#DIV/0!"},{"$error":"#DIV/0!"},{"$error":"#DIV/0!"},{"$f":"+(aem2csp2!B79+(aem2csp2!C79*10))*(10^((65-aem2csp2!$A$15)/10))","v":0},0,{"$error":"#DIV/0!"},{"$error":"#DIV/0!"},{"$error":"#DIV/0!"},{"$error":"#DIV/0!"},{"$f":"+(aem2csp2!B79+(aem2csp2!C79*10))*(10^((65-aem2csp2!$A$16)/10))","v":0},0,{"$error":"#DIV/0!"},{"$error":"#DIV/0!"},{"$error":"#DIV/0!"},{"$error":"#DIV/0!"},49,{"$f":"+(aem2csp2!D79+(aem2csp2!E79*10))*(10^((65-aem2csp2!$A$11)/10))","v":0},0,{"$error":"#DIV/0!"},{"$error":"#DIV/0!"},{"$error":"#DIV/0!"},{"$error":"#DIV/0!"},{"$f":"+(aem2csp2!D79+(aem2csp2!E79*10))*(10^((65-aem2csp2!$A$12)/10))","v":0},0,{"$error":"#DIV/0!"},{"$error":"#DIV/0!"},{"$error":"#DIV/0!"},{"$error":"#DIV/0!"},{"$f":"+(aem2csp2!D79+(aem2csp2!E79*10))*(10^((65-aem2csp2!$A$13)/10))","v":0},0,{"$error":"#DIV/0!"},{"$error":"#DIV/0!"},{"$error":"#DIV/0!"},{"$error":"#DIV/0!"},{"$f":"+(aem2csp2!D79+(aem2csp2!E79*10))*(10^((65-aem2csp2!$A$14)/10))","v":0},0,{"$error":"#DIV/0!"},{"$error":"#DIV/0!"},{"$error":"#DIV/0!"},{"$error":"#DIV/0!"},{"$f":"+(aem2csp2!D79+(aem2csp2!E79*10))*(10^((65-aem2csp2!$A$15)/10))","v":0},0,{"$error":"#DIV/0!"},{"$error":"#DIV/0!"},{"$error":"#DIV/0!"},{"$error":"#DIV/0!"},{"$f":"+(aem2csp2!D79+(aem2csp2!E79*10))*(10^((65-aem2csp2!$A$16)/10))","v":0},0,{"$error":"#DIV/0!"},{"$error":"#DIV/0!"},{"$error":"#DIV/0!"},{"$error":"#DIV/0!"}]
[null,null,null,null,"A340-642 ",3.8421715222779602E-2,0.74135286865337002,{"$f":"+(aem2csp2!B80+(aem2csp2!C80*10))*(10^((65-aem2csp2!$A$11)/10))","v":0},0,{"$error":"#DIV/0!"},{"$error":"#DIV/0!"},{"$error":"#DIV/0!"},{"$error":"#DIV/0!"},{"$f":"+(aem2csp2!B80+(aem2csp2!C80*10))*(10^((65-aem2csp2!$A$12)/10))","v":0},0,{"$error":"#DIV/0!"},{"$error":"#DIV/0!"},{"$error":"#DIV/0!"},{"$error":"#DIV/0!"},{"$f":"+(aem2csp2!B80+(aem2csp2!C80*10))*(10^((65-aem2csp2!$A$13)/10))","v":0},0,{"$error":"#DIV/0!"},{"$error":"#DIV/0!"},{"$error":"#DIV/0!"},{"$error":"#DIV/0!"},{"$f":"+(aem2csp2!B80+(aem2csp2!C80*10))*(10^((65-aem2csp2!$A$14)/10))","v":0},0,{"$error":"#DIV/0!"},{"$error":"#DIV/0!"},{"$error":"#DIV/0!"},{"$error":"#DIV/0!"},{"$f":"+(aem2csp2!B80+(aem2csp2!C80*10))*(10^((65-aem2csp2!$A$15)/10))","v":0},0,{"$error":"#DIV/0!"},{"$error":"#DIV/0!"},{"$error":"#DIV/0!"},{"$error":"#DIV/0!"},{"$f":"+(aem2csp2!B80+(aem2csp2!C80*10))*(10^((65-aem2csp2!$A$16)/10))","v":0},0,{"$error":"#DIV/0!"},{"$error":"#DIV/0!"},{"$error":"#DIV/0!"},{"$error":"#DIV/0!"},50,{"$f":"+(aem2csp2!D80+(aem2csp2!E80*10))*(10^((65-aem2csp2!$A$11)/10))","v":0},0,{"$error":"#DIV/0!"},{"$error":"#DIV/0!"},{"$error":"#DIV/0!"},{"$error":"#DIV/0!"},{"$f":"+(aem2csp2!D80+(aem2csp2!E80*10))*(10^((65-aem2csp2!$A$12)/10))","v":0},0,{"$error":"#DIV/0!"},{"$error":"#DIV/0!"},{"$error":"#DIV/0!"},{"$error":"#DIV/0!"},{"$f":"+(aem2csp2!D80+(aem2csp2!E80*10))*(10^((65-aem2csp2!$A$13)/10))","v":0},0,{"$error":"#DIV/0!"},{"$error":"#DIV/0!"},{"$error":"#DIV/0!"},{"$error":"#DIV/0!"},{"$f":"+(aem2csp2!D80+(aem2csp2!E80*10))*(10^((65-aem2csp2!$A$14)/10))","v":0},0,{"$error":"#DIV/0!"},{"$error":"#DIV/0!"},{"$error":"#DIV/0!"},{"$error":"#DIV/0!"},{"$f":"+(aem2csp2!D80+(aem2csp2!E80*10))*(10^((65-aem2csp2!$A$15)/10))","v":0},0,{"$error":"#DIV/0!"},{"$error":"#DIV/0!"},{"$error":"#DIV/0!"},{"$error":"#DIV/0!"},{"$f":"+(aem2csp2!D80+(aem2csp2!E80*10))*(10^((65-aem2csp2!$A$16)/10))","v":0},0,{"$error":"#DIV/0!"},{"$error":"#DIV/0!"},{"$error":"#DIV/0!"},{"$error":"#DIV/0!"}]
[null,null,null,null,"A37 ",0.212968647718242,0.58504292417417603,{"$f":"+(aem2csp2!B81+(aem2csp2!C81*10))*(10^((65-aem2csp2!$A$11)/10))","v":0},0,{"$error":"#DIV/0!"},{"$error":"#DIV/0!"},{"$error":"#DIV/0!"},{"$error":"#DIV/0!"},{"$f":"+(aem2csp2!B81+(aem2csp2!C81*10))*(10^((65-aem2csp2!$A$12)/10))","v":0},0,{"$error":"#DIV/0!"},{"$error":"#DIV/0!"},{"$error":"#DIV/0!"},{"$error":"#DIV/0!"},{"$f":"+(aem2csp2!B81+(aem2csp2!C81*10))*(10^((65-aem2csp2!$A$13)/10))","v":0},0,{"$error":"#DIV/0!"},{"$error":"#DIV/0!"},{"$error":"#DIV/0!"},{"$error":"#DIV/0!"},{"$f":"+(aem2csp2!B81+(aem2csp2!C81*10))*(10^((65-aem2csp2!$A$14)/10))","v":0},0,{"$error":"#DIV/0!"},{"$error":"#DIV/0!"},{"$error":"#DIV/0!"},{"$error":"#DIV/0!"},{"$f":"+(aem2csp2!B81+(aem2csp2!C81*10))*(10^((65-aem2csp2!$A$15)/10))","v":0},0,{"$error":"#DIV/0!"},{"$error":"#DIV/0!"},{"$error":"#DIV/0!"},{"$error":"#DIV/0!"},{"$f":"+(aem2csp2!B81+(aem2csp2!C81*10))*(10^((65-aem2csp2!$A$16)/10))","v":0},0,{"$error":"#DIV/0!"},{"$error":"#DIV/0!"},{"$error":"#DIV/0!"},{"$error":"#DIV/0!"},51,{"$f":"+(aem2csp2!D81+(aem2csp2!E81*10))*(10^((65-aem2csp2!$A$11)/10))","v":0},0,{"$error":"#DIV/0!"},{"$error":"#DIV/0!"},{"$error":"#DIV/0!"},{"$error":"#DIV/0!"},{"$f":"+(aem2csp2!D81+(aem2csp2!E81*10))*(10^((65-aem2csp2!$A$12)/10))","v":0},0,{"$error":"#DIV/0!"},{"$error":"#DIV/0!"},{"$error":"#DIV/0!"},{"$error":"#DIV/0!"},{"$f":"+(aem2csp2!D81+(aem2csp2!E81*10))*(10^((65-aem2csp2!$A$13)/10))","v":0},0,{"$error":"#DIV/0!"},{"$error":"#DIV/0!"},{"$error":"#DIV/0!"},{"$error":"#DIV/0!"},{"$f":"+(aem2csp2!D81+(aem2csp2!E81*10))*(10^((65-aem2csp2!$A$14)/10))","v":0},0,{"$error":"#DIV/0!"},{"$error":"#DIV/0!"},{"$error":"#DIV/0!"},{"$error":"#DIV/0!"},{"$f":"+(aem2csp2!D81+(aem2csp2!E81*10))*(10^((65-aem2csp2!$A$15)/10))","v":0},0,{"$error":"#DIV/0!"},{"$error":"#DIV/0!"},{"$error":"#DIV/0!"},{"$error":"#DIV/0!"},{"$f":"+(aem2csp2!D81+(aem2csp2!E81*10))*(10^((65-aem2csp2!$A$16)/10))","v":0},0,{"$error":"#DIV/0!"},{"$error":"#DIV/0!"},{"$error":"#DIV/0!"},{"$error":"#DIV/0!"}]
[null,null,null,null,"A380-841 ",2.08230898006426E-2,0.85520243885668201,{"$f":"+(aem2csp2!B82+(aem2csp2!C82*10))*(10^((65-aem2csp2!$A$11)/10))","v":0},0,{"$error":"#DIV/0!"},{"$error":"#DIV/0!"},{"$error":"#DIV/0!"},{"$error":"#DIV/0!"},{"$f":"+(aem2csp2!B82+(aem2csp2!C82*10))*(10^((65-aem2csp2!$A$12)/10))","v":0},0,{"$error":"#DIV/0!"},{"$error":"#DIV/0!"},{"$error":"#DIV/0!"},{"$error":"#DIV/0!"},{"$f":"+(aem2csp2!B82+(aem2csp2!C82*10))*(10^((65-aem2csp2!$A$13)/10))","v":0},0,{"$error":"#DIV/0!"},{"$error":"#DIV/0!"},{"$error":"#DIV/0!"},{"$error":"#DIV/0!"},{"$f":"+(aem2csp2!B82+(aem2csp2!C82*10))*(10^((65-aem2csp2!$A$14)/10))","v":0},0,{"$error":"#DIV/0!"},{"$error":"#DIV/0!"},{"$error":"#DIV/0!"},{"$error":"#DIV/0!"},{"$f":"+(aem2csp2!B82+(aem2csp2!C82*10))*(10^((65-aem2csp2!$A$15)/10))","v":0},0,{"$error":"#DIV/0!"},{"$error":"#DIV/0!"},{"$error":"#DIV/0!"},{"$error":"#DIV/0!"},{"$f":"+(aem2csp2!B82+(aem2csp2!C82*10))*(10^((65-aem2csp2!$A$16)/10))","v":0},0,{"$error":"#DIV/0!"},{"$error":"#DIV/0!"},{"$error":"#DIV/0!"},{"$error":"#DIV/0!"},52,{"$f":"+(aem2csp2!D82+(aem2csp2!E82*10))*(10^((65-aem2csp2!$A$11)/10))","v":0},0,{"$error":"#DIV/0!"},{"$error":"#DIV/0!"},{"$error":"#DIV/0!"},{"$error":"#DIV/0!"},{"$f":"+(aem2csp2!D82+(aem2csp2!E82*10))*(10^((65-aem2csp2!$A$12)/10))","v":0},0,{"$error":"#DIV/0!"},{"$error":"#DIV/0!"},{"$error":"#DIV/0!"},{"$error":"#DIV/0!"},{"$f":"+(aem2csp2!D82+(aem2csp2!E82*10))*(10^((65-aem2csp2!$A$13)/10))","v":0},0,{"$error":"#DIV/0!"},{"$error":"#DIV/0!"},{"$error":"#DIV/0!"},{"$error":"#DIV/0!"},{"$f":"+(aem2csp2!D82+(aem2csp2!E82*10))*(10^((65-aem2csp2!$A$14)/10))","v":0},0,{"$error":"#DIV/0!"},{"$error":"#DIV/0!"},{"$error":"#DIV/0!"},{"$error":"#DIV/0!"},{"$f":"+(aem2csp2!D82+(aem2csp2!E82*10))*(10^((65-aem2csp2!$A$15)/10))","v":0},0,{"$error":"#DIV/0!"},{"$error":"#DIV/0!"},{"$error":"#DIV/0!"},{"$error":"#DIV/0!"},{"$f":"+(aem2csp2!D82+(aem2csp2!E82*10))*(10^((65-aem2csp2!$A$16)/10))","v":0},0,{"$error":"#DIV/0!"},{"$error":"#DIV/0!"},{"$error":"#DIV/0!"},{"$error":"#DIV/0!"}]
[null,null,null,null,"A380-861 ",2.3735372411900001E-2,0.84246596257511197,{"$f":"+(aem2csp2!B83+(aem2csp2!C83*10))*(10^((65-aem2csp2!$A$11)/10))","v":0},0,{"$error":"#DIV/0!"},{"$error":"#DIV/0!"},{"$error":"#DIV/0!"},{"$error":"#DIV/0!"},{"$f":"+(aem2csp2!B83+(aem2csp2!C83*10))*(10^((65-aem2csp2!$A$12)/10))","v":0},0,{"$error":"#DIV/0!"},{"$error":"#DIV/0!"},{"$error":"#DIV/0!"},{"$error":"#DIV/0!"},{"$f":"+(aem2csp2!B83+(aem2csp2!C83*10))*(10^((65-aem2csp2!$A$13)/10))","v":0},0,{"$error":"#DIV/0!"},{"$error":"#DIV/0!"},{"$error":"#DIV/0!"},{"$error":"#DIV/0!"},{"$f":"+(aem2csp2!B83+(aem2csp2!C83*10))*(10^((65-aem2csp2!$A$14)/10))","v":0},0,{"$error":"#DIV/0!"},{"$error":"#DIV/0!"},{"$error":"#DIV/0!"},{"$error":"#DIV/0!"},{"$f":"+(aem2csp2!B83+(aem2csp2!C83*10))*(10^((65-aem2csp2!$A$15)/10))","v":0},0,{"$error":"#DIV/0!"},{"$error":"#DIV/0!"},{"$error":"#DIV/0!"},{"$error":"#DIV/0!"},{"$f":"+(aem2csp2!B83+(aem2csp2!C83*10))*(10^((65-aem2csp2!$A$16)/10))","v":0},0,{"$error":"#DIV/0!"},{"$error":"#DIV/0!"},{"$error":"#DIV/0!"},{"$error":"#DIV/0!"},53,{"$f":"+(aem2csp2!D83+(aem2csp2!E83*10))*(10^((65-aem2csp2!$A$11)/10))","v":0},0,{"$error":"#DIV/0!"},{"$error":"#DIV/0!"},{"$error":"#DIV/0!"},{"$error":"#DIV/0!"},{"$f":"+(aem2csp2!D83+(aem2csp2!E83*10))*(10^((65-aem2csp2!$A$12)/10))","v":0},0,{"$error":"#DIV/0!"},{"$error":"#DIV/0!"},{"$error":"#DIV/0!"},{"$error":"#DIV/0!"},{"$f":"+(aem2csp2!D83+(aem2csp2!E83*10))*(10^((65-aem2csp2!$A$13)/10))","v":0},0,{"$error":"#DIV/0!"},{"$error":"#DIV/0!"},{"$error":"#DIV/0!"},{"$error":"#DIV/0!"},{"$f":"+(aem2csp2!D83+(aem2csp2!E83*10))*(10^((65-aem2csp2!$A$14)/10))","v":0},0,{"$error":"#DIV/0!"},{"$error":"#DIV/0!"},{"$error":"#DIV/0!"},{"$error":"#DIV/0!"},{"$f":"+(aem2csp2!D83+(aem2csp2!E83*10))*(10^((65-aem2csp2!$A$15)/10))","v":0},0,{"$error":"#DIV/0!"},{"$error":"#DIV/0!"},{"$error":"#DIV/0!"},{"$error":"#DIV/0!"},{"$f":"+(aem2csp2!D83+(aem2csp2!E83*10))*(10^((65-aem2csp2!$A$16)/10))","v":0},0,{"$error":"#DIV/0!"},{"$error":"#DIV/0!"},{"$error":"#DIV/0!"},{"$error":"#DIV/0!"}]
[null,null,null,null,"A4C ",0.34100279251156301,0.50012663436488503,{"$f":"+(aem2csp2!B84+(aem2csp2!C84*10))*(10^((65-aem2csp2!$A$11)/10))","v":0},0,{"$error":"#DIV/0!"},{"$error":"#DIV/0!"},{"$error":"#DIV/0!"},{"$error":"#DIV/0!"},{"$f":"+(aem2csp2!B84+(aem2csp2!C84*10))*(10^((65-aem2csp2!$A$12)/10))","v":0},0,{"$error":"#DIV/0!"},{"$error":"#DIV/0!"},{"$error":"#DIV/0!"},{"$error":"#DIV/0!"},{"$f":"+(aem2csp2!B84+(aem2csp2!C84*10))*(10^((65-aem2csp2!$A$13)/10))","v":0},0,{"$error":"#DIV/0!"},{"$error":"#DIV/0!"},{"$error":"#DIV/0!"},{"$error":"#DIV/0!"},{"$f":"+(aem2csp2!B84+(aem2csp2!C84*10))*(10^((65-aem2csp2!$A$14)/10))","v":0},0,{"$error":"#DIV/0!"},{"$error":"#DIV/0!"},{"$error":"#DIV/0!"},{"$error":"#DIV/0!"},{"$f":"+(aem2csp2!B84+(aem2csp2!C84*10))*(10^((65-aem2csp2!$A$15)/10))","v":0},0,{"$error":"#DIV/0!"},{"$error":"#DIV/0!"},{"$error":"#DIV/0!"},{"$error":"#DIV/0!"},{"$f":"+(aem2csp2!B84+(aem2csp2!C84*10))*(10^((65-aem2csp2!$A$16)/10))","v":0},0,{"$error":"#DIV/0!"},{"$error":"#DIV/0!"},{"$error":"#DIV/0!"},{"$error":"#DIV/0!"},54,{"$f":"+(aem2csp2!D84+(aem2csp2!E84*10))*(10^((65-aem2csp2!$A$11)/10))","v":0},0,{"$error":"#DIV/0!"},{"$error":"#DIV/0!"},{"$error":"#DIV/0!"},{"$error":"#DIV/0!"},{"$f":"+(aem2csp2!D84+(aem2csp2!E84*10))*(10^((65-aem2csp2!$A$12)/10))","v":0},0,{"$error":"#DIV/0!"},{"$error":"#DIV/0!"},{"$error":"#DIV/0!"},{"$error":"#DIV/0!"},{"$f":"+(aem2csp2!D84+(aem2csp2!E84*10))*(10^((65-aem2csp2!$A$13)/10))","v":0},0,{"$error":"#DIV/0!"},{"$error":"#DIV/0!"},{"$error":"#DIV/0!"},{"$error":"#DIV/0!"},{"$f":"+(aem2csp2!D84+(aem2csp2!E84*10))*(10^((65-aem2csp2!$A$14)/10))","v":0},0,{"$error":"#DIV/0!"},{"$error":"#DIV/0!"},{"$error":"#DIV/0!"},{"$error":"#DIV/0!"},{"$f":"+(aem2csp2!D84+(aem2csp2!E84*10))*(10^((65-aem2csp2!$A$15)/10))","v":0},0,{"$error":"#DIV/0!"},{"$error":"#DIV/0!"},{"$error":"#DIV/0!"},{"$error":"#DIV/0!"},{"$f":"+(aem2csp2!D84+(aem2csp2!E84*10))*(10^((65-aem2csp2!$A$16)/10))","v":0},0,{"$error":"#DIV/0!"},{"$error":"#DIV/0!"},{"$error":"#DIV/0!"},{"$error":"#DIV/0!"}]
[null,null,null,null,"A6A ",0.60619778538384195,0.77111639397621601,{"$f":"+(aem2csp2!B85+(aem2csp2!C85*10))*(10^((65-aem2csp2!$A$11)/10))","v":0},{"$f":"+F85*(H85^G85)","v":0},{"$error":"#DIV/0!"},{"$f":"+J85/G85","v":{"$error":"#DIV/0!"}},{"$error":"#DIV/0!"},{"$error":"#DIV/0!"},{"$f":"+(aem2csp2!B85+(aem2csp2!C85*10))*(10^((65-aem2csp2!$A$12)/10))","v":0},0,{"$error":"#DIV/0!"},{"$error":"#DIV/0!"},{"$error":"#DIV/0!"},{"$error":"#DIV/0!"},{"$f":"+(aem2csp2!B85+(aem2csp2!C85*10))*(10^((65-aem2csp2!$A$13)/10))","v":0},0,{"$error":"#DIV/0!"},{"$error":"#DIV/0!"},{"$error":"#DIV/0!"},{"$error":"#DIV/0!"},{"$f":"+(aem2csp2!B85+(aem2csp2!C85*10))*(10^((65-aem2csp2!$A$14)/10))","v":0},0,{"$error":"#DIV/0!"},{"$error":"#DIV/0!"},{"$error":"#DIV/0!"},{"$error":"#DIV/0!"},{"$f":"+(aem2csp2!B85+(aem2csp2!C85*10))*(10^((65-aem2csp2!$A$15)/10))","v":0},0,{"$error":"#DIV/0!"},{"$error":"#DIV/0!"},{"$error":"#DIV/0!"},{"$error":"#DIV/0!"},{"$f":"+(aem2csp2!B85+(aem2csp2!C85*10))*(10^((65-aem2csp2!$A$16)/10))","v":0},0,{"$error":"#DIV/0!"},{"$error":"#DIV/0!"},{"$error":"#DIV/0!"},{"$error":"#DIV/0!"},55,{"$f":"+(aem2csp2!D85+(aem2csp2!E85*10))*(10^((65-aem2csp2!$A$11)/10))","v":0},0,{"$error":"#DIV/0!"},{"$error":"#DIV/0!"},{"$error":"#DIV/0!"},{"$error":"#DIV/0!"},{"$f":"+(aem2csp2!D85+(aem2csp2!E85*10))*(10^((65-aem2csp2!$A$12)/10))","v":0},0,{"$error":"#DIV/0!"},{"$error":"#DIV/0!"},{"$error":"#DIV/0!"},{"$error":"#DIV/0!"},{"$f":"+(aem2csp2!D85+(aem2csp2!E85*10))*(10^((65-aem2csp2!$A$13)/10))","v":0},0,{"$error":"#DIV/0!"},{"$error":"#DIV/0!"},{"$error":"#DIV/0!"},{"$error":"#DIV/0!"},{"$f":"+(aem2csp2!D85+(aem2csp2!E85*10))*(10^((65-aem2csp2!$A$14)/10))","v":0},0,{"$error":"#DIV/0!"},{"$error":"#DIV/0!"},{"$error":"#DIV/0!"},{"$error":"#DIV/0!"},{"$f":"+(aem2csp2!D85+(aem2csp2!E85*10))*(10^((65-aem2csp2!$A$15)/10))","v":0},0,{"$error":"#DIV/0!"},{"$error":"#DIV/0!"},{"$error":"#DIV/0!"},{"$error":"#DIV/0!"},{"$f":"+(aem2csp2!D85+(aem2csp2!E85*10))*(10^((65-aem2csp2!$A$16)/10))","v":0},0,{"$error":"#DIV/0!"},{"$error":"#DIV/0!"},{"$error":"#DIV/0!"},{"$error":"#DIV/0!"}]
[null,null,null,null,"A7D ",0.54835513874908703,0.55620340105729205,{"$f":"+(aem2csp2!B86+(aem2csp2!C86*10))*(10^((65-aem2csp2!$A$11)/10))","v":0},0,{"$error":"#DIV/0!"},{"$error":"#DIV/0!"},{"$error":"#DIV/0!"},{"$error":"#DIV/0!"},{"$f":"+(aem2csp2!B86+(aem2csp2!C86*10))*(10^((65-aem2csp2!$A$12)/10))","v":0},0,{"$error":"#DIV/0!"},{"$error":"#DIV/0!"},{"$error":"#DIV/0!"},{"$error":"#DIV/0!"},{"$f":"+(aem2csp2!B86+(aem2csp2!C86*10))*(10^((65-aem2csp2!$A$13)/10))","v":0},0,{"$error":"#DIV/0!"},{"$error":"#DIV/0!"},{"$error":"#DIV/0!"},{"$error":"#DIV/0!"},{"$f":"+(aem2csp2!B86+(aem2csp2!C86*10))*(10^((65-aem2csp2!$A$14)/10))","v":0},0,{"$error":"#DIV/0!"},{"$error":"#DIV/0!"},{"$error":"#DIV/0!"},{"$error":"#DIV/0!"},{"$f":"+(aem2csp2!B86+(aem2csp2!C86*10))*(10^((65-aem2csp2!$A$15)/10))","v":0},0,{"$error":"#DIV/0!"},{"$error":"#DIV/0!"},{"$error":"#DIV/0!"},{"$error":"#DIV/0!"},{"$f":"+(aem2csp2!B86+(aem2csp2!C86*10))*(10^((65-aem2csp2!$A$16)/10))","v":0},0,{"$error":"#DIV/0!"},{"$error":"#DIV/0!"},{"$error":"#DIV/0!"},{"$error":"#DIV/0!"},56,{"$f":"+(aem2csp2!D86+(aem2csp2!E86*10))*(10^((65-aem2csp2!$A$11)/10))","v":0},0,{"$error":"#DIV/0!"},{"$error":"#DIV/0!"},{"$error":"#DIV/0!"},{"$error":"#DIV/0!"},{"$f":"+(aem2csp2!D86+(aem2csp2!E86*10))*(10^((65-aem2csp2!$A$12)/10))","v":0},0,{"$error":"#DIV/0!"},{"$error":"#DIV/0!"},{"$error":"#DIV/0!"},{"$error":"#DIV/0!"},{"$f":"+(aem2csp2!D86+(aem2csp2!E86*10))*(10^((65-aem2csp2!$A$13)/10))","v":0},0,{"$error":"#DIV/0!"},{"$error":"#DIV/0!"},{"$error":"#DIV/0!"},{"$error":"#DIV/0!"},{"$f":"+(aem2csp2!D86+(aem2csp2!E86*10))*(10^((65-aem2csp2!$A$14)/10))","v":0},0,{"$error":"#DIV/0!"},{"$error":"#DIV/0!"},{"$error":"#DIV/0!"},{"$error":"#DIV/0!"},{"$f":"+(aem2csp2!D86+(aem2csp2!E86*10))*(10^((65-aem2csp2!$A$15)/10))","v":0},0,{"$error":"#DIV/0!"},{"$error":"#DIV/0!"},{"$error":"#DIV/0!"},{"$error":"#DIV/0!"},{"$f":"+(aem2csp2!D86+(aem2csp2!E86*10))*(10^((65-aem2csp2!$A$16)/10))","v":0},0,{"$error":"#DIV/0!"},{"$error":"#DIV/0!"},{"$error":"#DIV/0!"},{"$error":"#DIV/0!"}]
[null,null,null,null,"A7E ",0.69185103025140504,0.56416119680653498,{"$f":"+(aem2csp2!B87+(aem2csp2!C87*10))*(10^((65-aem2csp2!$A$11)/10))","v":0},0,{"$error":"#DIV/0!"},{"$error":"#DIV/0!"},{"$error":"#DIV/0!"},{"$error":"#DIV/0!"},{"$f":"+(aem2csp2!B87+(aem2csp2!C87*10))*(10^((65-aem2csp2!$A$12)/10))","v":0},0,{"$error":"#DIV/0!"},{"$error":"#DIV/0!"},{"$error":"#DIV/0!"},{"$error":"#DIV/0!"},{"$f":"+(aem2csp2!B87+(aem2csp2!C87*10))*(10^((65-aem2csp2!$A$13)/10))","v":0},0,{"$error":"#DIV/0!"},{"$error":"#DIV/0!"},{"$error":"#DIV/0!"},{"$error":"#DIV/0!"},{"$f":"+(aem2csp2!B87+(aem2csp2!C87*10))*(10^((65-aem2csp2!$A$14)/10))","v":0},0,{"$error":"#DIV/0!"},{"$error":"#DIV/0!"},{"$error":"#DIV/0!"},{"$error":"#DIV/0!"},{"$f":"+(aem2csp2!B87+(aem2csp2!C87*10))*(10^((65-aem2csp2!$A$15)/10))","v":0},0,{"$error":"#DIV/0!"},{"$error":"#DIV/0!"},{"$error":"#DIV/0!"},{"$error":"#DIV/0!"},{"$f":"+(aem2csp2!B87+(aem2csp2!C87*10))*(10^((65-aem2csp2!$A$16)/10))","v":0},0,{"$error":"#DIV/0!"},{"$error":"#DIV/0!"},{"$error":"#DIV/0!"},{"$error":"#DIV/0!"},57,{"$f":"+(aem2csp2!D87+(aem2csp2!E87*10))*(10^((65-aem2csp2!$A$11)/10))","v":0},0,{"$error":"#DIV/0!"},{"$error":"#DIV/0!"},{"$error":"#DIV/0!"},{"$error":"#DIV/0!"},{"$f":"+(aem2csp2!D87+(aem2csp2!E87*10))*(10^((65-aem2csp2!$A$12)/10))","v":0},0,{"$error":"#DIV/0!"},{"$error":"#DIV/0!"},{"$error":"#DIV/0!"},{"$error":"#DIV/0!"},{"$f":"+(aem2csp2!D87+(aem2csp2!E87*10))*(10^((65-aem2csp2!$A$13)/10))","v":0},0,{"$error":"#DIV/0!"},{"$error":"#DIV/0!"},{"$error":"#DIV/0!"},{"$error":"#DIV/0!"},{"$f":"+(aem2csp2!D87+(aem2csp2!E87*10))*(10^((65-aem2csp2!$A$14)/10))","v":0},0,{"$error":"#DIV/0!"},{"$error":"#DIV/0!"},{"$error":"#DIV/0!"},{"$error":"#DIV/0!"},{"$f":"+(aem2csp2!D87+(aem2csp2!E87*10))*(10^((65-aem2csp2!$A$15)/10))","v":0},0,{"$error":"#DIV/0!"},{"$error":"#DIV/0!"},{"$error":"#DIV/0!"},{"$error":"#DIV/0!"},{"$f":"+(aem2csp2!D87+(aem2csp2!E87*10))*(10^((65-aem2csp2!$A$16)/10))","v":0},0,{"$error":"#DIV/0!"},{"$error":"#DIV/0!"},{"$error":"#DIV/0!"},{"$error":"#DIV/0!"}]
[null,null,null,null,"B1 ",1.47715190094704,0.58095827490876395,{"$f":"+(aem2csp2!B88+(aem2csp2!C88*10))*(10^((65-aem2csp2!$A$11)/10))","v":0},0,{"$error":"#DIV/0!"},{"$error":"#DIV/0!"},{"$error":"#DIV/0!"},{"$error":"#DIV/0!"},{"$f":"+(aem2csp2!B88+(aem2csp2!C88*10))*(10^((65-aem2csp2!$A$12)/10))","v":0},0,{"$error":"#DIV/0!"},{"$error":"#DIV/0!"},{"$error":"#DIV/0!"},{"$error":"#DIV/0!"},{"$f":"+(aem2csp2!B88+(aem2csp2!C88*10))*(10^((65-aem2csp2!$A$13)/10))","v":0},0,{"$error":"#DIV/0!"},{"$error":"#DIV/0!"},{"$error":"#DIV/0!"},{"$error":"#DIV/0!"},{"$f":"+(aem2csp2!B88+(aem2csp2!C88*10))*(10^((65-aem2csp2!$A$14)/10))","v":0},0,{"$error":"#DIV/0!"},{"$error":"#DIV/0!"},{"$error":"#DIV/0!"},{"$error":"#DIV/0!"},{"$f":"+(aem2csp2!B88+(aem2csp2!C88*10))*(10^((65-aem2csp2!$A$15)/10))","v":0},0,{"$error":"#DIV/0!"},{"$error":"#DIV/0!"},{"$error":"#DIV/0!"},{"$error":"#DIV/0!"},{"$f":"+(aem2csp2!B88+(aem2csp2!C88*10))*(10^((65-aem2csp2!$A$16)/10))","v":0},0,{"$error":"#DIV/0!"},{"$error":"#DIV/0!"},{"$error":"#DIV/0!"},{"$error":"#DIV/0!"},58,{"$f":"+(aem2csp2!D88+(aem2csp2!E88*10))*(10^((65-aem2csp2!$A$11)/10))","v":0},0,{"$error":"#DIV/0!"},{"$error":"#DIV/0!"},{"$error":"#DIV/0!"},{"$error":"#DIV/0!"},{"$f":"+(aem2csp2!D88+(aem2csp2!E88*10))*(10^((65-aem2csp2!$A$12)/10))","v":0},0,{"$error":"#DIV/0!"},{"$error":"#DIV/0!"},{"$error":"#DIV/0!"},{"$error":"#DIV/0!"},{"$f":"+(aem2csp2!D88+(aem2csp2!E88*10))*(10^((65-aem2csp2!$A$13)/10))","v":0},0,{"$error":"#DIV/0!"},{"$error":"#DIV/0!"},{"$error":"#DIV/0!"},{"$error":"#DIV/0!"},{"$f":"+(aem2csp2!D88+(aem2csp2!E88*10))*(10^((65-aem2csp2!$A$14)/10))","v":0},0,{"$error":"#DIV/0!"},{"$error":"#DIV/0!"},{"$error":"#DIV/0!"},{"$error":"#DIV/0!"},{"$f":"+(aem2csp2!D88+(aem2csp2!E88*10))*(10^((65-aem2csp2!$A$15)/10))","v":0},0,{"$error":"#DIV/0!"},{"$error":"#DIV/0!"},{"$error":"#DIV/0!"},{"$error":"#DIV/0!"},{"$f":"+(aem2csp2!D88+(aem2csp2!E88*10))*(10^((65-aem2csp2!$A$16)/10))","v":0},0,{"$error":"#DIV/0!"},{"$error":"#DIV/0!"},{"$error":"#DIV/0!"},{"$error":"#DIV/0!"}]
[null,null,null,null,"B2A ",1.3620421079898599,0.73013609727251705,{"$f":"+(aem2csp2!B89+(aem2csp2!C89*10))*(10^((65-aem2csp2!$A$11)/10))","v":0},0,{"$error":"#DIV/0!"},{"$error":"#DIV/0!"},{"$error":"#DIV/0!"},{"$error":"#DIV/0!"},{"$f":"+(aem2csp2!B89+(aem2csp2!C89*10))*(10^((65-aem2csp2!$A$12)/10))","v":0},0,{"$error":"#DIV/0!"},{"$error":"#DIV/0!"},{"$error":"#DIV/0!"},{"$error":"#DIV/0!"},{"$f":"+(aem2csp2!B89+(aem2csp2!C89*10))*(10^((65-aem2csp2!$A$13)/10))","v":0},0,{"$error":"#DIV/0!"},{"$error":"#DIV/0!"},{"$error":"#DIV/0!"},{"$error":"#DIV/0!"},{"$f":"+(aem2csp2!B89+(aem2csp2!C89*10))*(10^((65-aem2csp2!$A$14)/10))","v":0},0,{"$error":"#DIV/0!"},{"$error":"#DIV/0!"},{"$error":"#DIV/0!"},{"$error":"#DIV/0!"},{"$f":"+(aem2csp2!B89+(aem2csp2!C89*10))*(10^((65-aem2csp2!$A$15)/10))","v":0},0,{"$error":"#DIV/0!"},{"$error":"#DIV/0!"},{"$error":"#DIV/0!"},{"$error":"#DIV/0!"},{"$f":"+(aem2csp2!B89+(aem2csp2!C89*10))*(10^((65-aem2csp2!$A$16)/10))","v":0},0,{"$error":"#DIV/0!"},{"$error":"#DIV/0!"},{"$error":"#DIV/0!"},{"$error":"#DIV/0!"},59,{"$f":"+(aem2csp2!D89+(aem2csp2!E89*10))*(10^((65-aem2csp2!$A$11)/10))","v":0},0,{"$error":"#DIV/0!"},{"$error":"#DIV/0!"},{"$error":"#DIV/0!"},{"$error":"#DIV/0!"},{"$f":"+(aem2csp2!D89+(aem2csp2!E89*10))*(10^((65-aem2csp2!$A$12)/10))","v":0},0,{"$error":"#DIV/0!"},{"$error":"#DIV/0!"},{"$error":"#DIV/0!"},{"$error":"#DIV/0!"},{"$f":"+(aem2csp2!D89+(aem2csp2!E89*10))*(10^((65-aem2csp2!$A$13)/10))","v":0},0,{"$error":"#DIV/0!"},{"$error":"#DIV/0!"},{"$error":"#DIV/0!"},{"$error":"#DIV/0!"},{"$f":"+(aem2csp2!D89+(aem2csp2!E89*10))*(10^((65-aem2csp2!$A$14)/10))","v":0},0,{"$error":"#DIV/0!"},{"$error":"#DIV/0!"},{"$error":"#DIV/0!"},{"$error":"#DIV/0!"},{"$f":"+(aem2csp2!D89+(aem2csp2!E89*10))*(10^((65-aem2csp2!$A$15)/10))","v":0},0,{"$error":"#DIV/0!"},{"$error":"#DIV/0!"},{"$error":"#DIV/0!"},{"$error":"#DIV/0!"},{"$f":"+(aem2csp2!D89+(aem2csp2!E89*10))*(10^((65-aem2csp2!$A$16)/10))","v":0},0,{"$error":"#DIV/0!"},{"$error":"#DIV/0!"},{"$error":"#DIV/0!"},{"$error":"#DIV/0!"}]
[null,null,null,null,"B52BDE ",5.6524194744758898,0.855222901587811,{"$f":"+(aem2csp2!B90+(aem2csp2!C90*10))*(10^((65-aem2csp2!$A$11)/10))","v":0},0,{"$error":"#DIV/0!"},{"$error":"#DIV/0!"},{"$error":"#DIV/0!"},{"$error":"#DIV/0!"},{"$f":"+(aem2csp2!B90+(aem2csp2!C90*10))*(10^((65-aem2csp2!$A$12)/10))","v":0},0,{"$error":"#DIV/0!"},{"$error":"#DIV/0!"},{"$error":"#DIV/0!"},{"$error":"#DIV/0!"},{"$f":"+(aem2csp2!B90+(aem2csp2!C90*10))*(10^((65-aem2csp2!$A$13)/10))","v":0},0,{"$error":"#DIV/0!"},{"$error":"#DIV/0!"},{"$error":"#DIV/0!"},{"$error":"#DIV/0!"},{"$f":"+(aem2csp2!B90+(aem2csp2!C90*10))*(10^((65-aem2csp2!$A$14)/10))","v":0},0,{"$error":"#DIV/0!"},{"$error":"#DIV/0!"},{"$error":"#DIV/0!"},{"$error":"#DIV/0!"},{"$f":"+(aem2csp2!B90+(aem2csp2!C90*10))*(10^((65-aem2csp2!$A$15)/10))","v":0},0,{"$error":"#DIV/0!"},{"$error":"#DIV/0!"},{"$error":"#DIV/0!"},{"$error":"#DIV/0!"},{"$f":"+(aem2csp2!B90+(aem2csp2!C90*10))*(10^((65-aem2csp2!$A$16)/10))","v":0},0,{"$error":"#DIV/0!"},{"$error":"#DIV/0!"},{"$error":"#DIV/0!"},{"$error":"#DIV/0!"},60,{"$f":"+(aem2csp2!D90+(aem2csp2!E90*10))*(10^((65-aem2csp2!$A$11)/10))","v":0},0,{"$error":"#DIV/0!"},{"$error":"#DIV/0!"},{"$error":"#DIV/0!"},{"$error":"#DIV/0!"},{"$f":"+(aem2csp2!D90+(aem2csp2!E90*10))*(10^((65-aem2csp2!$A$12)/10))","v":0},0,{"$error":"#DIV/0!"},{"$error":"#DIV/0!"},{"$error":"#DIV/0!"},{"$error":"#DIV/0!"},{"$f":"+(aem2csp2!D90+(aem2csp2!E90*10))*(10^((65-aem2csp2!$A$13)/10))","v":0},0,{"$error":"#DIV/0!"},{"$error":"#DIV/0!"},{"$error":"#DIV/0!"},{"$error":"#DIV/0!"},{"$f":"+(aem2csp2!D90+(aem2csp2!E90*10))*(10^((65-aem2csp2!$A$14)/10))","v":0},0,{"$error":"#DIV/0!"},{"$error":"#DIV/0!"},{"$error":"#DIV/0!"},{"$error":"#DIV/0!"},{"$f":"+(aem2csp2!D90+(aem2csp2!E90*10))*(10^((65-aem2csp2!$A$15)/10))","v":0},0,{"$error":"#DIV/0!"},{"$error":"#DIV/0!"},{"$error":"#DIV/0!"},{"$error":"#DIV/0!"},{"$f":"+(aem2csp2!D90+(aem2csp2!E90*10))*(10^((65-aem2csp2!$A$16)/10))","v":0},0,{"$error":"#DIV/0!"},{"$error":"#DIV/0!"},{"$error":"#DIV/0!"},{"$error":"#DIV/0!"}]
[null,null,null,null,"B52G ",4.3331195141410204,0.47304633481534702,{"$f":"+(aem2csp2!B91+(aem2csp2!C91*10))*(10^((65-aem2csp2!$A$11)/10))","v":0},0,{"$error":"#DIV/0!"},{"$error":"#DIV/0!"},{"$error":"#DIV/0!"},{"$error":"#DIV/0!"},{"$f":"+(aem2csp2!B91+(aem2csp2!C91*10))*(10^((65-aem2csp2!$A$12)/10))","v":0},0,{"$error":"#DIV/0!"},{"$error":"#DIV/0!"},{"$error":"#DIV/0!"},{"$error":"#DIV/0!"},{"$f":"+(aem2csp2!B91+(aem2csp2!C91*10))*(10^((65-aem2csp2!$A$13)/10))","v":0},0,{"$error":"#DIV/0!"},{"$error":"#DIV/0!"},{"$error":"#DIV/0!"},{"$error":"#DIV/0!"},{"$f":"+(aem2csp2!B91+(aem2csp2!C91*10))*(10^((65-aem2csp2!$A$14)/10))","v":0},0,{"$error":"#DIV/0!"},{"$error":"#DIV/0!"},{"$error":"#DIV/0!"},{"$error":"#DIV/0!"},{"$f":"+(aem2csp2!B91+(aem2csp2!C91*10))*(10^((65-aem2csp2!$A$15)/10))","v":0},0,{"$error":"#DIV/0!"},{"$error":"#DIV/0!"},{"$error":"#DIV/0!"},{"$error":"#DIV/0!"},{"$f":"+(aem2csp2!B91+(aem2csp2!C91*10))*(10^((65-aem2csp2!$A$16)/10))","v":0},0,{"$error":"#DIV/0!"},{"$error":"#DIV/0!"},{"$error":"#DIV/0!"},{"$error":"#DIV/0!"},61,{"$f":"+(aem2csp2!D91+(aem2csp2!E91*10))*(10^((65-aem2csp2!$A$11)/10))","v":0},0,{"$error":"#DIV/0!"},{"$error":"#DIV/0!"},{"$error":"#DIV/0!"},{"$error":"#DIV/0!"},{"$f":"+(aem2csp2!D91+(aem2csp2!E91*10))*(10^((65-aem2csp2!$A$12)/10))","v":0},0,{"$error":"#DIV/0!"},{"$error":"#DIV/0!"},{"$error":"#DIV/0!"},{"$error":"#DIV/0!"},{"$f":"+(aem2csp2!D91+(aem2csp2!E91*10))*(10^((65-aem2csp2!$A$13)/10))","v":0},0,{"$error":"#DIV/0!"},{"$error":"#DIV/0!"},{"$error":"#DIV/0!"},{"$error":"#DIV/0!"},{"$f":"+(aem2csp2!D91+(aem2csp2!E91*10))*(10^((65-aem2csp2!$A$14)/10))","v":0},0,{"$error":"#DIV/0!"},{"$error":"#DIV/0!"},{"$error":"#DIV/0!"},{"$error":"#DIV/0!"},{"$f":"+(aem2csp2!D91+(aem2csp2!E91*10))*(10^((65-aem2csp2!$A$15)/10))","v":0},0,{"$error":"#DIV/0!"},{"$error":"#DIV/0!"},{"$error":"#DIV/0!"},{"$error":"#DIV/0!"},{"$f":"+(aem2csp2!D91+(aem2csp2!E91*10))*(10^((65-aem2csp2!$A$16)/10))","v":0},0,{"$error":"#DIV/0!"},{"$error":"#DIV/0!"},{"$error":"#DIV/0!"},{"$error":"#DIV/0!"}]
[null,null,null,null,"B52H ",0.63072483604468699,0.69135751513202703,{"$f":"+(aem2csp2!B92+(aem2csp2!C92*10))*(10^((65-aem2csp2!$A$11)/10))","v":0},0,{"$error":"#DIV/0!"},{"$error":"#DIV/0!"},{"$error":"#DIV/0!"},{"$error":"#DIV/0!"},{"$f":"+(aem2csp2!B92+(aem2csp2!C92*10))*(10^((65-aem2csp2!$A$12)/10))","v":0},0,{"$error":"#DIV/0!"},{"$error":"#DIV/0!"},{"$error":"#DIV/0!"},{"$error":"#DIV/0!"},{"$f":"+(aem2csp2!B92+(aem2csp2!C92*10))*(10^((65-aem2csp2!$A$13)/10))","v":0},0,{"$error":"#DIV/0!"},{"$error":"#DIV/0!"},{"$error":"#DIV/0!"},{"$error":"#DIV/0!"},{"$f":"+(aem2csp2!B92+(aem2csp2!C92*10))*(10^((65-aem2csp2!$A$14)/10))","v":0},0,{"$error":"#DIV/0!"},{"$error":"#DIV/0!"},{"$error":"#DIV/0!"},{"$error":"#DIV/0!"},{"$f":"+(aem2csp2!B92+(aem2csp2!C92*10))*(10^((65-aem2csp2!$A$15)/10))","v":0},0,{"$error":"#DIV/0!"},{"$error":"#DIV/0!"},{"$error":"#DIV/0!"},{"$error":"#DIV/0!"},{"$f":"+(aem2csp2!B92+(aem2csp2!C92*10))*(10^((65-aem2csp2!$A$16)/10))","v":0},0,{"$error":"#DIV/0!"},{"$error":"#DIV/0!"},{"$error":"#DIV/0!"},{"$error":"#DIV/0!"},62,{"$f":"+(aem2csp2!D92+(aem2csp2!E92*10))*(10^((65-aem2csp2!$A$11)/10))","v":0},0,{"$error":"#DIV/0!"},{"$error":"#DIV/0!"},{"$error":"#DIV/0!"},{"$error":"#DIV/0!"},{"$f":"+(aem2csp2!D92+(aem2csp2!E92*10))*(10^((65-aem2csp2!$A$12)/10))","v":0},0,{"$error":"#DIV/0!"},{"$error":"#DIV/0!"},{"$error":"#DIV/0!"},{"$error":"#DIV/0!"},{"$f":"+(aem2csp2!D92+(aem2csp2!E92*10))*(10^((65-aem2csp2!$A$13)/10))","v":0},0,{"$error":"#DIV/0!"},{"$error":"#DIV/0!"},{"$error":"#DIV/0!"},{"$error":"#DIV/0!"},{"$f":"+(aem2csp2!D92+(aem2csp2!E92*10))*(10^((65-aem2csp2!$A$14)/10))","v":0},0,{"$error":"#DIV/0!"},{"$error":"#DIV/0!"},{"$error":"#DIV/0!"},{"$error":"#DIV/0!"},{"$f":"+(aem2csp2!D92+(aem2csp2!E92*10))*(10^((65-aem2csp2!$A$15)/10))","v":0},0,{"$error":"#DIV/0!"},{"$error":"#DIV/0!"},{"$error":"#DIV/0!"},{"$error":"#DIV/0!"},{"$f":"+(aem2csp2!D92+(aem2csp2!E92*10))*(10^((65-aem2csp2!$A$16)/10))","v":0},0,{"$error":"#DIV/0!"},{"$error":"#DIV/0!"},{"$error":"#DIV/0!"},{"$error":"#DIV/0!"}]
[null,null,null,null,"B57E ",0.34817526281216499,0.72493617940488397,{"$f":"+(aem2csp2!B93+(aem2csp2!C93*10))*(10^((65-aem2csp2!$A$11)/10))","v":0},0,{"$error":"#DIV/0!"},{"$error":"#DIV/0!"},{"$error":"#DIV/0!"},{"$error":"#DIV/0!"},{"$f":"+(aem2csp2!B93+(aem2csp2!C93*10))*(10^((65-aem2csp2!$A$12)/10))","v":0},0,{"$error":"#DIV/0!"},{"$error":"#DIV/0!"},{"$error":"#DIV/0!"},{"$error":"#DIV/0!"},{"$f":"+(aem2csp2!B93+(aem2csp2!C93*10))*(10^((65-aem2csp2!$A$13)/10))","v":0},0,{"$error":"#DIV/0!"},{"$error":"#DIV/0!"},{"$error":"#DIV/0!"},{"$error":"#DIV/0!"},{"$f":"+(aem2csp2!B93+(aem2csp2!C93*10))*(10^((65-aem2csp2!$A$14)/10))","v":0},0,{"$error":"#DIV/0!"},{"$error":"#DIV/0!"},{"$error":"#DIV/0!"},{"$error":"#DIV/0!"},{"$f":"+(aem2csp2!B93+(aem2csp2!C93*10))*(10^((65-aem2csp2!$A$15)/10))","v":0},0,{"$error":"#DIV/0!"},{"$error":"#DIV/0!"},{"$error":"#DIV/0!"},{"$error":"#DIV/0!"},{"$f":"+(aem2csp2!B93+(aem2csp2!C93*10))*(10^((65-aem2csp2!$A$16)/10))","v":0},0,{"$error":"#DIV/0!"},{"$error":"#DIV/0!"},{"$error":"#DIV/0!"},{"$error":"#DIV/0!"},63,{"$f":"+(aem2csp2!D93+(aem2csp2!E93*10))*(10^((65-aem2csp2!$A$11)/10))","v":0},0,{"$error":"#DIV/0!"},{"$error":"#DIV/0!"},{"$error":"#DIV/0!"},{"$error":"#DIV/0!"},{"$f":"+(aem2csp2!D93+(aem2csp2!E93*10))*(10^((65-aem2csp2!$A$12)/10))","v":0},0,{"$error":"#DIV/0!"},{"$error":"#DIV/0!"},{"$error":"#DIV/0!"},{"$error":"#DIV/0!"},{"$f":"+(aem2csp2!D93+(aem2csp2!E93*10))*(10^((65-aem2csp2!$A$13)/10))","v":0},0,{"$error":"#DIV/0!"},{"$error":"#DIV/0!"},{"$error":"#DIV/0!"},{"$error":"#DIV/0!"},{"$f":"+(aem2csp2!D93+(aem2csp2!E93*10))*(10^((65-aem2csp2!$A$14)/10))","v":0},0,{"$error":"#DIV/0!"},{"$error":"#DIV/0!"},{"$error":"#DIV/0!"},{"$error":"#DIV/0!"},{"$f":"+(aem2csp2!D93+(aem2csp2!E93*10))*(10^((65-aem2csp2!$A$15)/10))","v":0},0,{"$error":"#DIV/0!"},{"$error":"#DIV/0!"},{"$error":"#DIV/0!"},{"$error":"#DIV/0!"},{"$f":"+(aem2csp2!D93+(aem2csp2!E93*10))*(10^((65-aem2csp2!$A$16)/10))","v":0},0,{"$error":"#DIV/0!"},{"$error":"#DIV/0!"},{"$error":"#DIV/0!"},{"$error":"#DIV/0!"}]
[null,null,null,null,"BAC111 ",5.75844712239027E-2,0.72936738770687604,{"$f":"+(aem2csp2!B94+(aem2csp2!C94*10))*(10^((65-aem2csp2!$A$11)/10))","v":0},0,{"$error":"#DIV/0!"},{"$error":"#DIV/0!"},{"$error":"#DIV/0!"},{"$error":"#DIV/0!"},{"$f":"+(aem2csp2!B94+(aem2csp2!C94*10))*(10^((65-aem2csp2!$A$12)/10))","v":0},0,{"$error":"#DIV/0!"},{"$error":"#DIV/0!"},{"$error":"#DIV/0!"},{"$error":"#DIV/0!"},{"$f":"+(aem2csp2!B94+(aem2csp2!C94*10))*(10^((65-aem2csp2!$A$13)/10))","v":0},0,{"$error":"#DIV/0!"},{"$error":"#DIV/0!"},{"$error":"#DIV/0!"},{"$error":"#DIV/0!"},{"$f":"+(aem2csp2!B94+(aem2csp2!C94*10))*(10^((65-aem2csp2!$A$14)/10))","v":0},0,{"$error":"#DIV/0!"},{"$error":"#DIV/0!"},{"$error":"#DIV/0!"},{"$error":"#DIV/0!"},{"$f":"+(aem2csp2!B94+(aem2csp2!C94*10))*(10^((65-aem2csp2!$A$15)/10))","v":0},0,{"$error":"#DIV/0!"},{"$error":"#DIV/0!"},{"$error":"#DIV/0!"},{"$error":"#DIV/0!"},{"$f":"+(aem2csp2!B94+(aem2csp2!C94*10))*(10^((65-aem2csp2!$A$16)/10))","v":0},0,{"$error":"#DIV/0!"},{"$error":"#DIV/0!"},{"$error":"#DIV/0!"},{"$error":"#DIV/0!"},64,{"$f":"+(aem2csp2!D94+(aem2csp2!E94*10))*(10^((65-aem2csp2!$A$11)/10))","v":0},0,{"$error":"#DIV/0!"},{"$error":"#DIV/0!"},{"$error":"#DIV/0!"},{"$error":"#DIV/0!"},{"$f":"+(aem2csp2!D94+(aem2csp2!E94*10))*(10^((65-aem2csp2!$A$12)/10))","v":0},0,{"$error":"#DIV/0!"},{"$error":"#DIV/0!"},{"$error":"#DIV/0!"},{"$error":"#DIV/0!"},{"$f":"+(aem2csp2!D94+(aem2csp2!E94*10))*(10^((65-aem2csp2!$A$13)/10))","v":0},0,{"$error":"#DIV/0!"},{"$error":"#DIV/0!"},{"$error":"#DIV/0!"},{"$error":"#DIV/0!"},{"$f":"+(aem2csp2!D94+(aem2csp2!E94*10))*(10^((65-aem2csp2!$A$14)/10))","v":0},0,{"$error":"#DIV/0!"},{"$error":"#DIV/0!"},{"$error":"#DIV/0!"},{"$error":"#DIV/0!"},{"$f":"+(aem2csp2!D94+(aem2csp2!E94*10))*(10^((65-aem2csp2!$A$15)/10))","v":0},0,{"$error":"#DIV/0!"},{"$error":"#DIV/0!"},{"$error":"#DIV/0!"},{"$error":"#DIV/0!"},{"$f":"+(aem2csp2!D94+(aem2csp2!E94*10))*(10^((65-aem2csp2!$A$16)/10))","v":0},0,{"$error":"#DIV/0!"},{"$error":"#DIV/0!"},{"$error":"#DIV/0!"},{"$error":"#DIV/0!"}]
[null,null,null,null,"BAE146 ",7.5148727615529003E-3,0.89164724980417998,{"$f":"+(aem2csp2!B95+(aem2csp2!C95*10))*(10^((65-aem2csp2!$A$11)/10))","v":0},0,{"$error":"#DIV/0!"},{"$error":"#DIV/0!"},{"$error":"#DIV/0!"},{"$error":"#DIV/0!"},{"$f":"+(aem2csp2!B95+(aem2csp2!C95*10))*(10^((65-aem2csp2!$A$12)/10))","v":0},0,{"$error":"#DIV/0!"},{"$error":"#DIV/0!"},{"$error":"#DIV/0!"},{"$f":"+N95/R95","v":{"$error":"#DIV/0!"}},{"$f":"+(aem2csp2!B95+(aem2csp2!C95*10))*(10^((65-aem2csp2!$A$13)/10))","v":0},{"$f":"+F95*(T95^G95)","v":0},{"$f":"+(U95/$U$267)^(1/G95)","v":{"$error":"#DIV/0!"}},{"$f":"+V95/G95","v":{"$error":"#DIV/0!"}},{"$f":"+($X$269/F95)^(1/G95)","v":{"$error":"#DIV/0!"}},{"$error":"#DIV/0!"},{"$f":"+(aem2csp2!B95+(aem2csp2!C95*10))*(10^((65-aem2csp2!$A$14)/10))","v":0},0,{"$error":"#DIV/0!"},{"$error":"#DIV/0!"},{"$error":"#DIV/0!"},{"$error":"#DIV/0!"},{"$f":"+(aem2csp2!B95+(aem2csp2!C95*10))*(10^((65-aem2csp2!$A$15)/10))","v":0},0,{"$error":"#DIV/0!"},{"$error":"#DIV/0!"},{"$error":"#DIV/0!"},{"$error":"#DIV/0!"},{"$f":"+(aem2csp2!B95+(aem2csp2!C95*10))*(10^((65-aem2csp2!$A$16)/10))","v":0},0,{"$error":"#DIV/0!"},{"$error":"#DIV/0!"},{"$error":"#DIV/0!"},{"$error":"#DIV/0!"},65,{"$f":"+(aem2csp2!D95+(aem2csp2!E95*10))*(10^((65-aem2csp2!$A$11)/10))","v":0},0,{"$error":"#DIV/0!"},{"$error":"#DIV/0!"},{"$error":"#DIV/0!"},{"$error":"#DIV/0!"},{"$f":"+(aem2csp2!D95+(aem2csp2!E95*10))*(10^((65-aem2csp2!$A$12)/10))","v":0},0,{"$error":"#DIV/0!"},{"$error":"#DIV/0!"},{"$error":"#DIV/0!"},{"$error":"#DIV/0!"},{"$f":"+(aem2csp2!D95+(aem2csp2!E95*10))*(10^((65-aem2csp2!$A$13)/10))","v":0},0,{"$error":"#DIV/0!"},{"$error":"#DIV/0!"},{"$error":"#DIV/0!"},{"$error":"#DIV/0!"},{"$f":"+(aem2csp2!D95+(aem2csp2!E95*10))*(10^((65-aem2csp2!$A$14)/10))","v":0},0,{"$error":"#DIV/0!"},{"$error":"#DIV/0!"},{"$error":"#DIV/0!"},{"$error":"#DIV/0!"},{"$f":"+(aem2csp2!D95+(aem2csp2!E95*10))*(10^((65-aem2csp2!$A$15)/10))","v":0},0,{"$error":"#DIV/0!"},{"$error":"#DIV/0!"},{"$error":"#DIV/0!"},{"$error":"#DIV/0!"},{"$f":"+(aem2csp2!D95+(aem2csp2!E95*10))*(10^((65-aem2csp2!$A$16)/10))","v":0},0,{"$error":"#DIV/0!"},{"$error":"#DIV/0!"},{"$error":"#DIV/0!"},{"$error":"#DIV/0!"}]
[null,null,null,null,"BAE300 ",7.0719419982417098E-3,0.90595376267453898,{"$f":"+(aem2csp2!B96+(aem2csp2!C96*10))*(10^((65-aem2csp2!$A$11)/10))","v":0},0,{"$error":"#DIV/0!"},{"$error":"#DIV/0!"},{"$error":"#DIV/0!"},{"$error":"#DIV/0!"},{"$f":"+(aem2csp2!B96+(aem2csp2!C96*10))*(10^((65-aem2csp2!$A$12)/10))","v":0},0,{"$error":"#DIV/0!"},{"$error":"#DIV/0!"},{"$error":"#DIV/0!"},{"$error":"#DIV/0!"},{"$f":"+(aem2csp2!B96+(aem2csp2!C96*10))*(10^((65-aem2csp2!$A$13)/10))","v":0},0,{"$error":"#DIV/0!"},{"$error":"#DIV/0!"},{"$error":"#DIV/0!"},{"$error":"#DIV/0!"},{"$f":"+(aem2csp2!B96+(aem2csp2!C96*10))*(10^((65-aem2csp2!$A$14)/10))","v":0},0,{"$error":"#DIV/0!"},{"$error":"#DIV/0!"},{"$error":"#DIV/0!"},{"$error":"#DIV/0!"},{"$f":"+(aem2csp2!B96+(aem2csp2!C96*10))*(10^((65-aem2csp2!$A$15)/10))","v":0},0,{"$error":"#DIV/0!"},{"$error":"#DIV/0!"},{"$error":"#DIV/0!"},{"$error":"#DIV/0!"},{"$f":"+(aem2csp2!B96+(aem2csp2!C96*10))*(10^((65-aem2csp2!$A$16)/10))","v":0},0,{"$error":"#DIV/0!"},{"$error":"#DIV/0!"},{"$error":"#DIV/0!"},{"$error":"#DIV/0!"},66,{"$f":"+(aem2csp2!D96+(aem2csp2!E96*10))*(10^((65-aem2csp2!$A$11)/10))","v":0},0,{"$error":"#DIV/0!"},{"$error":"#DIV/0!"},{"$error":"#DIV/0!"},{"$error":"#DIV/0!"},{"$f":"+(aem2csp2!D96+(aem2csp2!E96*10))*(10^((65-aem2csp2!$A$12)/10))","v":0},0,{"$error":"#DIV/0!"},{"$error":"#DIV/0!"},{"$error":"#DIV/0!"},{"$error":"#DIV/0!"},{"$f":"+(aem2csp2!D96+(aem2csp2!E96*10))*(10^((65-aem2csp2!$A$13)/10))","v":0},0,{"$error":"#DIV/0!"},{"$error":"#DIV/0!"},{"$error":"#DIV/0!"},{"$error":"#DIV/0!"},{"$f":"+(aem2csp2!D96+(aem2csp2!E96*10))*(10^((65-aem2csp2!$A$14)/10))","v":0},0,{"$error":"#DIV/0!"},{"$error":"#DIV/0!"},{"$error":"#DIV/0!"},{"$error":"#DIV/0!"},{"$f":"+(aem2csp2!D96+(aem2csp2!E96*10))*(10^((65-aem2csp2!$A$15)/10))","v":0},0,{"$error":"#DIV/0!"},{"$error":"#DIV/0!"},{"$error":"#DIV/0!"},{"$error":"#DIV/0!"},{"$f":"+(aem2csp2!D96+(aem2csp2!E96*10))*(10^((65-aem2csp2!$A$16)/10))","v":0},0,{"$error":"#DIV/0!"},{"$error":"#DIV/0!"},{"$error":"#DIV/0!"},{"$error":"#DIV/0!"}]
[null,null,null,null,"BEC58P ",1.2900486403844299E-2,0.67096474991342703,{"$f":"+(aem2csp2!B97+(aem2csp2!C97*10))*(10^((65-aem2csp2!$A$11)/10))","v":0},0,{"$error":"#DIV/0!"},{"$error":"#DIV/0!"},{"$error":"#DIV/0!"},{"$error":"#DIV/0!"},{"$f":"+(aem2csp2!B97+(aem2csp2!C97*10))*(10^((65-aem2csp2!$A$12)/10))","v":0},0,{"$error":"#DIV/0!"},{"$error":"#DIV/0!"},{"$error":"#DIV/0!"},{"$error":"#DIV/0!"},{"$f":"+(aem2csp2!B97+(aem2csp2!C97*10))*(10^((65-aem2csp2!$A$13)/10))","v":0},0,{"$error":"#DIV/0!"},{"$error":"#DIV/0!"},{"$error":"#DIV/0!"},{"$error":"#DIV/0!"},{"$f":"+(aem2csp2!B97+(aem2csp2!C97*10))*(10^((65-aem2csp2!$A$14)/10))","v":0},0,{"$error":"#DIV/0!"},{"$error":"#DIV/0!"},{"$error":"#DIV/0!"},{"$error":"#DIV/0!"},{"$f":"+(aem2csp2!B97+(aem2csp2!C97*10))*(10^((65-aem2csp2!$A$15)/10))","v":0},0,{"$error":"#DIV/0!"},{"$error":"#DIV/0!"},{"$error":"#DIV/0!"},{"$error":"#DIV/0!"},{"$f":"+(aem2csp2!B97+(aem2csp2!C97*10))*(10^((65-aem2csp2!$A$16)/10))","v":0},0,{"$error":"#DIV/0!"},{"$error":"#DIV/0!"},{"$error":"#DIV/0!"},{"$error":"#DIV/0!"},67,{"$f":"+(aem2csp2!D97+(aem2csp2!E97*10))*(10^((65-aem2csp2!$A$11)/10))","v":0},0,{"$error":"#DIV/0!"},{"$error":"#DIV/0!"},{"$error":"#DIV/0!"},{"$error":"#DIV/0!"},{"$f":"+(aem2csp2!D97+(aem2csp2!E97*10))*(10^((65-aem2csp2!$A$12)/10))","v":0},0,{"$error":"#DIV/0!"},{"$error":"#DIV/0!"},{"$error":"#DIV/0!"},{"$error":"#DIV/0!"},{"$f":"+(aem2csp2!D97+(aem2csp2!E97*10))*(10^((65-aem2csp2!$A$13)/10))","v":0},0,{"$error":"#DIV/0!"},{"$error":"#DIV/0!"},{"$error":"#DIV/0!"},{"$error":"#DIV/0!"},{"$f":"+(aem2csp2!D97+(aem2csp2!E97*10))*(10^((65-aem2csp2!$A$14)/10))","v":0},0,{"$error":"#DIV/0!"},{"$error":"#DIV/0!"},{"$error":"#DIV/0!"},{"$error":"#DIV/0!"},{"$f":"+(aem2csp2!D97+(aem2csp2!E97*10))*(10^((65-aem2csp2!$A$15)/10))","v":0},0,{"$error":"#DIV/0!"},{"$error":"#DIV/0!"},{"$error":"#DIV/0!"},{"$error":"#DIV/0!"},{"$f":"+(aem2csp2!D97+(aem2csp2!E97*10))*(10^((65-aem2csp2!$A$16)/10))","v":0},0,{"$error":"#DIV/0!"},{"$error":"#DIV/0!"},{"$error":"#DIV/0!"},{"$error":"#DIV/0!"}]
[null,null,null,null,"C118 ",0.10956329292934799,0.95548827045773999,{"$f":"+(aem2csp2!B98+(aem2csp2!C98*10))*(10^((65-aem2csp2!$A$11)/10))","v":0},0,{"$error":"#DIV/0!"},{"$error":"#DIV/0!"},{"$error":"#DIV/0!"},{"$error":"#DIV/0!"},{"$f":"+(aem2csp2!B98+(aem2csp2!C98*10))*(10^((65-aem2csp2!$A$12)/10))","v":0},0,{"$error":"#DIV/0!"},{"$error":"#DIV/0!"},{"$error":"#DIV/0!"},{"$error":"#DIV/0!"},{"$f":"+(aem2csp2!B98+(aem2csp2!C98*10))*(10^((65-aem2csp2!$A$13)/10))","v":0},0,{"$error":"#DIV/0!"},{"$error":"#DIV/0!"},{"$error":"#DIV/0!"},{"$error":"#DIV/0!"},{"$f":"+(aem2csp2!B98+(aem2csp2!C98*10))*(10^((65-aem2csp2!$A$14)/10))","v":0},0,{"$error":"#DIV/0!"},{"$error":"#DIV/0!"},{"$error":"#DIV/0!"},{"$error":"#DIV/0!"},{"$f":"+(aem2csp2!B98+(aem2csp2!C98*10))*(10^((65-aem2csp2!$A$15)/10))","v":0},0,{"$error":"#DIV/0!"},{"$error":"#DIV/0!"},{"$error":"#DIV/0!"},{"$error":"#DIV/0!"},{"$f":"+(aem2csp2!B98+(aem2csp2!C98*10))*(10^((65-aem2csp2!$A$16)/10))","v":0},0,{"$error":"#DIV/0!"},{"$error":"#DIV/0!"},{"$error":"#DIV/0!"},{"$error":"#DIV/0!"},68,{"$f":"+(aem2csp2!D98+(aem2csp2!E98*10))*(10^((65-aem2csp2!$A$11)/10))","v":0},0,{"$error":"#DIV/0!"},{"$error":"#DIV/0!"},{"$error":"#DIV/0!"},{"$error":"#DIV/0!"},{"$f":"+(aem2csp2!D98+(aem2csp2!E98*10))*(10^((65-aem2csp2!$A$12)/10))","v":0},0,{"$error":"#DIV/0!"},{"$error":"#DIV/0!"},{"$error":"#DIV/0!"},{"$error":"#DIV/0!"},{"$f":"+(aem2csp2!D98+(aem2csp2!E98*10))*(10^((65-aem2csp2!$A$13)/10))","v":0},0,{"$error":"#DIV/0!"},{"$error":"#DIV/0!"},{"$error":"#DIV/0!"},{"$error":"#DIV/0!"},{"$f":"+(aem2csp2!D98+(aem2csp2!E98*10))*(10^((65-aem2csp2!$A$14)/10))","v":0},0,{"$error":"#DIV/0!"},{"$error":"#DIV/0!"},{"$error":"#DIV/0!"},{"$error":"#DIV/0!"},{"$f":"+(aem2csp2!D98+(aem2csp2!E98*10))*(10^((65-aem2csp2!$A$15)/10))","v":0},0,{"$error":"#DIV/0!"},{"$error":"#DIV/0!"},{"$error":"#DIV/0!"},{"$error":"#DIV/0!"},{"$f":"+(aem2csp2!D98+(aem2csp2!E98*10))*(10^((65-aem2csp2!$A$16)/10))","v":0},0,{"$error":"#DIV/0!"},{"$error":"#DIV/0!"},{"$error":"#DIV/0!"},{"$error":"#DIV/0!"}]
[null,null,null,null,"C12 ",1.07829310051272E-2,0.52796012881170595,{"$f":"+(aem2csp2!B99+(aem2csp2!C99*10))*(10^((65-aem2csp2!$A$11)/10))","v":0},0,{"$error":"#DIV/0!"},{"$error":"#DIV/0!"},{"$error":"#DIV/0!"},{"$error":"#DIV/0!"},{"$f":"+(aem2csp2!B99+(aem2csp2!C99*10))*(10^((65-aem2csp2!$A$12)/10))","v":0},0,{"$error":"#DIV/0!"},{"$error":"#DIV/0!"},{"$error":"#DIV/0!"},{"$error":"#DIV/0!"},{"$f":"+(aem2csp2!B99+(aem2csp2!C99*10))*(10^((65-aem2csp2!$A$13)/10))","v":0},0,{"$error":"#DIV/0!"},{"$error":"#DIV/0!"},{"$error":"#DIV/0!"},{"$error":"#DIV/0!"},{"$f":"+(aem2csp2!B99+(aem2csp2!C99*10))*(10^((65-aem2csp2!$A$14)/10))","v":0},0,{"$error":"#DIV/0!"},{"$error":"#DIV/0!"},{"$error":"#DIV/0!"},{"$error":"#DIV/0!"},{"$f":"+(aem2csp2!B99+(aem2csp2!C99*10))*(10^((65-aem2csp2!$A$15)/10))","v":0},0,{"$error":"#DIV/0!"},{"$error":"#DIV/0!"},{"$error":"#DIV/0!"},{"$error":"#DIV/0!"},{"$f":"+(aem2csp2!B99+(aem2csp2!C99*10))*(10^((65-aem2csp2!$A$16)/10))","v":0},0,{"$error":"#DIV/0!"},{"$error":"#DIV/0!"},{"$error":"#DIV/0!"},{"$error":"#DIV/0!"},69,{"$f":"+(aem2csp2!D99+(aem2csp2!E99*10))*(10^((65-aem2csp2!$A$11)/10))","v":0},0,{"$error":"#DIV/0!"},{"$error":"#DIV/0!"},{"$error":"#DIV/0!"},{"$error":"#DIV/0!"},{"$f":"+(aem2csp2!D99+(aem2csp2!E99*10))*(10^((65-aem2csp2!$A$12)/10))","v":0},0,{"$error":"#DIV/0!"},{"$error":"#DIV/0!"},{"$error":"#DIV/0!"},{"$error":"#DIV/0!"},{"$f":"+(aem2csp2!D99+(aem2csp2!E99*10))*(10^((65-aem2csp2!$A$13)/10))","v":0},0,{"$error":"#DIV/0!"},{"$error":"#DIV/0!"},{"$error":"#DIV/0!"},{"$error":"#DIV/0!"},{"$f":"+(aem2csp2!D99+(aem2csp2!E99*10))*(10^((65-aem2csp2!$A$14)/10))","v":0},0,{"$error":"#DIV/0!"},{"$error":"#DIV/0!"},{"$error":"#DIV/0!"},{"$error":"#DIV/0!"},{"$f":"+(aem2csp2!D99+(aem2csp2!E99*10))*(10^((65-aem2csp2!$A$15)/10))","v":0},0,{"$error":"#DIV/0!"},{"$error":"#DIV/0!"},{"$error":"#DIV/0!"},{"$error":"#DIV/0!"},{"$f":"+(aem2csp2!D99+(aem2csp2!E99*10))*(10^((65-aem2csp2!$A$16)/10))","v":0},0,{"$error":"#DIV/0!"},{"$error":"#DIV/0!"},{"$error":"#DIV/0!"},{"$error":"#DIV/0!"}]
[null,null,null,null,"C130 ",2.5875067006751001E-2,0.79649819302951697,{"$f":"+(aem2csp2!B100+(aem2csp2!C100*10))*(10^((65-aem2csp2!$A$11)/10))","v":0},0,{"$error":"#DIV/0!"},{"$error":"#DIV/0!"},{"$error":"#DIV/0!"},{"$error":"#DIV/0!"},{"$f":"+(aem2csp2!B100+(aem2csp2!C100*10))*(10^((65-aem2csp2!$A$12)/10))","v":0},0,{"$error":"#DIV/0!"},{"$error":"#DIV/0!"},{"$error":"#DIV/0!"},{"$error":"#DIV/0!"},{"$f":"+(aem2csp2!B100+(aem2csp2!C100*10))*(10^((65-aem2csp2!$A$13)/10))","v":0},0,{"$error":"#DIV/0!"},{"$error":"#DIV/0!"},{"$error":"#DIV/0!"},{"$f":"+T100/X100","v":{"$error":"#DIV/0!"}},{"$f":"+(aem2csp2!B100+(aem2csp2!C100*10))*(10^((65-aem2csp2!$A$14)/10))","v":0},{"$f":"+F100*(Z100^G100)","v":0},{"$f":"+(AA100/$AA$267)^(1/G100)","v":{"$error":"#DIV/0!"}},{"$f":"+AB100/G100","v":{"$error":"#DIV/0!"}},{"$f":"+($AD$269/F100)^(1/G100)","v":{"$error":"#DIV/0!"}},{"$f":"+Z100/AD100","v":{"$error":"#DIV/0!"}},{"$f":"+(aem2csp2!B100+(aem2csp2!C100*10))*(10^((65-aem2csp2!$A$15)/10))","v":0},{"$f":"+F100*(AF100^G100)","v":0},{"$f":"+(AG100/$AG$267)^(1/G100)","v":{"$error":"#DIV/0!"}},{"$f":"+AH100/G100","v":{"$error":"#DIV/0!"}},{"$f":"+($AJ$269/F100)^(1/G100)","v":{"$error":"#DIV/0!"}},{"$f":"+AF100/AJ100","v":{"$error":"#DIV/0!"}},{"$f":"+(aem2csp2!B100+(aem2csp2!C100*10))*(10^((65-aem2csp2!$A$16)/10))","v":0},{"$f":"+F100*(AL100^G100)","v":0},{"$f":"+(AM100/$AM$267)^(1/G100)","v":{"$error":"#DIV/0!"}},{"$f":"+AN100/G100","v":{"$error":"#DIV/0!"}},{"$f":"+($AP$269/F100)^(1/G100)","v":{"$error":"#DIV/0!"}},{"$f":"+AL100/AP100","v":{"$error":"#DIV/0!"}},70,{"$f":"+(aem2csp2!D100+(aem2csp2!E100*10))*(10^((65-aem2csp2!$A$11)/10))","v":0},{"$f":"+F100*(AS100^G100)","v":0},{"$f":"+(AT100/$AT$267)^(1/G100)","v":{"$error":"#DIV/0!"}},{"$f":"+AU100/G100","v":{"$error":"#DIV/0!"}},{"$f":"+($AW$269/F100)^(1/G100)","v":{"$error":"#DIV/0!"}},{"$f":"+AS100/AW100","v":{"$error":"#DIV/0!"}},{"$f":"+(aem2csp2!D100+(aem2csp2!E100*10))*(10^((65-aem2csp2!$A$12)/10))","v":0},{"$f":"+F100*(AY100^G100)","v":0},{"$f":"+(AZ100/$AZ$267)^(1/G100)","v":{"$error":"#DIV/0!"}},{"$f":"+BA100/G100","v":{"$error":"#DIV/0!"}},{"$f":"+($BC$269/F100)^(1/G100)","v":{"$error":"#DIV/0!"}},{"$f":"+AY100/BC100","v":{"$error":"#DIV/0!"}},{"$f":"+(aem2csp2!D100+(aem2csp2!E100*10))*(10^((65-aem2csp2!$A$13)/10))","v":0},{"$f":"+F100*(BE100^G100)","v":0},{"$f":"+(BF100/$BF$267)^(1/G100)","v":{"$error":"#DIV/0!"}},{"$f":"+BG100/G100","v":{"$error":"#DIV/0!"}},{"$f":"+($BI$269/F100)^(1/G100)","v":{"$error":"#DIV/0!"}},{"$f":"+BE100/BI100","v":{"$error":"#DIV/0!"}},{"$f":"+(aem2csp2!D100+(aem2csp2!E100*10))*(10^((65-aem2csp2!$A$14)/10))","v":0},{"$f":"+F100*(BK100^G100)","v":0},{"$f":"+(BL100/$BL$267)^(1/G100)","v":{"$error":"#DIV/0!"}},{"$f":"+BM100/G100","v":{"$error":"#DIV/0!"}},{"$f":"+($BO$269/F100)^(1/G100)","v":{"$error":"#DIV/0!"}},{"$f":"+BK100/BO100","v":{"$error":"#DIV/0!"}},{"$f":"+(aem2csp2!D100+(aem2csp2!E100*10))*(10^((65-aem2csp2!$A$15)/10))","v":0},{"$f":"+F100*(BQ100^G100)","v":0},{"$f":"+(BR100/$BR$267)^(1/G100)","v":{"$error":"#DIV/0!"}},{"$f":"+BS100/G100","v":{"$error":"#DIV/0!"}},{"$f":"+($BU$269/F100)^(1/G100)","v":{"$error":"#DIV/0!"}},{"$f":"+BQ100/BU100","v":{"$error":"#DIV/0!"}},{"$f":"+(aem2csp2!D100+(aem2csp2!E100*10))*(10^((65-aem2csp2!$A$16)/10))","v":0},{"$f":"+F100*(BW100^G100)","v":0},{"$f":"+(BX100/$BX$267)^(1/G100)","v":{"$error":"#DIV/0!"}},{"$f":"+BY100/G100","v":{"$error":"#DIV/0!"}},{"$f":"+($CA$269/F100)^(1/G100)","v":{"$error":"#DIV/0!"}},{"$f":"+BW100/CA100","v":{"$error":"#DIV/0!"}}]
[null,null,null,null,"C130AD ",2.5619914959846599E-2,0.79427705940272098,{"$f":"+(aem2csp2!B101+(aem2csp2!C101*10))*(10^((65-aem2csp2!$A$11)/10))","v":0},0,{"$error":"#DIV/0!"},{"$error":"#DIV/0!"},{"$error":"#DIV/0!"},{"$error":"#DIV/0!"},{"$f":"+(aem2csp2!B101+(aem2csp2!C101*10))*(10^((65-aem2csp2!$A$12)/10))","v":0},0,{"$error":"#DIV/0!"},{"$error":"#DIV/0!"},{"$error":"#DIV/0!"},{"$error":"#DIV/0!"},{"$f":"+(aem2csp2!B101+(aem2csp2!C101*10))*(10^((65-aem2csp2!$A$13)/10))","v":0},0,{"$error":"#DIV/0!"},{"$error":"#DIV/0!"},{"$error":"#DIV/0!"},{"$error":"#DIV/0!"},{"$f":"+(aem2csp2!B101+(aem2csp2!C101*10))*(10^((65-aem2csp2!$A$14)/10))","v":0},0,{"$error":"#DIV/0!"},{"$error":"#DIV/0!"},{"$error":"#DIV/0!"},{"$error":"#DIV/0!"},{"$f":"+(aem2csp2!B101+(aem2csp2!C101*10))*(10^((65-aem2csp2!$A$15)/10))","v":0},0,{"$error":"#DIV/0!"},{"$error":"#DIV/0!"},{"$error":"#DIV/0!"},{"$error":"#DIV/0!"},{"$f":"+(aem2csp2!B101+(aem2csp2!C101*10))*(10^((65-aem2csp2!$A$16)/10))","v":0},0,{"$error":"#DIV/0!"},{"$error":"#DIV/0!"},{"$error":"#DIV/0!"},{"$error":"#DIV/0!"},71,{"$f":"+(aem2csp2!D101+(aem2csp2!E101*10))*(10^((65-aem2csp2!$A$11)/10))","v":0},0,{"$error":"#DIV/0!"},{"$error":"#DIV/0!"},{"$error":"#DIV/0!"},{"$error":"#DIV/0!"},{"$f":"+(aem2csp2!D101+(aem2csp2!E101*10))*(10^((65-aem2csp2!$A$12)/10))","v":0},0,{"$error":"#DIV/0!"},{"$error":"#DIV/0!"},{"$error":"#DIV/0!"},{"$error":"#DIV/0!"},{"$f":"+(aem2csp2!D101+(aem2csp2!E101*10))*(10^((65-aem2csp2!$A$13)/10))","v":0},0,{"$error":"#DIV/0!"},{"$error":"#DIV/0!"},{"$error":"#DIV/0!"},{"$error":"#DIV/0!"},{"$f":"+(aem2csp2!D101+(aem2csp2!E101*10))*(10^((65-aem2csp2!$A$14)/10))","v":0},0,{"$error":"#DIV/0!"},{"$error":"#DIV/0!"},{"$error":"#DIV/0!"},{"$error":"#DIV/0!"},{"$f":"+(aem2csp2!D101+(aem2csp2!E101*10))*(10^((65-aem2csp2!$A$15)/10))","v":0},0,{"$error":"#DIV/0!"},{"$error":"#DIV/0!"},{"$error":"#DIV/0!"},{"$error":"#DIV/0!"},{"$f":"+(aem2csp2!D101+(aem2csp2!E101*10))*(10^((65-aem2csp2!$A$16)/10))","v":0},0,{"$error":"#DIV/0!"},{"$error":"#DIV/0!"},{"$error":"#DIV/0!"},{"$error":"#DIV/0!"}]
[null,null,null,null,"C130E ",1.0540796273303401E-2,0.85196778369967796,{"$f":"+(aem2csp2!B102+(aem2csp2!C102*10))*(10^((65-aem2csp2!$A$11)/10))","v":0},0,{"$error":"#DIV/0!"},{"$error":"#DIV/0!"},{"$error":"#DIV/0!"},{"$error":"#DIV/0!"},{"$f":"+(aem2csp2!B102+(aem2csp2!C102*10))*(10^((65-aem2csp2!$A$12)/10))","v":0},0,{"$error":"#DIV/0!"},{"$error":"#DIV/0!"},{"$error":"#DIV/0!"},{"$error":"#DIV/0!"},{"$f":"+(aem2csp2!B102+(aem2csp2!C102*10))*(10^((65-aem2csp2!$A$13)/10))","v":0},0,{"$error":"#DIV/0!"},{"$error":"#DIV/0!"},{"$error":"#DIV/0!"},{"$error":"#DIV/0!"},{"$f":"+(aem2csp2!B102+(aem2csp2!C102*10))*(10^((65-aem2csp2!$A$14)/10))","v":0},0,{"$error":"#DIV/0!"},{"$error":"#DIV/0!"},{"$error":"#DIV/0!"},{"$error":"#DIV/0!"},{"$f":"+(aem2csp2!B102+(aem2csp2!C102*10))*(10^((65-aem2csp2!$A$15)/10))","v":0},0,{"$error":"#DIV/0!"},{"$error":"#DIV/0!"},{"$error":"#DIV/0!"},{"$error":"#DIV/0!"},{"$f":"+(aem2csp2!B102+(aem2csp2!C102*10))*(10^((65-aem2csp2!$A$16)/10))","v":0},0,{"$error":"#DIV/0!"},{"$error":"#DIV/0!"},{"$error":"#DIV/0!"},{"$error":"#DIV/0!"},72,{"$f":"+(aem2csp2!D102+(aem2csp2!E102*10))*(10^((65-aem2csp2!$A$11)/10))","v":0},0,{"$error":"#DIV/0!"},{"$error":"#DIV/0!"},{"$error":"#DIV/0!"},{"$error":"#DIV/0!"},{"$f":"+(aem2csp2!D102+(aem2csp2!E102*10))*(10^((65-aem2csp2!$A$12)/10))","v":0},0,{"$error":"#DIV/0!"},{"$error":"#DIV/0!"},{"$error":"#DIV/0!"},{"$error":"#DIV/0!"},{"$f":"+(aem2csp2!D102+(aem2csp2!E102*10))*(10^((65-aem2csp2!$A$13)/10))","v":0},0,{"$error":"#DIV/0!"},{"$error":"#DIV/0!"},{"$error":"#DIV/0!"},{"$error":"#DIV/0!"},{"$f":"+(aem2csp2!D102+(aem2csp2!E102*10))*(10^((65-aem2csp2!$A$14)/10))","v":0},0,{"$error":"#DIV/0!"},{"$error":"#DIV/0!"},{"$error":"#DIV/0!"},{"$error":"#DIV/0!"},{"$f":"+(aem2csp2!D102+(aem2csp2!E102*10))*(10^((65-aem2csp2!$A$15)/10))","v":0},0,{"$error":"#DIV/0!"},{"$error":"#DIV/0!"},{"$error":"#DIV/0!"},{"$error":"#DIV/0!"},{"$f":"+(aem2csp2!D102+(aem2csp2!E102*10))*(10^((65-aem2csp2!$A$16)/10))","v":0},0,{"$error":"#DIV/0!"},{"$error":"#DIV/0!"},{"$error":"#DIV/0!"},{"$error":"#DIV/0!"}]
[null,null,null,null,"C-130E ",3.1778367132911101E-2,0.730575027824102,{"$f":"+(aem2csp2!B103+(aem2csp2!C103*10))*(10^((65-aem2csp2!$A$11)/10))","v":0},0,{"$error":"#DIV/0!"},{"$error":"#DIV/0!"},{"$error":"#DIV/0!"},{"$error":"#DIV/0!"},{"$f":"+(aem2csp2!B103+(aem2csp2!C103*10))*(10^((65-aem2csp2!$A$12)/10))","v":0},0,{"$error":"#DIV/0!"},{"$error":"#DIV/0!"},{"$error":"#DIV/0!"},{"$error":"#DIV/0!"},{"$f":"+(aem2csp2!B103+(aem2csp2!C103*10))*(10^((65-aem2csp2!$A$13)/10))","v":0},0,{"$error":"#DIV/0!"},{"$error":"#DIV/0!"},{"$error":"#DIV/0!"},{"$error":"#DIV/0!"},{"$f":"+(aem2csp2!B103+(aem2csp2!C103*10))*(10^((65-aem2csp2!$A$14)/10))","v":0},0,{"$error":"#DIV/0!"},{"$error":"#DIV/0!"},{"$error":"#DIV/0!"},{"$error":"#DIV/0!"},{"$f":"+(aem2csp2!B103+(aem2csp2!C103*10))*(10^((65-aem2csp2!$A$15)/10))","v":0},0,{"$error":"#DIV/0!"},{"$error":"#DIV/0!"},{"$error":"#DIV/0!"},{"$error":"#DIV/0!"},{"$f":"+(aem2csp2!B103+(aem2csp2!C103*10))*(10^((65-aem2csp2!$A$16)/10))","v":0},0,{"$error":"#DIV/0!"},{"$error":"#DIV/0!"},{"$error":"#DIV/0!"},{"$error":"#DIV/0!"},73,{"$f":"+(aem2csp2!D103+(aem2csp2!E103*10))*(10^((65-aem2csp2!$A$11)/10))","v":0},0,{"$error":"#DIV/0!"},{"$error":"#DIV/0!"},{"$error":"#DIV/0!"},{"$error":"#DIV/0!"},{"$f":"+(aem2csp2!D103+(aem2csp2!E103*10))*(10^((65-aem2csp2!$A$12)/10))","v":0},0,{"$error":"#DIV/0!"},{"$error":"#DIV/0!"},{"$error":"#DIV/0!"},{"$error":"#DIV/0!"},{"$f":"+(aem2csp2!D103+(aem2csp2!E103*10))*(10^((65-aem2csp2!$A$13)/10))","v":0},0,{"$error":"#DIV/0!"},{"$error":"#DIV/0!"},{"$error":"#DIV/0!"},{"$error":"#DIV/0!"},{"$f":"+(aem2csp2!D103+(aem2csp2!E103*10))*(10^((65-aem2csp2!$A$14)/10))","v":0},0,{"$error":"#DIV/0!"},{"$error":"#DIV/0!"},{"$error":"#DIV/0!"},{"$error":"#DIV/0!"},{"$f":"+(aem2csp2!D103+(aem2csp2!E103*10))*(10^((65-aem2csp2!$A$15)/10))","v":0},0,{"$error":"#DIV/0!"},{"$error":"#DIV/0!"},{"$error":"#DIV/0!"},{"$error":"#DIV/0!"},{"$f":"+(aem2csp2!D103+(aem2csp2!E103*10))*(10^((65-aem2csp2!$A$16)/10))","v":0},0,{"$error":"#DIV/0!"},{"$error":"#DIV/0!"},{"$error":"#DIV/0!"},{"$error":"#DIV/0!"}]
[null,null,null,null,"C130HP ",1.0704494404795499E-2,0.88754642586062105,{"$f":"+(aem2csp2!B104+(aem2csp2!C104*10))*(10^((65-aem2csp2!$A$11)/10))","v":0},0,{"$error":"#DIV/0!"},{"$error":"#DIV/0!"},{"$error":"#DIV/0!"},{"$error":"#DIV/0!"},{"$f":"+(aem2csp2!B104+(aem2csp2!C104*10))*(10^((65-aem2csp2!$A$12)/10))","v":0},0,{"$error":"#DIV/0!"},{"$error":"#DIV/0!"},{"$error":"#DIV/0!"},{"$error":"#DIV/0!"},{"$f":"+(aem2csp2!B104+(aem2csp2!C104*10))*(10^((65-aem2csp2!$A$13)/10))","v":0},0,{"$error":"#DIV/0!"},{"$error":"#DIV/0!"},{"$error":"#DIV/0!"},{"$error":"#DIV/0!"},{"$f":"+(aem2csp2!B104+(aem2csp2!C104*10))*(10^((65-aem2csp2!$A$14)/10))","v":0},0,{"$error":"#DIV/0!"},{"$error":"#DIV/0!"},{"$error":"#DIV/0!"},{"$error":"#DIV/0!"},{"$f":"+(aem2csp2!B104+(aem2csp2!C104*10))*(10^((65-aem2csp2!$A$15)/10))","v":0},0,{"$error":"#DIV/0!"},{"$error":"#DIV/0!"},{"$error":"#DIV/0!"},{"$error":"#DIV/0!"},{"$f":"+(aem2csp2!B104+(aem2csp2!C104*10))*(10^((65-aem2csp2!$A$16)/10))","v":0},0,{"$error":"#DIV/0!"},{"$error":"#DIV/0!"},{"$error":"#DIV/0!"},{"$error":"#DIV/0!"},74,{"$f":"+(aem2csp2!D104+(aem2csp2!E104*10))*(10^((65-aem2csp2!$A$11)/10))","v":0},0,{"$error":"#DIV/0!"},{"$error":"#DIV/0!"},{"$error":"#DIV/0!"},{"$error":"#DIV/0!"},{"$f":"+(aem2csp2!D104+(aem2csp2!E104*10))*(10^((65-aem2csp2!$A$12)/10))","v":0},0,{"$error":"#DIV/0!"},{"$error":"#DIV/0!"},{"$error":"#DIV/0!"},{"$error":"#DIV/0!"},{"$f":"+(aem2csp2!D104+(aem2csp2!E104*10))*(10^((65-aem2csp2!$A$13)/10))","v":0},0,{"$error":"#DIV/0!"},{"$error":"#DIV/0!"},{"$error":"#DIV/0!"},{"$error":"#DIV/0!"},{"$f":"+(aem2csp2!D104+(aem2csp2!E104*10))*(10^((65-aem2csp2!$A$14)/10))","v":0},0,{"$error":"#DIV/0!"},{"$error":"#DIV/0!"},{"$error":"#DIV/0!"},{"$error":"#DIV/0!"},{"$f":"+(aem2csp2!D104+(aem2csp2!E104*10))*(10^((65-aem2csp2!$A$15)/10))","v":0},0,{"$error":"#DIV/0!"},{"$error":"#DIV/0!"},{"$error":"#DIV/0!"},{"$error":"#DIV/0!"},{"$f":"+(aem2csp2!D104+(aem2csp2!E104*10))*(10^((65-aem2csp2!$A$16)/10))","v":0},0,{"$error":"#DIV/0!"},{"$error":"#DIV/0!"},{"$error":"#DIV/0!"},{"$error":"#DIV/0!"}]
[null,null,null,null,"C131B ",5.9560261591785402E-2,0.70561690686108802,{"$f":"+(aem2csp2!B105+(aem2csp2!C105*10))*(10^((65-aem2csp2!$A$11)/10))","v":0},0,{"$error":"#DIV/0!"},{"$error":"#DIV/0!"},{"$error":"#DIV/0!"},{"$error":"#DIV/0!"},{"$f":"+(aem2csp2!B105+(aem2csp2!C105*10))*(10^((65-aem2csp2!$A$12)/10))","v":0},0,{"$error":"#DIV/0!"},{"$error":"#DIV/0!"},{"$error":"#DIV/0!"},{"$error":"#DIV/0!"},{"$f":"+(aem2csp2!B105+(aem2csp2!C105*10))*(10^((65-aem2csp2!$A$13)/10))","v":0},0,{"$error":"#DIV/0!"},{"$error":"#DIV/0!"},{"$error":"#DIV/0!"},{"$error":"#DIV/0!"},{"$f":"+(aem2csp2!B105+(aem2csp2!C105*10))*(10^((65-aem2csp2!$A$14)/10))","v":0},0,{"$error":"#DIV/0!"},{"$error":"#DIV/0!"},{"$error":"#DIV/0!"},{"$error":"#DIV/0!"},{"$f":"+(aem2csp2!B105+(aem2csp2!C105*10))*(10^((65-aem2csp2!$A$15)/10))","v":0},0,{"$error":"#DIV/0!"},{"$error":"#DIV/0!"},{"$error":"#DIV/0!"},{"$error":"#DIV/0!"},{"$f":"+(aem2csp2!B105+(aem2csp2!C105*10))*(10^((65-aem2csp2!$A$16)/10))","v":0},0,{"$error":"#DIV/0!"},{"$error":"#DIV/0!"},{"$error":"#DIV/0!"},{"$error":"#DIV/0!"},75,{"$f":"+(aem2csp2!D105+(aem2csp2!E105*10))*(10^((65-aem2csp2!$A$11)/10))","v":0},0,{"$error":"#DIV/0!"},{"$error":"#DIV/0!"},{"$error":"#DIV/0!"},{"$error":"#DIV/0!"},{"$f":"+(aem2csp2!D105+(aem2csp2!E105*10))*(10^((65-aem2csp2!$A$12)/10))","v":0},0,{"$error":"#DIV/0!"},{"$error":"#DIV/0!"},{"$error":"#DIV/0!"},{"$error":"#DIV/0!"},{"$f":"+(aem2csp2!D105+(aem2csp2!E105*10))*(10^((65-aem2csp2!$A$13)/10))","v":0},0,{"$error":"#DIV/0!"},{"$error":"#DIV/0!"},{"$error":"#DIV/0!"},{"$error":"#DIV/0!"},{"$f":"+(aem2csp2!D105+(aem2csp2!E105*10))*(10^((65-aem2csp2!$A$14)/10))","v":0},0,{"$error":"#DIV/0!"},{"$error":"#DIV/0!"},{"$error":"#DIV/0!"},{"$error":"#DIV/0!"},{"$f":"+(aem2csp2!D105+(aem2csp2!E105*10))*(10^((65-aem2csp2!$A$15)/10))","v":0},0,{"$error":"#DIV/0!"},{"$error":"#DIV/0!"},{"$error":"#DIV/0!"},{"$error":"#DIV/0!"},{"$f":"+(aem2csp2!D105+(aem2csp2!E105*10))*(10^((65-aem2csp2!$A$16)/10))","v":0},0,{"$error":"#DIV/0!"},{"$error":"#DIV/0!"},{"$error":"#DIV/0!"},{"$error":"#DIV/0!"}]
[null,null,null,null,"C135A ",2.3007534304686499,0.67442565247700503,{"$f":"+(aem2csp2!B106+(aem2csp2!C106*10))*(10^((65-aem2csp2!$A$11)/10))","v":0},0,{"$error":"#DIV/0!"},{"$error":"#DIV/0!"},{"$error":"#DIV/0!"},{"$error":"#DIV/0!"},{"$f":"+(aem2csp2!B106+(aem2csp2!C106*10))*(10^((65-aem2csp2!$A$12)/10))","v":0},0,{"$error":"#DIV/0!"},{"$error":"#DIV/0!"},{"$error":"#DIV/0!"},{"$error":"#DIV/0!"},{"$f":"+(aem2csp2!B106+(aem2csp2!C106*10))*(10^((65-aem2csp2!$A$13)/10))","v":0},0,{"$error":"#DIV/0!"},{"$error":"#DIV/0!"},{"$error":"#DIV/0!"},{"$error":"#DIV/0!"},{"$f":"+(aem2csp2!B106+(aem2csp2!C106*10))*(10^((65-aem2csp2!$A$14)/10))","v":0},0,{"$error":"#DIV/0!"},{"$error":"#DIV/0!"},{"$error":"#DIV/0!"},{"$error":"#DIV/0!"},{"$f":"+(aem2csp2!B106+(aem2csp2!C106*10))*(10^((65-aem2csp2!$A$15)/10))","v":0},0,{"$error":"#DIV/0!"},{"$error":"#DIV/0!"},{"$error":"#DIV/0!"},{"$error":"#DIV/0!"},{"$f":"+(aem2csp2!B106+(aem2csp2!C106*10))*(10^((65-aem2csp2!$A$16)/10))","v":0},0,{"$error":"#DIV/0!"},{"$error":"#DIV/0!"},{"$error":"#DIV/0!"},{"$error":"#DIV/0!"},76,{"$f":"+(aem2csp2!D106+(aem2csp2!E106*10))*(10^((65-aem2csp2!$A$11)/10))","v":0},0,{"$error":"#DIV/0!"},{"$error":"#DIV/0!"},{"$error":"#DIV/0!"},{"$error":"#DIV/0!"},{"$f":"+(aem2csp2!D106+(aem2csp2!E106*10))*(10^((65-aem2csp2!$A$12)/10))","v":0},0,{"$error":"#DIV/0!"},{"$error":"#DIV/0!"},{"$error":"#DIV/0!"},{"$error":"#DIV/0!"},{"$f":"+(aem2csp2!D106+(aem2csp2!E106*10))*(10^((65-aem2csp2!$A$13)/10))","v":0},0,{"$error":"#DIV/0!"},{"$error":"#DIV/0!"},{"$error":"#DIV/0!"},{"$error":"#DIV/0!"},{"$f":"+(aem2csp2!D106+(aem2csp2!E106*10))*(10^((65-aem2csp2!$A$14)/10))","v":0},0,{"$error":"#DIV/0!"},{"$error":"#DIV/0!"},{"$error":"#DIV/0!"},{"$error":"#DIV/0!"},{"$f":"+(aem2csp2!D106+(aem2csp2!E106*10))*(10^((65-aem2csp2!$A$15)/10))","v":0},0,{"$error":"#DIV/0!"},{"$error":"#DIV/0!"},{"$error":"#DIV/0!"},{"$error":"#DIV/0!"},{"$f":"+(aem2csp2!D106+(aem2csp2!E106*10))*(10^((65-aem2csp2!$A$16)/10))","v":0},0,{"$error":"#DIV/0!"},{"$error":"#DIV/0!"},{"$error":"#DIV/0!"},{"$error":"#DIV/0!"}]
[null,null,null,null,"C135B ",0.42723510434552697,0.58911967457570003,{"$f":"+(aem2csp2!B107+(aem2csp2!C107*10))*(10^((65-aem2csp2!$A$11)/10))","v":0},0,{"$f":"+(I107/$I$267)^(1/G107)","v":{"$error":"#DIV/0!"}},{"$error":"#DIV/0!"},{"$f":"+($L$269/F107)^(1/G107)","v":{"$error":"#DIV/0!"}},{"$error":"#DIV/0!"},{"$f":"+(aem2csp2!B107+(aem2csp2!C107*10))*(10^((65-aem2csp2!$A$12)/10))","v":0},0,{"$error":"#DIV/0!"},{"$error":"#DIV/0!"},{"$error":"#DIV/0!"},{"$error":"#DIV/0!"},{"$f":"+(aem2csp2!B107+(aem2csp2!C107*10))*(10^((65-aem2csp2!$A$13)/10))","v":0},0,{"$error":"#DIV/0!"},{"$error":"#DIV/0!"},{"$error":"#DIV/0!"},{"$error":"#DIV/0!"},{"$f":"+(aem2csp2!B107+(aem2csp2!C107*10))*(10^((65-aem2csp2!$A$14)/10))","v":0},0,{"$error":"#DIV/0!"},{"$error":"#DIV/0!"},{"$error":"#DIV/0!"},{"$error":"#DIV/0!"},{"$f":"+(aem2csp2!B107+(aem2csp2!C107*10))*(10^((65-aem2csp2!$A$15)/10))","v":0},0,{"$error":"#DIV/0!"},{"$error":"#DIV/0!"},{"$error":"#DIV/0!"},{"$error":"#DIV/0!"},{"$f":"+(aem2csp2!B107+(aem2csp2!C107*10))*(10^((65-aem2csp2!$A$16)/10))","v":0},0,{"$error":"#DIV/0!"},{"$error":"#DIV/0!"},{"$error":"#DIV/0!"},{"$error":"#DIV/0!"},77,{"$f":"+(aem2csp2!D107+(aem2csp2!E107*10))*(10^((65-aem2csp2!$A$11)/10))","v":0},0,{"$error":"#DIV/0!"},{"$error":"#DIV/0!"},{"$error":"#DIV/0!"},{"$error":"#DIV/0!"},{"$f":"+(aem2csp2!D107+(aem2csp2!E107*10))*(10^((65-aem2csp2!$A$12)/10))","v":0},0,{"$error":"#DIV/0!"},{"$error":"#DIV/0!"},{"$error":"#DIV/0!"},{"$error":"#DIV/0!"},{"$f":"+(aem2csp2!D107+(aem2csp2!E107*10))*(10^((65-aem2csp2!$A$13)/10))","v":0},0,{"$error":"#DIV/0!"},{"$error":"#DIV/0!"},{"$error":"#DIV/0!"},{"$error":"#DIV/0!"},{"$f":"+(aem2csp2!D107+(aem2csp2!E107*10))*(10^((65-aem2csp2!$A$14)/10))","v":0},0,{"$error":"#DIV/0!"},{"$error":"#DIV/0!"},{"$error":"#DIV/0!"},{"$error":"#DIV/0!"},{"$f":"+(aem2csp2!D107+(aem2csp2!E107*10))*(10^((65-aem2csp2!$A$15)/10))","v":0},0,{"$error":"#DIV/0!"},{"$error":"#DIV/0!"},{"$error":"#DIV/0!"},{"$error":"#DIV/0!"},{"$f":"+(aem2csp2!D107+(aem2csp2!E107*10))*(10^((65-aem2csp2!$A$16)/10))","v":0},0,{"$error":"#DIV/0!"},{"$error":"#DIV/0!"},{"$error":"#DIV/0!"},{"$error":"#DIV/0!"}]
[null,null,null,null,"C137 ",0.29013396269559499,0.694922955319075,{"$f":"+(aem2csp2!B108+(aem2csp2!C108*10))*(10^((65-aem2csp2!$A$11)/10))","v":0},0,{"$error":"#DIV/0!"},{"$error":"#DIV/0!"},{"$error":"#DIV/0!"},{"$error":"#DIV/0!"},{"$f":"+(aem2csp2!B108+(aem2csp2!C108*10))*(10^((65-aem2csp2!$A$12)/10))","v":0},0,{"$error":"#DIV/0!"},{"$error":"#DIV/0!"},{"$error":"#DIV/0!"},{"$error":"#DIV/0!"},{"$f":"+(aem2csp2!B108+(aem2csp2!C108*10))*(10^((65-aem2csp2!$A$13)/10))","v":0},0,{"$error":"#DIV/0!"},{"$error":"#DIV/0!"},{"$error":"#DIV/0!"},{"$error":"#DIV/0!"},{"$f":"+(aem2csp2!B108+(aem2csp2!C108*10))*(10^((65-aem2csp2!$A$14)/10))","v":0},0,{"$error":"#DIV/0!"},{"$error":"#DIV/0!"},{"$error":"#DIV/0!"},{"$error":"#DIV/0!"},{"$f":"+(aem2csp2!B108+(aem2csp2!C108*10))*(10^((65-aem2csp2!$A$15)/10))","v":0},0,{"$error":"#DIV/0!"},{"$error":"#DIV/0!"},{"$error":"#DIV/0!"},{"$error":"#DIV/0!"},{"$f":"+(aem2csp2!B108+(aem2csp2!C108*10))*(10^((65-aem2csp2!$A$16)/10))","v":0},0,{"$error":"#DIV/0!"},{"$error":"#DIV/0!"},{"$error":"#DIV/0!"},{"$error":"#DIV/0!"},78,{"$f":"+(aem2csp2!D108+(aem2csp2!E108*10))*(10^((65-aem2csp2!$A$11)/10))","v":0},0,{"$error":"#DIV/0!"},{"$error":"#DIV/0!"},{"$error":"#DIV/0!"},{"$error":"#DIV/0!"},{"$f":"+(aem2csp2!D108+(aem2csp2!E108*10))*(10^((65-aem2csp2!$A$12)/10))","v":0},0,{"$error":"#DIV/0!"},{"$error":"#DIV/0!"},{"$error":"#DIV/0!"},{"$error":"#DIV/0!"},{"$f":"+(aem2csp2!D108+(aem2csp2!E108*10))*(10^((65-aem2csp2!$A$13)/10))","v":0},0,{"$error":"#DIV/0!"},{"$error":"#DIV/0!"},{"$error":"#DIV/0!"},{"$error":"#DIV/0!"},{"$f":"+(aem2csp2!D108+(aem2csp2!E108*10))*(10^((65-aem2csp2!$A$14)/10))","v":0},0,{"$error":"#DIV/0!"},{"$error":"#DIV/0!"},{"$error":"#DIV/0!"},{"$error":"#DIV/0!"},{"$f":"+(aem2csp2!D108+(aem2csp2!E108*10))*(10^((65-aem2csp2!$A$15)/10))","v":0},0,{"$error":"#DIV/0!"},{"$error":"#DIV/0!"},{"$error":"#DIV/0!"},{"$error":"#DIV/0!"},{"$f":"+(aem2csp2!D108+(aem2csp2!E108*10))*(10^((65-aem2csp2!$A$16)/10))","v":0},0,{"$error":"#DIV/0!"},{"$error":"#DIV/0!"},{"$error":"#DIV/0!"},{"$error":"#DIV/0!"}]
[null,null,null,null,"C140 ",0.126856225333876,0.66136434588477699,{"$f":"+(aem2csp2!B109+(aem2csp2!C109*10))*(10^((65-aem2csp2!$A$11)/10))","v":0},0,{"$error":"#DIV/0!"},{"$error":"#DIV/0!"},{"$error":"#DIV/0!"},{"$f":"+H109/L109","v":{"$error":"#DIV/0!"}},{"$f":"+(aem2csp2!B109+(aem2csp2!C109*10))*(10^((65-aem2csp2!$A$12)/10))","v":0},{"$f":"+F109*(N109^G109)","v":0},{"$f":"+(O109/$O$267)^(1/G109)","v":{"$error":"#DIV/0!"}},{"$f":"+P109/G109","v":{"$error":"#DIV/0!"}},{"$error":"#DIV/0!"},{"$error":"#DIV/0!"},{"$f":"+(aem2csp2!B109+(aem2csp2!C109*10))*(10^((65-aem2csp2!$A$13)/10))","v":0},0,{"$error":"#DIV/0!"},{"$error":"#DIV/0!"},{"$error":"#DIV/0!"},{"$error":"#DIV/0!"},{"$f":"+(aem2csp2!B109+(aem2csp2!C109*10))*(10^((65-aem2csp2!$A$14)/10))","v":0},0,{"$error":"#DIV/0!"},{"$error":"#DIV/0!"},{"$error":"#DIV/0!"},{"$error":"#DIV/0!"},{"$f":"+(aem2csp2!B109+(aem2csp2!C109*10))*(10^((65-aem2csp2!$A$15)/10))","v":0},0,{"$error":"#DIV/0!"},{"$error":"#DIV/0!"},{"$error":"#DIV/0!"},{"$error":"#DIV/0!"},{"$f":"+(aem2csp2!B109+(aem2csp2!C109*10))*(10^((65-aem2csp2!$A$16)/10))","v":0},0,{"$error":"#DIV/0!"},{"$error":"#DIV/0!"},{"$error":"#DIV/0!"},{"$error":"#DIV/0!"},79,{"$f":"+(aem2csp2!D109+(aem2csp2!E109*10))*(10^((65-aem2csp2!$A$11)/10))","v":0},0,{"$error":"#DIV/0!"},{"$error":"#DIV/0!"},{"$error":"#DIV/0!"},{"$error":"#DIV/0!"},{"$f":"+(aem2csp2!D109+(aem2csp2!E109*10))*(10^((65-aem2csp2!$A$12)/10))","v":0},0,{"$error":"#DIV/0!"},{"$error":"#DIV/0!"},{"$error":"#DIV/0!"},{"$error":"#DIV/0!"},{"$f":"+(aem2csp2!D109+(aem2csp2!E109*10))*(10^((65-aem2csp2!$A$13)/10))","v":0},0,{"$error":"#DIV/0!"},{"$error":"#DIV/0!"},{"$error":"#DIV/0!"},{"$error":"#DIV/0!"},{"$f":"+(aem2csp2!D109+(aem2csp2!E109*10))*(10^((65-aem2csp2!$A$14)/10))","v":0},0,{"$error":"#DIV/0!"},{"$error":"#DIV/0!"},{"$error":"#DIV/0!"},{"$error":"#DIV/0!"},{"$f":"+(aem2csp2!D109+(aem2csp2!E109*10))*(10^((65-aem2csp2!$A$15)/10))","v":0},0,{"$error":"#DIV/0!"},{"$error":"#DIV/0!"},{"$error":"#DIV/0!"},{"$error":"#DIV/0!"},{"$f":"+(aem2csp2!D109+(aem2csp2!E109*10))*(10^((65-aem2csp2!$A$16)/10))","v":0},0,{"$error":"#DIV/0!"},{"$error":"#DIV/0!"},{"$error":"#DIV/0!"},{"$error":"#DIV/0!"}]
[null,null,null,null,"C141A ",0.15103255931568299,0.727943862814458,{"$f":"+(aem2csp2!B110+(aem2csp2!C110*10))*(10^((65-aem2csp2!$A$11)/10))","v":0},0,{"$error":"#DIV/0!"},{"$error":"#DIV/0!"},{"$error":"#DIV/0!"},{"$error":"#DIV/0!"},{"$f":"+(aem2csp2!B110+(aem2csp2!C110*10))*(10^((65-aem2csp2!$A$12)/10))","v":0},0,{"$error":"#DIV/0!"},{"$error":"#DIV/0!"},{"$error":"#DIV/0!"},{"$error":"#DIV/0!"},{"$f":"+(aem2csp2!B110+(aem2csp2!C110*10))*(10^((65-aem2csp2!$A$13)/10))","v":0},0,{"$error":"#DIV/0!"},{"$error":"#DIV/0!"},{"$error":"#DIV/0!"},{"$error":"#DIV/0!"},{"$f":"+(aem2csp2!B110+(aem2csp2!C110*10))*(10^((65-aem2csp2!$A$14)/10))","v":0},0,{"$error":"#DIV/0!"},{"$error":"#DIV/0!"},{"$error":"#DIV/0!"},{"$error":"#DIV/0!"},{"$f":"+(aem2csp2!B110+(aem2csp2!C110*10))*(10^((65-aem2csp2!$A$15)/10))","v":0},0,{"$error":"#DIV/0!"},{"$error":"#DIV/0!"},{"$error":"#DIV/0!"},{"$error":"#DIV/0!"},{"$f":"+(aem2csp2!B110+(aem2csp2!C110*10))*(10^((65-aem2csp2!$A$16)/10))","v":0},0,{"$error":"#DIV/0!"},{"$error":"#DIV/0!"},{"$error":"#DIV/0!"},{"$error":"#DIV/0!"},80,{"$f":"+(aem2csp2!D110+(aem2csp2!E110*10))*(10^((65-aem2csp2!$A$11)/10))","v":0},0,{"$error":"#DIV/0!"},{"$error":"#DIV/0!"},{"$error":"#DIV/0!"},{"$error":"#DIV/0!"},{"$f":"+(aem2csp2!D110+(aem2csp2!E110*10))*(10^((65-aem2csp2!$A$12)/10))","v":0},0,{"$error":"#DIV/0!"},{"$error":"#DIV/0!"},{"$error":"#DIV/0!"},{"$error":"#DIV/0!"},{"$f":"+(aem2csp2!D110+(aem2csp2!E110*10))*(10^((65-aem2csp2!$A$13)/10))","v":0},0,{"$error":"#DIV/0!"},{"$error":"#DIV/0!"},{"$error":"#DIV/0!"},{"$error":"#DIV/0!"},{"$f":"+(aem2csp2!D110+(aem2csp2!E110*10))*(10^((65-aem2csp2!$A$14)/10))","v":0},0,{"$error":"#DIV/0!"},{"$error":"#DIV/0!"},{"$error":"#DIV/0!"},{"$error":"#DIV/0!"},{"$f":"+(aem2csp2!D110+(aem2csp2!E110*10))*(10^((65-aem2csp2!$A$15)/10))","v":0},0,{"$error":"#DIV/0!"},{"$error":"#DIV/0!"},{"$error":"#DIV/0!"},{"$error":"#DIV/0!"},{"$f":"+(aem2csp2!D110+(aem2csp2!E110*10))*(10^((65-aem2csp2!$A$16)/10))","v":0},0,{"$error":"#DIV/0!"},{"$error":"#DIV/0!"},{"$error":"#DIV/0!"},{"$error":"#DIV/0!"}]
[null,null,null,null,"C17 ",7.7897322274993394E-2,0.749300388681994,{"$f":"+(aem2csp2!B111+(aem2csp2!C111*10))*(10^((65-aem2csp2!$A$11)/10))","v":0},0,{"$error":"#DIV/0!"},{"$error":"#DIV/0!"},{"$error":"#DIV/0!"},{"$error":"#DIV/0!"},{"$f":"+(aem2csp2!B111+(aem2csp2!C111*10))*(10^((65-aem2csp2!$A$12)/10))","v":0},0,{"$error":"#DIV/0!"},{"$error":"#DIV/0!"},{"$f":"+($R$269/F111)^(1/G111)","v":{"$error":"#DIV/0!"}},{"$error":"#DIV/0!"},{"$f":"+(aem2csp2!B111+(aem2csp2!C111*10))*(10^((65-aem2csp2!$A$13)/10))","v":0},0,{"$error":"#DIV/0!"},{"$error":"#DIV/0!"},{"$error":"#DIV/0!"},{"$error":"#DIV/0!"},{"$f":"+(aem2csp2!B111+(aem2csp2!C111*10))*(10^((65-aem2csp2!$A$14)/10))","v":0},0,{"$error":"#DIV/0!"},{"$error":"#DIV/0!"},{"$error":"#DIV/0!"},{"$error":"#DIV/0!"},{"$f":"+(aem2csp2!B111+(aem2csp2!C111*10))*(10^((65-aem2csp2!$A$15)/10))","v":0},0,{"$error":"#DIV/0!"},{"$error":"#DIV/0!"},{"$error":"#DIV/0!"},{"$error":"#DIV/0!"},{"$f":"+(aem2csp2!B111+(aem2csp2!C111*10))*(10^((65-aem2csp2!$A$16)/10))","v":0},0,{"$error":"#DIV/0!"},{"$error":"#DIV/0!"},{"$error":"#DIV/0!"},{"$error":"#DIV/0!"},81,{"$f":"+(aem2csp2!D111+(aem2csp2!E111*10))*(10^((65-aem2csp2!$A$11)/10))","v":0},0,{"$error":"#DIV/0!"},{"$error":"#DIV/0!"},{"$error":"#DIV/0!"},{"$error":"#DIV/0!"},{"$f":"+(aem2csp2!D111+(aem2csp2!E111*10))*(10^((65-aem2csp2!$A$12)/10))","v":0},0,{"$error":"#DIV/0!"},{"$error":"#DIV/0!"},{"$error":"#DIV/0!"},{"$error":"#DIV/0!"},{"$f":"+(aem2csp2!D111+(aem2csp2!E111*10))*(10^((65-aem2csp2!$A$13)/10))","v":0},0,{"$error":"#DIV/0!"},{"$error":"#DIV/0!"},{"$error":"#DIV/0!"},{"$error":"#DIV/0!"},{"$f":"+(aem2csp2!D111+(aem2csp2!E111*10))*(10^((65-aem2csp2!$A$14)/10))","v":0},0,{"$error":"#DIV/0!"},{"$error":"#DIV/0!"},{"$error":"#DIV/0!"},{"$error":"#DIV/0!"},{"$f":"+(aem2csp2!D111+(aem2csp2!E111*10))*(10^((65-aem2csp2!$A$15)/10))","v":0},0,{"$error":"#DIV/0!"},{"$error":"#DIV/0!"},{"$error":"#DIV/0!"},{"$error":"#DIV/0!"},{"$f":"+(aem2csp2!D111+(aem2csp2!E111*10))*(10^((65-aem2csp2!$A$16)/10))","v":0},0,{"$error":"#DIV/0!"},{"$error":"#DIV/0!"},{"$error":"#DIV/0!"},{"$error":"#DIV/0!"}]
[null,null,null,null,"C18A ",0.35185749152337398,0.56183667398183301,{"$f":"+(aem2csp2!B112+(aem2csp2!C112*10))*(10^((65-aem2csp2!$A$11)/10))","v":0},0,{"$error":"#DIV/0!"},{"$error":"#DIV/0!"},{"$error":"#DIV/0!"},{"$error":"#DIV/0!"},{"$f":"+(aem2csp2!B112+(aem2csp2!C112*10))*(10^((65-aem2csp2!$A$12)/10))","v":0},0,{"$error":"#DIV/0!"},{"$error":"#DIV/0!"},{"$error":"#DIV/0!"},{"$error":"#DIV/0!"},{"$f":"+(aem2csp2!B112+(aem2csp2!C112*10))*(10^((65-aem2csp2!$A$13)/10))","v":0},0,{"$error":"#DIV/0!"},{"$error":"#DIV/0!"},{"$error":"#DIV/0!"},{"$error":"#DIV/0!"},{"$f":"+(aem2csp2!B112+(aem2csp2!C112*10))*(10^((65-aem2csp2!$A$14)/10))","v":0},0,{"$error":"#DIV/0!"},{"$error":"#DIV/0!"},{"$error":"#DIV/0!"},{"$error":"#DIV/0!"},{"$f":"+(aem2csp2!B112+(aem2csp2!C112*10))*(10^((65-aem2csp2!$A$15)/10))","v":0},0,{"$error":"#DIV/0!"},{"$error":"#DIV/0!"},{"$error":"#DIV/0!"},{"$error":"#DIV/0!"},{"$f":"+(aem2csp2!B112+(aem2csp2!C112*10))*(10^((65-aem2csp2!$A$16)/10))","v":0},0,{"$error":"#DIV/0!"},{"$error":"#DIV/0!"},{"$error":"#DIV/0!"},{"$error":"#DIV/0!"},82,{"$f":"+(aem2csp2!D112+(aem2csp2!E112*10))*(10^((65-aem2csp2!$A$11)/10))","v":0},0,{"$error":"#DIV/0!"},{"$error":"#DIV/0!"},{"$error":"#DIV/0!"},{"$error":"#DIV/0!"},{"$f":"+(aem2csp2!D112+(aem2csp2!E112*10))*(10^((65-aem2csp2!$A$12)/10))","v":0},0,{"$error":"#DIV/0!"},{"$error":"#DIV/0!"},{"$error":"#DIV/0!"},{"$error":"#DIV/0!"},{"$f":"+(aem2csp2!D112+(aem2csp2!E112*10))*(10^((65-aem2csp2!$A$13)/10))","v":0},0,{"$error":"#DIV/0!"},{"$error":"#DIV/0!"},{"$error":"#DIV/0!"},{"$error":"#DIV/0!"},{"$f":"+(aem2csp2!D112+(aem2csp2!E112*10))*(10^((65-aem2csp2!$A$14)/10))","v":0},0,{"$error":"#DIV/0!"},{"$error":"#DIV/0!"},{"$error":"#DIV/0!"},{"$error":"#DIV/0!"},{"$f":"+(aem2csp2!D112+(aem2csp2!E112*10))*(10^((65-aem2csp2!$A$15)/10))","v":0},0,{"$error":"#DIV/0!"},{"$error":"#DIV/0!"},{"$error":"#DIV/0!"},{"$error":"#DIV/0!"},{"$f":"+(aem2csp2!D112+(aem2csp2!E112*10))*(10^((65-aem2csp2!$A$16)/10))","v":0},0,{"$error":"#DIV/0!"},{"$error":"#DIV/0!"},{"$error":"#DIV/0!"},{"$error":"#DIV/0!"}]
[null,null,null,null,"C-20 ",4.4656433734841801E-2,1.0610887843907499,{"$f":"+(aem2csp2!B113+(aem2csp2!C113*10))*(10^((65-aem2csp2!$A$11)/10))","v":0},0,{"$error":"#DIV/0!"},{"$error":"#DIV/0!"},{"$error":"#DIV/0!"},{"$error":"#DIV/0!"},{"$f":"+(aem2csp2!B113+(aem2csp2!C113*10))*(10^((65-aem2csp2!$A$12)/10))","v":0},0,{"$error":"#DIV/0!"},{"$error":"#DIV/0!"},{"$error":"#DIV/0!"},{"$error":"#DIV/0!"},{"$f":"+(aem2csp2!B113+(aem2csp2!C113*10))*(10^((65-aem2csp2!$A$13)/10))","v":0},0,{"$error":"#DIV/0!"},{"$error":"#DIV/0!"},{"$error":"#DIV/0!"},{"$error":"#DIV/0!"},{"$f":"+(aem2csp2!B113+(aem2csp2!C113*10))*(10^((65-aem2csp2!$A$14)/10))","v":0},0,{"$error":"#DIV/0!"},{"$error":"#DIV/0!"},{"$error":"#DIV/0!"},{"$error":"#DIV/0!"},{"$f":"+(aem2csp2!B113+(aem2csp2!C113*10))*(10^((65-aem2csp2!$A$15)/10))","v":0},0,{"$error":"#DIV/0!"},{"$error":"#DIV/0!"},{"$error":"#DIV/0!"},{"$error":"#DIV/0!"},{"$f":"+(aem2csp2!B113+(aem2csp2!C113*10))*(10^((65-aem2csp2!$A$16)/10))","v":0},0,{"$error":"#DIV/0!"},{"$error":"#DIV/0!"},{"$error":"#DIV/0!"},{"$error":"#DIV/0!"},83,{"$f":"+(aem2csp2!D113+(aem2csp2!E113*10))*(10^((65-aem2csp2!$A$11)/10))","v":0},0,{"$error":"#DIV/0!"},{"$error":"#DIV/0!"},{"$error":"#DIV/0!"},{"$error":"#DIV/0!"},{"$f":"+(aem2csp2!D113+(aem2csp2!E113*10))*(10^((65-aem2csp2!$A$12)/10))","v":0},0,{"$error":"#DIV/0!"},{"$error":"#DIV/0!"},{"$error":"#DIV/0!"},{"$error":"#DIV/0!"},{"$f":"+(aem2csp2!D113+(aem2csp2!E113*10))*(10^((65-aem2csp2!$A$13)/10))","v":0},0,{"$error":"#DIV/0!"},{"$error":"#DIV/0!"},{"$error":"#DIV/0!"},{"$error":"#DIV/0!"},{"$f":"+(aem2csp2!D113+(aem2csp2!E113*10))*(10^((65-aem2csp2!$A$14)/10))","v":0},0,{"$error":"#DIV/0!"},{"$error":"#DIV/0!"},{"$error":"#DIV/0!"},{"$error":"#DIV/0!"},{"$f":"+(aem2csp2!D113+(aem2csp2!E113*10))*(10^((65-aem2csp2!$A$15)/10))","v":0},0,{"$error":"#DIV/0!"},{"$error":"#DIV/0!"},{"$error":"#DIV/0!"},{"$error":"#DIV/0!"},{"$f":"+(aem2csp2!D113+(aem2csp2!E113*10))*(10^((65-aem2csp2!$A$16)/10))","v":0},0,{"$error":"#DIV/0!"},{"$error":"#DIV/0!"},{"$error":"#DIV/0!"},{"$error":"#DIV/0!"}]
[null,null,null,null,"C21A ",4.7862778713762197E-3,0.916753584651674,{"$f":"+(aem2csp2!B114+(aem2csp2!C114*10))*(10^((65-aem2csp2!$A$11)/10))","v":0},0,{"$error":"#DIV/0!"},{"$error":"#DIV/0!"},{"$error":"#DIV/0!"},{"$error":"#DIV/0!"},{"$f":"+(aem2csp2!B114+(aem2csp2!C114*10))*(10^((65-aem2csp2!$A$12)/10))","v":0},0,{"$error":"#DIV/0!"},{"$error":"#DIV/0!"},{"$error":"#DIV/0!"},{"$error":"#DIV/0!"},{"$f":"+(aem2csp2!B114+(aem2csp2!C114*10))*(10^((65-aem2csp2!$A$13)/10))","v":0},0,{"$error":"#DIV/0!"},{"$error":"#DIV/0!"},{"$error":"#DIV/0!"},{"$error":"#DIV/0!"},{"$f":"+(aem2csp2!B114+(aem2csp2!C114*10))*(10^((65-aem2csp2!$A$14)/10))","v":0},0,{"$error":"#DIV/0!"},{"$error":"#DIV/0!"},{"$error":"#DIV/0!"},{"$error":"#DIV/0!"},{"$f":"+(aem2csp2!B114+(aem2csp2!C114*10))*(10^((65-aem2csp2!$A$15)/10))","v":0},0,{"$error":"#DIV/0!"},{"$error":"#DIV/0!"},{"$error":"#DIV/0!"},{"$error":"#DIV/0!"},{"$f":"+(aem2csp2!B114+(aem2csp2!C114*10))*(10^((65-aem2csp2!$A$16)/10))","v":0},0,{"$error":"#DIV/0!"},{"$error":"#DIV/0!"},{"$error":"#DIV/0!"},{"$error":"#DIV/0!"},84,{"$f":"+(aem2csp2!D114+(aem2csp2!E114*10))*(10^((65-aem2csp2!$A$11)/10))","v":0},0,{"$error":"#DIV/0!"},{"$error":"#DIV/0!"},{"$error":"#DIV/0!"},{"$error":"#DIV/0!"},{"$f":"+(aem2csp2!D114+(aem2csp2!E114*10))*(10^((65-aem2csp2!$A$12)/10))","v":0},0,{"$error":"#DIV/0!"},{"$error":"#DIV/0!"},{"$error":"#DIV/0!"},{"$error":"#DIV/0!"},{"$f":"+(aem2csp2!D114+(aem2csp2!E114*10))*(10^((65-aem2csp2!$A$13)/10))","v":0},0,{"$error":"#DIV/0!"},{"$error":"#DIV/0!"},{"$error":"#DIV/0!"},{"$error":"#DIV/0!"},{"$f":"+(aem2csp2!D114+(aem2csp2!E114*10))*(10^((65-aem2csp2!$A$14)/10))","v":0},0,{"$error":"#DIV/0!"},{"$error":"#DIV/0!"},{"$error":"#DIV/0!"},{"$error":"#DIV/0!"},{"$f":"+(aem2csp2!D114+(aem2csp2!E114*10))*(10^((65-aem2csp2!$A$15)/10))","v":0},0,{"$error":"#DIV/0!"},{"$error":"#DIV/0!"},{"$error":"#DIV/0!"},{"$error":"#DIV/0!"},{"$f":"+(aem2csp2!D114+(aem2csp2!E114*10))*(10^((65-aem2csp2!$A$16)/10))","v":0},0,{"$error":"#DIV/0!"},{"$error":"#DIV/0!"},{"$error":"#DIV/0!"},{"$error":"#DIV/0!"}]
[null,null,null,null,"C22 ",7.2229536940320097E-2,0.81903124453181897,{"$f":"+(aem2csp2!B115+(aem2csp2!C115*10))*(10^((65-aem2csp2!$A$11)/10))","v":0},0,{"$error":"#DIV/0!"},{"$error":"#DIV/0!"},{"$error":"#DIV/0!"},{"$error":"#DIV/0!"},{"$f":"+(aem2csp2!B115+(aem2csp2!C115*10))*(10^((65-aem2csp2!$A$12)/10))","v":0},0,{"$error":"#DIV/0!"},{"$error":"#DIV/0!"},{"$error":"#DIV/0!"},{"$error":"#DIV/0!"},{"$f":"+(aem2csp2!B115+(aem2csp2!C115*10))*(10^((65-aem2csp2!$A$13)/10))","v":0},0,{"$error":"#DIV/0!"},{"$error":"#DIV/0!"},{"$error":"#DIV/0!"},{"$error":"#DIV/0!"},{"$f":"+(aem2csp2!B115+(aem2csp2!C115*10))*(10^((65-aem2csp2!$A$14)/10))","v":0},0,{"$error":"#DIV/0!"},{"$error":"#DIV/0!"},{"$error":"#DIV/0!"},{"$error":"#DIV/0!"},{"$f":"+(aem2csp2!B115+(aem2csp2!C115*10))*(10^((65-aem2csp2!$A$15)/10))","v":0},0,{"$error":"#DIV/0!"},{"$error":"#DIV/0!"},{"$error":"#DIV/0!"},{"$error":"#DIV/0!"},{"$f":"+(aem2csp2!B115+(aem2csp2!C115*10))*(10^((65-aem2csp2!$A$16)/10))","v":0},0,{"$error":"#DIV/0!"},{"$error":"#DIV/0!"},{"$error":"#DIV/0!"},{"$error":"#DIV/0!"},85,{"$f":"+(aem2csp2!D115+(aem2csp2!E115*10))*(10^((65-aem2csp2!$A$11)/10))","v":0},0,{"$error":"#DIV/0!"},{"$error":"#DIV/0!"},{"$error":"#DIV/0!"},{"$error":"#DIV/0!"},{"$f":"+(aem2csp2!D115+(aem2csp2!E115*10))*(10^((65-aem2csp2!$A$12)/10))","v":0},0,{"$error":"#DIV/0!"},{"$error":"#DIV/0!"},{"$error":"#DIV/0!"},{"$error":"#DIV/0!"},{"$f":"+(aem2csp2!D115+(aem2csp2!E115*10))*(10^((65-aem2csp2!$A$13)/10))","v":0},0,{"$error":"#DIV/0!"},{"$error":"#DIV/0!"},{"$error":"#DIV/0!"},{"$error":"#DIV/0!"},{"$f":"+(aem2csp2!D115+(aem2csp2!E115*10))*(10^((65-aem2csp2!$A$14)/10))","v":0},0,{"$error":"#DIV/0!"},{"$error":"#DIV/0!"},{"$error":"#DIV/0!"},{"$error":"#DIV/0!"},{"$f":"+(aem2csp2!D115+(aem2csp2!E115*10))*(10^((65-aem2csp2!$A$15)/10))","v":0},0,{"$error":"#DIV/0!"},{"$error":"#DIV/0!"},{"$error":"#DIV/0!"},{"$error":"#DIV/0!"},{"$f":"+(aem2csp2!D115+(aem2csp2!E115*10))*(10^((65-aem2csp2!$A$16)/10))","v":0},0,{"$error":"#DIV/0!"},{"$error":"#DIV/0!"},{"$error":"#DIV/0!"},{"$error":"#DIV/0!"}]
[null,null,null,null,"C23 ",1.1221387760890199E-2,0.51274444081835502,{"$f":"+(aem2csp2!B116+(aem2csp2!C116*10))*(10^((65-aem2csp2!$A$11)/10))","v":0},0,{"$error":"#DIV/0!"},{"$error":"#DIV/0!"},{"$error":"#DIV/0!"},{"$error":"#DIV/0!"},{"$f":"+(aem2csp2!B116+(aem2csp2!C116*10))*(10^((65-aem2csp2!$A$12)/10))","v":0},0,{"$error":"#DIV/0!"},{"$error":"#DIV/0!"},{"$error":"#DIV/0!"},{"$error":"#DIV/0!"},{"$f":"+(aem2csp2!B116+(aem2csp2!C116*10))*(10^((65-aem2csp2!$A$13)/10))","v":0},0,{"$error":"#DIV/0!"},{"$error":"#DIV/0!"},{"$error":"#DIV/0!"},{"$error":"#DIV/0!"},{"$f":"+(aem2csp2!B116+(aem2csp2!C116*10))*(10^((65-aem2csp2!$A$14)/10))","v":0},0,{"$error":"#DIV/0!"},{"$error":"#DIV/0!"},{"$error":"#DIV/0!"},{"$error":"#DIV/0!"},{"$f":"+(aem2csp2!B116+(aem2csp2!C116*10))*(10^((65-aem2csp2!$A$15)/10))","v":0},0,{"$error":"#DIV/0!"},{"$error":"#DIV/0!"},{"$error":"#DIV/0!"},{"$error":"#DIV/0!"},{"$f":"+(aem2csp2!B116+(aem2csp2!C116*10))*(10^((65-aem2csp2!$A$16)/10))","v":0},0,{"$error":"#DIV/0!"},{"$error":"#DIV/0!"},{"$error":"#DIV/0!"},{"$error":"#DIV/0!"},86,{"$f":"+(aem2csp2!D116+(aem2csp2!E116*10))*(10^((65-aem2csp2!$A$11)/10))","v":0},0,{"$error":"#DIV/0!"},{"$error":"#DIV/0!"},{"$error":"#DIV/0!"},{"$error":"#DIV/0!"},{"$f":"+(aem2csp2!D116+(aem2csp2!E116*10))*(10^((65-aem2csp2!$A$12)/10))","v":0},0,{"$error":"#DIV/0!"},{"$error":"#DIV/0!"},{"$error":"#DIV/0!"},{"$error":"#DIV/0!"},{"$f":"+(aem2csp2!D116+(aem2csp2!E116*10))*(10^((65-aem2csp2!$A$13)/10))","v":0},0,{"$error":"#DIV/0!"},{"$error":"#DIV/0!"},{"$error":"#DIV/0!"},{"$error":"#DIV/0!"},{"$f":"+(aem2csp2!D116+(aem2csp2!E116*10))*(10^((65-aem2csp2!$A$14)/10))","v":0},0,{"$error":"#DIV/0!"},{"$error":"#DIV/0!"},{"$error":"#DIV/0!"},{"$error":"#DIV/0!"},{"$f":"+(aem2csp2!D116+(aem2csp2!E116*10))*(10^((65-aem2csp2!$A$15)/10))","v":0},0,{"$error":"#DIV/0!"},{"$error":"#DIV/0!"},{"$error":"#DIV/0!"},{"$error":"#DIV/0!"},{"$f":"+(aem2csp2!D116+(aem2csp2!E116*10))*(10^((65-aem2csp2!$A$16)/10))","v":0},0,{"$error":"#DIV/0!"},{"$error":"#DIV/0!"},{"$error":"#DIV/0!"},{"$error":"#DIV/0!"}]
[null,null,null,null,"C5A ",2.3201299975613598,0.50167110804302595,{"$f":"+(aem2csp2!B117+(aem2csp2!C117*10))*(10^((65-aem2csp2!$A$11)/10))","v":0},0,{"$error":"#DIV/0!"},{"$error":"#DIV/0!"},{"$error":"#DIV/0!"},{"$error":"#DIV/0!"},{"$f":"+(aem2csp2!B117+(aem2csp2!C117*10))*(10^((65-aem2csp2!$A$12)/10))","v":0},0,{"$error":"#DIV/0!"},{"$error":"#DIV/0!"},{"$error":"#DIV/0!"},{"$error":"#DIV/0!"},{"$f":"+(aem2csp2!B117+(aem2csp2!C117*10))*(10^((65-aem2csp2!$A$13)/10))","v":0},0,{"$error":"#DIV/0!"},{"$error":"#DIV/0!"},{"$error":"#DIV/0!"},{"$error":"#DIV/0!"},{"$f":"+(aem2csp2!B117+(aem2csp2!C117*10))*(10^((65-aem2csp2!$A$14)/10))","v":0},0,{"$error":"#DIV/0!"},{"$error":"#DIV/0!"},{"$error":"#DIV/0!"},{"$error":"#DIV/0!"},{"$f":"+(aem2csp2!B117+(aem2csp2!C117*10))*(10^((65-aem2csp2!$A$15)/10))","v":0},0,{"$error":"#DIV/0!"},{"$error":"#DIV/0!"},{"$error":"#DIV/0!"},{"$error":"#DIV/0!"},{"$f":"+(aem2csp2!B117+(aem2csp2!C117*10))*(10^((65-aem2csp2!$A$16)/10))","v":0},0,{"$error":"#DIV/0!"},{"$error":"#DIV/0!"},{"$error":"#DIV/0!"},{"$error":"#DIV/0!"},87,{"$f":"+(aem2csp2!D117+(aem2csp2!E117*10))*(10^((65-aem2csp2!$A$11)/10))","v":0},0,{"$error":"#DIV/0!"},{"$error":"#DIV/0!"},{"$error":"#DIV/0!"},{"$error":"#DIV/0!"},{"$f":"+(aem2csp2!D117+(aem2csp2!E117*10))*(10^((65-aem2csp2!$A$12)/10))","v":0},0,{"$error":"#DIV/0!"},{"$error":"#DIV/0!"},{"$error":"#DIV/0!"},{"$error":"#DIV/0!"},{"$f":"+(aem2csp2!D117+(aem2csp2!E117*10))*(10^((65-aem2csp2!$A$13)/10))","v":0},0,{"$error":"#DIV/0!"},{"$error":"#DIV/0!"},{"$error":"#DIV/0!"},{"$error":"#DIV/0!"},{"$f":"+(aem2csp2!D117+(aem2csp2!E117*10))*(10^((65-aem2csp2!$A$14)/10))","v":0},0,{"$error":"#DIV/0!"},{"$error":"#DIV/0!"},{"$error":"#DIV/0!"},{"$error":"#DIV/0!"},{"$f":"+(aem2csp2!D117+(aem2csp2!E117*10))*(10^((65-aem2csp2!$A$15)/10))","v":0},0,{"$error":"#DIV/0!"},{"$error":"#DIV/0!"},{"$error":"#DIV/0!"},{"$error":"#DIV/0!"},{"$f":"+(aem2csp2!D117+(aem2csp2!E117*10))*(10^((65-aem2csp2!$A$16)/10))","v":0},0,{"$error":"#DIV/0!"},{"$error":"#DIV/0!"},{"$error":"#DIV/0!"},{"$error":"#DIV/0!"}]
[null,null,null,null,"C7A ",2.8792341801926798E-2,0.76569264627960099,{"$f":"+(aem2csp2!B118+(aem2csp2!C118*10))*(10^((65-aem2csp2!$A$11)/10))","v":0},0,{"$error":"#DIV/0!"},{"$error":"#DIV/0!"},{"$error":"#DIV/0!"},{"$error":"#DIV/0!"},{"$f":"+(aem2csp2!B118+(aem2csp2!C118*10))*(10^((65-aem2csp2!$A$12)/10))","v":0},0,{"$error":"#DIV/0!"},{"$error":"#DIV/0!"},{"$error":"#DIV/0!"},{"$error":"#DIV/0!"},{"$f":"+(aem2csp2!B118+(aem2csp2!C118*10))*(10^((65-aem2csp2!$A$13)/10))","v":0},0,{"$error":"#DIV/0!"},{"$error":"#DIV/0!"},{"$error":"#DIV/0!"},{"$error":"#DIV/0!"},{"$f":"+(aem2csp2!B118+(aem2csp2!C118*10))*(10^((65-aem2csp2!$A$14)/10))","v":0},0,{"$error":"#DIV/0!"},{"$error":"#DIV/0!"},{"$error":"#DIV/0!"},{"$error":"#DIV/0!"},{"$f":"+(aem2csp2!B118+(aem2csp2!C118*10))*(10^((65-aem2csp2!$A$15)/10))","v":0},0,{"$error":"#DIV/0!"},{"$error":"#DIV/0!"},{"$error":"#DIV/0!"},{"$error":"#DIV/0!"},{"$f":"+(aem2csp2!B118+(aem2csp2!C118*10))*(10^((65-aem2csp2!$A$16)/10))","v":0},0,{"$error":"#DIV/0!"},{"$error":"#DIV/0!"},{"$error":"#DIV/0!"},{"$error":"#DIV/0!"},88,{"$f":"+(aem2csp2!D118+(aem2csp2!E118*10))*(10^((65-aem2csp2!$A$11)/10))","v":0},0,{"$error":"#DIV/0!"},{"$error":"#DIV/0!"},{"$error":"#DIV/0!"},{"$error":"#DIV/0!"},{"$f":"+(aem2csp2!D118+(aem2csp2!E118*10))*(10^((65-aem2csp2!$A$12)/10))","v":0},0,{"$error":"#DIV/0!"},{"$error":"#DIV/0!"},{"$error":"#DIV/0!"},{"$error":"#DIV/0!"},{"$f":"+(aem2csp2!D118+(aem2csp2!E118*10))*(10^((65-aem2csp2!$A$13)/10))","v":0},0,{"$error":"#DIV/0!"},{"$error":"#DIV/0!"},{"$error":"#DIV/0!"},{"$error":"#DIV/0!"},{"$f":"+(aem2csp2!D118+(aem2csp2!E118*10))*(10^((65-aem2csp2!$A$14)/10))","v":0},0,{"$error":"#DIV/0!"},{"$error":"#DIV/0!"},{"$error":"#DIV/0!"},{"$error":"#DIV/0!"},{"$f":"+(aem2csp2!D118+(aem2csp2!E118*10))*(10^((65-aem2csp2!$A$15)/10))","v":0},0,{"$error":"#DIV/0!"},{"$error":"#DIV/0!"},{"$error":"#DIV/0!"},{"$error":"#DIV/0!"},{"$f":"+(aem2csp2!D118+(aem2csp2!E118*10))*(10^((65-aem2csp2!$A$16)/10))","v":0},0,{"$error":"#DIV/0!"},{"$error":"#DIV/0!"},{"$error":"#DIV/0!"},{"$error":"#DIV/0!"}]
[null,null,null,null,"C9A ",0.19973404442506201,0.62305960933987203,{"$f":"+(aem2csp2!B119+(aem2csp2!C119*10))*(10^((65-aem2csp2!$A$11)/10))","v":0},0,{"$error":"#DIV/0!"},{"$error":"#DIV/0!"},{"$error":"#DIV/0!"},{"$error":"#DIV/0!"},{"$f":"+(aem2csp2!B119+(aem2csp2!C119*10))*(10^((65-aem2csp2!$A$12)/10))","v":0},0,{"$error":"#DIV/0!"},{"$error":"#DIV/0!"},{"$error":"#DIV/0!"},{"$error":"#DIV/0!"},{"$f":"+(aem2csp2!B119+(aem2csp2!C119*10))*(10^((65-aem2csp2!$A$13)/10))","v":0},0,{"$error":"#DIV/0!"},{"$error":"#DIV/0!"},{"$error":"#DIV/0!"},{"$error":"#DIV/0!"},{"$f":"+(aem2csp2!B119+(aem2csp2!C119*10))*(10^((65-aem2csp2!$A$14)/10))","v":0},0,{"$error":"#DIV/0!"},{"$error":"#DIV/0!"},{"$error":"#DIV/0!"},{"$error":"#DIV/0!"},{"$f":"+(aem2csp2!B119+(aem2csp2!C119*10))*(10^((65-aem2csp2!$A$15)/10))","v":0},0,{"$error":"#DIV/0!"},{"$error":"#DIV/0!"},{"$error":"#DIV/0!"},{"$error":"#DIV/0!"},{"$f":"+(aem2csp2!B119+(aem2csp2!C119*10))*(10^((65-aem2csp2!$A$16)/10))","v":0},0,{"$error":"#DIV/0!"},{"$error":"#DIV/0!"},{"$error":"#DIV/0!"},{"$error":"#DIV/0!"},89,{"$f":"+(aem2csp2!D119+(aem2csp2!E119*10))*(10^((65-aem2csp2!$A$11)/10))","v":0},0,{"$error":"#DIV/0!"},{"$error":"#DIV/0!"},{"$error":"#DIV/0!"},{"$error":"#DIV/0!"},{"$f":"+(aem2csp2!D119+(aem2csp2!E119*10))*(10^((65-aem2csp2!$A$12)/10))","v":0},0,{"$error":"#DIV/0!"},{"$error":"#DIV/0!"},{"$error":"#DIV/0!"},{"$error":"#DIV/0!"},{"$f":"+(aem2csp2!D119+(aem2csp2!E119*10))*(10^((65-aem2csp2!$A$13)/10))","v":0},0,{"$error":"#DIV/0!"},{"$error":"#DIV/0!"},{"$error":"#DIV/0!"},{"$error":"#DIV/0!"},{"$f":"+(aem2csp2!D119+(aem2csp2!E119*10))*(10^((65-aem2csp2!$A$14)/10))","v":0},0,{"$error":"#DIV/0!"},{"$error":"#DIV/0!"},{"$error":"#DIV/0!"},{"$error":"#DIV/0!"},{"$f":"+(aem2csp2!D119+(aem2csp2!E119*10))*(10^((65-aem2csp2!$A$15)/10))","v":0},0,{"$error":"#DIV/0!"},{"$error":"#DIV/0!"},{"$error":"#DIV/0!"},{"$error":"#DIV/0!"},{"$f":"+(aem2csp2!D119+(aem2csp2!E119*10))*(10^((65-aem2csp2!$A$16)/10))","v":0},0,{"$error":"#DIV/0!"},{"$error":"#DIV/0!"},{"$error":"#DIV/0!"},{"$error":"#DIV/0!"}]
[null,null,null,null,"CIT3 ",2.6796432451937701E-2,0.58981799889549202,{"$f":"+(aem2csp2!B120+(aem2csp2!C120*10))*(10^((65-aem2csp2!$A$11)/10))","v":0},0,{"$error":"#DIV/0!"},{"$error":"#DIV/0!"},{"$error":"#DIV/0!"},{"$error":"#DIV/0!"},{"$f":"+(aem2csp2!B120+(aem2csp2!C120*10))*(10^((65-aem2csp2!$A$12)/10))","v":0},0,{"$error":"#DIV/0!"},{"$error":"#DIV/0!"},{"$error":"#DIV/0!"},{"$error":"#DIV/0!"},{"$f":"+(aem2csp2!B120+(aem2csp2!C120*10))*(10^((65-aem2csp2!$A$13)/10))","v":0},0,{"$error":"#DIV/0!"},{"$error":"#DIV/0!"},{"$error":"#DIV/0!"},{"$error":"#DIV/0!"},{"$f":"+(aem2csp2!B120+(aem2csp2!C120*10))*(10^((65-aem2csp2!$A$14)/10))","v":0},0,{"$error":"#DIV/0!"},{"$error":"#DIV/0!"},{"$error":"#DIV/0!"},{"$error":"#DIV/0!"},{"$f":"+(aem2csp2!B120+(aem2csp2!C120*10))*(10^((65-aem2csp2!$A$15)/10))","v":0},0,{"$error":"#DIV/0!"},{"$error":"#DIV/0!"},{"$error":"#DIV/0!"},{"$error":"#DIV/0!"},{"$f":"+(aem2csp2!B120+(aem2csp2!C120*10))*(10^((65-aem2csp2!$A$16)/10))","v":0},0,{"$error":"#DIV/0!"},{"$error":"#DIV/0!"},{"$error":"#DIV/0!"},{"$error":"#DIV/0!"},90,{"$f":"+(aem2csp2!D120+(aem2csp2!E120*10))*(10^((65-aem2csp2!$A$11)/10))","v":0},0,{"$error":"#DIV/0!"},{"$error":"#DIV/0!"},{"$error":"#DIV/0!"},{"$error":"#DIV/0!"},{"$f":"+(aem2csp2!D120+(aem2csp2!E120*10))*(10^((65-aem2csp2!$A$12)/10))","v":0},0,{"$error":"#DIV/0!"},{"$error":"#DIV/0!"},{"$error":"#DIV/0!"},{"$error":"#DIV/0!"},{"$f":"+(aem2csp2!D120+(aem2csp2!E120*10))*(10^((65-aem2csp2!$A$13)/10))","v":0},0,{"$error":"#DIV/0!"},{"$error":"#DIV/0!"},{"$error":"#DIV/0!"},{"$error":"#DIV/0!"},{"$f":"+(aem2csp2!D120+(aem2csp2!E120*10))*(10^((65-aem2csp2!$A$14)/10))","v":0},0,{"$error":"#DIV/0!"},{"$error":"#DIV/0!"},{"$error":"#DIV/0!"},{"$error":"#DIV/0!"},{"$f":"+(aem2csp2!D120+(aem2csp2!E120*10))*(10^((65-aem2csp2!$A$15)/10))","v":0},0,{"$error":"#DIV/0!"},{"$error":"#DIV/0!"},{"$error":"#DIV/0!"},{"$error":"#DIV/0!"},{"$f":"+(aem2csp2!D120+(aem2csp2!E120*10))*(10^((65-aem2csp2!$A$16)/10))","v":0},0,{"$error":"#DIV/0!"},{"$error":"#DIV/0!"},{"$error":"#DIV/0!"},{"$error":"#DIV/0!"}]
[null,null,null,null,"CL600 ",3.36204530247027E-2,0.53012940193427804,{"$f":"+(aem2csp2!B121+(aem2csp2!C121*10))*(10^((65-aem2csp2!$A$11)/10))","v":0},0,{"$error":"#DIV/0!"},{"$error":"#DIV/0!"},{"$error":"#DIV/0!"},{"$error":"#DIV/0!"},{"$f":"+(aem2csp2!B121+(aem2csp2!C121*10))*(10^((65-aem2csp2!$A$12)/10))","v":0},0,{"$error":"#DIV/0!"},{"$error":"#DIV/0!"},{"$error":"#DIV/0!"},{"$error":"#DIV/0!"},{"$f":"+(aem2csp2!B121+(aem2csp2!C121*10))*(10^((65-aem2csp2!$A$13)/10))","v":0},0,{"$error":"#DIV/0!"},{"$error":"#DIV/0!"},{"$error":"#DIV/0!"},{"$error":"#DIV/0!"},{"$f":"+(aem2csp2!B121+(aem2csp2!C121*10))*(10^((65-aem2csp2!$A$14)/10))","v":0},0,{"$error":"#DIV/0!"},{"$error":"#DIV/0!"},{"$error":"#DIV/0!"},{"$error":"#DIV/0!"},{"$f":"+(aem2csp2!B121+(aem2csp2!C121*10))*(10^((65-aem2csp2!$A$15)/10))","v":0},0,{"$error":"#DIV/0!"},{"$error":"#DIV/0!"},{"$error":"#DIV/0!"},{"$error":"#DIV/0!"},{"$f":"+(aem2csp2!B121+(aem2csp2!C121*10))*(10^((65-aem2csp2!$A$16)/10))","v":0},0,{"$error":"#DIV/0!"},{"$error":"#DIV/0!"},{"$error":"#DIV/0!"},{"$error":"#DIV/0!"},91,{"$f":"+(aem2csp2!D121+(aem2csp2!E121*10))*(10^((65-aem2csp2!$A$11)/10))","v":0},0,{"$error":"#DIV/0!"},{"$error":"#DIV/0!"},{"$error":"#DIV/0!"},{"$error":"#DIV/0!"},{"$f":"+(aem2csp2!D121+(aem2csp2!E121*10))*(10^((65-aem2csp2!$A$12)/10))","v":0},0,{"$error":"#DIV/0!"},{"$error":"#DIV/0!"},{"$error":"#DIV/0!"},{"$error":"#DIV/0!"},{"$f":"+(aem2csp2!D121+(aem2csp2!E121*10))*(10^((65-aem2csp2!$A$13)/10))","v":0},0,{"$error":"#DIV/0!"},{"$error":"#DIV/0!"},{"$error":"#DIV/0!"},{"$error":"#DIV/0!"},{"$f":"+(aem2csp2!D121+(aem2csp2!E121*10))*(10^((65-aem2csp2!$A$14)/10))","v":0},0,{"$error":"#DIV/0!"},{"$error":"#DIV/0!"},{"$error":"#DIV/0!"},{"$error":"#DIV/0!"},{"$f":"+(aem2csp2!D121+(aem2csp2!E121*10))*(10^((65-aem2csp2!$A$15)/10))","v":0},0,{"$error":"#DIV/0!"},{"$error":"#DIV/0!"},{"$error":"#DIV/0!"},{"$error":"#DIV/0!"},{"$f":"+(aem2csp2!D121+(aem2csp2!E121*10))*(10^((65-aem2csp2!$A$16)/10))","v":0},0,{"$error":"#DIV/0!"},{"$error":"#DIV/0!"},{"$error":"#DIV/0!"},{"$error":"#DIV/0!"}]
[null,null,null,null,"CL601 ",7.8405079335941805E-2,0.36158387466160202,{"$f":"+(aem2csp2!B122+(aem2csp2!C122*10))*(10^((65-aem2csp2!$A$11)/10))","v":0},0,{"$error":"#DIV/0!"},{"$error":"#DIV/0!"},{"$error":"#DIV/0!"},{"$error":"#DIV/0!"},{"$f":"+(aem2csp2!B122+(aem2csp2!C122*10))*(10^((65-aem2csp2!$A$12)/10))","v":0},0,{"$error":"#DIV/0!"},{"$error":"#DIV/0!"},{"$error":"#DIV/0!"},{"$error":"#DIV/0!"},{"$f":"+(aem2csp2!B122+(aem2csp2!C122*10))*(10^((65-aem2csp2!$A$13)/10))","v":0},0,{"$error":"#DIV/0!"},{"$error":"#DIV/0!"},{"$error":"#DIV/0!"},{"$error":"#DIV/0!"},{"$f":"+(aem2csp2!B122+(aem2csp2!C122*10))*(10^((65-aem2csp2!$A$14)/10))","v":0},0,{"$error":"#DIV/0!"},{"$error":"#DIV/0!"},{"$error":"#DIV/0!"},{"$error":"#DIV/0!"},{"$f":"+(aem2csp2!B122+(aem2csp2!C122*10))*(10^((65-aem2csp2!$A$15)/10))","v":0},0,{"$error":"#DIV/0!"},{"$error":"#DIV/0!"},{"$error":"#DIV/0!"},{"$error":"#DIV/0!"},{"$f":"+(aem2csp2!B122+(aem2csp2!C122*10))*(10^((65-aem2csp2!$A$16)/10))","v":0},0,{"$error":"#DIV/0!"},{"$error":"#DIV/0!"},{"$error":"#DIV/0!"},{"$error":"#DIV/0!"},92,{"$f":"+(aem2csp2!D122+(aem2csp2!E122*10))*(10^((65-aem2csp2!$A$11)/10))","v":0},0,{"$error":"#DIV/0!"},{"$error":"#DIV/0!"},{"$error":"#DIV/0!"},{"$error":"#DIV/0!"},{"$f":"+(aem2csp2!D122+(aem2csp2!E122*10))*(10^((65-aem2csp2!$A$12)/10))","v":0},0,{"$error":"#DIV/0!"},{"$error":"#DIV/0!"},{"$error":"#DIV/0!"},{"$error":"#DIV/0!"},{"$f":"+(aem2csp2!D122+(aem2csp2!E122*10))*(10^((65-aem2csp2!$A$13)/10))","v":0},0,{"$error":"#DIV/0!"},{"$error":"#DIV/0!"},{"$error":"#DIV/0!"},{"$error":"#DIV/0!"},{"$f":"+(aem2csp2!D122+(aem2csp2!E122*10))*(10^((65-aem2csp2!$A$14)/10))","v":0},0,{"$error":"#DIV/0!"},{"$error":"#DIV/0!"},{"$error":"#DIV/0!"},{"$error":"#DIV/0!"},{"$f":"+(aem2csp2!D122+(aem2csp2!E122*10))*(10^((65-aem2csp2!$A$15)/10))","v":0},0,{"$error":"#DIV/0!"},{"$error":"#DIV/0!"},{"$error":"#DIV/0!"},{"$error":"#DIV/0!"},{"$f":"+(aem2csp2!D122+(aem2csp2!E122*10))*(10^((65-aem2csp2!$A$16)/10))","v":0},0,{"$error":"#DIV/0!"},{"$error":"#DIV/0!"},{"$error":"#DIV/0!"},{"$error":"#DIV/0!"}]
[null,null,null,null,"CNA172 ",7.8718587514554992E-3,0.48695146602369699,{"$f":"+(aem2csp2!B123+(aem2csp2!C123*10))*(10^((65-aem2csp2!$A$11)/10))","v":0},0,{"$error":"#DIV/0!"},{"$error":"#DIV/0!"},{"$error":"#DIV/0!"},{"$error":"#DIV/0!"},{"$f":"+(aem2csp2!B123+(aem2csp2!C123*10))*(10^((65-aem2csp2!$A$12)/10))","v":0},0,{"$error":"#DIV/0!"},{"$error":"#DIV/0!"},{"$error":"#DIV/0!"},{"$error":"#DIV/0!"},{"$f":"+(aem2csp2!B123+(aem2csp2!C123*10))*(10^((65-aem2csp2!$A$13)/10))","v":0},0,{"$error":"#DIV/0!"},{"$error":"#DIV/0!"},{"$error":"#DIV/0!"},{"$error":"#DIV/0!"},{"$f":"+(aem2csp2!B123+(aem2csp2!C123*10))*(10^((65-aem2csp2!$A$14)/10))","v":0},0,{"$error":"#DIV/0!"},{"$error":"#DIV/0!"},{"$error":"#DIV/0!"},{"$error":"#DIV/0!"},{"$f":"+(aem2csp2!B123+(aem2csp2!C123*10))*(10^((65-aem2csp2!$A$15)/10))","v":0},0,{"$error":"#DIV/0!"},{"$error":"#DIV/0!"},{"$error":"#DIV/0!"},{"$error":"#DIV/0!"},{"$f":"+(aem2csp2!B123+(aem2csp2!C123*10))*(10^((65-aem2csp2!$A$16)/10))","v":0},0,{"$error":"#DIV/0!"},{"$error":"#DIV/0!"},{"$error":"#DIV/0!"},{"$error":"#DIV/0!"},93,{"$f":"+(aem2csp2!D123+(aem2csp2!E123*10))*(10^((65-aem2csp2!$A$11)/10))","v":0},0,{"$error":"#DIV/0!"},{"$error":"#DIV/0!"},{"$error":"#DIV/0!"},{"$error":"#DIV/0!"},{"$f":"+(aem2csp2!D123+(aem2csp2!E123*10))*(10^((65-aem2csp2!$A$12)/10))","v":0},0,{"$error":"#DIV/0!"},{"$error":"#DIV/0!"},{"$error":"#DIV/0!"},{"$error":"#DIV/0!"},{"$f":"+(aem2csp2!D123+(aem2csp2!E123*10))*(10^((65-aem2csp2!$A$13)/10))","v":0},0,{"$error":"#DIV/0!"},{"$error":"#DIV/0!"},{"$error":"#DIV/0!"},{"$error":"#DIV/0!"},{"$f":"+(aem2csp2!D123+(aem2csp2!E123*10))*(10^((65-aem2csp2!$A$14)/10))","v":0},0,{"$error":"#DIV/0!"},{"$error":"#DIV/0!"},{"$error":"#DIV/0!"},{"$error":"#DIV/0!"},{"$f":"+(aem2csp2!D123+(aem2csp2!E123*10))*(10^((65-aem2csp2!$A$15)/10))","v":0},0,{"$error":"#DIV/0!"},{"$error":"#DIV/0!"},{"$error":"#DIV/0!"},{"$error":"#DIV/0!"},{"$f":"+(aem2csp2!D123+(aem2csp2!E123*10))*(10^((65-aem2csp2!$A$16)/10))","v":0},0,{"$error":"#DIV/0!"},{"$error":"#DIV/0!"},{"$error":"#DIV/0!"},{"$error":"#DIV/0!"}]
[null,null,null,null,"CNA182 ",3.4892831787269603E-2,0.55728331486753702,{"$f":"+(aem2csp2!B124+(aem2csp2!C124*10))*(10^((65-aem2csp2!$A$11)/10))","v":0},0,{"$error":"#DIV/0!"},{"$error":"#DIV/0!"},{"$error":"#DIV/0!"},{"$error":"#DIV/0!"},{"$f":"+(aem2csp2!B124+(aem2csp2!C124*10))*(10^((65-aem2csp2!$A$12)/10))","v":0},0,{"$error":"#DIV/0!"},{"$error":"#DIV/0!"},{"$error":"#DIV/0!"},{"$error":"#DIV/0!"},{"$f":"+(aem2csp2!B124+(aem2csp2!C124*10))*(10^((65-aem2csp2!$A$13)/10))","v":0},0,{"$error":"#DIV/0!"},{"$error":"#DIV/0!"},{"$error":"#DIV/0!"},{"$error":"#DIV/0!"},{"$f":"+(aem2csp2!B124+(aem2csp2!C124*10))*(10^((65-aem2csp2!$A$14)/10))","v":0},0,{"$error":"#DIV/0!"},{"$error":"#DIV/0!"},{"$error":"#DIV/0!"},{"$error":"#DIV/0!"},{"$f":"+(aem2csp2!B124+(aem2csp2!C124*10))*(10^((65-aem2csp2!$A$15)/10))","v":0},0,{"$error":"#DIV/0!"},{"$error":"#DIV/0!"},{"$error":"#DIV/0!"},{"$error":"#DIV/0!"},{"$f":"+(aem2csp2!B124+(aem2csp2!C124*10))*(10^((65-aem2csp2!$A$16)/10))","v":0},0,{"$error":"#DIV/0!"},{"$error":"#DIV/0!"},{"$error":"#DIV/0!"},{"$error":"#DIV/0!"},94,{"$f":"+(aem2csp2!D124+(aem2csp2!E124*10))*(10^((65-aem2csp2!$A$11)/10))","v":0},0,{"$error":"#DIV/0!"},{"$error":"#DIV/0!"},{"$error":"#DIV/0!"},{"$error":"#DIV/0!"},{"$f":"+(aem2csp2!D124+(aem2csp2!E124*10))*(10^((65-aem2csp2!$A$12)/10))","v":0},0,{"$error":"#DIV/0!"},{"$error":"#DIV/0!"},{"$error":"#DIV/0!"},{"$error":"#DIV/0!"},{"$f":"+(aem2csp2!D124+(aem2csp2!E124*10))*(10^((65-aem2csp2!$A$13)/10))","v":0},0,{"$error":"#DIV/0!"},{"$error":"#DIV/0!"},{"$error":"#DIV/0!"},{"$error":"#DIV/0!"},{"$f":"+(aem2csp2!D124+(aem2csp2!E124*10))*(10^((65-aem2csp2!$A$14)/10))","v":0},0,{"$error":"#DIV/0!"},{"$error":"#DIV/0!"},{"$error":"#DIV/0!"},{"$error":"#DIV/0!"},{"$f":"+(aem2csp2!D124+(aem2csp2!E124*10))*(10^((65-aem2csp2!$A$15)/10))","v":0},0,{"$error":"#DIV/0!"},{"$error":"#DIV/0!"},{"$error":"#DIV/0!"},{"$error":"#DIV/0!"},{"$f":"+(aem2csp2!D124+(aem2csp2!E124*10))*(10^((65-aem2csp2!$A$16)/10))","v":0},0,{"$error":"#DIV/0!"},{"$error":"#DIV/0!"},{"$error":"#DIV/0!"},{"$error":"#DIV/0!"}]
[null,null,null,null,"CNA182FLT ",4.29795266142983E-3,0.79153522387792996,{"$f":"+(aem2csp2!B125+(aem2csp2!C125*10))*(10^((65-aem2csp2!$A$11)/10))","v":0},0,{"$error":"#DIV/0!"},{"$error":"#DIV/0!"},{"$error":"#DIV/0!"},{"$error":"#DIV/0!"},{"$f":"+(aem2csp2!B125+(aem2csp2!C125*10))*(10^((65-aem2csp2!$A$12)/10))","v":0},0,{"$error":"#DIV/0!"},{"$error":"#DIV/0!"},{"$error":"#DIV/0!"},{"$error":"#DIV/0!"},{"$f":"+(aem2csp2!B125+(aem2csp2!C125*10))*(10^((65-aem2csp2!$A$13)/10))","v":0},0,{"$error":"#DIV/0!"},{"$error":"#DIV/0!"},{"$error":"#DIV/0!"},{"$error":"#DIV/0!"},{"$f":"+(aem2csp2!B125+(aem2csp2!C125*10))*(10^((65-aem2csp2!$A$14)/10))","v":0},0,{"$error":"#DIV/0!"},{"$error":"#DIV/0!"},{"$error":"#DIV/0!"},{"$error":"#DIV/0!"},{"$f":"+(aem2csp2!B125+(aem2csp2!C125*10))*(10^((65-aem2csp2!$A$15)/10))","v":0},0,{"$error":"#DIV/0!"},{"$error":"#DIV/0!"},{"$error":"#DIV/0!"},{"$error":"#DIV/0!"},{"$f":"+(aem2csp2!B125+(aem2csp2!C125*10))*(10^((65-aem2csp2!$A$16)/10))","v":0},0,{"$error":"#DIV/0!"},{"$error":"#DIV/0!"},{"$error":"#DIV/0!"},{"$error":"#DIV/0!"},95,{"$f":"+(aem2csp2!D125+(aem2csp2!E125*10))*(10^((65-aem2csp2!$A$11)/10))","v":0},0,{"$error":"#DIV/0!"},{"$error":"#DIV/0!"},{"$error":"#DIV/0!"},{"$error":"#DIV/0!"},{"$f":"+(aem2csp2!D125+(aem2csp2!E125*10))*(10^((65-aem2csp2!$A$12)/10))","v":0},0,{"$error":"#DIV/0!"},{"$error":"#DIV/0!"},{"$error":"#DIV/0!"},{"$error":"#DIV/0!"},{"$f":"+(aem2csp2!D125+(aem2csp2!E125*10))*(10^((65-aem2csp2!$A$13)/10))","v":0},0,{"$error":"#DIV/0!"},{"$error":"#DIV/0!"},{"$error":"#DIV/0!"},{"$error":"#DIV/0!"},{"$f":"+(aem2csp2!D125+(aem2csp2!E125*10))*(10^((65-aem2csp2!$A$14)/10))","v":0},0,{"$error":"#DIV/0!"},{"$error":"#DIV/0!"},{"$error":"#DIV/0!"},{"$error":"#DIV/0!"},{"$f":"+(aem2csp2!D125+(aem2csp2!E125*10))*(10^((65-aem2csp2!$A$15)/10))","v":0},0,{"$error":"#DIV/0!"},{"$error":"#DIV/0!"},{"$error":"#DIV/0!"},{"$error":"#DIV/0!"},{"$f":"+(aem2csp2!D125+(aem2csp2!E125*10))*(10^((65-aem2csp2!$A$16)/10))","v":0},0,{"$error":"#DIV/0!"},{"$error":"#DIV/0!"},{"$error":"#DIV/0!"},{"$error":"#DIV/0!"}]
[null,null,null,null,"CNA206 ",1.37833291928157E-3,1.07252273419794,{"$f":"+(aem2csp2!B126+(aem2csp2!C126*10))*(10^((65-aem2csp2!$A$11)/10))","v":0},0,{"$error":"#DIV/0!"},{"$error":"#DIV/0!"},{"$error":"#DIV/0!"},{"$error":"#DIV/0!"},{"$f":"+(aem2csp2!B126+(aem2csp2!C126*10))*(10^((65-aem2csp2!$A$12)/10))","v":0},0,{"$error":"#DIV/0!"},{"$error":"#DIV/0!"},{"$error":"#DIV/0!"},{"$error":"#DIV/0!"},{"$f":"+(aem2csp2!B126+(aem2csp2!C126*10))*(10^((65-aem2csp2!$A$13)/10))","v":0},0,{"$error":"#DIV/0!"},{"$error":"#DIV/0!"},{"$error":"#DIV/0!"},{"$error":"#DIV/0!"},{"$f":"+(aem2csp2!B126+(aem2csp2!C126*10))*(10^((65-aem2csp2!$A$14)/10))","v":0},0,{"$error":"#DIV/0!"},{"$error":"#DIV/0!"},{"$error":"#DIV/0!"},{"$error":"#DIV/0!"},{"$f":"+(aem2csp2!B126+(aem2csp2!C126*10))*(10^((65-aem2csp2!$A$15)/10))","v":0},0,{"$error":"#DIV/0!"},{"$error":"#DIV/0!"},{"$error":"#DIV/0!"},{"$error":"#DIV/0!"},{"$f":"+(aem2csp2!B126+(aem2csp2!C126*10))*(10^((65-aem2csp2!$A$16)/10))","v":0},0,{"$error":"#DIV/0!"},{"$error":"#DIV/0!"},{"$error":"#DIV/0!"},{"$error":"#DIV/0!"},96,{"$f":"+(aem2csp2!D126+(aem2csp2!E126*10))*(10^((65-aem2csp2!$A$11)/10))","v":0},0,{"$error":"#DIV/0!"},{"$error":"#DIV/0!"},{"$error":"#DIV/0!"},{"$error":"#DIV/0!"},{"$f":"+(aem2csp2!D126+(aem2csp2!E126*10))*(10^((65-aem2csp2!$A$12)/10))","v":0},0,{"$error":"#DIV/0!"},{"$error":"#DIV/0!"},{"$error":"#DIV/0!"},{"$error":"#DIV/0!"},{"$f":"+(aem2csp2!D126+(aem2csp2!E126*10))*(10^((65-aem2csp2!$A$13)/10))","v":0},0,{"$error":"#DIV/0!"},{"$error":"#DIV/0!"},{"$error":"#DIV/0!"},{"$error":"#DIV/0!"},{"$f":"+(aem2csp2!D126+(aem2csp2!E126*10))*(10^((65-aem2csp2!$A$14)/10))","v":0},0,{"$error":"#DIV/0!"},{"$error":"#DIV/0!"},{"$error":"#DIV/0!"},{"$error":"#DIV/0!"},{"$f":"+(aem2csp2!D126+(aem2csp2!E126*10))*(10^((65-aem2csp2!$A$15)/10))","v":0},0,{"$error":"#DIV/0!"},{"$error":"#DIV/0!"},{"$error":"#DIV/0!"},{"$error":"#DIV/0!"},{"$f":"+(aem2csp2!D126+(aem2csp2!E126*10))*(10^((65-aem2csp2!$A$16)/10))","v":0},0,{"$error":"#DIV/0!"},{"$error":"#DIV/0!"},{"$error":"#DIV/0!"},{"$error":"#DIV/0!"}]
[null,null,null,null,"CNA208 ",4.38320725636021E-3,0.76212191672073304,{"$f":"+(aem2csp2!B127+(aem2csp2!C127*10))*(10^((65-aem2csp2!$A$11)/10))","v":0},0,{"$error":"#DIV/0!"},{"$error":"#DIV/0!"},{"$error":"#DIV/0!"},{"$error":"#DIV/0!"},{"$f":"+(aem2csp2!B127+(aem2csp2!C127*10))*(10^((65-aem2csp2!$A$12)/10))","v":0},0,{"$error":"#DIV/0!"},{"$error":"#DIV/0!"},{"$error":"#DIV/0!"},{"$error":"#DIV/0!"},{"$f":"+(aem2csp2!B127+(aem2csp2!C127*10))*(10^((65-aem2csp2!$A$13)/10))","v":0},0,{"$error":"#DIV/0!"},{"$error":"#DIV/0!"},{"$error":"#DIV/0!"},{"$error":"#DIV/0!"},{"$f":"+(aem2csp2!B127+(aem2csp2!C127*10))*(10^((65-aem2csp2!$A$14)/10))","v":0},0,{"$error":"#DIV/0!"},{"$error":"#DIV/0!"},{"$error":"#DIV/0!"},{"$error":"#DIV/0!"},{"$f":"+(aem2csp2!B127+(aem2csp2!C127*10))*(10^((65-aem2csp2!$A$15)/10))","v":0},0,{"$error":"#DIV/0!"},{"$error":"#DIV/0!"},{"$error":"#DIV/0!"},{"$error":"#DIV/0!"},{"$f":"+(aem2csp2!B127+(aem2csp2!C127*10))*(10^((65-aem2csp2!$A$16)/10))","v":0},0,{"$error":"#DIV/0!"},{"$error":"#DIV/0!"},{"$error":"#DIV/0!"},{"$error":"#DIV/0!"},97,{"$f":"+(aem2csp2!D127+(aem2csp2!E127*10))*(10^((65-aem2csp2!$A$11)/10))","v":0},0,{"$error":"#DIV/0!"},{"$error":"#DIV/0!"},{"$error":"#DIV/0!"},{"$error":"#DIV/0!"},{"$f":"+(aem2csp2!D127+(aem2csp2!E127*10))*(10^((65-aem2csp2!$A$12)/10))","v":0},0,{"$error":"#DIV/0!"},{"$error":"#DIV/0!"},{"$error":"#DIV/0!"},{"$error":"#DIV/0!"},{"$f":"+(aem2csp2!D127+(aem2csp2!E127*10))*(10^((65-aem2csp2!$A$13)/10))","v":0},0,{"$error":"#DIV/0!"},{"$error":"#DIV/0!"},{"$error":"#DIV/0!"},{"$error":"#DIV/0!"},{"$f":"+(aem2csp2!D127+(aem2csp2!E127*10))*(10^((65-aem2csp2!$A$14)/10))","v":0},0,{"$error":"#DIV/0!"},{"$error":"#DIV/0!"},{"$error":"#DIV/0!"},{"$error":"#DIV/0!"},{"$f":"+(aem2csp2!D127+(aem2csp2!E127*10))*(10^((65-aem2csp2!$A$15)/10))","v":0},0,{"$error":"#DIV/0!"},{"$error":"#DIV/0!"},{"$error":"#DIV/0!"},{"$error":"#DIV/0!"},{"$f":"+(aem2csp2!D127+(aem2csp2!E127*10))*(10^((65-aem2csp2!$A$16)/10))","v":0},0,{"$error":"#DIV/0!"},{"$error":"#DIV/0!"},{"$error":"#DIV/0!"},{"$error":"#DIV/0!"}]
[null,null,null,null,"CNA20T ",6.9492341675209401E-3,0.54239280522438105,{"$f":"+(aem2csp2!B128+(aem2csp2!C128*10))*(10^((65-aem2csp2!$A$11)/10))","v":0},0,{"$error":"#DIV/0!"},{"$error":"#DIV/0!"},{"$error":"#DIV/0!"},{"$error":"#DIV/0!"},{"$f":"+(aem2csp2!B128+(aem2csp2!C128*10))*(10^((65-aem2csp2!$A$12)/10))","v":0},0,{"$error":"#DIV/0!"},{"$error":"#DIV/0!"},{"$error":"#DIV/0!"},{"$error":"#DIV/0!"},{"$f":"+(aem2csp2!B128+(aem2csp2!C128*10))*(10^((65-aem2csp2!$A$13)/10))","v":0},0,{"$error":"#DIV/0!"},{"$error":"#DIV/0!"},{"$error":"#DIV/0!"},{"$error":"#DIV/0!"},{"$f":"+(aem2csp2!B128+(aem2csp2!C128*10))*(10^((65-aem2csp2!$A$14)/10))","v":0},0,{"$error":"#DIV/0!"},{"$error":"#DIV/0!"},{"$error":"#DIV/0!"},{"$error":"#DIV/0!"},{"$f":"+(aem2csp2!B128+(aem2csp2!C128*10))*(10^((65-aem2csp2!$A$15)/10))","v":0},0,{"$error":"#DIV/0!"},{"$error":"#DIV/0!"},{"$error":"#DIV/0!"},{"$error":"#DIV/0!"},{"$f":"+(aem2csp2!B128+(aem2csp2!C128*10))*(10^((65-aem2csp2!$A$16)/10))","v":0},0,{"$error":"#DIV/0!"},{"$error":"#DIV/0!"},{"$error":"#DIV/0!"},{"$error":"#DIV/0!"},98,{"$f":"+(aem2csp2!D128+(aem2csp2!E128*10))*(10^((65-aem2csp2!$A$11)/10))","v":0},0,{"$error":"#DIV/0!"},{"$error":"#DIV/0!"},{"$error":"#DIV/0!"},{"$error":"#DIV/0!"},{"$f":"+(aem2csp2!D128+(aem2csp2!E128*10))*(10^((65-aem2csp2!$A$12)/10))","v":0},0,{"$error":"#DIV/0!"},{"$error":"#DIV/0!"},{"$error":"#DIV/0!"},{"$error":"#DIV/0!"},{"$f":"+(aem2csp2!D128+(aem2csp2!E128*10))*(10^((65-aem2csp2!$A$13)/10))","v":0},0,{"$error":"#DIV/0!"},{"$error":"#DIV/0!"},{"$error":"#DIV/0!"},{"$error":"#DIV/0!"},{"$f":"+(aem2csp2!D128+(aem2csp2!E128*10))*(10^((65-aem2csp2!$A$14)/10))","v":0},0,{"$error":"#DIV/0!"},{"$error":"#DIV/0!"},{"$error":"#DIV/0!"},{"$error":"#DIV/0!"},{"$f":"+(aem2csp2!D128+(aem2csp2!E128*10))*(10^((65-aem2csp2!$A$15)/10))","v":0},0,{"$error":"#DIV/0!"},{"$error":"#DIV/0!"},{"$error":"#DIV/0!"},{"$error":"#DIV/0!"},{"$f":"+(aem2csp2!D128+(aem2csp2!E128*10))*(10^((65-aem2csp2!$A$16)/10))","v":0},0,{"$error":"#DIV/0!"},{"$error":"#DIV/0!"},{"$error":"#DIV/0!"},{"$error":"#DIV/0!"}]
[null,null,null,null,"CNA441 ",1.63122511390544E-2,0.44350111028504902,{"$f":"+(aem2csp2!B129+(aem2csp2!C129*10))*(10^((65-aem2csp2!$A$11)/10))","v":0},0,{"$error":"#DIV/0!"},{"$error":"#DIV/0!"},{"$error":"#DIV/0!"},{"$error":"#DIV/0!"},{"$f":"+(aem2csp2!B129+(aem2csp2!C129*10))*(10^((65-aem2csp2!$A$12)/10))","v":0},0,{"$error":"#DIV/0!"},{"$error":"#DIV/0!"},{"$error":"#DIV/0!"},{"$error":"#DIV/0!"},{"$f":"+(aem2csp2!B129+(aem2csp2!C129*10))*(10^((65-aem2csp2!$A$13)/10))","v":0},0,{"$error":"#DIV/0!"},{"$error":"#DIV/0!"},{"$error":"#DIV/0!"},{"$error":"#DIV/0!"},{"$f":"+(aem2csp2!B129+(aem2csp2!C129*10))*(10^((65-aem2csp2!$A$14)/10))","v":0},0,{"$error":"#DIV/0!"},{"$error":"#DIV/0!"},{"$error":"#DIV/0!"},{"$error":"#DIV/0!"},{"$f":"+(aem2csp2!B129+(aem2csp2!C129*10))*(10^((65-aem2csp2!$A$15)/10))","v":0},0,{"$error":"#DIV/0!"},{"$error":"#DIV/0!"},{"$error":"#DIV/0!"},{"$error":"#DIV/0!"},{"$f":"+(aem2csp2!B129+(aem2csp2!C129*10))*(10^((65-aem2csp2!$A$16)/10))","v":0},0,{"$error":"#DIV/0!"},{"$error":"#DIV/0!"},{"$error":"#DIV/0!"},{"$error":"#DIV/0!"},99,{"$f":"+(aem2csp2!D129+(aem2csp2!E129*10))*(10^((65-aem2csp2!$A$11)/10))","v":0},0,{"$error":"#DIV/0!"},{"$error":"#DIV/0!"},{"$error":"#DIV/0!"},{"$error":"#DIV/0!"},{"$f":"+(aem2csp2!D129+(aem2csp2!E129*10))*(10^((65-aem2csp2!$A$12)/10))","v":0},0,{"$error":"#DIV/0!"},{"$error":"#DIV/0!"},{"$error":"#DIV/0!"},{"$error":"#DIV/0!"},{"$f":"+(aem2csp2!D129+(aem2csp2!E129*10))*(10^((65-aem2csp2!$A$13)/10))","v":0},0,{"$error":"#DIV/0!"},{"$error":"#DIV/0!"},{"$error":"#DIV/0!"},{"$error":"#DIV/0!"},{"$f":"+(aem2csp2!D129+(aem2csp2!E129*10))*(10^((65-aem2csp2!$A$14)/10))","v":0},0,{"$error":"#DIV/0!"},{"$error":"#DIV/0!"},{"$error":"#DIV/0!"},{"$error":"#DIV/0!"},{"$f":"+(aem2csp2!D129+(aem2csp2!E129*10))*(10^((65-aem2csp2!$A$15)/10))","v":0},0,{"$error":"#DIV/0!"},{"$error":"#DIV/0!"},{"$error":"#DIV/0!"},{"$error":"#DIV/0!"},{"$f":"+(aem2csp2!D129+(aem2csp2!E129*10))*(10^((65-aem2csp2!$A$16)/10))","v":0},0,{"$error":"#DIV/0!"},{"$error":"#DIV/0!"},{"$error":"#DIV/0!"},{"$error":"#DIV/0!"}]
[null,null,null,null,"CNA500 ",2.6340589928864601E-2,0.56168426844658104,{"$f":"+(aem2csp2!B130+(aem2csp2!C130*10))*(10^((65-aem2csp2!$A$11)/10))","v":0},0,{"$error":"#DIV/0!"},{"$error":"#DIV/0!"},{"$error":"#DIV/0!"},{"$error":"#DIV/0!"},{"$f":"+(aem2csp2!B130+(aem2csp2!C130*10))*(10^((65-aem2csp2!$A$12)/10))","v":0},0,{"$error":"#DIV/0!"},{"$error":"#DIV/0!"},{"$error":"#DIV/0!"},{"$error":"#DIV/0!"},{"$f":"+(aem2csp2!B130+(aem2csp2!C130*10))*(10^((65-aem2csp2!$A$13)/10))","v":0},0,{"$error":"#DIV/0!"},{"$error":"#DIV/0!"},{"$error":"#DIV/0!"},{"$error":"#DIV/0!"},{"$f":"+(aem2csp2!B130+(aem2csp2!C130*10))*(10^((65-aem2csp2!$A$14)/10))","v":0},0,{"$error":"#DIV/0!"},{"$error":"#DIV/0!"},{"$error":"#DIV/0!"},{"$error":"#DIV/0!"},{"$f":"+(aem2csp2!B130+(aem2csp2!C130*10))*(10^((65-aem2csp2!$A$15)/10))","v":0},0,{"$error":"#DIV/0!"},{"$error":"#DIV/0!"},{"$error":"#DIV/0!"},{"$error":"#DIV/0!"},{"$f":"+(aem2csp2!B130+(aem2csp2!C130*10))*(10^((65-aem2csp2!$A$16)/10))","v":0},0,{"$error":"#DIV/0!"},{"$error":"#DIV/0!"},{"$error":"#DIV/0!"},{"$error":"#DIV/0!"},100,{"$f":"+(aem2csp2!D130+(aem2csp2!E130*10))*(10^((65-aem2csp2!$A$11)/10))","v":0},0,{"$error":"#DIV/0!"},{"$error":"#DIV/0!"},{"$error":"#DIV/0!"},{"$error":"#DIV/0!"},{"$f":"+(aem2csp2!D130+(aem2csp2!E130*10))*(10^((65-aem2csp2!$A$12)/10))","v":0},0,{"$error":"#DIV/0!"},{"$error":"#DIV/0!"},{"$error":"#DIV/0!"},{"$error":"#DIV/0!"},{"$f":"+(aem2csp2!D130+(aem2csp2!E130*10))*(10^((65-aem2csp2!$A$13)/10))","v":0},0,{"$error":"#DIV/0!"},{"$error":"#DIV/0!"},{"$error":"#DIV/0!"},{"$error":"#DIV/0!"},{"$f":"+(aem2csp2!D130+(aem2csp2!E130*10))*(10^((65-aem2csp2!$A$14)/10))","v":0},0,{"$error":"#DIV/0!"},{"$error":"#DIV/0!"},{"$error":"#DIV/0!"},{"$error":"#DIV/0!"},{"$f":"+(aem2csp2!D130+(aem2csp2!E130*10))*(10^((65-aem2csp2!$A$15)/10))","v":0},0,{"$error":"#DIV/0!"},{"$error":"#DIV/0!"},{"$error":"#DIV/0!"},{"$error":"#DIV/0!"},{"$f":"+(aem2csp2!D130+(aem2csp2!E130*10))*(10^((65-aem2csp2!$A$16)/10))","v":0},0,{"$error":"#DIV/0!"},{"$error":"#DIV/0!"},{"$error":"#DIV/0!"},{"$error":"#DIV/0!"}]
[null,null,null,null,"CNA510 ",8.9019497831872001E-3,0.65002234488153399,{"$f":"+(aem2csp2!B131+(aem2csp2!C131*10))*(10^((65-aem2csp2!$A$11)/10))","v":0},0,{"$error":"#DIV/0!"},{"$error":"#DIV/0!"},{"$error":"#DIV/0!"},{"$error":"#DIV/0!"},{"$f":"+(aem2csp2!B131+(aem2csp2!C131*10))*(10^((65-aem2csp2!$A$12)/10))","v":0},0,{"$error":"#DIV/0!"},{"$error":"#DIV/0!"},{"$error":"#DIV/0!"},{"$error":"#DIV/0!"},{"$f":"+(aem2csp2!B131+(aem2csp2!C131*10))*(10^((65-aem2csp2!$A$13)/10))","v":0},0,{"$error":"#DIV/0!"},{"$error":"#DIV/0!"},{"$error":"#DIV/0!"},{"$error":"#DIV/0!"},{"$f":"+(aem2csp2!B131+(aem2csp2!C131*10))*(10^((65-aem2csp2!$A$14)/10))","v":0},0,{"$error":"#DIV/0!"},{"$error":"#DIV/0!"},{"$error":"#DIV/0!"},{"$error":"#DIV/0!"},{"$f":"+(aem2csp2!B131+(aem2csp2!C131*10))*(10^((65-aem2csp2!$A$15)/10))","v":0},0,{"$error":"#DIV/0!"},{"$error":"#DIV/0!"},{"$error":"#DIV/0!"},{"$error":"#DIV/0!"},{"$f":"+(aem2csp2!B131+(aem2csp2!C131*10))*(10^((65-aem2csp2!$A$16)/10))","v":0},0,{"$error":"#DIV/0!"},{"$error":"#DIV/0!"},{"$error":"#DIV/0!"},{"$error":"#DIV/0!"},101,{"$f":"+(aem2csp2!D131+(aem2csp2!E131*10))*(10^((65-aem2csp2!$A$11)/10))","v":0},0,{"$error":"#DIV/0!"},{"$error":"#DIV/0!"},{"$error":"#DIV/0!"},{"$error":"#DIV/0!"},{"$f":"+(aem2csp2!D131+(aem2csp2!E131*10))*(10^((65-aem2csp2!$A$12)/10))","v":0},0,{"$error":"#DIV/0!"},{"$error":"#DIV/0!"},{"$error":"#DIV/0!"},{"$error":"#DIV/0!"},{"$f":"+(aem2csp2!D131+(aem2csp2!E131*10))*(10^((65-aem2csp2!$A$13)/10))","v":0},0,{"$error":"#DIV/0!"},{"$error":"#DIV/0!"},{"$error":"#DIV/0!"},{"$error":"#DIV/0!"},{"$f":"+(aem2csp2!D131+(aem2csp2!E131*10))*(10^((65-aem2csp2!$A$14)/10))","v":0},0,{"$error":"#DIV/0!"},{"$error":"#DIV/0!"},{"$error":"#DIV/0!"},{"$error":"#DIV/0!"},{"$f":"+(aem2csp2!D131+(aem2csp2!E131*10))*(10^((65-aem2csp2!$A$15)/10))","v":0},0,{"$error":"#DIV/0!"},{"$error":"#DIV/0!"},{"$error":"#DIV/0!"},{"$error":"#DIV/0!"},{"$f":"+(aem2csp2!D131+(aem2csp2!E131*10))*(10^((65-aem2csp2!$A$16)/10))","v":0},0,{"$error":"#DIV/0!"},{"$error":"#DIV/0!"},{"$error":"#DIV/0!"},{"$error":"#DIV/0!"}]
[null,null,null,null,"CNA525C ",1.8610694117279499E-2,0.626276407314588,{"$f":"+(aem2csp2!B132+(aem2csp2!C132*10))*(10^((65-aem2csp2!$A$11)/10))","v":0},0,{"$error":"#DIV/0!"},{"$error":"#DIV/0!"},{"$error":"#DIV/0!"},{"$error":"#DIV/0!"},{"$f":"+(aem2csp2!B132+(aem2csp2!C132*10))*(10^((65-aem2csp2!$A$12)/10))","v":0},0,{"$error":"#DIV/0!"},{"$error":"#DIV/0!"},{"$error":"#DIV/0!"},{"$error":"#DIV/0!"},{"$f":"+(aem2csp2!B132+(aem2csp2!C132*10))*(10^((65-aem2csp2!$A$13)/10))","v":0},0,{"$error":"#DIV/0!"},{"$error":"#DIV/0!"},{"$error":"#DIV/0!"},{"$error":"#DIV/0!"},{"$f":"+(aem2csp2!B132+(aem2csp2!C132*10))*(10^((65-aem2csp2!$A$14)/10))","v":0},0,{"$error":"#DIV/0!"},{"$error":"#DIV/0!"},{"$error":"#DIV/0!"},{"$error":"#DIV/0!"},{"$f":"+(aem2csp2!B132+(aem2csp2!C132*10))*(10^((65-aem2csp2!$A$15)/10))","v":0},0,{"$error":"#DIV/0!"},{"$error":"#DIV/0!"},{"$error":"#DIV/0!"},{"$error":"#DIV/0!"},{"$f":"+(aem2csp2!B132+(aem2csp2!C132*10))*(10^((65-aem2csp2!$A$16)/10))","v":0},0,{"$error":"#DIV/0!"},{"$error":"#DIV/0!"},{"$error":"#DIV/0!"},{"$error":"#DIV/0!"},102,{"$f":"+(aem2csp2!D132+(aem2csp2!E132*10))*(10^((65-aem2csp2!$A$11)/10))","v":0},0,{"$error":"#DIV/0!"},{"$error":"#DIV/0!"},{"$error":"#DIV/0!"},{"$error":"#DIV/0!"},{"$f":"+(aem2csp2!D132+(aem2csp2!E132*10))*(10^((65-aem2csp2!$A$12)/10))","v":0},0,{"$error":"#DIV/0!"},{"$error":"#DIV/0!"},{"$error":"#DIV/0!"},{"$error":"#DIV/0!"},{"$f":"+(aem2csp2!D132+(aem2csp2!E132*10))*(10^((65-aem2csp2!$A$13)/10))","v":0},0,{"$error":"#DIV/0!"},{"$error":"#DIV/0!"},{"$error":"#DIV/0!"},{"$error":"#DIV/0!"},{"$f":"+(aem2csp2!D132+(aem2csp2!E132*10))*(10^((65-aem2csp2!$A$14)/10))","v":0},0,{"$error":"#DIV/0!"},{"$error":"#DIV/0!"},{"$error":"#DIV/0!"},{"$error":"#DIV/0!"},{"$f":"+(aem2csp2!D132+(aem2csp2!E132*10))*(10^((65-aem2csp2!$A$15)/10))","v":0},0,{"$error":"#DIV/0!"},{"$error":"#DIV/0!"},{"$error":"#DIV/0!"},{"$error":"#DIV/0!"},{"$f":"+(aem2csp2!D132+(aem2csp2!E132*10))*(10^((65-aem2csp2!$A$16)/10))","v":0},0,{"$error":"#DIV/0!"},{"$error":"#DIV/0!"},{"$error":"#DIV/0!"},{"$error":"#DIV/0!"}]
[null,null,null,null,"CNA55B ",1.1398576127073999E-2,0.67034695242559095,{"$f":"+(aem2csp2!B133+(aem2csp2!C133*10))*(10^((65-aem2csp2!$A$11)/10))","v":0},0,{"$error":"#DIV/0!"},{"$error":"#DIV/0!"},{"$error":"#DIV/0!"},{"$error":"#DIV/0!"},{"$f":"+(aem2csp2!B133+(aem2csp2!C133*10))*(10^((65-aem2csp2!$A$12)/10))","v":0},0,{"$error":"#DIV/0!"},{"$error":"#DIV/0!"},{"$error":"#DIV/0!"},{"$error":"#DIV/0!"},{"$f":"+(aem2csp2!B133+(aem2csp2!C133*10))*(10^((65-aem2csp2!$A$13)/10))","v":0},0,{"$error":"#DIV/0!"},{"$error":"#DIV/0!"},{"$error":"#DIV/0!"},{"$error":"#DIV/0!"},{"$f":"+(aem2csp2!B133+(aem2csp2!C133*10))*(10^((65-aem2csp2!$A$14)/10))","v":0},0,{"$error":"#DIV/0!"},{"$error":"#DIV/0!"},{"$error":"#DIV/0!"},{"$error":"#DIV/0!"},{"$f":"+(aem2csp2!B133+(aem2csp2!C133*10))*(10^((65-aem2csp2!$A$15)/10))","v":0},0,{"$error":"#DIV/0!"},{"$error":"#DIV/0!"},{"$error":"#DIV/0!"},{"$error":"#DIV/0!"},{"$f":"+(aem2csp2!B133+(aem2csp2!C133*10))*(10^((65-aem2csp2!$A$16)/10))","v":0},0,{"$error":"#DIV/0!"},{"$error":"#DIV/0!"},{"$error":"#DIV/0!"},{"$error":"#DIV/0!"},103,{"$f":"+(aem2csp2!D133+(aem2csp2!E133*10))*(10^((65-aem2csp2!$A$11)/10))","v":0},0,{"$error":"#DIV/0!"},{"$error":"#DIV/0!"},{"$error":"#DIV/0!"},{"$error":"#DIV/0!"},{"$f":"+(aem2csp2!D133+(aem2csp2!E133*10))*(10^((65-aem2csp2!$A$12)/10))","v":0},0,{"$error":"#DIV/0!"},{"$error":"#DIV/0!"},{"$error":"#DIV/0!"},{"$error":"#DIV/0!"},{"$f":"+(aem2csp2!D133+(aem2csp2!E133*10))*(10^((65-aem2csp2!$A$13)/10))","v":0},0,{"$error":"#DIV/0!"},{"$error":"#DIV/0!"},{"$error":"#DIV/0!"},{"$error":"#DIV/0!"},{"$f":"+(aem2csp2!D133+(aem2csp2!E133*10))*(10^((65-aem2csp2!$A$14)/10))","v":0},0,{"$error":"#DIV/0!"},{"$error":"#DIV/0!"},{"$error":"#DIV/0!"},{"$error":"#DIV/0!"},{"$f":"+(aem2csp2!D133+(aem2csp2!E133*10))*(10^((65-aem2csp2!$A$15)/10))","v":0},0,{"$error":"#DIV/0!"},{"$error":"#DIV/0!"},{"$error":"#DIV/0!"},{"$error":"#DIV/0!"},{"$f":"+(aem2csp2!D133+(aem2csp2!E133*10))*(10^((65-aem2csp2!$A$16)/10))","v":0},0,{"$error":"#DIV/0!"},{"$error":"#DIV/0!"},{"$error":"#DIV/0!"},{"$error":"#DIV/0!"}]
[null,null,null,null,"CNA560E ",1.17938620586935E-2,0.70517568149965604,{"$f":"+(aem2csp2!B134+(aem2csp2!C134*10))*(10^((65-aem2csp2!$A$11)/10))","v":0},0,{"$error":"#DIV/0!"},{"$error":"#DIV/0!"},{"$error":"#DIV/0!"},{"$error":"#DIV/0!"},{"$f":"+(aem2csp2!B134+(aem2csp2!C134*10))*(10^((65-aem2csp2!$A$12)/10))","v":0},0,{"$error":"#DIV/0!"},{"$error":"#DIV/0!"},{"$error":"#DIV/0!"},{"$error":"#DIV/0!"},{"$f":"+(aem2csp2!B134+(aem2csp2!C134*10))*(10^((65-aem2csp2!$A$13)/10))","v":0},0,{"$error":"#DIV/0!"},{"$error":"#DIV/0!"},{"$error":"#DIV/0!"},{"$error":"#DIV/0!"},{"$f":"+(aem2csp2!B134+(aem2csp2!C134*10))*(10^((65-aem2csp2!$A$14)/10))","v":0},0,{"$error":"#DIV/0!"},{"$error":"#DIV/0!"},{"$error":"#DIV/0!"},{"$error":"#DIV/0!"},{"$f":"+(aem2csp2!B134+(aem2csp2!C134*10))*(10^((65-aem2csp2!$A$15)/10))","v":0},0,{"$error":"#DIV/0!"},{"$error":"#DIV/0!"},{"$error":"#DIV/0!"},{"$error":"#DIV/0!"},{"$f":"+(aem2csp2!B134+(aem2csp2!C134*10))*(10^((65-aem2csp2!$A$16)/10))","v":0},0,{"$error":"#DIV/0!"},{"$error":"#DIV/0!"},{"$error":"#DIV/0!"},{"$error":"#DIV/0!"},104,{"$f":"+(aem2csp2!D134+(aem2csp2!E134*10))*(10^((65-aem2csp2!$A$11)/10))","v":0},0,{"$error":"#DIV/0!"},{"$error":"#DIV/0!"},{"$error":"#DIV/0!"},{"$error":"#DIV/0!"},{"$f":"+(aem2csp2!D134+(aem2csp2!E134*10))*(10^((65-aem2csp2!$A$12)/10))","v":0},0,{"$error":"#DIV/0!"},{"$error":"#DIV/0!"},{"$error":"#DIV/0!"},{"$error":"#DIV/0!"},{"$f":"+(aem2csp2!D134+(aem2csp2!E134*10))*(10^((65-aem2csp2!$A$13)/10))","v":0},0,{"$error":"#DIV/0!"},{"$error":"#DIV/0!"},{"$error":"#DIV/0!"},{"$error":"#DIV/0!"},{"$f":"+(aem2csp2!D134+(aem2csp2!E134*10))*(10^((65-aem2csp2!$A$14)/10))","v":0},0,{"$error":"#DIV/0!"},{"$error":"#DIV/0!"},{"$error":"#DIV/0!"},{"$error":"#DIV/0!"},{"$f":"+(aem2csp2!D134+(aem2csp2!E134*10))*(10^((65-aem2csp2!$A$15)/10))","v":0},0,{"$error":"#DIV/0!"},{"$error":"#DIV/0!"},{"$error":"#DIV/0!"},{"$error":"#DIV/0!"},{"$f":"+(aem2csp2!D134+(aem2csp2!E134*10))*(10^((65-aem2csp2!$A$16)/10))","v":0},0,{"$error":"#DIV/0!"},{"$error":"#DIV/0!"},{"$error":"#DIV/0!"},{"$error":"#DIV/0!"}]
[null,null,null,null,"CNA560U ",5.5767401751445698E-2,0.55394345573047199,{"$f":"+(aem2csp2!B135+(aem2csp2!C135*10))*(10^((65-aem2csp2!$A$11)/10))","v":0},0,{"$error":"#DIV/0!"},{"$error":"#DIV/0!"},{"$error":"#DIV/0!"},{"$error":"#DIV/0!"},{"$f":"+(aem2csp2!B135+(aem2csp2!C135*10))*(10^((65-aem2csp2!$A$12)/10))","v":0},0,{"$error":"#DIV/0!"},{"$error":"#DIV/0!"},{"$error":"#DIV/0!"},{"$error":"#DIV/0!"},{"$f":"+(aem2csp2!B135+(aem2csp2!C135*10))*(10^((65-aem2csp2!$A$13)/10))","v":0},0,{"$error":"#DIV/0!"},{"$error":"#DIV/0!"},{"$error":"#DIV/0!"},{"$error":"#DIV/0!"},{"$f":"+(aem2csp2!B135+(aem2csp2!C135*10))*(10^((65-aem2csp2!$A$14)/10))","v":0},0,{"$error":"#DIV/0!"},{"$error":"#DIV/0!"},{"$error":"#DIV/0!"},{"$error":"#DIV/0!"},{"$f":"+(aem2csp2!B135+(aem2csp2!C135*10))*(10^((65-aem2csp2!$A$15)/10))","v":0},0,{"$error":"#DIV/0!"},{"$error":"#DIV/0!"},{"$error":"#DIV/0!"},{"$error":"#DIV/0!"},{"$f":"+(aem2csp2!B135+(aem2csp2!C135*10))*(10^((65-aem2csp2!$A$16)/10))","v":0},0,{"$error":"#DIV/0!"},{"$error":"#DIV/0!"},{"$error":"#DIV/0!"},{"$error":"#DIV/0!"},105,{"$f":"+(aem2csp2!D135+(aem2csp2!E135*10))*(10^((65-aem2csp2!$A$11)/10))","v":0},0,{"$error":"#DIV/0!"},{"$error":"#DIV/0!"},{"$error":"#DIV/0!"},{"$error":"#DIV/0!"},{"$f":"+(aem2csp2!D135+(aem2csp2!E135*10))*(10^((65-aem2csp2!$A$12)/10))","v":0},0,{"$error":"#DIV/0!"},{"$error":"#DIV/0!"},{"$error":"#DIV/0!"},{"$error":"#DIV/0!"},{"$f":"+(aem2csp2!D135+(aem2csp2!E135*10))*(10^((65-aem2csp2!$A$13)/10))","v":0},0,{"$error":"#DIV/0!"},{"$error":"#DIV/0!"},{"$error":"#DIV/0!"},{"$error":"#DIV/0!"},{"$f":"+(aem2csp2!D135+(aem2csp2!E135*10))*(10^((65-aem2csp2!$A$14)/10))","v":0},0,{"$error":"#DIV/0!"},{"$error":"#DIV/0!"},{"$error":"#DIV/0!"},{"$error":"#DIV/0!"},{"$f":"+(aem2csp2!D135+(aem2csp2!E135*10))*(10^((65-aem2csp2!$A$15)/10))","v":0},0,{"$error":"#DIV/0!"},{"$error":"#DIV/0!"},{"$error":"#DIV/0!"},{"$error":"#DIV/0!"},{"$f":"+(aem2csp2!D135+(aem2csp2!E135*10))*(10^((65-aem2csp2!$A$16)/10))","v":0},0,{"$error":"#DIV/0!"},{"$error":"#DIV/0!"},{"$error":"#DIV/0!"},{"$error":"#DIV/0!"}]
[null,null,null,null,"CNA560XL ",1.5664415393862E-2,0.59845621129984405,{"$f":"+(aem2csp2!B136+(aem2csp2!C136*10))*(10^((65-aem2csp2!$A$11)/10))","v":0},0,{"$error":"#DIV/0!"},{"$error":"#DIV/0!"},{"$error":"#DIV/0!"},{"$error":"#DIV/0!"},{"$f":"+(aem2csp2!B136+(aem2csp2!C136*10))*(10^((65-aem2csp2!$A$12)/10))","v":0},0,{"$error":"#DIV/0!"},{"$error":"#DIV/0!"},{"$error":"#DIV/0!"},{"$error":"#DIV/0!"},{"$f":"+(aem2csp2!B136+(aem2csp2!C136*10))*(10^((65-aem2csp2!$A$13)/10))","v":0},0,{"$error":"#DIV/0!"},{"$error":"#DIV/0!"},{"$error":"#DIV/0!"},{"$error":"#DIV/0!"},{"$f":"+(aem2csp2!B136+(aem2csp2!C136*10))*(10^((65-aem2csp2!$A$14)/10))","v":0},0,{"$error":"#DIV/0!"},{"$error":"#DIV/0!"},{"$error":"#DIV/0!"},{"$error":"#DIV/0!"},{"$f":"+(aem2csp2!B136+(aem2csp2!C136*10))*(10^((65-aem2csp2!$A$15)/10))","v":0},0,{"$error":"#DIV/0!"},{"$error":"#DIV/0!"},{"$error":"#DIV/0!"},{"$error":"#DIV/0!"},{"$f":"+(aem2csp2!B136+(aem2csp2!C136*10))*(10^((65-aem2csp2!$A$16)/10))","v":0},0,{"$error":"#DIV/0!"},{"$error":"#DIV/0!"},{"$error":"#DIV/0!"},{"$error":"#DIV/0!"},106,{"$f":"+(aem2csp2!D136+(aem2csp2!E136*10))*(10^((65-aem2csp2!$A$11)/10))","v":0},0,{"$error":"#DIV/0!"},{"$error":"#DIV/0!"},{"$error":"#DIV/0!"},{"$error":"#DIV/0!"},{"$f":"+(aem2csp2!D136+(aem2csp2!E136*10))*(10^((65-aem2csp2!$A$12)/10))","v":0},0,{"$error":"#DIV/0!"},{"$error":"#DIV/0!"},{"$error":"#DIV/0!"},{"$error":"#DIV/0!"},{"$f":"+(aem2csp2!D136+(aem2csp2!E136*10))*(10^((65-aem2csp2!$A$13)/10))","v":0},0,{"$error":"#DIV/0!"},{"$error":"#DIV/0!"},{"$error":"#DIV/0!"},{"$error":"#DIV/0!"},{"$f":"+(aem2csp2!D136+(aem2csp2!E136*10))*(10^((65-aem2csp2!$A$14)/10))","v":0},0,{"$error":"#DIV/0!"},{"$error":"#DIV/0!"},{"$error":"#DIV/0!"},{"$error":"#DIV/0!"},{"$f":"+(aem2csp2!D136+(aem2csp2!E136*10))*(10^((65-aem2csp2!$A$15)/10))","v":0},0,{"$error":"#DIV/0!"},{"$error":"#DIV/0!"},{"$error":"#DIV/0!"},{"$error":"#DIV/0!"},{"$f":"+(aem2csp2!D136+(aem2csp2!E136*10))*(10^((65-aem2csp2!$A$16)/10))","v":0},0,{"$error":"#DIV/0!"},{"$error":"#DIV/0!"},{"$error":"#DIV/0!"},{"$error":"#DIV/0!"}]
[null,null,null,null,"CNA680 ",7.6112885051862903E-3,0.730076170054903,{"$f":"+(aem2csp2!B137+(aem2csp2!C137*10))*(10^((65-aem2csp2!$A$11)/10))","v":0},0,{"$error":"#DIV/0!"},{"$error":"#DIV/0!"},{"$error":"#DIV/0!"},{"$error":"#DIV/0!"},{"$f":"+(aem2csp2!B137+(aem2csp2!C137*10))*(10^((65-aem2csp2!$A$12)/10))","v":0},0,{"$error":"#DIV/0!"},{"$error":"#DIV/0!"},{"$error":"#DIV/0!"},{"$error":"#DIV/0!"},{"$f":"+(aem2csp2!B137+(aem2csp2!C137*10))*(10^((65-aem2csp2!$A$13)/10))","v":0},0,{"$error":"#DIV/0!"},{"$error":"#DIV/0!"},{"$error":"#DIV/0!"},{"$error":"#DIV/0!"},{"$f":"+(aem2csp2!B137+(aem2csp2!C137*10))*(10^((65-aem2csp2!$A$14)/10))","v":0},0,{"$error":"#DIV/0!"},{"$error":"#DIV/0!"},{"$error":"#DIV/0!"},{"$error":"#DIV/0!"},{"$f":"+(aem2csp2!B137+(aem2csp2!C137*10))*(10^((65-aem2csp2!$A$15)/10))","v":0},0,{"$error":"#DIV/0!"},{"$error":"#DIV/0!"},{"$error":"#DIV/0!"},{"$error":"#DIV/0!"},{"$f":"+(aem2csp2!B137+(aem2csp2!C137*10))*(10^((65-aem2csp2!$A$16)/10))","v":0},0,{"$error":"#DIV/0!"},{"$error":"#DIV/0!"},{"$error":"#DIV/0!"},{"$error":"#DIV/0!"},107,{"$f":"+(aem2csp2!D137+(aem2csp2!E137*10))*(10^((65-aem2csp2!$A$11)/10))","v":0},0,{"$error":"#DIV/0!"},{"$error":"#DIV/0!"},{"$error":"#DIV/0!"},{"$error":"#DIV/0!"},{"$f":"+(aem2csp2!D137+(aem2csp2!E137*10))*(10^((65-aem2csp2!$A$12)/10))","v":0},0,{"$error":"#DIV/0!"},{"$error":"#DIV/0!"},{"$error":"#DIV/0!"},{"$error":"#DIV/0!"},{"$f":"+(aem2csp2!D137+(aem2csp2!E137*10))*(10^((65-aem2csp2!$A$13)/10))","v":0},0,{"$error":"#DIV/0!"},{"$error":"#DIV/0!"},{"$error":"#DIV/0!"},{"$error":"#DIV/0!"},{"$f":"+(aem2csp2!D137+(aem2csp2!E137*10))*(10^((65-aem2csp2!$A$14)/10))","v":0},0,{"$error":"#DIV/0!"},{"$error":"#DIV/0!"},{"$error":"#DIV/0!"},{"$error":"#DIV/0!"},{"$f":"+(aem2csp2!D137+(aem2csp2!E137*10))*(10^((65-aem2csp2!$A$15)/10))","v":0},0,{"$error":"#DIV/0!"},{"$error":"#DIV/0!"},{"$error":"#DIV/0!"},{"$error":"#DIV/0!"},{"$f":"+(aem2csp2!D137+(aem2csp2!E137*10))*(10^((65-aem2csp2!$A$16)/10))","v":0},0,{"$error":"#DIV/0!"},{"$error":"#DIV/0!"},{"$error":"#DIV/0!"},{"$error":"#DIV/0!"}]
[null,null,null,null,"CNA750 ",2.33572824122305E-2,0.53536312354338,{"$f":"+(aem2csp2!B138+(aem2csp2!C138*10))*(10^((65-aem2csp2!$A$11)/10))","v":0},0,{"$error":"#DIV/0!"},{"$error":"#DIV/0!"},{"$error":"#DIV/0!"},{"$error":"#DIV/0!"},{"$f":"+(aem2csp2!B138+(aem2csp2!C138*10))*(10^((65-aem2csp2!$A$12)/10))","v":0},0,{"$error":"#DIV/0!"},{"$error":"#DIV/0!"},{"$error":"#DIV/0!"},{"$error":"#DIV/0!"},{"$f":"+(aem2csp2!B138+(aem2csp2!C138*10))*(10^((65-aem2csp2!$A$13)/10))","v":0},0,{"$error":"#DIV/0!"},{"$error":"#DIV/0!"},{"$error":"#DIV/0!"},{"$error":"#DIV/0!"},{"$f":"+(aem2csp2!B138+(aem2csp2!C138*10))*(10^((65-aem2csp2!$A$14)/10))","v":0},0,{"$error":"#DIV/0!"},{"$error":"#DIV/0!"},{"$error":"#DIV/0!"},{"$error":"#DIV/0!"},{"$f":"+(aem2csp2!B138+(aem2csp2!C138*10))*(10^((65-aem2csp2!$A$15)/10))","v":0},0,{"$error":"#DIV/0!"},{"$error":"#DIV/0!"},{"$error":"#DIV/0!"},{"$error":"#DIV/0!"},{"$f":"+(aem2csp2!B138+(aem2csp2!C138*10))*(10^((65-aem2csp2!$A$16)/10))","v":0},0,{"$error":"#DIV/0!"},{"$error":"#DIV/0!"},{"$error":"#DIV/0!"},{"$error":"#DIV/0!"},108,{"$f":"+(aem2csp2!D138+(aem2csp2!E138*10))*(10^((65-aem2csp2!$A$11)/10))","v":0},0,{"$error":"#DIV/0!"},{"$error":"#DIV/0!"},{"$error":"#DIV/0!"},{"$error":"#DIV/0!"},{"$f":"+(aem2csp2!D138+(aem2csp2!E138*10))*(10^((65-aem2csp2!$A$12)/10))","v":0},0,{"$error":"#DIV/0!"},{"$error":"#DIV/0!"},{"$error":"#DIV/0!"},{"$error":"#DIV/0!"},{"$f":"+(aem2csp2!D138+(aem2csp2!E138*10))*(10^((65-aem2csp2!$A$13)/10))","v":0},0,{"$error":"#DIV/0!"},{"$error":"#DIV/0!"},{"$error":"#DIV/0!"},{"$error":"#DIV/0!"},{"$f":"+(aem2csp2!D138+(aem2csp2!E138*10))*(10^((65-aem2csp2!$A$14)/10))","v":0},0,{"$error":"#DIV/0!"},{"$error":"#DIV/0!"},{"$error":"#DIV/0!"},{"$error":"#DIV/0!"},{"$f":"+(aem2csp2!D138+(aem2csp2!E138*10))*(10^((65-aem2csp2!$A$15)/10))","v":0},0,{"$error":"#DIV/0!"},{"$error":"#DIV/0!"},{"$error":"#DIV/0!"},{"$error":"#DIV/0!"},{"$f":"+(aem2csp2!D138+(aem2csp2!E138*10))*(10^((65-aem2csp2!$A$16)/10))","v":0},0,{"$error":"#DIV/0!"},{"$error":"#DIV/0!"},{"$error":"#DIV/0!"},{"$error":"#DIV/0!"}]
[null,null,null,null,"COMJET ",9.89759071970715E-2,0.656320291838424,{"$f":"+(aem2csp2!B139+(aem2csp2!C139*10))*(10^((65-aem2csp2!$A$11)/10))","v":0},0,{"$error":"#DIV/0!"},{"$error":"#DIV/0!"},{"$error":"#DIV/0!"},{"$error":"#DIV/0!"},{"$f":"+(aem2csp2!B139+(aem2csp2!C139*10))*(10^((65-aem2csp2!$A$12)/10))","v":0},0,{"$error":"#DIV/0!"},{"$error":"#DIV/0!"},{"$error":"#DIV/0!"},{"$error":"#DIV/0!"},{"$f":"+(aem2csp2!B139+(aem2csp2!C139*10))*(10^((65-aem2csp2!$A$13)/10))","v":0},0,{"$error":"#DIV/0!"},{"$error":"#DIV/0!"},{"$error":"#DIV/0!"},{"$error":"#DIV/0!"},{"$f":"+(aem2csp2!B139+(aem2csp2!C139*10))*(10^((65-aem2csp2!$A$14)/10))","v":0},0,{"$error":"#DIV/0!"},{"$error":"#DIV/0!"},{"$error":"#DIV/0!"},{"$error":"#DIV/0!"},{"$f":"+(aem2csp2!B139+(aem2csp2!C139*10))*(10^((65-aem2csp2!$A$15)/10))","v":0},0,{"$error":"#DIV/0!"},{"$error":"#DIV/0!"},{"$error":"#DIV/0!"},{"$error":"#DIV/0!"},{"$f":"+(aem2csp2!B139+(aem2csp2!C139*10))*(10^((65-aem2csp2!$A$16)/10))","v":0},0,{"$error":"#DIV/0!"},{"$error":"#DIV/0!"},{"$error":"#DIV/0!"},{"$error":"#DIV/0!"},109,{"$f":"+(aem2csp2!D139+(aem2csp2!E139*10))*(10^((65-aem2csp2!$A$11)/10))","v":0},0,{"$error":"#DIV/0!"},{"$error":"#DIV/0!"},{"$error":"#DIV/0!"},{"$error":"#DIV/0!"},{"$f":"+(aem2csp2!D139+(aem2csp2!E139*10))*(10^((65-aem2csp2!$A$12)/10))","v":0},0,{"$error":"#DIV/0!"},{"$error":"#DIV/0!"},{"$error":"#DIV/0!"},{"$error":"#DIV/0!"},{"$f":"+(aem2csp2!D139+(aem2csp2!E139*10))*(10^((65-aem2csp2!$A$13)/10))","v":0},0,{"$error":"#DIV/0!"},{"$error":"#DIV/0!"},{"$error":"#DIV/0!"},{"$error":"#DIV/0!"},{"$f":"+(aem2csp2!D139+(aem2csp2!E139*10))*(10^((65-aem2csp2!$A$14)/10))","v":0},0,{"$error":"#DIV/0!"},{"$error":"#DIV/0!"},{"$error":"#DIV/0!"},{"$error":"#DIV/0!"},{"$f":"+(aem2csp2!D139+(aem2csp2!E139*10))*(10^((65-aem2csp2!$A$15)/10))","v":0},0,{"$error":"#DIV/0!"},{"$error":"#DIV/0!"},{"$error":"#DIV/0!"},{"$error":"#DIV/0!"},{"$f":"+(aem2csp2!D139+(aem2csp2!E139*10))*(10^((65-aem2csp2!$A$16)/10))","v":0},0,{"$error":"#DIV/0!"},{"$error":"#DIV/0!"},{"$error":"#DIV/0!"},{"$error":"#DIV/0!"}]
[null,null,null,null,"COMSEP ",4.2043822054878797E-3,0.70086937398215599,{"$f":"+(aem2csp2!B140+(aem2csp2!C140*10))*(10^((65-aem2csp2!$A$11)/10))","v":0},0,{"$error":"#DIV/0!"},{"$error":"#DIV/0!"},{"$error":"#DIV/0!"},{"$error":"#DIV/0!"},{"$f":"+(aem2csp2!B140+(aem2csp2!C140*10))*(10^((65-aem2csp2!$A$12)/10))","v":0},0,{"$error":"#DIV/0!"},{"$error":"#DIV/0!"},{"$error":"#DIV/0!"},{"$error":"#DIV/0!"},{"$f":"+(aem2csp2!B140+(aem2csp2!C140*10))*(10^((65-aem2csp2!$A$13)/10))","v":0},0,{"$error":"#DIV/0!"},{"$error":"#DIV/0!"},{"$error":"#DIV/0!"},{"$error":"#DIV/0!"},{"$f":"+(aem2csp2!B140+(aem2csp2!C140*10))*(10^((65-aem2csp2!$A$14)/10))","v":0},0,{"$error":"#DIV/0!"},{"$error":"#DIV/0!"},{"$error":"#DIV/0!"},{"$error":"#DIV/0!"},{"$f":"+(aem2csp2!B140+(aem2csp2!C140*10))*(10^((65-aem2csp2!$A$15)/10))","v":0},0,{"$error":"#DIV/0!"},{"$error":"#DIV/0!"},{"$error":"#DIV/0!"},{"$error":"#DIV/0!"},{"$f":"+(aem2csp2!B140+(aem2csp2!C140*10))*(10^((65-aem2csp2!$A$16)/10))","v":0},0,{"$error":"#DIV/0!"},{"$error":"#DIV/0!"},{"$error":"#DIV/0!"},{"$error":"#DIV/0!"},110,{"$f":"+(aem2csp2!D140+(aem2csp2!E140*10))*(10^((65-aem2csp2!$A$11)/10))","v":0},0,{"$error":"#DIV/0!"},{"$error":"#DIV/0!"},{"$error":"#DIV/0!"},{"$error":"#DIV/0!"},{"$f":"+(aem2csp2!D140+(aem2csp2!E140*10))*(10^((65-aem2csp2!$A$12)/10))","v":0},0,{"$error":"#DIV/0!"},{"$error":"#DIV/0!"},{"$error":"#DIV/0!"},{"$error":"#DIV/0!"},{"$f":"+(aem2csp2!D140+(aem2csp2!E140*10))*(10^((65-aem2csp2!$A$13)/10))","v":0},0,{"$error":"#DIV/0!"},{"$error":"#DIV/0!"},{"$error":"#DIV/0!"},{"$error":"#DIV/0!"},{"$f":"+(aem2csp2!D140+(aem2csp2!E140*10))*(10^((65-aem2csp2!$A$14)/10))","v":0},0,{"$error":"#DIV/0!"},{"$error":"#DIV/0!"},{"$error":"#DIV/0!"},{"$error":"#DIV/0!"},{"$f":"+(aem2csp2!D140+(aem2csp2!E140*10))*(10^((65-aem2csp2!$A$15)/10))","v":0},0,{"$error":"#DIV/0!"},{"$error":"#DIV/0!"},{"$error":"#DIV/0!"},{"$error":"#DIV/0!"},{"$f":"+(aem2csp2!D140+(aem2csp2!E140*10))*(10^((65-aem2csp2!$A$16)/10))","v":0},0,{"$error":"#DIV/0!"},{"$error":"#DIV/0!"},{"$error":"#DIV/0!"},{"$error":"#DIV/0!"}]
[null,null,null,null,"CONCRD ",4.3115752686284496,0.56660071031936898,{"$f":"+(aem2csp2!B141+(aem2csp2!C141*10))*(10^((65-aem2csp2!$A$11)/10))","v":0},0,{"$error":"#DIV/0!"},{"$error":"#DIV/0!"},{"$error":"#DIV/0!"},{"$error":"#DIV/0!"},{"$f":"+(aem2csp2!B141+(aem2csp2!C141*10))*(10^((65-aem2csp2!$A$12)/10))","v":0},0,{"$error":"#DIV/0!"},{"$error":"#DIV/0!"},{"$error":"#DIV/0!"},{"$error":"#DIV/0!"},{"$f":"+(aem2csp2!B141+(aem2csp2!C141*10))*(10^((65-aem2csp2!$A$13)/10))","v":0},0,{"$error":"#DIV/0!"},{"$error":"#DIV/0!"},{"$error":"#DIV/0!"},{"$error":"#DIV/0!"},{"$f":"+(aem2csp2!B141+(aem2csp2!C141*10))*(10^((65-aem2csp2!$A$14)/10))","v":0},0,{"$error":"#DIV/0!"},{"$error":"#DIV/0!"},{"$error":"#DIV/0!"},{"$error":"#DIV/0!"},{"$f":"+(aem2csp2!B141+(aem2csp2!C141*10))*(10^((65-aem2csp2!$A$15)/10))","v":0},0,{"$error":"#DIV/0!"},{"$error":"#DIV/0!"},{"$error":"#DIV/0!"},{"$error":"#DIV/0!"},{"$f":"+(aem2csp2!B141+(aem2csp2!C141*10))*(10^((65-aem2csp2!$A$16)/10))","v":0},0,{"$error":"#DIV/0!"},{"$error":"#DIV/0!"},{"$error":"#DIV/0!"},{"$error":"#DIV/0!"},111,{"$f":"+(aem2csp2!D141+(aem2csp2!E141*10))*(10^((65-aem2csp2!$A$11)/10))","v":0},0,{"$error":"#DIV/0!"},{"$error":"#DIV/0!"},{"$error":"#DIV/0!"},{"$error":"#DIV/0!"},{"$f":"+(aem2csp2!D141+(aem2csp2!E141*10))*(10^((65-aem2csp2!$A$12)/10))","v":0},0,{"$error":"#DIV/0!"},{"$error":"#DIV/0!"},{"$error":"#DIV/0!"},{"$error":"#DIV/0!"},{"$f":"+(aem2csp2!D141+(aem2csp2!E141*10))*(10^((65-aem2csp2!$A$13)/10))","v":0},0,{"$error":"#DIV/0!"},{"$error":"#DIV/0!"},{"$error":"#DIV/0!"},{"$error":"#DIV/0!"},{"$f":"+(aem2csp2!D141+(aem2csp2!E141*10))*(10^((65-aem2csp2!$A$14)/10))","v":0},0,{"$error":"#DIV/0!"},{"$error":"#DIV/0!"},{"$error":"#DIV/0!"},{"$error":"#DIV/0!"},{"$f":"+(aem2csp2!D141+(aem2csp2!E141*10))*(10^((65-aem2csp2!$A$15)/10))","v":0},0,{"$error":"#DIV/0!"},{"$error":"#DIV/0!"},{"$error":"#DIV/0!"},{"$error":"#DIV/0!"},{"$f":"+(aem2csp2!D141+(aem2csp2!E141*10))*(10^((65-aem2csp2!$A$16)/10))","v":0},0,{"$error":"#DIV/0!"},{"$error":"#DIV/0!"},{"$error":"#DIV/0!"},{"$error":"#DIV/0!"}]
[null,null,null,null,"CRJ9-ER ",1.72930326675928E-2,0.64852178428700502,{"$f":"+(aem2csp2!B142+(aem2csp2!C142*10))*(10^((65-aem2csp2!$A$11)/10))","v":0},0,{"$error":"#DIV/0!"},{"$error":"#DIV/0!"},{"$error":"#DIV/0!"},{"$error":"#DIV/0!"},{"$f":"+(aem2csp2!B142+(aem2csp2!C142*10))*(10^((65-aem2csp2!$A$12)/10))","v":0},0,{"$error":"#DIV/0!"},{"$error":"#DIV/0!"},{"$error":"#DIV/0!"},{"$error":"#DIV/0!"},{"$f":"+(aem2csp2!B142+(aem2csp2!C142*10))*(10^((65-aem2csp2!$A$13)/10))","v":0},0,{"$error":"#DIV/0!"},{"$error":"#DIV/0!"},{"$error":"#DIV/0!"},{"$error":"#DIV/0!"},{"$f":"+(aem2csp2!B142+(aem2csp2!C142*10))*(10^((65-aem2csp2!$A$14)/10))","v":0},0,{"$error":"#DIV/0!"},{"$error":"#DIV/0!"},{"$error":"#DIV/0!"},{"$error":"#DIV/0!"},{"$f":"+(aem2csp2!B142+(aem2csp2!C142*10))*(10^((65-aem2csp2!$A$15)/10))","v":0},0,{"$error":"#DIV/0!"},{"$error":"#DIV/0!"},{"$error":"#DIV/0!"},{"$error":"#DIV/0!"},{"$f":"+(aem2csp2!B142+(aem2csp2!C142*10))*(10^((65-aem2csp2!$A$16)/10))","v":0},0,{"$error":"#DIV/0!"},{"$error":"#DIV/0!"},{"$error":"#DIV/0!"},{"$error":"#DIV/0!"},112,{"$f":"+(aem2csp2!D142+(aem2csp2!E142*10))*(10^((65-aem2csp2!$A$11)/10))","v":0},0,{"$error":"#DIV/0!"},{"$error":"#DIV/0!"},{"$error":"#DIV/0!"},{"$error":"#DIV/0!"},{"$f":"+(aem2csp2!D142+(aem2csp2!E142*10))*(10^((65-aem2csp2!$A$12)/10))","v":0},0,{"$error":"#DIV/0!"},{"$error":"#DIV/0!"},{"$error":"#DIV/0!"},{"$error":"#DIV/0!"},{"$f":"+(aem2csp2!D142+(aem2csp2!E142*10))*(10^((65-aem2csp2!$A$13)/10))","v":0},0,{"$error":"#DIV/0!"},{"$error":"#DIV/0!"},{"$error":"#DIV/0!"},{"$error":"#DIV/0!"},{"$f":"+(aem2csp2!D142+(aem2csp2!E142*10))*(10^((65-aem2csp2!$A$14)/10))","v":0},0,{"$error":"#DIV/0!"},{"$error":"#DIV/0!"},{"$error":"#DIV/0!"},{"$error":"#DIV/0!"},{"$f":"+(aem2csp2!D142+(aem2csp2!E142*10))*(10^((65-aem2csp2!$A$15)/10))","v":0},0,{"$error":"#DIV/0!"},{"$error":"#DIV/0!"},{"$error":"#DIV/0!"},{"$error":"#DIV/0!"},{"$f":"+(aem2csp2!D142+(aem2csp2!E142*10))*(10^((65-aem2csp2!$A$16)/10))","v":0},0,{"$error":"#DIV/0!"},{"$error":"#DIV/0!"},{"$error":"#DIV/0!"},{"$error":"#DIV/0!"}]
[null,null,null,null,"CRJ9-LR ",1.62039271586512E-2,0.65603532381336704,{"$f":"+(aem2csp2!B143+(aem2csp2!C143*10))*(10^((65-aem2csp2!$A$11)/10))","v":0},0,{"$error":"#DIV/0!"},{"$error":"#DIV/0!"},{"$error":"#DIV/0!"},{"$error":"#DIV/0!"},{"$f":"+(aem2csp2!B143+(aem2csp2!C143*10))*(10^((65-aem2csp2!$A$12)/10))","v":0},0,{"$error":"#DIV/0!"},{"$error":"#DIV/0!"},{"$error":"#DIV/0!"},{"$error":"#DIV/0!"},{"$f":"+(aem2csp2!B143+(aem2csp2!C143*10))*(10^((65-aem2csp2!$A$13)/10))","v":0},0,{"$error":"#DIV/0!"},{"$error":"#DIV/0!"},{"$error":"#DIV/0!"},{"$error":"#DIV/0!"},{"$f":"+(aem2csp2!B143+(aem2csp2!C143*10))*(10^((65-aem2csp2!$A$14)/10))","v":0},0,{"$error":"#DIV/0!"},{"$error":"#DIV/0!"},{"$error":"#DIV/0!"},{"$error":"#DIV/0!"},{"$f":"+(aem2csp2!B143+(aem2csp2!C143*10))*(10^((65-aem2csp2!$A$15)/10))","v":0},0,{"$error":"#DIV/0!"},{"$error":"#DIV/0!"},{"$error":"#DIV/0!"},{"$error":"#DIV/0!"},{"$f":"+(aem2csp2!B143+(aem2csp2!C143*10))*(10^((65-aem2csp2!$A$16)/10))","v":0},0,{"$error":"#DIV/0!"},{"$error":"#DIV/0!"},{"$error":"#DIV/0!"},{"$error":"#DIV/0!"},113,{"$f":"+(aem2csp2!D143+(aem2csp2!E143*10))*(10^((65-aem2csp2!$A$11)/10))","v":0},0,{"$error":"#DIV/0!"},{"$error":"#DIV/0!"},{"$error":"#DIV/0!"},{"$error":"#DIV/0!"},{"$f":"+(aem2csp2!D143+(aem2csp2!E143*10))*(10^((65-aem2csp2!$A$12)/10))","v":0},0,{"$error":"#DIV/0!"},{"$error":"#DIV/0!"},{"$error":"#DIV/0!"},{"$error":"#DIV/0!"},{"$f":"+(aem2csp2!D143+(aem2csp2!E143*10))*(10^((65-aem2csp2!$A$13)/10))","v":0},0,{"$error":"#DIV/0!"},{"$error":"#DIV/0!"},{"$error":"#DIV/0!"},{"$error":"#DIV/0!"},{"$f":"+(aem2csp2!D143+(aem2csp2!E143*10))*(10^((65-aem2csp2!$A$14)/10))","v":0},0,{"$error":"#DIV/0!"},{"$error":"#DIV/0!"},{"$error":"#DIV/0!"},{"$error":"#DIV/0!"},{"$f":"+(aem2csp2!D143+(aem2csp2!E143*10))*(10^((65-aem2csp2!$A$15)/10))","v":0},0,{"$error":"#DIV/0!"},{"$error":"#DIV/0!"},{"$error":"#DIV/0!"},{"$error":"#DIV/0!"},{"$f":"+(aem2csp2!D143+(aem2csp2!E143*10))*(10^((65-aem2csp2!$A$16)/10))","v":0},0,{"$error":"#DIV/0!"},{"$error":"#DIV/0!"},{"$error":"#DIV/0!"},{"$error":"#DIV/0!"}]
[null,null,null,null,"CVR580 ",7.0084396945482103E-2,0.444826219243663,{"$f":"+(aem2csp2!B144+(aem2csp2!C144*10))*(10^((65-aem2csp2!$A$11)/10))","v":0},0,{"$error":"#DIV/0!"},{"$error":"#DIV/0!"},{"$error":"#DIV/0!"},{"$error":"#DIV/0!"},{"$f":"+(aem2csp2!B144+(aem2csp2!C144*10))*(10^((65-aem2csp2!$A$12)/10))","v":0},0,{"$error":"#DIV/0!"},{"$error":"#DIV/0!"},{"$error":"#DIV/0!"},{"$error":"#DIV/0!"},{"$f":"+(aem2csp2!B144+(aem2csp2!C144*10))*(10^((65-aem2csp2!$A$13)/10))","v":0},0,{"$error":"#DIV/0!"},{"$error":"#DIV/0!"},{"$error":"#DIV/0!"},{"$error":"#DIV/0!"},{"$f":"+(aem2csp2!B144+(aem2csp2!C144*10))*(10^((65-aem2csp2!$A$14)/10))","v":0},0,{"$error":"#DIV/0!"},{"$error":"#DIV/0!"},{"$error":"#DIV/0!"},{"$error":"#DIV/0!"},{"$f":"+(aem2csp2!B144+(aem2csp2!C144*10))*(10^((65-aem2csp2!$A$15)/10))","v":0},0,{"$error":"#DIV/0!"},{"$error":"#DIV/0!"},{"$error":"#DIV/0!"},{"$error":"#DIV/0!"},{"$f":"+(aem2csp2!B144+(aem2csp2!C144*10))*(10^((65-aem2csp2!$A$16)/10))","v":0},0,{"$error":"#DIV/0!"},{"$error":"#DIV/0!"},{"$error":"#DIV/0!"},{"$error":"#DIV/0!"},114,{"$f":"+(aem2csp2!D144+(aem2csp2!E144*10))*(10^((65-aem2csp2!$A$11)/10))","v":0},0,{"$error":"#DIV/0!"},{"$error":"#DIV/0!"},{"$error":"#DIV/0!"},{"$error":"#DIV/0!"},{"$f":"+(aem2csp2!D144+(aem2csp2!E144*10))*(10^((65-aem2csp2!$A$12)/10))","v":0},0,{"$error":"#DIV/0!"},{"$error":"#DIV/0!"},{"$error":"#DIV/0!"},{"$error":"#DIV/0!"},{"$f":"+(aem2csp2!D144+(aem2csp2!E144*10))*(10^((65-aem2csp2!$A$13)/10))","v":0},0,{"$error":"#DIV/0!"},{"$error":"#DIV/0!"},{"$error":"#DIV/0!"},{"$error":"#DIV/0!"},{"$f":"+(aem2csp2!D144+(aem2csp2!E144*10))*(10^((65-aem2csp2!$A$14)/10))","v":0},0,{"$error":"#DIV/0!"},{"$error":"#DIV/0!"},{"$error":"#DIV/0!"},{"$error":"#DIV/0!"},{"$f":"+(aem2csp2!D144+(aem2csp2!E144*10))*(10^((65-aem2csp2!$A$15)/10))","v":0},0,{"$error":"#DIV/0!"},{"$error":"#DIV/0!"},{"$error":"#DIV/0!"},{"$error":"#DIV/0!"},{"$f":"+(aem2csp2!D144+(aem2csp2!E144*10))*(10^((65-aem2csp2!$A$16)/10))","v":0},0,{"$error":"#DIV/0!"},{"$error":"#DIV/0!"},{"$error":"#DIV/0!"},{"$error":"#DIV/0!"}]
[null,null,null,null,"DC1010 ",5.8329895636483699E-2,0.72290526467431504,{"$f":"+(aem2csp2!B145+(aem2csp2!C145*10))*(10^((65-aem2csp2!$A$11)/10))","v":0},0,{"$error":"#DIV/0!"},{"$error":"#DIV/0!"},{"$error":"#DIV/0!"},{"$error":"#DIV/0!"},{"$f":"+(aem2csp2!B145+(aem2csp2!C145*10))*(10^((65-aem2csp2!$A$12)/10))","v":0},0,{"$error":"#DIV/0!"},{"$error":"#DIV/0!"},{"$error":"#DIV/0!"},{"$error":"#DIV/0!"},{"$f":"+(aem2csp2!B145+(aem2csp2!C145*10))*(10^((65-aem2csp2!$A$13)/10))","v":0},0,{"$error":"#DIV/0!"},{"$error":"#DIV/0!"},{"$error":"#DIV/0!"},{"$error":"#DIV/0!"},{"$f":"+(aem2csp2!B145+(aem2csp2!C145*10))*(10^((65-aem2csp2!$A$14)/10))","v":0},0,{"$error":"#DIV/0!"},{"$error":"#DIV/0!"},{"$error":"#DIV/0!"},{"$error":"#DIV/0!"},{"$f":"+(aem2csp2!B145+(aem2csp2!C145*10))*(10^((65-aem2csp2!$A$15)/10))","v":0},0,{"$error":"#DIV/0!"},{"$error":"#DIV/0!"},{"$error":"#DIV/0!"},{"$error":"#DIV/0!"},{"$f":"+(aem2csp2!B145+(aem2csp2!C145*10))*(10^((65-aem2csp2!$A$16)/10))","v":0},0,{"$error":"#DIV/0!"},{"$error":"#DIV/0!"},{"$error":"#DIV/0!"},{"$error":"#DIV/0!"},115,{"$f":"+(aem2csp2!D145+(aem2csp2!E145*10))*(10^((65-aem2csp2!$A$11)/10))","v":0},0,{"$error":"#DIV/0!"},{"$error":"#DIV/0!"},{"$error":"#DIV/0!"},{"$error":"#DIV/0!"},{"$f":"+(aem2csp2!D145+(aem2csp2!E145*10))*(10^((65-aem2csp2!$A$12)/10))","v":0},0,{"$error":"#DIV/0!"},{"$error":"#DIV/0!"},{"$error":"#DIV/0!"},{"$error":"#DIV/0!"},{"$f":"+(aem2csp2!D145+(aem2csp2!E145*10))*(10^((65-aem2csp2!$A$13)/10))","v":0},0,{"$error":"#DIV/0!"},{"$error":"#DIV/0!"},{"$error":"#DIV/0!"},{"$error":"#DIV/0!"},{"$f":"+(aem2csp2!D145+(aem2csp2!E145*10))*(10^((65-aem2csp2!$A$14)/10))","v":0},0,{"$error":"#DIV/0!"},{"$error":"#DIV/0!"},{"$error":"#DIV/0!"},{"$error":"#DIV/0!"},{"$f":"+(aem2csp2!D145+(aem2csp2!E145*10))*(10^((65-aem2csp2!$A$15)/10))","v":0},0,{"$error":"#DIV/0!"},{"$error":"#DIV/0!"},{"$error":"#DIV/0!"},{"$error":"#DIV/0!"},{"$f":"+(aem2csp2!D145+(aem2csp2!E145*10))*(10^((65-aem2csp2!$A$16)/10))","v":0},0,{"$error":"#DIV/0!"},{"$error":"#DIV/0!"},{"$error":"#DIV/0!"},{"$error":"#DIV/0!"}]
[null,null,null,null,"DC1030 ",5.49050090846065E-2,0.78904081470991805,{"$f":"+(aem2csp2!B146+(aem2csp2!C146*10))*(10^((65-aem2csp2!$A$11)/10))","v":0},0,{"$error":"#DIV/0!"},{"$error":"#DIV/0!"},{"$error":"#DIV/0!"},{"$error":"#DIV/0!"},{"$f":"+(aem2csp2!B146+(aem2csp2!C146*10))*(10^((65-aem2csp2!$A$12)/10))","v":0},0,{"$error":"#DIV/0!"},{"$error":"#DIV/0!"},{"$error":"#DIV/0!"},{"$error":"#DIV/0!"},{"$f":"+(aem2csp2!B146+(aem2csp2!C146*10))*(10^((65-aem2csp2!$A$13)/10))","v":0},0,{"$error":"#DIV/0!"},{"$error":"#DIV/0!"},{"$error":"#DIV/0!"},{"$error":"#DIV/0!"},{"$f":"+(aem2csp2!B146+(aem2csp2!C146*10))*(10^((65-aem2csp2!$A$14)/10))","v":0},0,{"$error":"#DIV/0!"},{"$error":"#DIV/0!"},{"$error":"#DIV/0!"},{"$error":"#DIV/0!"},{"$f":"+(aem2csp2!B146+(aem2csp2!C146*10))*(10^((65-aem2csp2!$A$15)/10))","v":0},0,{"$error":"#DIV/0!"},{"$error":"#DIV/0!"},{"$error":"#DIV/0!"},{"$error":"#DIV/0!"},{"$f":"+(aem2csp2!B146+(aem2csp2!C146*10))*(10^((65-aem2csp2!$A$16)/10))","v":0},0,{"$error":"#DIV/0!"},{"$error":"#DIV/0!"},{"$error":"#DIV/0!"},{"$error":"#DIV/0!"},116,{"$f":"+(aem2csp2!D146+(aem2csp2!E146*10))*(10^((65-aem2csp2!$A$11)/10))","v":0},0,{"$error":"#DIV/0!"},{"$error":"#DIV/0!"},{"$error":"#DIV/0!"},{"$error":"#DIV/0!"},{"$f":"+(aem2csp2!D146+(aem2csp2!E146*10))*(10^((65-aem2csp2!$A$12)/10))","v":0},0,{"$error":"#DIV/0!"},{"$error":"#DIV/0!"},{"$error":"#DIV/0!"},{"$error":"#DIV/0!"},{"$f":"+(aem2csp2!D146+(aem2csp2!E146*10))*(10^((65-aem2csp2!$A$13)/10))","v":0},0,{"$error":"#DIV/0!"},{"$error":"#DIV/0!"},{"$error":"#DIV/0!"},{"$error":"#DIV/0!"},{"$f":"+(aem2csp2!D146+(aem2csp2!E146*10))*(10^((65-aem2csp2!$A$14)/10))","v":0},0,{"$error":"#DIV/0!"},{"$error":"#DIV/0!"},{"$error":"#DIV/0!"},{"$error":"#DIV/0!"},{"$f":"+(aem2csp2!D146+(aem2csp2!E146*10))*(10^((65-aem2csp2!$A$15)/10))","v":0},0,{"$error":"#DIV/0!"},{"$error":"#DIV/0!"},{"$error":"#DIV/0!"},{"$error":"#DIV/0!"},{"$f":"+(aem2csp2!D146+(aem2csp2!E146*10))*(10^((65-aem2csp2!$A$16)/10))","v":0},0,{"$error":"#DIV/0!"},{"$error":"#DIV/0!"},{"$error":"#DIV/0!"},{"$error":"#DIV/0!"}]
[null,null,null,null,"DC1040 ",8.3128734804673796E-2,0.707606067687647,{"$f":"+(aem2csp2!B147+(aem2csp2!C147*10))*(10^((65-aem2csp2!$A$11)/10))","v":0},0,{"$error":"#DIV/0!"},{"$error":"#DIV/0!"},{"$error":"#DIV/0!"},{"$error":"#DIV/0!"},{"$f":"+(aem2csp2!B147+(aem2csp2!C147*10))*(10^((65-aem2csp2!$A$12)/10))","v":0},0,{"$error":"#DIV/0!"},{"$error":"#DIV/0!"},{"$error":"#DIV/0!"},{"$error":"#DIV/0!"},{"$f":"+(aem2csp2!B147+(aem2csp2!C147*10))*(10^((65-aem2csp2!$A$13)/10))","v":0},0,{"$error":"#DIV/0!"},{"$error":"#DIV/0!"},{"$error":"#DIV/0!"},{"$error":"#DIV/0!"},{"$f":"+(aem2csp2!B147+(aem2csp2!C147*10))*(10^((65-aem2csp2!$A$14)/10))","v":0},0,{"$error":"#DIV/0!"},{"$error":"#DIV/0!"},{"$error":"#DIV/0!"},{"$error":"#DIV/0!"},{"$f":"+(aem2csp2!B147+(aem2csp2!C147*10))*(10^((65-aem2csp2!$A$15)/10))","v":0},0,{"$error":"#DIV/0!"},{"$error":"#DIV/0!"},{"$error":"#DIV/0!"},{"$error":"#DIV/0!"},{"$f":"+(aem2csp2!B147+(aem2csp2!C147*10))*(10^((65-aem2csp2!$A$16)/10))","v":0},0,{"$error":"#DIV/0!"},{"$error":"#DIV/0!"},{"$error":"#DIV/0!"},{"$error":"#DIV/0!"},117,{"$f":"+(aem2csp2!D147+(aem2csp2!E147*10))*(10^((65-aem2csp2!$A$11)/10))","v":0},0,{"$error":"#DIV/0!"},{"$error":"#DIV/0!"},{"$error":"#DIV/0!"},{"$error":"#DIV/0!"},{"$f":"+(aem2csp2!D147+(aem2csp2!E147*10))*(10^((65-aem2csp2!$A$12)/10))","v":0},0,{"$error":"#DIV/0!"},{"$error":"#DIV/0!"},{"$error":"#DIV/0!"},{"$error":"#DIV/0!"},{"$f":"+(aem2csp2!D147+(aem2csp2!E147*10))*(10^((65-aem2csp2!$A$13)/10))","v":0},0,{"$error":"#DIV/0!"},{"$error":"#DIV/0!"},{"$error":"#DIV/0!"},{"$error":"#DIV/0!"},{"$f":"+(aem2csp2!D147+(aem2csp2!E147*10))*(10^((65-aem2csp2!$A$14)/10))","v":0},0,{"$error":"#DIV/0!"},{"$error":"#DIV/0!"},{"$error":"#DIV/0!"},{"$error":"#DIV/0!"},{"$f":"+(aem2csp2!D147+(aem2csp2!E147*10))*(10^((65-aem2csp2!$A$15)/10))","v":0},0,{"$error":"#DIV/0!"},{"$error":"#DIV/0!"},{"$error":"#DIV/0!"},{"$error":"#DIV/0!"},{"$f":"+(aem2csp2!D147+(aem2csp2!E147*10))*(10^((65-aem2csp2!$A$16)/10))","v":0},0,{"$error":"#DIV/0!"},{"$error":"#DIV/0!"},{"$error":"#DIV/0!"},{"$error":"#DIV/0!"}]
[null,null,null,null,"DC3 ",2.7514499051748301E-2,0.87783737388223404,{"$f":"+(aem2csp2!B148+(aem2csp2!C148*10))*(10^((65-aem2csp2!$A$11)/10))","v":0},0,{"$error":"#DIV/0!"},{"$error":"#DIV/0!"},{"$error":"#DIV/0!"},{"$error":"#DIV/0!"},{"$f":"+(aem2csp2!B148+(aem2csp2!C148*10))*(10^((65-aem2csp2!$A$12)/10))","v":0},0,{"$error":"#DIV/0!"},{"$error":"#DIV/0!"},{"$error":"#DIV/0!"},{"$error":"#DIV/0!"},{"$f":"+(aem2csp2!B148+(aem2csp2!C148*10))*(10^((65-aem2csp2!$A$13)/10))","v":0},0,{"$error":"#DIV/0!"},{"$error":"#DIV/0!"},{"$error":"#DIV/0!"},{"$error":"#DIV/0!"},{"$f":"+(aem2csp2!B148+(aem2csp2!C148*10))*(10^((65-aem2csp2!$A$14)/10))","v":0},0,{"$error":"#DIV/0!"},{"$error":"#DIV/0!"},{"$error":"#DIV/0!"},{"$error":"#DIV/0!"},{"$f":"+(aem2csp2!B148+(aem2csp2!C148*10))*(10^((65-aem2csp2!$A$15)/10))","v":0},0,{"$error":"#DIV/0!"},{"$error":"#DIV/0!"},{"$error":"#DIV/0!"},{"$error":"#DIV/0!"},{"$f":"+(aem2csp2!B148+(aem2csp2!C148*10))*(10^((65-aem2csp2!$A$16)/10))","v":0},0,{"$error":"#DIV/0!"},{"$error":"#DIV/0!"},{"$error":"#DIV/0!"},{"$error":"#DIV/0!"},118,{"$f":"+(aem2csp2!D148+(aem2csp2!E148*10))*(10^((65-aem2csp2!$A$11)/10))","v":0},0,{"$error":"#DIV/0!"},{"$error":"#DIV/0!"},{"$error":"#DIV/0!"},{"$error":"#DIV/0!"},{"$f":"+(aem2csp2!D148+(aem2csp2!E148*10))*(10^((65-aem2csp2!$A$12)/10))","v":0},0,{"$error":"#DIV/0!"},{"$error":"#DIV/0!"},{"$error":"#DIV/0!"},{"$error":"#DIV/0!"},{"$f":"+(aem2csp2!D148+(aem2csp2!E148*10))*(10^((65-aem2csp2!$A$13)/10))","v":0},0,{"$error":"#DIV/0!"},{"$error":"#DIV/0!"},{"$error":"#DIV/0!"},{"$error":"#DIV/0!"},{"$f":"+(aem2csp2!D148+(aem2csp2!E148*10))*(10^((65-aem2csp2!$A$14)/10))","v":0},0,{"$error":"#DIV/0!"},{"$error":"#DIV/0!"},{"$error":"#DIV/0!"},{"$error":"#DIV/0!"},{"$f":"+(aem2csp2!D148+(aem2csp2!E148*10))*(10^((65-aem2csp2!$A$15)/10))","v":0},0,{"$error":"#DIV/0!"},{"$error":"#DIV/0!"},{"$error":"#DIV/0!"},{"$error":"#DIV/0!"},{"$f":"+(aem2csp2!D148+(aem2csp2!E148*10))*(10^((65-aem2csp2!$A$16)/10))","v":0},0,{"$error":"#DIV/0!"},{"$error":"#DIV/0!"},{"$error":"#DIV/0!"},{"$error":"#DIV/0!"}]
[null,null,null,null,"DC6 ",4.1437172690564801E-2,0.91780277143940603,{"$f":"+(aem2csp2!B149+(aem2csp2!C149*10))*(10^((65-aem2csp2!$A$11)/10))","v":0},{"$f":"+F149*(H149^G149)","v":0},{"$error":"#DIV/0!"},{"$f":"+J149/G149","v":{"$error":"#DIV/0!"}},{"$error":"#DIV/0!"},{"$error":"#DIV/0!"},{"$f":"+(aem2csp2!B149+(aem2csp2!C149*10))*(10^((65-aem2csp2!$A$12)/10))","v":0},0,{"$error":"#DIV/0!"},{"$error":"#DIV/0!"},{"$error":"#DIV/0!"},{"$error":"#DIV/0!"},{"$f":"+(aem2csp2!B149+(aem2csp2!C149*10))*(10^((65-aem2csp2!$A$13)/10))","v":0},0,{"$error":"#DIV/0!"},{"$error":"#DIV/0!"},{"$error":"#DIV/0!"},{"$error":"#DIV/0!"},{"$f":"+(aem2csp2!B149+(aem2csp2!C149*10))*(10^((65-aem2csp2!$A$14)/10))","v":0},0,{"$error":"#DIV/0!"},{"$error":"#DIV/0!"},{"$error":"#DIV/0!"},{"$error":"#DIV/0!"},{"$f":"+(aem2csp2!B149+(aem2csp2!C149*10))*(10^((65-aem2csp2!$A$15)/10))","v":0},0,{"$error":"#DIV/0!"},{"$error":"#DIV/0!"},{"$error":"#DIV/0!"},{"$error":"#DIV/0!"},{"$f":"+(aem2csp2!B149+(aem2csp2!C149*10))*(10^((65-aem2csp2!$A$16)/10))","v":0},0,{"$error":"#DIV/0!"},{"$error":"#DIV/0!"},{"$error":"#DIV/0!"},{"$error":"#DIV/0!"},119,{"$f":"+(aem2csp2!D149+(aem2csp2!E149*10))*(10^((65-aem2csp2!$A$11)/10))","v":0},0,{"$error":"#DIV/0!"},{"$error":"#DIV/0!"},{"$error":"#DIV/0!"},{"$error":"#DIV/0!"},{"$f":"+(aem2csp2!D149+(aem2csp2!E149*10))*(10^((65-aem2csp2!$A$12)/10))","v":0},0,{"$error":"#DIV/0!"},{"$error":"#DIV/0!"},{"$error":"#DIV/0!"},{"$error":"#DIV/0!"},{"$f":"+(aem2csp2!D149+(aem2csp2!E149*10))*(10^((65-aem2csp2!$A$13)/10))","v":0},0,{"$error":"#DIV/0!"},{"$error":"#DIV/0!"},{"$error":"#DIV/0!"},{"$error":"#DIV/0!"},{"$f":"+(aem2csp2!D149+(aem2csp2!E149*10))*(10^((65-aem2csp2!$A$14)/10))","v":0},0,{"$error":"#DIV/0!"},{"$error":"#DIV/0!"},{"$error":"#DIV/0!"},{"$error":"#DIV/0!"},{"$f":"+(aem2csp2!D149+(aem2csp2!E149*10))*(10^((65-aem2csp2!$A$15)/10))","v":0},0,{"$error":"#DIV/0!"},{"$error":"#DIV/0!"},{"$error":"#DIV/0!"},{"$error":"#DIV/0!"},{"$f":"+(aem2csp2!D149+(aem2csp2!E149*10))*(10^((65-aem2csp2!$A$16)/10))","v":0},0,{"$error":"#DIV/0!"},{"$error":"#DIV/0!"},{"$error":"#DIV/0!"},{"$error":"#DIV/0!"}]
[null,null,null,null,"DC820 ",0.37209624296288202,0.64097014271026698,{"$f":"+(aem2csp2!B150+(aem2csp2!C150*10))*(10^((65-aem2csp2!$A$11)/10))","v":0},0,{"$error":"#DIV/0!"},{"$error":"#DIV/0!"},{"$error":"#DIV/0!"},{"$error":"#DIV/0!"},{"$f":"+(aem2csp2!B150+(aem2csp2!C150*10))*(10^((65-aem2csp2!$A$12)/10))","v":0},0,{"$error":"#DIV/0!"},{"$error":"#DIV/0!"},{"$error":"#DIV/0!"},{"$error":"#DIV/0!"},{"$f":"+(aem2csp2!B150+(aem2csp2!C150*10))*(10^((65-aem2csp2!$A$13)/10))","v":0},0,{"$error":"#DIV/0!"},{"$error":"#DIV/0!"},{"$error":"#DIV/0!"},{"$error":"#DIV/0!"},{"$f":"+(aem2csp2!B150+(aem2csp2!C150*10))*(10^((65-aem2csp2!$A$14)/10))","v":0},0,{"$error":"#DIV/0!"},{"$error":"#DIV/0!"},{"$error":"#DIV/0!"},{"$error":"#DIV/0!"},{"$f":"+(aem2csp2!B150+(aem2csp2!C150*10))*(10^((65-aem2csp2!$A$15)/10))","v":0},0,{"$error":"#DIV/0!"},{"$error":"#DIV/0!"},{"$error":"#DIV/0!"},{"$error":"#DIV/0!"},{"$f":"+(aem2csp2!B150+(aem2csp2!C150*10))*(10^((65-aem2csp2!$A$16)/10))","v":0},0,{"$error":"#DIV/0!"},{"$error":"#DIV/0!"},{"$error":"#DIV/0!"},{"$error":"#DIV/0!"},120,{"$f":"+(aem2csp2!D150+(aem2csp2!E150*10))*(10^((65-aem2csp2!$A$11)/10))","v":0},0,{"$error":"#DIV/0!"},{"$error":"#DIV/0!"},{"$error":"#DIV/0!"},{"$error":"#DIV/0!"},{"$f":"+(aem2csp2!D150+(aem2csp2!E150*10))*(10^((65-aem2csp2!$A$12)/10))","v":0},0,{"$error":"#DIV/0!"},{"$error":"#DIV/0!"},{"$error":"#DIV/0!"},{"$error":"#DIV/0!"},{"$f":"+(aem2csp2!D150+(aem2csp2!E150*10))*(10^((65-aem2csp2!$A$13)/10))","v":0},0,{"$error":"#DIV/0!"},{"$error":"#DIV/0!"},{"$error":"#DIV/0!"},{"$error":"#DIV/0!"},{"$f":"+(aem2csp2!D150+(aem2csp2!E150*10))*(10^((65-aem2csp2!$A$14)/10))","v":0},0,{"$error":"#DIV/0!"},{"$error":"#DIV/0!"},{"$error":"#DIV/0!"},{"$error":"#DIV/0!"},{"$f":"+(aem2csp2!D150+(aem2csp2!E150*10))*(10^((65-aem2csp2!$A$15)/10))","v":0},0,{"$error":"#DIV/0!"},{"$error":"#DIV/0!"},{"$error":"#DIV/0!"},{"$error":"#DIV/0!"},{"$f":"+(aem2csp2!D150+(aem2csp2!E150*10))*(10^((65-aem2csp2!$A$16)/10))","v":0},0,{"$error":"#DIV/0!"},{"$error":"#DIV/0!"},{"$error":"#DIV/0!"},{"$error":"#DIV/0!"}]
[null,null,null,null,"DC850 ",0.40329037233385001,0.63438596428842997,{"$f":"+(aem2csp2!B151+(aem2csp2!C151*10))*(10^((65-aem2csp2!$A$11)/10))","v":0},0,{"$error":"#DIV/0!"},{"$error":"#DIV/0!"},{"$error":"#DIV/0!"},{"$error":"#DIV/0!"},{"$f":"+(aem2csp2!B151+(aem2csp2!C151*10))*(10^((65-aem2csp2!$A$12)/10))","v":0},0,{"$error":"#DIV/0!"},{"$error":"#DIV/0!"},{"$error":"#DIV/0!"},{"$error":"#DIV/0!"},{"$f":"+(aem2csp2!B151+(aem2csp2!C151*10))*(10^((65-aem2csp2!$A$13)/10))","v":0},0,{"$error":"#DIV/0!"},{"$error":"#DIV/0!"},{"$error":"#DIV/0!"},{"$error":"#DIV/0!"},{"$f":"+(aem2csp2!B151+(aem2csp2!C151*10))*(10^((65-aem2csp2!$A$14)/10))","v":0},0,{"$error":"#DIV/0!"},{"$error":"#DIV/0!"},{"$error":"#DIV/0!"},{"$error":"#DIV/0!"},{"$f":"+(aem2csp2!B151+(aem2csp2!C151*10))*(10^((65-aem2csp2!$A$15)/10))","v":0},0,{"$error":"#DIV/0!"},{"$error":"#DIV/0!"},{"$error":"#DIV/0!"},{"$error":"#DIV/0!"},{"$f":"+(aem2csp2!B151+(aem2csp2!C151*10))*(10^((65-aem2csp2!$A$16)/10))","v":0},0,{"$error":"#DIV/0!"},{"$error":"#DIV/0!"},{"$error":"#DIV/0!"},{"$error":"#DIV/0!"},121,{"$f":"+(aem2csp2!D151+(aem2csp2!E151*10))*(10^((65-aem2csp2!$A$11)/10))","v":0},0,{"$error":"#DIV/0!"},{"$error":"#DIV/0!"},{"$error":"#DIV/0!"},{"$error":"#DIV/0!"},{"$f":"+(aem2csp2!D151+(aem2csp2!E151*10))*(10^((65-aem2csp2!$A$12)/10))","v":0},0,{"$error":"#DIV/0!"},{"$error":"#DIV/0!"},{"$error":"#DIV/0!"},{"$error":"#DIV/0!"},{"$f":"+(aem2csp2!D151+(aem2csp2!E151*10))*(10^((65-aem2csp2!$A$13)/10))","v":0},0,{"$error":"#DIV/0!"},{"$error":"#DIV/0!"},{"$error":"#DIV/0!"},{"$error":"#DIV/0!"},{"$f":"+(aem2csp2!D151+(aem2csp2!E151*10))*(10^((65-aem2csp2!$A$14)/10))","v":0},0,{"$error":"#DIV/0!"},{"$error":"#DIV/0!"},{"$error":"#DIV/0!"},{"$error":"#DIV/0!"},{"$f":"+(aem2csp2!D151+(aem2csp2!E151*10))*(10^((65-aem2csp2!$A$15)/10))","v":0},0,{"$error":"#DIV/0!"},{"$error":"#DIV/0!"},{"$error":"#DIV/0!"},{"$error":"#DIV/0!"},{"$f":"+(aem2csp2!D151+(aem2csp2!E151*10))*(10^((65-aem2csp2!$A$16)/10))","v":0},0,{"$error":"#DIV/0!"},{"$error":"#DIV/0!"},{"$error":"#DIV/0!"},{"$error":"#DIV/0!"}]
[null,null,null,null,"DC860 ",0.48925276193296502,0.63842168436050195,{"$f":"+(aem2csp2!B152+(aem2csp2!C152*10))*(10^((65-aem2csp2!$A$11)/10))","v":0},0,{"$error":"#DIV/0!"},{"$error":"#DIV/0!"},{"$error":"#DIV/0!"},{"$error":"#DIV/0!"},{"$f":"+(aem2csp2!B152+(aem2csp2!C152*10))*(10^((65-aem2csp2!$A$12)/10))","v":0},0,{"$error":"#DIV/0!"},{"$error":"#DIV/0!"},{"$error":"#DIV/0!"},{"$error":"#DIV/0!"},{"$f":"+(aem2csp2!B152+(aem2csp2!C152*10))*(10^((65-aem2csp2!$A$13)/10))","v":0},0,{"$error":"#DIV/0!"},{"$error":"#DIV/0!"},{"$error":"#DIV/0!"},{"$error":"#DIV/0!"},{"$f":"+(aem2csp2!B152+(aem2csp2!C152*10))*(10^((65-aem2csp2!$A$14)/10))","v":0},0,{"$error":"#DIV/0!"},{"$error":"#DIV/0!"},{"$error":"#DIV/0!"},{"$error":"#DIV/0!"},{"$f":"+(aem2csp2!B152+(aem2csp2!C152*10))*(10^((65-aem2csp2!$A$15)/10))","v":0},0,{"$error":"#DIV/0!"},{"$error":"#DIV/0!"},{"$error":"#DIV/0!"},{"$error":"#DIV/0!"},{"$f":"+(aem2csp2!B152+(aem2csp2!C152*10))*(10^((65-aem2csp2!$A$16)/10))","v":0},0,{"$error":"#DIV/0!"},{"$error":"#DIV/0!"},{"$error":"#DIV/0!"},{"$error":"#DIV/0!"},122,{"$f":"+(aem2csp2!D152+(aem2csp2!E152*10))*(10^((65-aem2csp2!$A$11)/10))","v":0},0,{"$error":"#DIV/0!"},{"$error":"#DIV/0!"},{"$error":"#DIV/0!"},{"$error":"#DIV/0!"},{"$f":"+(aem2csp2!D152+(aem2csp2!E152*10))*(10^((65-aem2csp2!$A$12)/10))","v":0},0,{"$error":"#DIV/0!"},{"$error":"#DIV/0!"},{"$error":"#DIV/0!"},{"$error":"#DIV/0!"},{"$f":"+(aem2csp2!D152+(aem2csp2!E152*10))*(10^((65-aem2csp2!$A$13)/10))","v":0},0,{"$error":"#DIV/0!"},{"$error":"#DIV/0!"},{"$error":"#DIV/0!"},{"$error":"#DIV/0!"},{"$f":"+(aem2csp2!D152+(aem2csp2!E152*10))*(10^((65-aem2csp2!$A$14)/10))","v":0},0,{"$error":"#DIV/0!"},{"$error":"#DIV/0!"},{"$error":"#DIV/0!"},{"$error":"#DIV/0!"},{"$f":"+(aem2csp2!D152+(aem2csp2!E152*10))*(10^((65-aem2csp2!$A$15)/10))","v":0},0,{"$error":"#DIV/0!"},{"$error":"#DIV/0!"},{"$error":"#DIV/0!"},{"$error":"#DIV/0!"},{"$f":"+(aem2csp2!D152+(aem2csp2!E152*10))*(10^((65-aem2csp2!$A$16)/10))","v":0},0,{"$error":"#DIV/0!"},{"$error":"#DIV/0!"},{"$error":"#DIV/0!"},{"$error":"#DIV/0!"}]
[null,null,null,null,"DC870 ",4.0449889366053697E-2,0.778370309551767,{"$f":"+(aem2csp2!B153+(aem2csp2!C153*10))*(10^((65-aem2csp2!$A$11)/10))","v":0},0,{"$error":"#DIV/0!"},{"$error":"#DIV/0!"},{"$error":"#DIV/0!"},{"$error":"#DIV/0!"},{"$f":"+(aem2csp2!B153+(aem2csp2!C153*10))*(10^((65-aem2csp2!$A$12)/10))","v":0},0,{"$error":"#DIV/0!"},{"$error":"#DIV/0!"},{"$error":"#DIV/0!"},{"$error":"#DIV/0!"},{"$f":"+(aem2csp2!B153+(aem2csp2!C153*10))*(10^((65-aem2csp2!$A$13)/10))","v":0},0,{"$error":"#DIV/0!"},{"$error":"#DIV/0!"},{"$error":"#DIV/0!"},{"$error":"#DIV/0!"},{"$f":"+(aem2csp2!B153+(aem2csp2!C153*10))*(10^((65-aem2csp2!$A$14)/10))","v":0},0,{"$error":"#DIV/0!"},{"$error":"#DIV/0!"},{"$error":"#DIV/0!"},{"$error":"#DIV/0!"},{"$f":"+(aem2csp2!B153+(aem2csp2!C153*10))*(10^((65-aem2csp2!$A$15)/10))","v":0},0,{"$error":"#DIV/0!"},{"$error":"#DIV/0!"},{"$error":"#DIV/0!"},{"$error":"#DIV/0!"},{"$f":"+(aem2csp2!B153+(aem2csp2!C153*10))*(10^((65-aem2csp2!$A$16)/10))","v":0},0,{"$error":"#DIV/0!"},{"$error":"#DIV/0!"},{"$error":"#DIV/0!"},{"$error":"#DIV/0!"},123,{"$f":"+(aem2csp2!D153+(aem2csp2!E153*10))*(10^((65-aem2csp2!$A$11)/10))","v":0},0,{"$error":"#DIV/0!"},{"$error":"#DIV/0!"},{"$error":"#DIV/0!"},{"$error":"#DIV/0!"},{"$f":"+(aem2csp2!D153+(aem2csp2!E153*10))*(10^((65-aem2csp2!$A$12)/10))","v":0},0,{"$error":"#DIV/0!"},{"$error":"#DIV/0!"},{"$error":"#DIV/0!"},{"$error":"#DIV/0!"},{"$f":"+(aem2csp2!D153+(aem2csp2!E153*10))*(10^((65-aem2csp2!$A$13)/10))","v":0},0,{"$error":"#DIV/0!"},{"$error":"#DIV/0!"},{"$error":"#DIV/0!"},{"$error":"#DIV/0!"},{"$f":"+(aem2csp2!D153+(aem2csp2!E153*10))*(10^((65-aem2csp2!$A$14)/10))","v":0},0,{"$error":"#DIV/0!"},{"$error":"#DIV/0!"},{"$error":"#DIV/0!"},{"$error":"#DIV/0!"},{"$f":"+(aem2csp2!D153+(aem2csp2!E153*10))*(10^((65-aem2csp2!$A$15)/10))","v":0},0,{"$error":"#DIV/0!"},{"$error":"#DIV/0!"},{"$error":"#DIV/0!"},{"$error":"#DIV/0!"},{"$f":"+(aem2csp2!D153+(aem2csp2!E153*10))*(10^((65-aem2csp2!$A$16)/10))","v":0},0,{"$error":"#DIV/0!"},{"$error":"#DIV/0!"},{"$error":"#DIV/0!"},{"$error":"#DIV/0!"}]
[null,null,null,null,"DC8QN ",0.31684538043004301,0.71349024791277205,{"$f":"+(aem2csp2!B154+(aem2csp2!C154*10))*(10^((65-aem2csp2!$A$11)/10))","v":0},0,{"$error":"#DIV/0!"},{"$error":"#DIV/0!"},{"$error":"#DIV/0!"},{"$error":"#DIV/0!"},{"$f":"+(aem2csp2!B154+(aem2csp2!C154*10))*(10^((65-aem2csp2!$A$12)/10))","v":0},0,{"$error":"#DIV/0!"},{"$error":"#DIV/0!"},{"$error":"#DIV/0!"},{"$error":"#DIV/0!"},{"$f":"+(aem2csp2!B154+(aem2csp2!C154*10))*(10^((65-aem2csp2!$A$13)/10))","v":0},0,{"$error":"#DIV/0!"},{"$error":"#DIV/0!"},{"$error":"#DIV/0!"},{"$error":"#DIV/0!"},{"$f":"+(aem2csp2!B154+(aem2csp2!C154*10))*(10^((65-aem2csp2!$A$14)/10))","v":0},0,{"$error":"#DIV/0!"},{"$error":"#DIV/0!"},{"$error":"#DIV/0!"},{"$error":"#DIV/0!"},{"$f":"+(aem2csp2!B154+(aem2csp2!C154*10))*(10^((65-aem2csp2!$A$15)/10))","v":0},0,{"$error":"#DIV/0!"},{"$error":"#DIV/0!"},{"$error":"#DIV/0!"},{"$error":"#DIV/0!"},{"$f":"+(aem2csp2!B154+(aem2csp2!C154*10))*(10^((65-aem2csp2!$A$16)/10))","v":0},0,{"$error":"#DIV/0!"},{"$error":"#DIV/0!"},{"$error":"#DIV/0!"},{"$error":"#DIV/0!"},124,{"$f":"+(aem2csp2!D154+(aem2csp2!E154*10))*(10^((65-aem2csp2!$A$11)/10))","v":0},0,{"$error":"#DIV/0!"},{"$error":"#DIV/0!"},{"$error":"#DIV/0!"},{"$error":"#DIV/0!"},{"$f":"+(aem2csp2!D154+(aem2csp2!E154*10))*(10^((65-aem2csp2!$A$12)/10))","v":0},0,{"$error":"#DIV/0!"},{"$error":"#DIV/0!"},{"$error":"#DIV/0!"},{"$error":"#DIV/0!"},{"$f":"+(aem2csp2!D154+(aem2csp2!E154*10))*(10^((65-aem2csp2!$A$13)/10))","v":0},0,{"$error":"#DIV/0!"},{"$error":"#DIV/0!"},{"$error":"#DIV/0!"},{"$error":"#DIV/0!"},{"$f":"+(aem2csp2!D154+(aem2csp2!E154*10))*(10^((65-aem2csp2!$A$14)/10))","v":0},0,{"$error":"#DIV/0!"},{"$error":"#DIV/0!"},{"$error":"#DIV/0!"},{"$error":"#DIV/0!"},{"$f":"+(aem2csp2!D154+(aem2csp2!E154*10))*(10^((65-aem2csp2!$A$15)/10))","v":0},0,{"$error":"#DIV/0!"},{"$error":"#DIV/0!"},{"$error":"#DIV/0!"},{"$error":"#DIV/0!"},{"$f":"+(aem2csp2!D154+(aem2csp2!E154*10))*(10^((65-aem2csp2!$A$16)/10))","v":0},0,{"$error":"#DIV/0!"},{"$error":"#DIV/0!"},{"$error":"#DIV/0!"},{"$error":"#DIV/0!"}]
[null,null,null,null,"DC910 ",7.3879170747324002E-2,0.75513270373592001,{"$f":"+(aem2csp2!B155+(aem2csp2!C155*10))*(10^((65-aem2csp2!$A$11)/10))","v":0},0,{"$error":"#DIV/0!"},{"$error":"#DIV/0!"},{"$error":"#DIV/0!"},{"$error":"#DIV/0!"},{"$f":"+(aem2csp2!B155+(aem2csp2!C155*10))*(10^((65-aem2csp2!$A$12)/10))","v":0},0,{"$error":"#DIV/0!"},{"$error":"#DIV/0!"},{"$error":"#DIV/0!"},{"$error":"#DIV/0!"},{"$f":"+(aem2csp2!B155+(aem2csp2!C155*10))*(10^((65-aem2csp2!$A$13)/10))","v":0},0,{"$error":"#DIV/0!"},{"$error":"#DIV/0!"},{"$error":"#DIV/0!"},{"$error":"#DIV/0!"},{"$f":"+(aem2csp2!B155+(aem2csp2!C155*10))*(10^((65-aem2csp2!$A$14)/10))","v":0},0,{"$error":"#DIV/0!"},{"$error":"#DIV/0!"},{"$error":"#DIV/0!"},{"$error":"#DIV/0!"},{"$f":"+(aem2csp2!B155+(aem2csp2!C155*10))*(10^((65-aem2csp2!$A$15)/10))","v":0},0,{"$error":"#DIV/0!"},{"$error":"#DIV/0!"},{"$error":"#DIV/0!"},{"$error":"#DIV/0!"},{"$f":"+(aem2csp2!B155+(aem2csp2!C155*10))*(10^((65-aem2csp2!$A$16)/10))","v":0},0,{"$error":"#DIV/0!"},{"$error":"#DIV/0!"},{"$error":"#DIV/0!"},{"$error":"#DIV/0!"},125,{"$f":"+(aem2csp2!D155+(aem2csp2!E155*10))*(10^((65-aem2csp2!$A$11)/10))","v":0},0,{"$error":"#DIV/0!"},{"$error":"#DIV/0!"},{"$error":"#DIV/0!"},{"$error":"#DIV/0!"},{"$f":"+(aem2csp2!D155+(aem2csp2!E155*10))*(10^((65-aem2csp2!$A$12)/10))","v":0},0,{"$error":"#DIV/0!"},{"$error":"#DIV/0!"},{"$error":"#DIV/0!"},{"$error":"#DIV/0!"},{"$f":"+(aem2csp2!D155+(aem2csp2!E155*10))*(10^((65-aem2csp2!$A$13)/10))","v":0},0,{"$error":"#DIV/0!"},{"$error":"#DIV/0!"},{"$error":"#DIV/0!"},{"$error":"#DIV/0!"},{"$f":"+(aem2csp2!D155+(aem2csp2!E155*10))*(10^((65-aem2csp2!$A$14)/10))","v":0},0,{"$error":"#DIV/0!"},{"$error":"#DIV/0!"},{"$error":"#DIV/0!"},{"$error":"#DIV/0!"},{"$f":"+(aem2csp2!D155+(aem2csp2!E155*10))*(10^((65-aem2csp2!$A$15)/10))","v":0},0,{"$error":"#DIV/0!"},{"$error":"#DIV/0!"},{"$error":"#DIV/0!"},{"$error":"#DIV/0!"},{"$f":"+(aem2csp2!D155+(aem2csp2!E155*10))*(10^((65-aem2csp2!$A$16)/10))","v":0},0,{"$error":"#DIV/0!"},{"$error":"#DIV/0!"},{"$error":"#DIV/0!"},{"$error":"#DIV/0!"}]
[null,null,null,null,"DC930 ",0.121554874150852,0.74587125515117303,{"$f":"+(aem2csp2!B156+(aem2csp2!C156*10))*(10^((65-aem2csp2!$A$11)/10))","v":0},0,{"$error":"#DIV/0!"},{"$error":"#DIV/0!"},{"$error":"#DIV/0!"},{"$error":"#DIV/0!"},{"$f":"+(aem2csp2!B156+(aem2csp2!C156*10))*(10^((65-aem2csp2!$A$12)/10))","v":0},0,{"$error":"#DIV/0!"},{"$error":"#DIV/0!"},{"$error":"#DIV/0!"},{"$error":"#DIV/0!"},{"$f":"+(aem2csp2!B156+(aem2csp2!C156*10))*(10^((65-aem2csp2!$A$13)/10))","v":0},0,{"$error":"#DIV/0!"},{"$error":"#DIV/0!"},{"$error":"#DIV/0!"},{"$error":"#DIV/0!"},{"$f":"+(aem2csp2!B156+(aem2csp2!C156*10))*(10^((65-aem2csp2!$A$14)/10))","v":0},0,{"$error":"#DIV/0!"},{"$error":"#DIV/0!"},{"$error":"#DIV/0!"},{"$error":"#DIV/0!"},{"$f":"+(aem2csp2!B156+(aem2csp2!C156*10))*(10^((65-aem2csp2!$A$15)/10))","v":0},0,{"$error":"#DIV/0!"},{"$error":"#DIV/0!"},{"$error":"#DIV/0!"},{"$error":"#DIV/0!"},{"$f":"+(aem2csp2!B156+(aem2csp2!C156*10))*(10^((65-aem2csp2!$A$16)/10))","v":0},0,{"$error":"#DIV/0!"},{"$error":"#DIV/0!"},{"$error":"#DIV/0!"},{"$error":"#DIV/0!"},126,{"$f":"+(aem2csp2!D156+(aem2csp2!E156*10))*(10^((65-aem2csp2!$A$11)/10))","v":0},0,{"$error":"#DIV/0!"},{"$error":"#DIV/0!"},{"$error":"#DIV/0!"},{"$error":"#DIV/0!"},{"$f":"+(aem2csp2!D156+(aem2csp2!E156*10))*(10^((65-aem2csp2!$A$12)/10))","v":0},0,{"$error":"#DIV/0!"},{"$error":"#DIV/0!"},{"$error":"#DIV/0!"},{"$error":"#DIV/0!"},{"$f":"+(aem2csp2!D156+(aem2csp2!E156*10))*(10^((65-aem2csp2!$A$13)/10))","v":0},0,{"$error":"#DIV/0!"},{"$error":"#DIV/0!"},{"$error":"#DIV/0!"},{"$error":"#DIV/0!"},{"$f":"+(aem2csp2!D156+(aem2csp2!E156*10))*(10^((65-aem2csp2!$A$14)/10))","v":0},0,{"$error":"#DIV/0!"},{"$error":"#DIV/0!"},{"$error":"#DIV/0!"},{"$error":"#DIV/0!"},{"$f":"+(aem2csp2!D156+(aem2csp2!E156*10))*(10^((65-aem2csp2!$A$15)/10))","v":0},0,{"$error":"#DIV/0!"},{"$error":"#DIV/0!"},{"$error":"#DIV/0!"},{"$error":"#DIV/0!"},{"$f":"+(aem2csp2!D156+(aem2csp2!E156*10))*(10^((65-aem2csp2!$A$16)/10))","v":0},0,{"$error":"#DIV/0!"},{"$error":"#DIV/0!"},{"$error":"#DIV/0!"},{"$error":"#DIV/0!"}]
[null,null,null,null,"DC93LW ",3.7067116317187503E-2,0.76039339099831804,{"$f":"+(aem2csp2!B157+(aem2csp2!C157*10))*(10^((65-aem2csp2!$A$11)/10))","v":0},0,{"$error":"#DIV/0!"},{"$error":"#DIV/0!"},{"$error":"#DIV/0!"},{"$error":"#DIV/0!"},{"$f":"+(aem2csp2!B157+(aem2csp2!C157*10))*(10^((65-aem2csp2!$A$12)/10))","v":0},0,{"$error":"#DIV/0!"},{"$error":"#DIV/0!"},{"$error":"#DIV/0!"},{"$error":"#DIV/0!"},{"$f":"+(aem2csp2!B157+(aem2csp2!C157*10))*(10^((65-aem2csp2!$A$13)/10))","v":0},0,{"$error":"#DIV/0!"},{"$error":"#DIV/0!"},{"$error":"#DIV/0!"},{"$error":"#DIV/0!"},{"$f":"+(aem2csp2!B157+(aem2csp2!C157*10))*(10^((65-aem2csp2!$A$14)/10))","v":0},0,{"$error":"#DIV/0!"},{"$error":"#DIV/0!"},{"$error":"#DIV/0!"},{"$error":"#DIV/0!"},{"$f":"+(aem2csp2!B157+(aem2csp2!C157*10))*(10^((65-aem2csp2!$A$15)/10))","v":0},0,{"$error":"#DIV/0!"},{"$error":"#DIV/0!"},{"$error":"#DIV/0!"},{"$error":"#DIV/0!"},{"$f":"+(aem2csp2!B157+(aem2csp2!C157*10))*(10^((65-aem2csp2!$A$16)/10))","v":0},0,{"$error":"#DIV/0!"},{"$error":"#DIV/0!"},{"$error":"#DIV/0!"},{"$error":"#DIV/0!"},127,{"$f":"+(aem2csp2!D157+(aem2csp2!E157*10))*(10^((65-aem2csp2!$A$11)/10))","v":0},0,{"$error":"#DIV/0!"},{"$error":"#DIV/0!"},{"$error":"#DIV/0!"},{"$error":"#DIV/0!"},{"$f":"+(aem2csp2!D157+(aem2csp2!E157*10))*(10^((65-aem2csp2!$A$12)/10))","v":0},0,{"$error":"#DIV/0!"},{"$error":"#DIV/0!"},{"$error":"#DIV/0!"},{"$error":"#DIV/0!"},{"$f":"+(aem2csp2!D157+(aem2csp2!E157*10))*(10^((65-aem2csp2!$A$13)/10))","v":0},0,{"$error":"#DIV/0!"},{"$error":"#DIV/0!"},{"$error":"#DIV/0!"},{"$error":"#DIV/0!"},{"$f":"+(aem2csp2!D157+(aem2csp2!E157*10))*(10^((65-aem2csp2!$A$14)/10))","v":0},0,{"$error":"#DIV/0!"},{"$error":"#DIV/0!"},{"$error":"#DIV/0!"},{"$error":"#DIV/0!"},{"$f":"+(aem2csp2!D157+(aem2csp2!E157*10))*(10^((65-aem2csp2!$A$15)/10))","v":0},0,{"$error":"#DIV/0!"},{"$error":"#DIV/0!"},{"$error":"#DIV/0!"},{"$error":"#DIV/0!"},{"$f":"+(aem2csp2!D157+(aem2csp2!E157*10))*(10^((65-aem2csp2!$A$16)/10))","v":0},0,{"$error":"#DIV/0!"},{"$error":"#DIV/0!"},{"$error":"#DIV/0!"},{"$error":"#DIV/0!"}]
[null,null,null,null,"DC950 ",0.20193645178818201,0.69889040398140501,{"$f":"+(aem2csp2!B158+(aem2csp2!C158*10))*(10^((65-aem2csp2!$A$11)/10))","v":0},0,{"$error":"#DIV/0!"},{"$error":"#DIV/0!"},{"$error":"#DIV/0!"},{"$error":"#DIV/0!"},{"$f":"+(aem2csp2!B158+(aem2csp2!C158*10))*(10^((65-aem2csp2!$A$12)/10))","v":0},0,{"$error":"#DIV/0!"},{"$error":"#DIV/0!"},{"$error":"#DIV/0!"},{"$error":"#DIV/0!"},{"$f":"+(aem2csp2!B158+(aem2csp2!C158*10))*(10^((65-aem2csp2!$A$13)/10))","v":0},0,{"$error":"#DIV/0!"},{"$error":"#DIV/0!"},{"$error":"#DIV/0!"},{"$error":"#DIV/0!"},{"$f":"+(aem2csp2!B158+(aem2csp2!C158*10))*(10^((65-aem2csp2!$A$14)/10))","v":0},0,{"$error":"#DIV/0!"},{"$error":"#DIV/0!"},{"$error":"#DIV/0!"},{"$error":"#DIV/0!"},{"$f":"+(aem2csp2!B158+(aem2csp2!C158*10))*(10^((65-aem2csp2!$A$15)/10))","v":0},0,{"$error":"#DIV/0!"},{"$error":"#DIV/0!"},{"$error":"#DIV/0!"},{"$error":"#DIV/0!"},{"$f":"+(aem2csp2!B158+(aem2csp2!C158*10))*(10^((65-aem2csp2!$A$16)/10))","v":0},0,{"$error":"#DIV/0!"},{"$error":"#DIV/0!"},{"$error":"#DIV/0!"},{"$error":"#DIV/0!"},128,{"$f":"+(aem2csp2!D158+(aem2csp2!E158*10))*(10^((65-aem2csp2!$A$11)/10))","v":0},0,{"$error":"#DIV/0!"},{"$error":"#DIV/0!"},{"$error":"#DIV/0!"},{"$error":"#DIV/0!"},{"$f":"+(aem2csp2!D158+(aem2csp2!E158*10))*(10^((65-aem2csp2!$A$12)/10))","v":0},0,{"$error":"#DIV/0!"},{"$error":"#DIV/0!"},{"$error":"#DIV/0!"},{"$error":"#DIV/0!"},{"$f":"+(aem2csp2!D158+(aem2csp2!E158*10))*(10^((65-aem2csp2!$A$13)/10))","v":0},0,{"$error":"#DIV/0!"},{"$error":"#DIV/0!"},{"$error":"#DIV/0!"},{"$error":"#DIV/0!"},{"$f":"+(aem2csp2!D158+(aem2csp2!E158*10))*(10^((65-aem2csp2!$A$14)/10))","v":0},0,{"$error":"#DIV/0!"},{"$error":"#DIV/0!"},{"$error":"#DIV/0!"},{"$error":"#DIV/0!"},{"$f":"+(aem2csp2!D158+(aem2csp2!E158*10))*(10^((65-aem2csp2!$A$15)/10))","v":0},0,{"$error":"#DIV/0!"},{"$error":"#DIV/0!"},{"$error":"#DIV/0!"},{"$error":"#DIV/0!"},{"$f":"+(aem2csp2!D158+(aem2csp2!E158*10))*(10^((65-aem2csp2!$A$16)/10))","v":0},0,{"$error":"#DIV/0!"},{"$error":"#DIV/0!"},{"$error":"#DIV/0!"},{"$error":"#DIV/0!"}]
[null,null,null,null,"DC95HW ",5.6516760921475603E-2,0.71236530762847305,{"$f":"+(aem2csp2!B159+(aem2csp2!C159*10))*(10^((65-aem2csp2!$A$11)/10))","v":0},0,{"$error":"#DIV/0!"},{"$error":"#DIV/0!"},{"$error":"#DIV/0!"},{"$error":"#DIV/0!"},{"$f":"+(aem2csp2!B159+(aem2csp2!C159*10))*(10^((65-aem2csp2!$A$12)/10))","v":0},0,{"$error":"#DIV/0!"},{"$error":"#DIV/0!"},{"$error":"#DIV/0!"},{"$f":"+N159/R159","v":{"$error":"#DIV/0!"}},{"$f":"+(aem2csp2!B159+(aem2csp2!C159*10))*(10^((65-aem2csp2!$A$13)/10))","v":0},{"$f":"+F159*(T159^G159)","v":0},{"$f":"+(U159/$U$267)^(1/G159)","v":{"$error":"#DIV/0!"}},{"$f":"+V159/G159","v":{"$error":"#DIV/0!"}},{"$f":"+($X$269/F159)^(1/G159)","v":{"$error":"#DIV/0!"}},{"$error":"#DIV/0!"},{"$f":"+(aem2csp2!B159+(aem2csp2!C159*10))*(10^((65-aem2csp2!$A$14)/10))","v":0},0,{"$error":"#DIV/0!"},{"$error":"#DIV/0!"},{"$error":"#DIV/0!"},{"$error":"#DIV/0!"},{"$f":"+(aem2csp2!B159+(aem2csp2!C159*10))*(10^((65-aem2csp2!$A$15)/10))","v":0},0,{"$error":"#DIV/0!"},{"$error":"#DIV/0!"},{"$error":"#DIV/0!"},{"$error":"#DIV/0!"},{"$f":"+(aem2csp2!B159+(aem2csp2!C159*10))*(10^((65-aem2csp2!$A$16)/10))","v":0},0,{"$error":"#DIV/0!"},{"$error":"#DIV/0!"},{"$error":"#DIV/0!"},{"$error":"#DIV/0!"},129,{"$f":"+(aem2csp2!D159+(aem2csp2!E159*10))*(10^((65-aem2csp2!$A$11)/10))","v":0},0,{"$error":"#DIV/0!"},{"$error":"#DIV/0!"},{"$error":"#DIV/0!"},{"$error":"#DIV/0!"},{"$f":"+(aem2csp2!D159+(aem2csp2!E159*10))*(10^((65-aem2csp2!$A$12)/10))","v":0},0,{"$error":"#DIV/0!"},{"$error":"#DIV/0!"},{"$error":"#DIV/0!"},{"$error":"#DIV/0!"},{"$f":"+(aem2csp2!D159+(aem2csp2!E159*10))*(10^((65-aem2csp2!$A$13)/10))","v":0},0,{"$error":"#DIV/0!"},{"$error":"#DIV/0!"},{"$error":"#DIV/0!"},{"$error":"#DIV/0!"},{"$f":"+(aem2csp2!D159+(aem2csp2!E159*10))*(10^((65-aem2csp2!$A$14)/10))","v":0},0,{"$error":"#DIV/0!"},{"$error":"#DIV/0!"},{"$error":"#DIV/0!"},{"$error":"#DIV/0!"},{"$f":"+(aem2csp2!D159+(aem2csp2!E159*10))*(10^((65-aem2csp2!$A$15)/10))","v":0},0,{"$error":"#DIV/0!"},{"$error":"#DIV/0!"},{"$error":"#DIV/0!"},{"$error":"#DIV/0!"},{"$f":"+(aem2csp2!D159+(aem2csp2!E159*10))*(10^((65-aem2csp2!$A$16)/10))","v":0},0,{"$error":"#DIV/0!"},{"$error":"#DIV/0!"},{"$error":"#DIV/0!"},{"$error":"#DIV/0!"}]
[null,null,null,null,"DC9Q7 ",5.25157999822045E-2,0.77984816572597504,{"$f":"+(aem2csp2!B160+(aem2csp2!C160*10))*(10^((65-aem2csp2!$A$11)/10))","v":0},0,{"$error":"#DIV/0!"},{"$error":"#DIV/0!"},{"$error":"#DIV/0!"},{"$error":"#DIV/0!"},{"$f":"+(aem2csp2!B160+(aem2csp2!C160*10))*(10^((65-aem2csp2!$A$12)/10))","v":0},0,{"$error":"#DIV/0!"},{"$error":"#DIV/0!"},{"$error":"#DIV/0!"},{"$error":"#DIV/0!"},{"$f":"+(aem2csp2!B160+(aem2csp2!C160*10))*(10^((65-aem2csp2!$A$13)/10))","v":0},0,{"$error":"#DIV/0!"},{"$error":"#DIV/0!"},{"$error":"#DIV/0!"},{"$error":"#DIV/0!"},{"$f":"+(aem2csp2!B160+(aem2csp2!C160*10))*(10^((65-aem2csp2!$A$14)/10))","v":0},0,{"$error":"#DIV/0!"},{"$error":"#DIV/0!"},{"$error":"#DIV/0!"},{"$error":"#DIV/0!"},{"$f":"+(aem2csp2!B160+(aem2csp2!C160*10))*(10^((65-aem2csp2!$A$15)/10))","v":0},0,{"$error":"#DIV/0!"},{"$error":"#DIV/0!"},{"$error":"#DIV/0!"},{"$error":"#DIV/0!"},{"$f":"+(aem2csp2!B160+(aem2csp2!C160*10))*(10^((65-aem2csp2!$A$16)/10))","v":0},0,{"$error":"#DIV/0!"},{"$error":"#DIV/0!"},{"$error":"#DIV/0!"},{"$error":"#DIV/0!"},130,{"$f":"+(aem2csp2!D160+(aem2csp2!E160*10))*(10^((65-aem2csp2!$A$11)/10))","v":0},0,{"$error":"#DIV/0!"},{"$error":"#DIV/0!"},{"$error":"#DIV/0!"},{"$error":"#DIV/0!"},{"$f":"+(aem2csp2!D160+(aem2csp2!E160*10))*(10^((65-aem2csp2!$A$12)/10))","v":0},0,{"$error":"#DIV/0!"},{"$error":"#DIV/0!"},{"$error":"#DIV/0!"},{"$error":"#DIV/0!"},{"$f":"+(aem2csp2!D160+(aem2csp2!E160*10))*(10^((65-aem2csp2!$A$13)/10))","v":0},0,{"$error":"#DIV/0!"},{"$error":"#DIV/0!"},{"$error":"#DIV/0!"},{"$error":"#DIV/0!"},{"$f":"+(aem2csp2!D160+(aem2csp2!E160*10))*(10^((65-aem2csp2!$A$14)/10))","v":0},0,{"$error":"#DIV/0!"},{"$error":"#DIV/0!"},{"$error":"#DIV/0!"},{"$error":"#DIV/0!"},{"$f":"+(aem2csp2!D160+(aem2csp2!E160*10))*(10^((65-aem2csp2!$A$15)/10))","v":0},0,{"$error":"#DIV/0!"},{"$error":"#DIV/0!"},{"$error":"#DIV/0!"},{"$error":"#DIV/0!"},{"$f":"+(aem2csp2!D160+(aem2csp2!E160*10))*(10^((65-aem2csp2!$A$16)/10))","v":0},0,{"$error":"#DIV/0!"},{"$error":"#DIV/0!"},{"$error":"#DIV/0!"},{"$error":"#DIV/0!"}]
[null,null,null,null,"DC9Q9 ",9.9511594633334505E-2,0.75309702747343898,{"$f":"+(aem2csp2!B161+(aem2csp2!C161*10))*(10^((65-aem2csp2!$A$11)/10))","v":0},0,{"$error":"#DIV/0!"},{"$error":"#DIV/0!"},{"$error":"#DIV/0!"},{"$error":"#DIV/0!"},{"$f":"+(aem2csp2!B161+(aem2csp2!C161*10))*(10^((65-aem2csp2!$A$12)/10))","v":0},0,{"$error":"#DIV/0!"},{"$error":"#DIV/0!"},{"$error":"#DIV/0!"},{"$error":"#DIV/0!"},{"$f":"+(aem2csp2!B161+(aem2csp2!C161*10))*(10^((65-aem2csp2!$A$13)/10))","v":0},0,{"$error":"#DIV/0!"},{"$error":"#DIV/0!"},{"$error":"#DIV/0!"},{"$error":"#DIV/0!"},{"$f":"+(aem2csp2!B161+(aem2csp2!C161*10))*(10^((65-aem2csp2!$A$14)/10))","v":0},0,{"$error":"#DIV/0!"},{"$error":"#DIV/0!"},{"$error":"#DIV/0!"},{"$error":"#DIV/0!"},{"$f":"+(aem2csp2!B161+(aem2csp2!C161*10))*(10^((65-aem2csp2!$A$15)/10))","v":0},0,{"$error":"#DIV/0!"},{"$error":"#DIV/0!"},{"$error":"#DIV/0!"},{"$error":"#DIV/0!"},{"$f":"+(aem2csp2!B161+(aem2csp2!C161*10))*(10^((65-aem2csp2!$A$16)/10))","v":0},0,{"$error":"#DIV/0!"},{"$error":"#DIV/0!"},{"$error":"#DIV/0!"},{"$error":"#DIV/0!"},131,{"$f":"+(aem2csp2!D161+(aem2csp2!E161*10))*(10^((65-aem2csp2!$A$11)/10))","v":0},0,{"$error":"#DIV/0!"},{"$error":"#DIV/0!"},{"$error":"#DIV/0!"},{"$error":"#DIV/0!"},{"$f":"+(aem2csp2!D161+(aem2csp2!E161*10))*(10^((65-aem2csp2!$A$12)/10))","v":0},0,{"$error":"#DIV/0!"},{"$error":"#DIV/0!"},{"$error":"#DIV/0!"},{"$error":"#DIV/0!"},{"$f":"+(aem2csp2!D161+(aem2csp2!E161*10))*(10^((65-aem2csp2!$A$13)/10))","v":0},0,{"$error":"#DIV/0!"},{"$error":"#DIV/0!"},{"$error":"#DIV/0!"},{"$error":"#DIV/0!"},{"$f":"+(aem2csp2!D161+(aem2csp2!E161*10))*(10^((65-aem2csp2!$A$14)/10))","v":0},0,{"$error":"#DIV/0!"},{"$error":"#DIV/0!"},{"$error":"#DIV/0!"},{"$error":"#DIV/0!"},{"$f":"+(aem2csp2!D161+(aem2csp2!E161*10))*(10^((65-aem2csp2!$A$15)/10))","v":0},0,{"$error":"#DIV/0!"},{"$error":"#DIV/0!"},{"$error":"#DIV/0!"},{"$error":"#DIV/0!"},{"$f":"+(aem2csp2!D161+(aem2csp2!E161*10))*(10^((65-aem2csp2!$A$16)/10))","v":0},0,{"$error":"#DIV/0!"},{"$error":"#DIV/0!"},{"$error":"#DIV/0!"},{"$error":"#DIV/0!"}]
[null,null,null,null,"DHC-2FLT ",7.2536216017117104E-4,1.2736303338514099,{"$f":"+(aem2csp2!B162+(aem2csp2!C162*10))*(10^((65-aem2csp2!$A$11)/10))","v":0},0,{"$error":"#DIV/0!"},{"$error":"#DIV/0!"},{"$error":"#DIV/0!"},{"$error":"#DIV/0!"},{"$f":"+(aem2csp2!B162+(aem2csp2!C162*10))*(10^((65-aem2csp2!$A$12)/10))","v":0},0,{"$error":"#DIV/0!"},{"$error":"#DIV/0!"},{"$error":"#DIV/0!"},{"$error":"#DIV/0!"},{"$f":"+(aem2csp2!B162+(aem2csp2!C162*10))*(10^((65-aem2csp2!$A$13)/10))","v":0},0,{"$error":"#DIV/0!"},{"$error":"#DIV/0!"},{"$error":"#DIV/0!"},{"$error":"#DIV/0!"},{"$f":"+(aem2csp2!B162+(aem2csp2!C162*10))*(10^((65-aem2csp2!$A$14)/10))","v":0},0,{"$error":"#DIV/0!"},{"$error":"#DIV/0!"},{"$error":"#DIV/0!"},{"$error":"#DIV/0!"},{"$f":"+(aem2csp2!B162+(aem2csp2!C162*10))*(10^((65-aem2csp2!$A$15)/10))","v":0},0,{"$error":"#DIV/0!"},{"$error":"#DIV/0!"},{"$error":"#DIV/0!"},{"$error":"#DIV/0!"},{"$f":"+(aem2csp2!B162+(aem2csp2!C162*10))*(10^((65-aem2csp2!$A$16)/10))","v":0},0,{"$error":"#DIV/0!"},{"$error":"#DIV/0!"},{"$error":"#DIV/0!"},{"$error":"#DIV/0!"},132,{"$f":"+(aem2csp2!D162+(aem2csp2!E162*10))*(10^((65-aem2csp2!$A$11)/10))","v":0},0,{"$error":"#DIV/0!"},{"$error":"#DIV/0!"},{"$error":"#DIV/0!"},{"$error":"#DIV/0!"},{"$f":"+(aem2csp2!D162+(aem2csp2!E162*10))*(10^((65-aem2csp2!$A$12)/10))","v":0},0,{"$error":"#DIV/0!"},{"$error":"#DIV/0!"},{"$error":"#DIV/0!"},{"$error":"#DIV/0!"},{"$f":"+(aem2csp2!D162+(aem2csp2!E162*10))*(10^((65-aem2csp2!$A$13)/10))","v":0},0,{"$error":"#DIV/0!"},{"$error":"#DIV/0!"},{"$error":"#DIV/0!"},{"$error":"#DIV/0!"},{"$f":"+(aem2csp2!D162+(aem2csp2!E162*10))*(10^((65-aem2csp2!$A$14)/10))","v":0},0,{"$error":"#DIV/0!"},{"$error":"#DIV/0!"},{"$error":"#DIV/0!"},{"$error":"#DIV/0!"},{"$f":"+(aem2csp2!D162+(aem2csp2!E162*10))*(10^((65-aem2csp2!$A$15)/10))","v":0},0,{"$error":"#DIV/0!"},{"$error":"#DIV/0!"},{"$error":"#DIV/0!"},{"$error":"#DIV/0!"},{"$f":"+(aem2csp2!D162+(aem2csp2!E162*10))*(10^((65-aem2csp2!$A$16)/10))","v":0},0,{"$error":"#DIV/0!"},{"$error":"#DIV/0!"},{"$error":"#DIV/0!"},{"$error":"#DIV/0!"}]
[null,null,null,null,"DHC6 ",1.7448262146911699E-3,1.01620552463522,{"$f":"+(aem2csp2!B163+(aem2csp2!C163*10))*(10^((65-aem2csp2!$A$11)/10))","v":0},0,{"$error":"#DIV/0!"},{"$error":"#DIV/0!"},{"$error":"#DIV/0!"},{"$error":"#DIV/0!"},{"$f":"+(aem2csp2!B163+(aem2csp2!C163*10))*(10^((65-aem2csp2!$A$12)/10))","v":0},0,{"$error":"#DIV/0!"},{"$error":"#DIV/0!"},{"$error":"#DIV/0!"},{"$error":"#DIV/0!"},{"$f":"+(aem2csp2!B163+(aem2csp2!C163*10))*(10^((65-aem2csp2!$A$13)/10))","v":0},0,{"$error":"#DIV/0!"},{"$error":"#DIV/0!"},{"$error":"#DIV/0!"},{"$error":"#DIV/0!"},{"$f":"+(aem2csp2!B163+(aem2csp2!C163*10))*(10^((65-aem2csp2!$A$14)/10))","v":0},0,{"$error":"#DIV/0!"},{"$error":"#DIV/0!"},{"$error":"#DIV/0!"},{"$error":"#DIV/0!"},{"$f":"+(aem2csp2!B163+(aem2csp2!C163*10))*(10^((65-aem2csp2!$A$15)/10))","v":0},0,{"$error":"#DIV/0!"},{"$error":"#DIV/0!"},{"$error":"#DIV/0!"},{"$error":"#DIV/0!"},{"$f":"+(aem2csp2!B163+(aem2csp2!C163*10))*(10^((65-aem2csp2!$A$16)/10))","v":0},0,{"$error":"#DIV/0!"},{"$error":"#DIV/0!"},{"$error":"#DIV/0!"},{"$error":"#DIV/0!"},133,{"$f":"+(aem2csp2!D163+(aem2csp2!E163*10))*(10^((65-aem2csp2!$A$11)/10))","v":0},0,{"$error":"#DIV/0!"},{"$error":"#DIV/0!"},{"$error":"#DIV/0!"},{"$error":"#DIV/0!"},{"$f":"+(aem2csp2!D163+(aem2csp2!E163*10))*(10^((65-aem2csp2!$A$12)/10))","v":0},0,{"$error":"#DIV/0!"},{"$error":"#DIV/0!"},{"$error":"#DIV/0!"},{"$error":"#DIV/0!"},{"$f":"+(aem2csp2!D163+(aem2csp2!E163*10))*(10^((65-aem2csp2!$A$13)/10))","v":0},0,{"$error":"#DIV/0!"},{"$error":"#DIV/0!"},{"$error":"#DIV/0!"},{"$error":"#DIV/0!"},{"$f":"+(aem2csp2!D163+(aem2csp2!E163*10))*(10^((65-aem2csp2!$A$14)/10))","v":0},0,{"$error":"#DIV/0!"},{"$error":"#DIV/0!"},{"$error":"#DIV/0!"},{"$error":"#DIV/0!"},{"$f":"+(aem2csp2!D163+(aem2csp2!E163*10))*(10^((65-aem2csp2!$A$15)/10))","v":0},0,{"$error":"#DIV/0!"},{"$error":"#DIV/0!"},{"$error":"#DIV/0!"},{"$error":"#DIV/0!"},{"$f":"+(aem2csp2!D163+(aem2csp2!E163*10))*(10^((65-aem2csp2!$A$16)/10))","v":0},0,{"$error":"#DIV/0!"},{"$error":"#DIV/0!"},{"$error":"#DIV/0!"},{"$error":"#DIV/0!"}]
[null,null,null,null,"DHC6QP ",1.12397461642484E-2,0.66070815117764403,{"$f":"+(aem2csp2!B164+(aem2csp2!C164*10))*(10^((65-aem2csp2!$A$11)/10))","v":0},0,{"$error":"#DIV/0!"},{"$error":"#DIV/0!"},{"$error":"#DIV/0!"},{"$error":"#DIV/0!"},{"$f":"+(aem2csp2!B164+(aem2csp2!C164*10))*(10^((65-aem2csp2!$A$12)/10))","v":0},0,{"$error":"#DIV/0!"},{"$error":"#DIV/0!"},{"$error":"#DIV/0!"},{"$error":"#DIV/0!"},{"$f":"+(aem2csp2!B164+(aem2csp2!C164*10))*(10^((65-aem2csp2!$A$13)/10))","v":0},0,{"$error":"#DIV/0!"},{"$error":"#DIV/0!"},{"$error":"#DIV/0!"},{"$f":"+T164/X164","v":{"$error":"#DIV/0!"}},{"$f":"+(aem2csp2!B164+(aem2csp2!C164*10))*(10^((65-aem2csp2!$A$14)/10))","v":0},{"$f":"+F164*(Z164^G164)","v":0},{"$f":"+(AA164/$AA$267)^(1/G164)","v":{"$error":"#DIV/0!"}},{"$f":"+AB164/G164","v":{"$error":"#DIV/0!"}},{"$f":"+($AD$269/F164)^(1/G164)","v":{"$error":"#DIV/0!"}},{"$f":"+Z164/AD164","v":{"$error":"#DIV/0!"}},{"$f":"+(aem2csp2!B164+(aem2csp2!C164*10))*(10^((65-aem2csp2!$A$15)/10))","v":0},{"$f":"+F164*(AF164^G164)","v":0},{"$f":"+(AG164/$AG$267)^(1/G164)","v":{"$error":"#DIV/0!"}},{"$f":"+AH164/G164","v":{"$error":"#DIV/0!"}},{"$f":"+($AJ$269/F164)^(1/G164)","v":{"$error":"#DIV/0!"}},{"$f":"+AF164/AJ164","v":{"$error":"#DIV/0!"}},{"$f":"+(aem2csp2!B164+(aem2csp2!C164*10))*(10^((65-aem2csp2!$A$16)/10))","v":0},{"$f":"+F164*(AL164^G164)","v":0},{"$f":"+(AM164/$AM$267)^(1/G164)","v":{"$error":"#DIV/0!"}},{"$f":"+AN164/G164","v":{"$error":"#DIV/0!"}},{"$f":"+($AP$269/F164)^(1/G164)","v":{"$error":"#DIV/0!"}},{"$f":"+AL164/AP164","v":{"$error":"#DIV/0!"}},134,{"$f":"+(aem2csp2!D164+(aem2csp2!E164*10))*(10^((65-aem2csp2!$A$11)/10))","v":0},{"$f":"+F164*(AS164^G164)","v":0},{"$f":"+(AT164/$AT$267)^(1/G164)","v":{"$error":"#DIV/0!"}},{"$f":"+AU164/G164","v":{"$error":"#DIV/0!"}},{"$f":"+($AW$269/F164)^(1/G164)","v":{"$error":"#DIV/0!"}},{"$f":"+AS164/AW164","v":{"$error":"#DIV/0!"}},{"$f":"+(aem2csp2!D164+(aem2csp2!E164*10))*(10^((65-aem2csp2!$A$12)/10))","v":0},{"$f":"+F164*(AY164^G164)","v":0},{"$f":"+(AZ164/$AZ$267)^(1/G164)","v":{"$error":"#DIV/0!"}},{"$f":"+BA164/G164","v":{"$error":"#DIV/0!"}},{"$f":"+($BC$269/F164)^(1/G164)","v":{"$error":"#DIV/0!"}},{"$f":"+AY164/BC164","v":{"$error":"#DIV/0!"}},{"$f":"+(aem2csp2!D164+(aem2csp2!E164*10))*(10^((65-aem2csp2!$A$13)/10))","v":0},{"$f":"+F164*(BE164^G164)","v":0},{"$f":"+(BF164/$BF$267)^(1/G164)","v":{"$error":"#DIV/0!"}},{"$f":"+BG164/G164","v":{"$error":"#DIV/0!"}},{"$f":"+($BI$269/F164)^(1/G164)","v":{"$error":"#DIV/0!"}},{"$f":"+BE164/BI164","v":{"$error":"#DIV/0!"}},{"$f":"+(aem2csp2!D164+(aem2csp2!E164*10))*(10^((65-aem2csp2!$A$14)/10))","v":0},{"$f":"+F164*(BK164^G164)","v":0},{"$f":"+(BL164/$BL$267)^(1/G164)","v":{"$error":"#DIV/0!"}},{"$f":"+BM164/G164","v":{"$error":"#DIV/0!"}},{"$f":"+($BO$269/F164)^(1/G164)","v":{"$error":"#DIV/0!"}},{"$f":"+BK164/BO164","v":{"$error":"#DIV/0!"}},{"$f":"+(aem2csp2!D164+(aem2csp2!E164*10))*(10^((65-aem2csp2!$A$15)/10))","v":0},{"$f":"+F164*(BQ164^G164)","v":0},{"$f":"+(BR164/$BR$267)^(1/G164)","v":{"$error":"#DIV/0!"}},{"$f":"+BS164/G164","v":{"$error":"#DIV/0!"}},{"$f":"+($BU$269/F164)^(1/G164)","v":{"$error":"#DIV/0!"}},{"$f":"+BQ164/BU164","v":{"$error":"#DIV/0!"}},{"$f":"+(aem2csp2!D164+(aem2csp2!E164*10))*(10^((65-aem2csp2!$A$16)/10))","v":0},{"$f":"+F164*(BW164^G164)","v":0},{"$f":"+(BX164/$BX$267)^(1/G164)","v":{"$error":"#DIV/0!"}},{"$f":"+BY164/G164","v":{"$error":"#DIV/0!"}},{"$f":"+($CA$269/F164)^(1/G164)","v":{"$error":"#DIV/0!"}},{"$f":"+BW164/CA164","v":{"$error":"#DIV/0!"}}]
[null,null,null,null,"DHC7 ",1.3953706500385301E-2,0.44283413153281698,{"$f":"+(aem2csp2!B165+(aem2csp2!C165*10))*(10^((65-aem2csp2!$A$11)/10))","v":0},0,{"$error":"#DIV/0!"},{"$error":"#DIV/0!"},{"$error":"#DIV/0!"},{"$error":"#DIV/0!"},{"$f":"+(aem2csp2!B165+(aem2csp2!C165*10))*(10^((65-aem2csp2!$A$12)/10))","v":0},0,{"$error":"#DIV/0!"},{"$error":"#DIV/0!"},{"$error":"#DIV/0!"},{"$error":"#DIV/0!"},{"$f":"+(aem2csp2!B165+(aem2csp2!C165*10))*(10^((65-aem2csp2!$A$13)/10))","v":0},0,{"$error":"#DIV/0!"},{"$error":"#DIV/0!"},{"$error":"#DIV/0!"},{"$error":"#DIV/0!"},{"$f":"+(aem2csp2!B165+(aem2csp2!C165*10))*(10^((65-aem2csp2!$A$14)/10))","v":0},0,{"$error":"#DIV/0!"},{"$error":"#DIV/0!"},{"$error":"#DIV/0!"},{"$error":"#DIV/0!"},{"$f":"+(aem2csp2!B165+(aem2csp2!C165*10))*(10^((65-aem2csp2!$A$15)/10))","v":0},0,{"$error":"#DIV/0!"},{"$error":"#DIV/0!"},{"$error":"#DIV/0!"},{"$error":"#DIV/0!"},{"$f":"+(aem2csp2!B165+(aem2csp2!C165*10))*(10^((65-aem2csp2!$A$16)/10))","v":0},0,{"$error":"#DIV/0!"},{"$error":"#DIV/0!"},{"$error":"#DIV/0!"},{"$error":"#DIV/0!"},135,{"$f":"+(aem2csp2!D165+(aem2csp2!E165*10))*(10^((65-aem2csp2!$A$11)/10))","v":0},0,{"$error":"#DIV/0!"},{"$error":"#DIV/0!"},{"$error":"#DIV/0!"},{"$error":"#DIV/0!"},{"$f":"+(aem2csp2!D165+(aem2csp2!E165*10))*(10^((65-aem2csp2!$A$12)/10))","v":0},0,{"$error":"#DIV/0!"},{"$error":"#DIV/0!"},{"$error":"#DIV/0!"},{"$error":"#DIV/0!"},{"$f":"+(aem2csp2!D165+(aem2csp2!E165*10))*(10^((65-aem2csp2!$A$13)/10))","v":0},0,{"$error":"#DIV/0!"},{"$error":"#DIV/0!"},{"$error":"#DIV/0!"},{"$error":"#DIV/0!"},{"$f":"+(aem2csp2!D165+(aem2csp2!E165*10))*(10^((65-aem2csp2!$A$14)/10))","v":0},0,{"$error":"#DIV/0!"},{"$error":"#DIV/0!"},{"$error":"#DIV/0!"},{"$error":"#DIV/0!"},{"$f":"+(aem2csp2!D165+(aem2csp2!E165*10))*(10^((65-aem2csp2!$A$15)/10))","v":0},0,{"$error":"#DIV/0!"},{"$error":"#DIV/0!"},{"$error":"#DIV/0!"},{"$error":"#DIV/0!"},{"$f":"+(aem2csp2!D165+(aem2csp2!E165*10))*(10^((65-aem2csp2!$A$16)/10))","v":0},0,{"$error":"#DIV/0!"},{"$error":"#DIV/0!"},{"$error":"#DIV/0!"},{"$error":"#DIV/0!"}]
[null,null,null,null,"DHC8 ",2.1417601147984099E-2,0.38323239221215999,{"$f":"+(aem2csp2!B166+(aem2csp2!C166*10))*(10^((65-aem2csp2!$A$11)/10))","v":0},0,{"$error":"#DIV/0!"},{"$error":"#DIV/0!"},{"$error":"#DIV/0!"},{"$error":"#DIV/0!"},{"$f":"+(aem2csp2!B166+(aem2csp2!C166*10))*(10^((65-aem2csp2!$A$12)/10))","v":0},0,{"$error":"#DIV/0!"},{"$error":"#DIV/0!"},{"$error":"#DIV/0!"},{"$error":"#DIV/0!"},{"$f":"+(aem2csp2!B166+(aem2csp2!C166*10))*(10^((65-aem2csp2!$A$13)/10))","v":0},0,{"$error":"#DIV/0!"},{"$error":"#DIV/0!"},{"$error":"#DIV/0!"},{"$error":"#DIV/0!"},{"$f":"+(aem2csp2!B166+(aem2csp2!C166*10))*(10^((65-aem2csp2!$A$14)/10))","v":0},0,{"$error":"#DIV/0!"},{"$error":"#DIV/0!"},{"$error":"#DIV/0!"},{"$error":"#DIV/0!"},{"$f":"+(aem2csp2!B166+(aem2csp2!C166*10))*(10^((65-aem2csp2!$A$15)/10))","v":0},0,{"$error":"#DIV/0!"},{"$error":"#DIV/0!"},{"$error":"#DIV/0!"},{"$error":"#DIV/0!"},{"$f":"+(aem2csp2!B166+(aem2csp2!C166*10))*(10^((65-aem2csp2!$A$16)/10))","v":0},0,{"$error":"#DIV/0!"},{"$error":"#DIV/0!"},{"$error":"#DIV/0!"},{"$error":"#DIV/0!"},136,{"$f":"+(aem2csp2!D166+(aem2csp2!E166*10))*(10^((65-aem2csp2!$A$11)/10))","v":0},0,{"$error":"#DIV/0!"},{"$error":"#DIV/0!"},{"$error":"#DIV/0!"},{"$error":"#DIV/0!"},{"$f":"+(aem2csp2!D166+(aem2csp2!E166*10))*(10^((65-aem2csp2!$A$12)/10))","v":0},0,{"$error":"#DIV/0!"},{"$error":"#DIV/0!"},{"$error":"#DIV/0!"},{"$error":"#DIV/0!"},{"$f":"+(aem2csp2!D166+(aem2csp2!E166*10))*(10^((65-aem2csp2!$A$13)/10))","v":0},0,{"$error":"#DIV/0!"},{"$error":"#DIV/0!"},{"$error":"#DIV/0!"},{"$error":"#DIV/0!"},{"$f":"+(aem2csp2!D166+(aem2csp2!E166*10))*(10^((65-aem2csp2!$A$14)/10))","v":0},0,{"$error":"#DIV/0!"},{"$error":"#DIV/0!"},{"$error":"#DIV/0!"},{"$error":"#DIV/0!"},{"$f":"+(aem2csp2!D166+(aem2csp2!E166*10))*(10^((65-aem2csp2!$A$15)/10))","v":0},0,{"$error":"#DIV/0!"},{"$error":"#DIV/0!"},{"$error":"#DIV/0!"},{"$error":"#DIV/0!"},{"$f":"+(aem2csp2!D166+(aem2csp2!E166*10))*(10^((65-aem2csp2!$A$16)/10))","v":0},0,{"$error":"#DIV/0!"},{"$error":"#DIV/0!"},{"$error":"#DIV/0!"},{"$error":"#DIV/0!"}]
[null,null,null,null,"DHC830 ",5.4125559693591098E-2,0.27202778731872701,{"$f":"+(aem2csp2!B167+(aem2csp2!C167*10))*(10^((65-aem2csp2!$A$11)/10))","v":0},0,{"$error":"#DIV/0!"},{"$error":"#DIV/0!"},{"$error":"#DIV/0!"},{"$error":"#DIV/0!"},{"$f":"+(aem2csp2!B167+(aem2csp2!C167*10))*(10^((65-aem2csp2!$A$12)/10))","v":0},0,{"$error":"#DIV/0!"},{"$error":"#DIV/0!"},{"$error":"#DIV/0!"},{"$error":"#DIV/0!"},{"$f":"+(aem2csp2!B167+(aem2csp2!C167*10))*(10^((65-aem2csp2!$A$13)/10))","v":0},0,{"$error":"#DIV/0!"},{"$error":"#DIV/0!"},{"$error":"#DIV/0!"},{"$error":"#DIV/0!"},{"$f":"+(aem2csp2!B167+(aem2csp2!C167*10))*(10^((65-aem2csp2!$A$14)/10))","v":0},0,{"$error":"#DIV/0!"},{"$error":"#DIV/0!"},{"$error":"#DIV/0!"},{"$error":"#DIV/0!"},{"$f":"+(aem2csp2!B167+(aem2csp2!C167*10))*(10^((65-aem2csp2!$A$15)/10))","v":0},0,{"$error":"#DIV/0!"},{"$error":"#DIV/0!"},{"$error":"#DIV/0!"},{"$error":"#DIV/0!"},{"$f":"+(aem2csp2!B167+(aem2csp2!C167*10))*(10^((65-aem2csp2!$A$16)/10))","v":0},0,{"$error":"#DIV/0!"},{"$error":"#DIV/0!"},{"$error":"#DIV/0!"},{"$error":"#DIV/0!"},137,{"$f":"+(aem2csp2!D167+(aem2csp2!E167*10))*(10^((65-aem2csp2!$A$11)/10))","v":0},0,{"$error":"#DIV/0!"},{"$error":"#DIV/0!"},{"$error":"#DIV/0!"},{"$error":"#DIV/0!"},{"$f":"+(aem2csp2!D167+(aem2csp2!E167*10))*(10^((65-aem2csp2!$A$12)/10))","v":0},0,{"$error":"#DIV/0!"},{"$error":"#DIV/0!"},{"$error":"#DIV/0!"},{"$error":"#DIV/0!"},{"$f":"+(aem2csp2!D167+(aem2csp2!E167*10))*(10^((65-aem2csp2!$A$13)/10))","v":0},0,{"$error":"#DIV/0!"},{"$error":"#DIV/0!"},{"$error":"#DIV/0!"},{"$error":"#DIV/0!"},{"$f":"+(aem2csp2!D167+(aem2csp2!E167*10))*(10^((65-aem2csp2!$A$14)/10))","v":0},0,{"$error":"#DIV/0!"},{"$error":"#DIV/0!"},{"$error":"#DIV/0!"},{"$error":"#DIV/0!"},{"$f":"+(aem2csp2!D167+(aem2csp2!E167*10))*(10^((65-aem2csp2!$A$15)/10))","v":0},0,{"$error":"#DIV/0!"},{"$error":"#DIV/0!"},{"$error":"#DIV/0!"},{"$error":"#DIV/0!"},{"$f":"+(aem2csp2!D167+(aem2csp2!E167*10))*(10^((65-aem2csp2!$A$16)/10))","v":0},0,{"$error":"#DIV/0!"},{"$error":"#DIV/0!"},{"$error":"#DIV/0!"},{"$error":"#DIV/0!"}]
[null,null,null,null,"DO228 ",8.8236284984348108E-3,0.55500871499385795,{"$f":"+(aem2csp2!B168+(aem2csp2!C168*10))*(10^((65-aem2csp2!$A$11)/10))","v":0},0,{"$error":"#DIV/0!"},{"$error":"#DIV/0!"},{"$error":"#DIV/0!"},{"$error":"#DIV/0!"},{"$f":"+(aem2csp2!B168+(aem2csp2!C168*10))*(10^((65-aem2csp2!$A$12)/10))","v":0},0,{"$error":"#DIV/0!"},{"$error":"#DIV/0!"},{"$error":"#DIV/0!"},{"$error":"#DIV/0!"},{"$f":"+(aem2csp2!B168+(aem2csp2!C168*10))*(10^((65-aem2csp2!$A$13)/10))","v":0},0,{"$error":"#DIV/0!"},{"$error":"#DIV/0!"},{"$error":"#DIV/0!"},{"$error":"#DIV/0!"},{"$f":"+(aem2csp2!B168+(aem2csp2!C168*10))*(10^((65-aem2csp2!$A$14)/10))","v":0},0,{"$error":"#DIV/0!"},{"$error":"#DIV/0!"},{"$error":"#DIV/0!"},{"$error":"#DIV/0!"},{"$f":"+(aem2csp2!B168+(aem2csp2!C168*10))*(10^((65-aem2csp2!$A$15)/10))","v":0},0,{"$error":"#DIV/0!"},{"$error":"#DIV/0!"},{"$error":"#DIV/0!"},{"$error":"#DIV/0!"},{"$f":"+(aem2csp2!B168+(aem2csp2!C168*10))*(10^((65-aem2csp2!$A$16)/10))","v":0},0,{"$error":"#DIV/0!"},{"$error":"#DIV/0!"},{"$error":"#DIV/0!"},{"$error":"#DIV/0!"},138,{"$f":"+(aem2csp2!D168+(aem2csp2!E168*10))*(10^((65-aem2csp2!$A$11)/10))","v":0},0,{"$error":"#DIV/0!"},{"$error":"#DIV/0!"},{"$error":"#DIV/0!"},{"$error":"#DIV/0!"},{"$f":"+(aem2csp2!D168+(aem2csp2!E168*10))*(10^((65-aem2csp2!$A$12)/10))","v":0},0,{"$error":"#DIV/0!"},{"$error":"#DIV/0!"},{"$error":"#DIV/0!"},{"$error":"#DIV/0!"},{"$f":"+(aem2csp2!D168+(aem2csp2!E168*10))*(10^((65-aem2csp2!$A$13)/10))","v":0},0,{"$error":"#DIV/0!"},{"$error":"#DIV/0!"},{"$error":"#DIV/0!"},{"$error":"#DIV/0!"},{"$f":"+(aem2csp2!D168+(aem2csp2!E168*10))*(10^((65-aem2csp2!$A$14)/10))","v":0},0,{"$error":"#DIV/0!"},{"$error":"#DIV/0!"},{"$error":"#DIV/0!"},{"$error":"#DIV/0!"},{"$f":"+(aem2csp2!D168+(aem2csp2!E168*10))*(10^((65-aem2csp2!$A$15)/10))","v":0},0,{"$error":"#DIV/0!"},{"$error":"#DIV/0!"},{"$error":"#DIV/0!"},{"$error":"#DIV/0!"},{"$f":"+(aem2csp2!D168+(aem2csp2!E168*10))*(10^((65-aem2csp2!$A$16)/10))","v":0},0,{"$error":"#DIV/0!"},{"$error":"#DIV/0!"},{"$error":"#DIV/0!"},{"$error":"#DIV/0!"}]
[null,null,null,null,"DO328 ",1.7320620171517399E-2,0.573166895336918,{"$f":"+(aem2csp2!B169+(aem2csp2!C169*10))*(10^((65-aem2csp2!$A$11)/10))","v":0},0,{"$error":"#DIV/0!"},{"$error":"#DIV/0!"},{"$error":"#DIV/0!"},{"$error":"#DIV/0!"},{"$f":"+(aem2csp2!B169+(aem2csp2!C169*10))*(10^((65-aem2csp2!$A$12)/10))","v":0},0,{"$error":"#DIV/0!"},{"$error":"#DIV/0!"},{"$error":"#DIV/0!"},{"$error":"#DIV/0!"},{"$f":"+(aem2csp2!B169+(aem2csp2!C169*10))*(10^((65-aem2csp2!$A$13)/10))","v":0},0,{"$error":"#DIV/0!"},{"$error":"#DIV/0!"},{"$error":"#DIV/0!"},{"$error":"#DIV/0!"},{"$f":"+(aem2csp2!B169+(aem2csp2!C169*10))*(10^((65-aem2csp2!$A$14)/10))","v":0},0,{"$error":"#DIV/0!"},{"$error":"#DIV/0!"},{"$error":"#DIV/0!"},{"$error":"#DIV/0!"},{"$f":"+(aem2csp2!B169+(aem2csp2!C169*10))*(10^((65-aem2csp2!$A$15)/10))","v":0},0,{"$error":"#DIV/0!"},{"$error":"#DIV/0!"},{"$error":"#DIV/0!"},{"$error":"#DIV/0!"},{"$f":"+(aem2csp2!B169+(aem2csp2!C169*10))*(10^((65-aem2csp2!$A$16)/10))","v":0},0,{"$error":"#DIV/0!"},{"$error":"#DIV/0!"},{"$error":"#DIV/0!"},{"$error":"#DIV/0!"},139,{"$f":"+(aem2csp2!D169+(aem2csp2!E169*10))*(10^((65-aem2csp2!$A$11)/10))","v":0},0,{"$error":"#DIV/0!"},{"$error":"#DIV/0!"},{"$error":"#DIV/0!"},{"$error":"#DIV/0!"},{"$f":"+(aem2csp2!D169+(aem2csp2!E169*10))*(10^((65-aem2csp2!$A$12)/10))","v":0},0,{"$error":"#DIV/0!"},{"$error":"#DIV/0!"},{"$error":"#DIV/0!"},{"$error":"#DIV/0!"},{"$f":"+(aem2csp2!D169+(aem2csp2!E169*10))*(10^((65-aem2csp2!$A$13)/10))","v":0},0,{"$error":"#DIV/0!"},{"$error":"#DIV/0!"},{"$error":"#DIV/0!"},{"$error":"#DIV/0!"},{"$f":"+(aem2csp2!D169+(aem2csp2!E169*10))*(10^((65-aem2csp2!$A$14)/10))","v":0},0,{"$error":"#DIV/0!"},{"$error":"#DIV/0!"},{"$error":"#DIV/0!"},{"$error":"#DIV/0!"},{"$f":"+(aem2csp2!D169+(aem2csp2!E169*10))*(10^((65-aem2csp2!$A$15)/10))","v":0},0,{"$error":"#DIV/0!"},{"$error":"#DIV/0!"},{"$error":"#DIV/0!"},{"$error":"#DIV/0!"},{"$f":"+(aem2csp2!D169+(aem2csp2!E169*10))*(10^((65-aem2csp2!$A$16)/10))","v":0},0,{"$error":"#DIV/0!"},{"$error":"#DIV/0!"},{"$error":"#DIV/0!"},{"$error":"#DIV/0!"}]
[null,null,null,null,"E3A ",0.58008226180448597,0.640941055242499,{"$f":"+(aem2csp2!B170+(aem2csp2!C170*10))*(10^((65-aem2csp2!$A$11)/10))","v":0},0,{"$error":"#DIV/0!"},{"$error":"#DIV/0!"},{"$error":"#DIV/0!"},{"$error":"#DIV/0!"},{"$f":"+(aem2csp2!B170+(aem2csp2!C170*10))*(10^((65-aem2csp2!$A$12)/10))","v":0},0,{"$error":"#DIV/0!"},{"$error":"#DIV/0!"},{"$error":"#DIV/0!"},{"$error":"#DIV/0!"},{"$f":"+(aem2csp2!B170+(aem2csp2!C170*10))*(10^((65-aem2csp2!$A$13)/10))","v":0},0,{"$error":"#DIV/0!"},{"$error":"#DIV/0!"},{"$error":"#DIV/0!"},{"$error":"#DIV/0!"},{"$f":"+(aem2csp2!B170+(aem2csp2!C170*10))*(10^((65-aem2csp2!$A$14)/10))","v":0},0,{"$error":"#DIV/0!"},{"$error":"#DIV/0!"},{"$error":"#DIV/0!"},{"$error":"#DIV/0!"},{"$f":"+(aem2csp2!B170+(aem2csp2!C170*10))*(10^((65-aem2csp2!$A$15)/10))","v":0},0,{"$error":"#DIV/0!"},{"$error":"#DIV/0!"},{"$error":"#DIV/0!"},{"$error":"#DIV/0!"},{"$f":"+(aem2csp2!B170+(aem2csp2!C170*10))*(10^((65-aem2csp2!$A$16)/10))","v":0},0,{"$error":"#DIV/0!"},{"$error":"#DIV/0!"},{"$error":"#DIV/0!"},{"$error":"#DIV/0!"},140,{"$f":"+(aem2csp2!D170+(aem2csp2!E170*10))*(10^((65-aem2csp2!$A$11)/10))","v":0},0,{"$error":"#DIV/0!"},{"$error":"#DIV/0!"},{"$error":"#DIV/0!"},{"$error":"#DIV/0!"},{"$f":"+(aem2csp2!D170+(aem2csp2!E170*10))*(10^((65-aem2csp2!$A$12)/10))","v":0},0,{"$error":"#DIV/0!"},{"$error":"#DIV/0!"},{"$error":"#DIV/0!"},{"$error":"#DIV/0!"},{"$f":"+(aem2csp2!D170+(aem2csp2!E170*10))*(10^((65-aem2csp2!$A$13)/10))","v":0},0,{"$error":"#DIV/0!"},{"$error":"#DIV/0!"},{"$error":"#DIV/0!"},{"$error":"#DIV/0!"},{"$f":"+(aem2csp2!D170+(aem2csp2!E170*10))*(10^((65-aem2csp2!$A$14)/10))","v":0},0,{"$error":"#DIV/0!"},{"$error":"#DIV/0!"},{"$error":"#DIV/0!"},{"$error":"#DIV/0!"},{"$f":"+(aem2csp2!D170+(aem2csp2!E170*10))*(10^((65-aem2csp2!$A$15)/10))","v":0},0,{"$error":"#DIV/0!"},{"$error":"#DIV/0!"},{"$error":"#DIV/0!"},{"$error":"#DIV/0!"},{"$f":"+(aem2csp2!D170+(aem2csp2!E170*10))*(10^((65-aem2csp2!$A$16)/10))","v":0},0,{"$error":"#DIV/0!"},{"$error":"#DIV/0!"},{"$error":"#DIV/0!"},{"$error":"#DIV/0!"}]
[null,null,null,null,"E4 ",8.0077426683445599E-2,0.68510233352752703,{"$f":"+(aem2csp2!B171+(aem2csp2!C171*10))*(10^((65-aem2csp2!$A$11)/10))","v":0},0,{"$f":"+(I171/$I$267)^(1/G171)","v":{"$error":"#DIV/0!"}},{"$error":"#DIV/0!"},{"$f":"+($L$269/F171)^(1/G171)","v":{"$error":"#DIV/0!"}},{"$error":"#DIV/0!"},{"$f":"+(aem2csp2!B171+(aem2csp2!C171*10))*(10^((65-aem2csp2!$A$12)/10))","v":0},0,{"$error":"#DIV/0!"},{"$error":"#DIV/0!"},{"$error":"#DIV/0!"},{"$error":"#DIV/0!"},{"$f":"+(aem2csp2!B171+(aem2csp2!C171*10))*(10^((65-aem2csp2!$A$13)/10))","v":0},0,{"$error":"#DIV/0!"},{"$error":"#DIV/0!"},{"$error":"#DIV/0!"},{"$error":"#DIV/0!"},{"$f":"+(aem2csp2!B171+(aem2csp2!C171*10))*(10^((65-aem2csp2!$A$14)/10))","v":0},0,{"$error":"#DIV/0!"},{"$error":"#DIV/0!"},{"$error":"#DIV/0!"},{"$error":"#DIV/0!"},{"$f":"+(aem2csp2!B171+(aem2csp2!C171*10))*(10^((65-aem2csp2!$A$15)/10))","v":0},0,{"$error":"#DIV/0!"},{"$error":"#DIV/0!"},{"$error":"#DIV/0!"},{"$error":"#DIV/0!"},{"$f":"+(aem2csp2!B171+(aem2csp2!C171*10))*(10^((65-aem2csp2!$A$16)/10))","v":0},0,{"$error":"#DIV/0!"},{"$error":"#DIV/0!"},{"$error":"#DIV/0!"},{"$error":"#DIV/0!"},141,{"$f":"+(aem2csp2!D171+(aem2csp2!E171*10))*(10^((65-aem2csp2!$A$11)/10))","v":0},0,{"$error":"#DIV/0!"},{"$error":"#DIV/0!"},{"$error":"#DIV/0!"},{"$error":"#DIV/0!"},{"$f":"+(aem2csp2!D171+(aem2csp2!E171*10))*(10^((65-aem2csp2!$A$12)/10))","v":0},0,{"$error":"#DIV/0!"},{"$error":"#DIV/0!"},{"$error":"#DIV/0!"},{"$error":"#DIV/0!"},{"$f":"+(aem2csp2!D171+(aem2csp2!E171*10))*(10^((65-aem2csp2!$A$13)/10))","v":0},0,{"$error":"#DIV/0!"},{"$error":"#DIV/0!"},{"$error":"#DIV/0!"},{"$error":"#DIV/0!"},{"$f":"+(aem2csp2!D171+(aem2csp2!E171*10))*(10^((65-aem2csp2!$A$14)/10))","v":0},0,{"$error":"#DIV/0!"},{"$error":"#DIV/0!"},{"$error":"#DIV/0!"},{"$error":"#DIV/0!"},{"$f":"+(aem2csp2!D171+(aem2csp2!E171*10))*(10^((65-aem2csp2!$A$15)/10))","v":0},0,{"$error":"#DIV/0!"},{"$error":"#DIV/0!"},{"$error":"#DIV/0!"},{"$error":"#DIV/0!"},{"$f":"+(aem2csp2!D171+(aem2csp2!E171*10))*(10^((65-aem2csp2!$A$16)/10))","v":0},0,{"$error":"#DIV/0!"},{"$error":"#DIV/0!"},{"$error":"#DIV/0!"},{"$error":"#DIV/0!"}]
[null,null,null,null,"EA6B ",0.74546133790819702,0.77380840613225998,{"$f":"+(aem2csp2!B172+(aem2csp2!C172*10))*(10^((65-aem2csp2!$A$11)/10))","v":0},0,{"$error":"#DIV/0!"},{"$error":"#DIV/0!"},{"$error":"#DIV/0!"},{"$error":"#DIV/0!"},{"$f":"+(aem2csp2!B172+(aem2csp2!C172*10))*(10^((65-aem2csp2!$A$12)/10))","v":0},0,{"$error":"#DIV/0!"},{"$error":"#DIV/0!"},{"$error":"#DIV/0!"},{"$error":"#DIV/0!"},{"$f":"+(aem2csp2!B172+(aem2csp2!C172*10))*(10^((65-aem2csp2!$A$13)/10))","v":0},0,{"$error":"#DIV/0!"},{"$error":"#DIV/0!"},{"$error":"#DIV/0!"},{"$error":"#DIV/0!"},{"$f":"+(aem2csp2!B172+(aem2csp2!C172*10))*(10^((65-aem2csp2!$A$14)/10))","v":0},0,{"$error":"#DIV/0!"},{"$error":"#DIV/0!"},{"$error":"#DIV/0!"},{"$error":"#DIV/0!"},{"$f":"+(aem2csp2!B172+(aem2csp2!C172*10))*(10^((65-aem2csp2!$A$15)/10))","v":0},0,{"$error":"#DIV/0!"},{"$error":"#DIV/0!"},{"$error":"#DIV/0!"},{"$error":"#DIV/0!"},{"$f":"+(aem2csp2!B172+(aem2csp2!C172*10))*(10^((65-aem2csp2!$A$16)/10))","v":0},0,{"$error":"#DIV/0!"},{"$error":"#DIV/0!"},{"$error":"#DIV/0!"},{"$error":"#DIV/0!"},142,{"$f":"+(aem2csp2!D172+(aem2csp2!E172*10))*(10^((65-aem2csp2!$A$11)/10))","v":0},0,{"$error":"#DIV/0!"},{"$error":"#DIV/0!"},{"$error":"#DIV/0!"},{"$error":"#DIV/0!"},{"$f":"+(aem2csp2!D172+(aem2csp2!E172*10))*(10^((65-aem2csp2!$A$12)/10))","v":0},0,{"$error":"#DIV/0!"},{"$error":"#DIV/0!"},{"$error":"#DIV/0!"},{"$error":"#DIV/0!"},{"$f":"+(aem2csp2!D172+(aem2csp2!E172*10))*(10^((65-aem2csp2!$A$13)/10))","v":0},0,{"$error":"#DIV/0!"},{"$error":"#DIV/0!"},{"$error":"#DIV/0!"},{"$error":"#DIV/0!"},{"$f":"+(aem2csp2!D172+(aem2csp2!E172*10))*(10^((65-aem2csp2!$A$14)/10))","v":0},0,{"$error":"#DIV/0!"},{"$error":"#DIV/0!"},{"$error":"#DIV/0!"},{"$error":"#DIV/0!"},{"$f":"+(aem2csp2!D172+(aem2csp2!E172*10))*(10^((65-aem2csp2!$A$15)/10))","v":0},0,{"$error":"#DIV/0!"},{"$error":"#DIV/0!"},{"$error":"#DIV/0!"},{"$error":"#DIV/0!"},{"$f":"+(aem2csp2!D172+(aem2csp2!E172*10))*(10^((65-aem2csp2!$A$16)/10))","v":0},0,{"$error":"#DIV/0!"},{"$error":"#DIV/0!"},{"$error":"#DIV/0!"},{"$error":"#DIV/0!"}]
[null,null,null,null,"ECLIPSE500 ",2.2729121669875299E-2,0.36818399457899398,{"$f":"+(aem2csp2!B173+(aem2csp2!C173*10))*(10^((65-aem2csp2!$A$11)/10))","v":0},0,{"$error":"#DIV/0!"},{"$error":"#DIV/0!"},{"$error":"#DIV/0!"},{"$f":"+H173/L173","v":{"$error":"#DIV/0!"}},{"$f":"+(aem2csp2!B173+(aem2csp2!C173*10))*(10^((65-aem2csp2!$A$12)/10))","v":0},{"$f":"+F173*(N173^G173)","v":0},{"$f":"+(O173/$O$267)^(1/G173)","v":{"$error":"#DIV/0!"}},{"$f":"+P173/G173","v":{"$error":"#DIV/0!"}},{"$error":"#DIV/0!"},{"$error":"#DIV/0!"},{"$f":"+(aem2csp2!B173+(aem2csp2!C173*10))*(10^((65-aem2csp2!$A$13)/10))","v":0},0,{"$error":"#DIV/0!"},{"$error":"#DIV/0!"},{"$error":"#DIV/0!"},{"$error":"#DIV/0!"},{"$f":"+(aem2csp2!B173+(aem2csp2!C173*10))*(10^((65-aem2csp2!$A$14)/10))","v":0},0,{"$error":"#DIV/0!"},{"$error":"#DIV/0!"},{"$error":"#DIV/0!"},{"$error":"#DIV/0!"},{"$f":"+(aem2csp2!B173+(aem2csp2!C173*10))*(10^((65-aem2csp2!$A$15)/10))","v":0},0,{"$error":"#DIV/0!"},{"$error":"#DIV/0!"},{"$error":"#DIV/0!"},{"$error":"#DIV/0!"},{"$f":"+(aem2csp2!B173+(aem2csp2!C173*10))*(10^((65-aem2csp2!$A$16)/10))","v":0},0,{"$error":"#DIV/0!"},{"$error":"#DIV/0!"},{"$error":"#DIV/0!"},{"$error":"#DIV/0!"},143,{"$f":"+(aem2csp2!D173+(aem2csp2!E173*10))*(10^((65-aem2csp2!$A$11)/10))","v":0},0,{"$error":"#DIV/0!"},{"$error":"#DIV/0!"},{"$error":"#DIV/0!"},{"$error":"#DIV/0!"},{"$f":"+(aem2csp2!D173+(aem2csp2!E173*10))*(10^((65-aem2csp2!$A$12)/10))","v":0},0,{"$error":"#DIV/0!"},{"$error":"#DIV/0!"},{"$error":"#DIV/0!"},{"$error":"#DIV/0!"},{"$f":"+(aem2csp2!D173+(aem2csp2!E173*10))*(10^((65-aem2csp2!$A$13)/10))","v":0},0,{"$error":"#DIV/0!"},{"$error":"#DIV/0!"},{"$error":"#DIV/0!"},{"$error":"#DIV/0!"},{"$f":"+(aem2csp2!D173+(aem2csp2!E173*10))*(10^((65-aem2csp2!$A$14)/10))","v":0},0,{"$error":"#DIV/0!"},{"$error":"#DIV/0!"},{"$error":"#DIV/0!"},{"$error":"#DIV/0!"},{"$f":"+(aem2csp2!D173+(aem2csp2!E173*10))*(10^((65-aem2csp2!$A$15)/10))","v":0},0,{"$error":"#DIV/0!"},{"$error":"#DIV/0!"},{"$error":"#DIV/0!"},{"$error":"#DIV/0!"},{"$f":"+(aem2csp2!D173+(aem2csp2!E173*10))*(10^((65-aem2csp2!$A$16)/10))","v":0},0,{"$error":"#DIV/0!"},{"$error":"#DIV/0!"},{"$error":"#DIV/0!"},{"$error":"#DIV/0!"}]
[null,null,null,null,"EMB120 ",2.3116416235421801E-2,0.51641431589074205,{"$f":"+(aem2csp2!B174+(aem2csp2!C174*10))*(10^((65-aem2csp2!$A$11)/10))","v":0},0,{"$error":"#DIV/0!"},{"$error":"#DIV/0!"},{"$error":"#DIV/0!"},{"$error":"#DIV/0!"},{"$f":"+(aem2csp2!B174+(aem2csp2!C174*10))*(10^((65-aem2csp2!$A$12)/10))","v":0},0,{"$error":"#DIV/0!"},{"$error":"#DIV/0!"},{"$error":"#DIV/0!"},{"$error":"#DIV/0!"},{"$f":"+(aem2csp2!B174+(aem2csp2!C174*10))*(10^((65-aem2csp2!$A$13)/10))","v":0},0,{"$error":"#DIV/0!"},{"$error":"#DIV/0!"},{"$error":"#DIV/0!"},{"$error":"#DIV/0!"},{"$f":"+(aem2csp2!B174+(aem2csp2!C174*10))*(10^((65-aem2csp2!$A$14)/10))","v":0},0,{"$error":"#DIV/0!"},{"$error":"#DIV/0!"},{"$error":"#DIV/0!"},{"$error":"#DIV/0!"},{"$f":"+(aem2csp2!B174+(aem2csp2!C174*10))*(10^((65-aem2csp2!$A$15)/10))","v":0},0,{"$error":"#DIV/0!"},{"$error":"#DIV/0!"},{"$error":"#DIV/0!"},{"$error":"#DIV/0!"},{"$f":"+(aem2csp2!B174+(aem2csp2!C174*10))*(10^((65-aem2csp2!$A$16)/10))","v":0},0,{"$error":"#DIV/0!"},{"$error":"#DIV/0!"},{"$error":"#DIV/0!"},{"$error":"#DIV/0!"},144,{"$f":"+(aem2csp2!D174+(aem2csp2!E174*10))*(10^((65-aem2csp2!$A$11)/10))","v":0},0,{"$error":"#DIV/0!"},{"$error":"#DIV/0!"},{"$error":"#DIV/0!"},{"$error":"#DIV/0!"},{"$f":"+(aem2csp2!D174+(aem2csp2!E174*10))*(10^((65-aem2csp2!$A$12)/10))","v":0},0,{"$error":"#DIV/0!"},{"$error":"#DIV/0!"},{"$error":"#DIV/0!"},{"$error":"#DIV/0!"},{"$f":"+(aem2csp2!D174+(aem2csp2!E174*10))*(10^((65-aem2csp2!$A$13)/10))","v":0},0,{"$error":"#DIV/0!"},{"$error":"#DIV/0!"},{"$error":"#DIV/0!"},{"$error":"#DIV/0!"},{"$f":"+(aem2csp2!D174+(aem2csp2!E174*10))*(10^((65-aem2csp2!$A$14)/10))","v":0},0,{"$error":"#DIV/0!"},{"$error":"#DIV/0!"},{"$error":"#DIV/0!"},{"$error":"#DIV/0!"},{"$f":"+(aem2csp2!D174+(aem2csp2!E174*10))*(10^((65-aem2csp2!$A$15)/10))","v":0},0,{"$error":"#DIV/0!"},{"$error":"#DIV/0!"},{"$error":"#DIV/0!"},{"$error":"#DIV/0!"},{"$f":"+(aem2csp2!D174+(aem2csp2!E174*10))*(10^((65-aem2csp2!$A$16)/10))","v":0},0,{"$error":"#DIV/0!"},{"$error":"#DIV/0!"},{"$error":"#DIV/0!"},{"$error":"#DIV/0!"}]
[null,null,null,null,"EMB145 ",2.2960750471345801E-2,0.52139630219816901,{"$f":"+(aem2csp2!B175+(aem2csp2!C175*10))*(10^((65-aem2csp2!$A$11)/10))","v":0},0,{"$error":"#DIV/0!"},{"$error":"#DIV/0!"},{"$error":"#DIV/0!"},{"$error":"#DIV/0!"},{"$f":"+(aem2csp2!B175+(aem2csp2!C175*10))*(10^((65-aem2csp2!$A$12)/10))","v":0},0,{"$error":"#DIV/0!"},{"$error":"#DIV/0!"},{"$f":"+($R$269/F175)^(1/G175)","v":{"$error":"#DIV/0!"}},{"$error":"#DIV/0!"},{"$f":"+(aem2csp2!B175+(aem2csp2!C175*10))*(10^((65-aem2csp2!$A$13)/10))","v":0},0,{"$error":"#DIV/0!"},{"$error":"#DIV/0!"},{"$error":"#DIV/0!"},{"$error":"#DIV/0!"},{"$f":"+(aem2csp2!B175+(aem2csp2!C175*10))*(10^((65-aem2csp2!$A$14)/10))","v":0},0,{"$error":"#DIV/0!"},{"$error":"#DIV/0!"},{"$error":"#DIV/0!"},{"$error":"#DIV/0!"},{"$f":"+(aem2csp2!B175+(aem2csp2!C175*10))*(10^((65-aem2csp2!$A$15)/10))","v":0},0,{"$error":"#DIV/0!"},{"$error":"#DIV/0!"},{"$error":"#DIV/0!"},{"$error":"#DIV/0!"},{"$f":"+(aem2csp2!B175+(aem2csp2!C175*10))*(10^((65-aem2csp2!$A$16)/10))","v":0},0,{"$error":"#DIV/0!"},{"$error":"#DIV/0!"},{"$error":"#DIV/0!"},{"$error":"#DIV/0!"},145,{"$f":"+(aem2csp2!D175+(aem2csp2!E175*10))*(10^((65-aem2csp2!$A$11)/10))","v":0},0,{"$error":"#DIV/0!"},{"$error":"#DIV/0!"},{"$error":"#DIV/0!"},{"$error":"#DIV/0!"},{"$f":"+(aem2csp2!D175+(aem2csp2!E175*10))*(10^((65-aem2csp2!$A$12)/10))","v":0},0,{"$error":"#DIV/0!"},{"$error":"#DIV/0!"},{"$error":"#DIV/0!"},{"$error":"#DIV/0!"},{"$f":"+(aem2csp2!D175+(aem2csp2!E175*10))*(10^((65-aem2csp2!$A$13)/10))","v":0},0,{"$error":"#DIV/0!"},{"$error":"#DIV/0!"},{"$error":"#DIV/0!"},{"$error":"#DIV/0!"},{"$f":"+(aem2csp2!D175+(aem2csp2!E175*10))*(10^((65-aem2csp2!$A$14)/10))","v":0},0,{"$error":"#DIV/0!"},{"$error":"#DIV/0!"},{"$error":"#DIV/0!"},{"$error":"#DIV/0!"},{"$f":"+(aem2csp2!D175+(aem2csp2!E175*10))*(10^((65-aem2csp2!$A$15)/10))","v":0},0,{"$error":"#DIV/0!"},{"$error":"#DIV/0!"},{"$error":"#DIV/0!"},{"$error":"#DIV/0!"},{"$f":"+(aem2csp2!D175+(aem2csp2!E175*10))*(10^((65-aem2csp2!$A$16)/10))","v":0},0,{"$error":"#DIV/0!"},{"$error":"#DIV/0!"},{"$error":"#DIV/0!"},{"$error":"#DIV/0!"}]
[null,null,null,null,"EMB14L ",1.4964112291973201E-2,0.60764677394883104,{"$f":"+(aem2csp2!B176+(aem2csp2!C176*10))*(10^((65-aem2csp2!$A$11)/10))","v":0},0,{"$error":"#DIV/0!"},{"$error":"#DIV/0!"},{"$error":"#DIV/0!"},{"$error":"#DIV/0!"},{"$f":"+(aem2csp2!B176+(aem2csp2!C176*10))*(10^((65-aem2csp2!$A$12)/10))","v":0},0,{"$error":"#DIV/0!"},{"$error":"#DIV/0!"},{"$error":"#DIV/0!"},{"$error":"#DIV/0!"},{"$f":"+(aem2csp2!B176+(aem2csp2!C176*10))*(10^((65-aem2csp2!$A$13)/10))","v":0},0,{"$error":"#DIV/0!"},{"$error":"#DIV/0!"},{"$error":"#DIV/0!"},{"$error":"#DIV/0!"},{"$f":"+(aem2csp2!B176+(aem2csp2!C176*10))*(10^((65-aem2csp2!$A$14)/10))","v":0},0,{"$error":"#DIV/0!"},{"$error":"#DIV/0!"},{"$error":"#DIV/0!"},{"$error":"#DIV/0!"},{"$f":"+(aem2csp2!B176+(aem2csp2!C176*10))*(10^((65-aem2csp2!$A$15)/10))","v":0},0,{"$error":"#DIV/0!"},{"$error":"#DIV/0!"},{"$error":"#DIV/0!"},{"$error":"#DIV/0!"},{"$f":"+(aem2csp2!B176+(aem2csp2!C176*10))*(10^((65-aem2csp2!$A$16)/10))","v":0},0,{"$error":"#DIV/0!"},{"$error":"#DIV/0!"},{"$error":"#DIV/0!"},{"$error":"#DIV/0!"},146,{"$f":"+(aem2csp2!D176+(aem2csp2!E176*10))*(10^((65-aem2csp2!$A$11)/10))","v":0},0,{"$error":"#DIV/0!"},{"$error":"#DIV/0!"},{"$error":"#DIV/0!"},{"$error":"#DIV/0!"},{"$f":"+(aem2csp2!D176+(aem2csp2!E176*10))*(10^((65-aem2csp2!$A$12)/10))","v":0},0,{"$error":"#DIV/0!"},{"$error":"#DIV/0!"},{"$error":"#DIV/0!"},{"$error":"#DIV/0!"},{"$f":"+(aem2csp2!D176+(aem2csp2!E176*10))*(10^((65-aem2csp2!$A$13)/10))","v":0},0,{"$error":"#DIV/0!"},{"$error":"#DIV/0!"},{"$error":"#DIV/0!"},{"$error":"#DIV/0!"},{"$f":"+(aem2csp2!D176+(aem2csp2!E176*10))*(10^((65-aem2csp2!$A$14)/10))","v":0},0,{"$error":"#DIV/0!"},{"$error":"#DIV/0!"},{"$error":"#DIV/0!"},{"$error":"#DIV/0!"},{"$f":"+(aem2csp2!D176+(aem2csp2!E176*10))*(10^((65-aem2csp2!$A$15)/10))","v":0},0,{"$error":"#DIV/0!"},{"$error":"#DIV/0!"},{"$error":"#DIV/0!"},{"$error":"#DIV/0!"},{"$f":"+(aem2csp2!D176+(aem2csp2!E176*10))*(10^((65-aem2csp2!$A$16)/10))","v":0},0,{"$error":"#DIV/0!"},{"$error":"#DIV/0!"},{"$error":"#DIV/0!"},{"$error":"#DIV/0!"}]
[null,null,null,null,"EMB170 ",8.5194535903674404E-3,0.83085825162187199,{"$f":"+(aem2csp2!B177+(aem2csp2!C177*10))*(10^((65-aem2csp2!$A$11)/10))","v":0},0,{"$error":"#DIV/0!"},{"$error":"#DIV/0!"},{"$error":"#DIV/0!"},{"$error":"#DIV/0!"},{"$f":"+(aem2csp2!B177+(aem2csp2!C177*10))*(10^((65-aem2csp2!$A$12)/10))","v":0},0,{"$error":"#DIV/0!"},{"$error":"#DIV/0!"},{"$error":"#DIV/0!"},{"$error":"#DIV/0!"},{"$f":"+(aem2csp2!B177+(aem2csp2!C177*10))*(10^((65-aem2csp2!$A$13)/10))","v":0},0,{"$error":"#DIV/0!"},{"$error":"#DIV/0!"},{"$error":"#DIV/0!"},{"$error":"#DIV/0!"},{"$f":"+(aem2csp2!B177+(aem2csp2!C177*10))*(10^((65-aem2csp2!$A$14)/10))","v":0},0,{"$error":"#DIV/0!"},{"$error":"#DIV/0!"},{"$error":"#DIV/0!"},{"$error":"#DIV/0!"},{"$f":"+(aem2csp2!B177+(aem2csp2!C177*10))*(10^((65-aem2csp2!$A$15)/10))","v":0},0,{"$error":"#DIV/0!"},{"$error":"#DIV/0!"},{"$error":"#DIV/0!"},{"$error":"#DIV/0!"},{"$f":"+(aem2csp2!B177+(aem2csp2!C177*10))*(10^((65-aem2csp2!$A$16)/10))","v":0},0,{"$error":"#DIV/0!"},{"$error":"#DIV/0!"},{"$error":"#DIV/0!"},{"$error":"#DIV/0!"},147,{"$f":"+(aem2csp2!D177+(aem2csp2!E177*10))*(10^((65-aem2csp2!$A$11)/10))","v":0},0,{"$error":"#DIV/0!"},{"$error":"#DIV/0!"},{"$error":"#DIV/0!"},{"$error":"#DIV/0!"},{"$f":"+(aem2csp2!D177+(aem2csp2!E177*10))*(10^((65-aem2csp2!$A$12)/10))","v":0},0,{"$error":"#DIV/0!"},{"$error":"#DIV/0!"},{"$error":"#DIV/0!"},{"$error":"#DIV/0!"},{"$f":"+(aem2csp2!D177+(aem2csp2!E177*10))*(10^((65-aem2csp2!$A$13)/10))","v":0},0,{"$error":"#DIV/0!"},{"$error":"#DIV/0!"},{"$error":"#DIV/0!"},{"$error":"#DIV/0!"},{"$f":"+(aem2csp2!D177+(aem2csp2!E177*10))*(10^((65-aem2csp2!$A$14)/10))","v":0},0,{"$error":"#DIV/0!"},{"$error":"#DIV/0!"},{"$error":"#DIV/0!"},{"$error":"#DIV/0!"},{"$f":"+(aem2csp2!D177+(aem2csp2!E177*10))*(10^((65-aem2csp2!$A$15)/10))","v":0},0,{"$error":"#DIV/0!"},{"$error":"#DIV/0!"},{"$error":"#DIV/0!"},{"$error":"#DIV/0!"},{"$f":"+(aem2csp2!D177+(aem2csp2!E177*10))*(10^((65-aem2csp2!$A$16)/10))","v":0},0,{"$error":"#DIV/0!"},{"$error":"#DIV/0!"},{"$error":"#DIV/0!"},{"$error":"#DIV/0!"}]
[null,null,null,null,"EMB175 ",8.4279488582767095E-3,0.83867067665603201,{"$f":"+(aem2csp2!B178+(aem2csp2!C178*10))*(10^((65-aem2csp2!$A$11)/10))","v":0},0,{"$error":"#DIV/0!"},{"$error":"#DIV/0!"},{"$error":"#DIV/0!"},{"$error":"#DIV/0!"},{"$f":"+(aem2csp2!B178+(aem2csp2!C178*10))*(10^((65-aem2csp2!$A$12)/10))","v":0},0,{"$error":"#DIV/0!"},{"$error":"#DIV/0!"},{"$error":"#DIV/0!"},{"$error":"#DIV/0!"},{"$f":"+(aem2csp2!B178+(aem2csp2!C178*10))*(10^((65-aem2csp2!$A$13)/10))","v":0},0,{"$error":"#DIV/0!"},{"$error":"#DIV/0!"},{"$error":"#DIV/0!"},{"$error":"#DIV/0!"},{"$f":"+(aem2csp2!B178+(aem2csp2!C178*10))*(10^((65-aem2csp2!$A$14)/10))","v":0},0,{"$error":"#DIV/0!"},{"$error":"#DIV/0!"},{"$error":"#DIV/0!"},{"$error":"#DIV/0!"},{"$f":"+(aem2csp2!B178+(aem2csp2!C178*10))*(10^((65-aem2csp2!$A$15)/10))","v":0},0,{"$error":"#DIV/0!"},{"$error":"#DIV/0!"},{"$error":"#DIV/0!"},{"$error":"#DIV/0!"},{"$f":"+(aem2csp2!B178+(aem2csp2!C178*10))*(10^((65-aem2csp2!$A$16)/10))","v":0},0,{"$error":"#DIV/0!"},{"$error":"#DIV/0!"},{"$error":"#DIV/0!"},{"$error":"#DIV/0!"},148,{"$f":"+(aem2csp2!D178+(aem2csp2!E178*10))*(10^((65-aem2csp2!$A$11)/10))","v":0},0,{"$error":"#DIV/0!"},{"$error":"#DIV/0!"},{"$error":"#DIV/0!"},{"$error":"#DIV/0!"},{"$f":"+(aem2csp2!D178+(aem2csp2!E178*10))*(10^((65-aem2csp2!$A$12)/10))","v":0},0,{"$error":"#DIV/0!"},{"$error":"#DIV/0!"},{"$error":"#DIV/0!"},{"$error":"#DIV/0!"},{"$f":"+(aem2csp2!D178+(aem2csp2!E178*10))*(10^((65-aem2csp2!$A$13)/10))","v":0},0,{"$error":"#DIV/0!"},{"$error":"#DIV/0!"},{"$error":"#DIV/0!"},{"$error":"#DIV/0!"},{"$f":"+(aem2csp2!D178+(aem2csp2!E178*10))*(10^((65-aem2csp2!$A$14)/10))","v":0},0,{"$error":"#DIV/0!"},{"$error":"#DIV/0!"},{"$error":"#DIV/0!"},{"$error":"#DIV/0!"},{"$f":"+(aem2csp2!D178+(aem2csp2!E178*10))*(10^((65-aem2csp2!$A$15)/10))","v":0},0,{"$error":"#DIV/0!"},{"$error":"#DIV/0!"},{"$error":"#DIV/0!"},{"$error":"#DIV/0!"},{"$f":"+(aem2csp2!D178+(aem2csp2!E178*10))*(10^((65-aem2csp2!$A$16)/10))","v":0},0,{"$error":"#DIV/0!"},{"$error":"#DIV/0!"},{"$error":"#DIV/0!"},{"$error":"#DIV/0!"}]
[null,null,null,null,"EMB190 ",8.0131493525893698E-3,0.85476423847161098,{"$f":"+(aem2csp2!B179+(aem2csp2!C179*10))*(10^((65-aem2csp2!$A$11)/10))","v":0},0,{"$error":"#DIV/0!"},{"$error":"#DIV/0!"},{"$error":"#DIV/0!"},{"$error":"#DIV/0!"},{"$f":"+(aem2csp2!B179+(aem2csp2!C179*10))*(10^((65-aem2csp2!$A$12)/10))","v":0},0,{"$error":"#DIV/0!"},{"$error":"#DIV/0!"},{"$error":"#DIV/0!"},{"$error":"#DIV/0!"},{"$f":"+(aem2csp2!B179+(aem2csp2!C179*10))*(10^((65-aem2csp2!$A$13)/10))","v":0},0,{"$error":"#DIV/0!"},{"$error":"#DIV/0!"},{"$error":"#DIV/0!"},{"$error":"#DIV/0!"},{"$f":"+(aem2csp2!B179+(aem2csp2!C179*10))*(10^((65-aem2csp2!$A$14)/10))","v":0},0,{"$error":"#DIV/0!"},{"$error":"#DIV/0!"},{"$error":"#DIV/0!"},{"$error":"#DIV/0!"},{"$f":"+(aem2csp2!B179+(aem2csp2!C179*10))*(10^((65-aem2csp2!$A$15)/10))","v":0},0,{"$error":"#DIV/0!"},{"$error":"#DIV/0!"},{"$error":"#DIV/0!"},{"$error":"#DIV/0!"},{"$f":"+(aem2csp2!B179+(aem2csp2!C179*10))*(10^((65-aem2csp2!$A$16)/10))","v":0},0,{"$error":"#DIV/0!"},{"$error":"#DIV/0!"},{"$error":"#DIV/0!"},{"$error":"#DIV/0!"},149,{"$f":"+(aem2csp2!D179+(aem2csp2!E179*10))*(10^((65-aem2csp2!$A$11)/10))","v":0},0,{"$error":"#DIV/0!"},{"$error":"#DIV/0!"},{"$error":"#DIV/0!"},{"$error":"#DIV/0!"},{"$f":"+(aem2csp2!D179+(aem2csp2!E179*10))*(10^((65-aem2csp2!$A$12)/10))","v":0},0,{"$error":"#DIV/0!"},{"$error":"#DIV/0!"},{"$error":"#DIV/0!"},{"$error":"#DIV/0!"},{"$f":"+(aem2csp2!D179+(aem2csp2!E179*10))*(10^((65-aem2csp2!$A$13)/10))","v":0},0,{"$error":"#DIV/0!"},{"$error":"#DIV/0!"},{"$error":"#DIV/0!"},{"$error":"#DIV/0!"},{"$f":"+(aem2csp2!D179+(aem2csp2!E179*10))*(10^((65-aem2csp2!$A$14)/10))","v":0},0,{"$error":"#DIV/0!"},{"$error":"#DIV/0!"},{"$error":"#DIV/0!"},{"$error":"#DIV/0!"},{"$f":"+(aem2csp2!D179+(aem2csp2!E179*10))*(10^((65-aem2csp2!$A$15)/10))","v":0},0,{"$error":"#DIV/0!"},{"$error":"#DIV/0!"},{"$error":"#DIV/0!"},{"$error":"#DIV/0!"},{"$f":"+(aem2csp2!D179+(aem2csp2!E179*10))*(10^((65-aem2csp2!$A$16)/10))","v":0},0,{"$error":"#DIV/0!"},{"$error":"#DIV/0!"},{"$error":"#DIV/0!"},{"$error":"#DIV/0!"}]
[null,null,null,null,"EMB195 ",8.1171099423421097E-3,0.85937087333093898,{"$f":"+(aem2csp2!B180+(aem2csp2!C180*10))*(10^((65-aem2csp2!$A$11)/10))","v":0},0,{"$error":"#DIV/0!"},{"$error":"#DIV/0!"},{"$error":"#DIV/0!"},{"$error":"#DIV/0!"},{"$f":"+(aem2csp2!B180+(aem2csp2!C180*10))*(10^((65-aem2csp2!$A$12)/10))","v":0},0,{"$error":"#DIV/0!"},{"$error":"#DIV/0!"},{"$error":"#DIV/0!"},{"$error":"#DIV/0!"},{"$f":"+(aem2csp2!B180+(aem2csp2!C180*10))*(10^((65-aem2csp2!$A$13)/10))","v":0},0,{"$error":"#DIV/0!"},{"$error":"#DIV/0!"},{"$error":"#DIV/0!"},{"$error":"#DIV/0!"},{"$f":"+(aem2csp2!B180+(aem2csp2!C180*10))*(10^((65-aem2csp2!$A$14)/10))","v":0},0,{"$error":"#DIV/0!"},{"$error":"#DIV/0!"},{"$error":"#DIV/0!"},{"$error":"#DIV/0!"},{"$f":"+(aem2csp2!B180+(aem2csp2!C180*10))*(10^((65-aem2csp2!$A$15)/10))","v":0},0,{"$error":"#DIV/0!"},{"$error":"#DIV/0!"},{"$error":"#DIV/0!"},{"$error":"#DIV/0!"},{"$f":"+(aem2csp2!B180+(aem2csp2!C180*10))*(10^((65-aem2csp2!$A$16)/10))","v":0},0,{"$error":"#DIV/0!"},{"$error":"#DIV/0!"},{"$error":"#DIV/0!"},{"$error":"#DIV/0!"},150,{"$f":"+(aem2csp2!D180+(aem2csp2!E180*10))*(10^((65-aem2csp2!$A$11)/10))","v":0},0,{"$error":"#DIV/0!"},{"$error":"#DIV/0!"},{"$error":"#DIV/0!"},{"$error":"#DIV/0!"},{"$f":"+(aem2csp2!D180+(aem2csp2!E180*10))*(10^((65-aem2csp2!$A$12)/10))","v":0},0,{"$error":"#DIV/0!"},{"$error":"#DIV/0!"},{"$error":"#DIV/0!"},{"$error":"#DIV/0!"},{"$f":"+(aem2csp2!D180+(aem2csp2!E180*10))*(10^((65-aem2csp2!$A$13)/10))","v":0},0,{"$error":"#DIV/0!"},{"$error":"#DIV/0!"},{"$error":"#DIV/0!"},{"$error":"#DIV/0!"},{"$f":"+(aem2csp2!D180+(aem2csp2!E180*10))*(10^((65-aem2csp2!$A$14)/10))","v":0},0,{"$error":"#DIV/0!"},{"$error":"#DIV/0!"},{"$error":"#DIV/0!"},{"$error":"#DIV/0!"},{"$f":"+(aem2csp2!D180+(aem2csp2!E180*10))*(10^((65-aem2csp2!$A$15)/10))","v":0},0,{"$error":"#DIV/0!"},{"$error":"#DIV/0!"},{"$error":"#DIV/0!"},{"$error":"#DIV/0!"},{"$f":"+(aem2csp2!D180+(aem2csp2!E180*10))*(10^((65-aem2csp2!$A$16)/10))","v":0},0,{"$error":"#DIV/0!"},{"$error":"#DIV/0!"},{"$error":"#DIV/0!"},{"$error":"#DIV/0!"}]
[null,null,null,null,"F10062 ",2.3753746848249501E-2,0.67778010116384502,{"$f":"+(aem2csp2!B181+(aem2csp2!C181*10))*(10^((65-aem2csp2!$A$11)/10))","v":0},0,{"$error":"#DIV/0!"},{"$error":"#DIV/0!"},{"$error":"#DIV/0!"},{"$error":"#DIV/0!"},{"$f":"+(aem2csp2!B181+(aem2csp2!C181*10))*(10^((65-aem2csp2!$A$12)/10))","v":0},0,{"$error":"#DIV/0!"},{"$error":"#DIV/0!"},{"$error":"#DIV/0!"},{"$error":"#DIV/0!"},{"$f":"+(aem2csp2!B181+(aem2csp2!C181*10))*(10^((65-aem2csp2!$A$13)/10))","v":0},0,{"$error":"#DIV/0!"},{"$error":"#DIV/0!"},{"$error":"#DIV/0!"},{"$error":"#DIV/0!"},{"$f":"+(aem2csp2!B181+(aem2csp2!C181*10))*(10^((65-aem2csp2!$A$14)/10))","v":0},0,{"$error":"#DIV/0!"},{"$error":"#DIV/0!"},{"$error":"#DIV/0!"},{"$error":"#DIV/0!"},{"$f":"+(aem2csp2!B181+(aem2csp2!C181*10))*(10^((65-aem2csp2!$A$15)/10))","v":0},0,{"$error":"#DIV/0!"},{"$error":"#DIV/0!"},{"$error":"#DIV/0!"},{"$error":"#DIV/0!"},{"$f":"+(aem2csp2!B181+(aem2csp2!C181*10))*(10^((65-aem2csp2!$A$16)/10))","v":0},0,{"$error":"#DIV/0!"},{"$error":"#DIV/0!"},{"$error":"#DIV/0!"},{"$error":"#DIV/0!"},151,{"$f":"+(aem2csp2!D181+(aem2csp2!E181*10))*(10^((65-aem2csp2!$A$11)/10))","v":0},0,{"$error":"#DIV/0!"},{"$error":"#DIV/0!"},{"$error":"#DIV/0!"},{"$error":"#DIV/0!"},{"$f":"+(aem2csp2!D181+(aem2csp2!E181*10))*(10^((65-aem2csp2!$A$12)/10))","v":0},0,{"$error":"#DIV/0!"},{"$error":"#DIV/0!"},{"$error":"#DIV/0!"},{"$error":"#DIV/0!"},{"$f":"+(aem2csp2!D181+(aem2csp2!E181*10))*(10^((65-aem2csp2!$A$13)/10))","v":0},0,{"$error":"#DIV/0!"},{"$error":"#DIV/0!"},{"$error":"#DIV/0!"},{"$error":"#DIV/0!"},{"$f":"+(aem2csp2!D181+(aem2csp2!E181*10))*(10^((65-aem2csp2!$A$14)/10))","v":0},0,{"$error":"#DIV/0!"},{"$error":"#DIV/0!"},{"$error":"#DIV/0!"},{"$error":"#DIV/0!"},{"$f":"+(aem2csp2!D181+(aem2csp2!E181*10))*(10^((65-aem2csp2!$A$15)/10))","v":0},0,{"$error":"#DIV/0!"},{"$error":"#DIV/0!"},{"$error":"#DIV/0!"},{"$error":"#DIV/0!"},{"$f":"+(aem2csp2!D181+(aem2csp2!E181*10))*(10^((65-aem2csp2!$A$16)/10))","v":0},0,{"$error":"#DIV/0!"},{"$error":"#DIV/0!"},{"$error":"#DIV/0!"},{"$error":"#DIV/0!"}]
[null,null,null,{"$f":"aem2csp2!D180+aem2csp2!E180","v":0},"F10065 ",2.6820935267248901E-2,0.65614707854383203,{"$f":"+(aem2csp2!B182+(aem2csp2!C182*10))*(10^((65-aem2csp2!$A$11)/10))","v":0},0,{"$error":"#DIV/0!"},{"$error":"#DIV/0!"},{"$error":"#DIV/0!"},{"$error":"#DIV/0!"},{"$f":"+(aem2csp2!B182+(aem2csp2!C182*10))*(10^((65-aem2csp2!$A$12)/10))","v":0},0,{"$error":"#DIV/0!"},{"$error":"#DIV/0!"},{"$error":"#DIV/0!"},{"$error":"#DIV/0!"},{"$f":"+(aem2csp2!B182+(aem2csp2!C182*10))*(10^((65-aem2csp2!$A$13)/10))","v":0},0,{"$error":"#DIV/0!"},{"$error":"#DIV/0!"},{"$error":"#DIV/0!"},{"$error":"#DIV/0!"},{"$f":"+(aem2csp2!B182+(aem2csp2!C182*10))*(10^((65-aem2csp2!$A$14)/10))","v":0},0,{"$error":"#DIV/0!"},{"$error":"#DIV/0!"},{"$error":"#DIV/0!"},{"$error":"#DIV/0!"},{"$f":"+(aem2csp2!B182+(aem2csp2!C182*10))*(10^((65-aem2csp2!$A$15)/10))","v":0},0,{"$error":"#DIV/0!"},{"$error":"#DIV/0!"},{"$error":"#DIV/0!"},{"$error":"#DIV/0!"},{"$f":"+(aem2csp2!B182+(aem2csp2!C182*10))*(10^((65-aem2csp2!$A$16)/10))","v":0},0,{"$error":"#DIV/0!"},{"$error":"#DIV/0!"},{"$error":"#DIV/0!"},{"$error":"#DIV/0!"},152,{"$f":"+(aem2csp2!D182+(aem2csp2!E182*10))*(10^((65-aem2csp2!$A$11)/10))","v":0},0,{"$error":"#DIV/0!"},{"$error":"#DIV/0!"},{"$error":"#DIV/0!"},{"$error":"#DIV/0!"},{"$f":"+(aem2csp2!D182+(aem2csp2!E182*10))*(10^((65-aem2csp2!$A$12)/10))","v":0},0,{"$error":"#DIV/0!"},{"$error":"#DIV/0!"},{"$error":"#DIV/0!"},{"$error":"#DIV/0!"},{"$f":"+(aem2csp2!D182+(aem2csp2!E182*10))*(10^((65-aem2csp2!$A$13)/10))","v":0},0,{"$error":"#DIV/0!"},{"$error":"#DIV/0!"},{"$error":"#DIV/0!"},{"$error":"#DIV/0!"},{"$f":"+(aem2csp2!D182+(aem2csp2!E182*10))*(10^((65-aem2csp2!$A$14)/10))","v":0},0,{"$error":"#DIV/0!"},{"$error":"#DIV/0!"},{"$error":"#DIV/0!"},{"$error":"#DIV/0!"},{"$f":"+(aem2csp2!D182+(aem2csp2!E182*10))*(10^((65-aem2csp2!$A$15)/10))","v":0},0,{"$error":"#DIV/0!"},{"$error":"#DIV/0!"},{"$error":"#DIV/0!"},{"$error":"#DIV/0!"},{"$f":"+(aem2csp2!D182+(aem2csp2!E182*10))*(10^((65-aem2csp2!$A$16)/10))","v":0},0,{"$error":"#DIV/0!"},{"$error":"#DIV/0!"},{"$error":"#DIV/0!"},{"$error":"#DIV/0!"}]
[null,null,null,null,"F100D ",0.62474104640540695,0.61061615302215499,{"$f":"+(aem2csp2!B183+(aem2csp2!C183*10))*(10^((65-aem2csp2!$A$11)/10))","v":0},0,{"$error":"#DIV/0!"},{"$error":"#DIV/0!"},{"$error":"#DIV/0!"},{"$error":"#DIV/0!"},{"$f":"+(aem2csp2!B183+(aem2csp2!C183*10))*(10^((65-aem2csp2!$A$12)/10))","v":0},0,{"$error":"#DIV/0!"},{"$error":"#DIV/0!"},{"$error":"#DIV/0!"},{"$error":"#DIV/0!"},{"$f":"+(aem2csp2!B183+(aem2csp2!C183*10))*(10^((65-aem2csp2!$A$13)/10))","v":0},0,{"$error":"#DIV/0!"},{"$error":"#DIV/0!"},{"$error":"#DIV/0!"},{"$error":"#DIV/0!"},{"$f":"+(aem2csp2!B183+(aem2csp2!C183*10))*(10^((65-aem2csp2!$A$14)/10))","v":0},0,{"$error":"#DIV/0!"},{"$error":"#DIV/0!"},{"$error":"#DIV/0!"},{"$error":"#DIV/0!"},{"$f":"+(aem2csp2!B183+(aem2csp2!C183*10))*(10^((65-aem2csp2!$A$15)/10))","v":0},0,{"$error":"#DIV/0!"},{"$error":"#DIV/0!"},{"$error":"#DIV/0!"},{"$error":"#DIV/0!"},{"$f":"+(aem2csp2!B183+(aem2csp2!C183*10))*(10^((65-aem2csp2!$A$16)/10))","v":0},0,{"$error":"#DIV/0!"},{"$error":"#DIV/0!"},{"$error":"#DIV/0!"},{"$error":"#DIV/0!"},153,{"$f":"+(aem2csp2!D183+(aem2csp2!E183*10))*(10^((65-aem2csp2!$A$11)/10))","v":0},0,{"$error":"#DIV/0!"},{"$error":"#DIV/0!"},{"$error":"#DIV/0!"},{"$error":"#DIV/0!"},{"$f":"+(aem2csp2!D183+(aem2csp2!E183*10))*(10^((65-aem2csp2!$A$12)/10))","v":0},0,{"$error":"#DIV/0!"},{"$error":"#DIV/0!"},{"$error":"#DIV/0!"},{"$error":"#DIV/0!"},{"$f":"+(aem2csp2!D183+(aem2csp2!E183*10))*(10^((65-aem2csp2!$A$13)/10))","v":0},0,{"$error":"#DIV/0!"},{"$error":"#DIV/0!"},{"$error":"#DIV/0!"},{"$error":"#DIV/0!"},{"$f":"+(aem2csp2!D183+(aem2csp2!E183*10))*(10^((65-aem2csp2!$A$14)/10))","v":0},0,{"$error":"#DIV/0!"},{"$error":"#DIV/0!"},{"$error":"#DIV/0!"},{"$error":"#DIV/0!"},{"$f":"+(aem2csp2!D183+(aem2csp2!E183*10))*(10^((65-aem2csp2!$A$15)/10))","v":0},0,{"$error":"#DIV/0!"},{"$error":"#DIV/0!"},{"$error":"#DIV/0!"},{"$error":"#DIV/0!"},{"$f":"+(aem2csp2!D183+(aem2csp2!E183*10))*(10^((65-aem2csp2!$A$16)/10))","v":0},0,{"$error":"#DIV/0!"},{"$error":"#DIV/0!"},{"$error":"#DIV/0!"},{"$error":"#DIV/0!"}]
[null,null,null,null,"F101B ",0.39867870449891402,0.72151429179065396,{"$f":"+(aem2csp2!B184+(aem2csp2!C184*10))*(10^((65-aem2csp2!$A$11)/10))","v":0},0,{"$error":"#DIV/0!"},{"$error":"#DIV/0!"},{"$error":"#DIV/0!"},{"$error":"#DIV/0!"},{"$f":"+(aem2csp2!B184+(aem2csp2!C184*10))*(10^((65-aem2csp2!$A$12)/10))","v":0},0,{"$error":"#DIV/0!"},{"$error":"#DIV/0!"},{"$error":"#DIV/0!"},{"$error":"#DIV/0!"},{"$f":"+(aem2csp2!B184+(aem2csp2!C184*10))*(10^((65-aem2csp2!$A$13)/10))","v":0},0,{"$error":"#DIV/0!"},{"$error":"#DIV/0!"},{"$error":"#DIV/0!"},{"$error":"#DIV/0!"},{"$f":"+(aem2csp2!B184+(aem2csp2!C184*10))*(10^((65-aem2csp2!$A$14)/10))","v":0},0,{"$error":"#DIV/0!"},{"$error":"#DIV/0!"},{"$error":"#DIV/0!"},{"$error":"#DIV/0!"},{"$f":"+(aem2csp2!B184+(aem2csp2!C184*10))*(10^((65-aem2csp2!$A$15)/10))","v":0},0,{"$error":"#DIV/0!"},{"$error":"#DIV/0!"},{"$error":"#DIV/0!"},{"$error":"#DIV/0!"},{"$f":"+(aem2csp2!B184+(aem2csp2!C184*10))*(10^((65-aem2csp2!$A$16)/10))","v":0},0,{"$error":"#DIV/0!"},{"$error":"#DIV/0!"},{"$error":"#DIV/0!"},{"$error":"#DIV/0!"},154,{"$f":"+(aem2csp2!D184+(aem2csp2!E184*10))*(10^((65-aem2csp2!$A$11)/10))","v":0},0,{"$error":"#DIV/0!"},{"$error":"#DIV/0!"},{"$error":"#DIV/0!"},{"$error":"#DIV/0!"},{"$f":"+(aem2csp2!D184+(aem2csp2!E184*10))*(10^((65-aem2csp2!$A$12)/10))","v":0},0,{"$error":"#DIV/0!"},{"$error":"#DIV/0!"},{"$error":"#DIV/0!"},{"$error":"#DIV/0!"},{"$f":"+(aem2csp2!D184+(aem2csp2!E184*10))*(10^((65-aem2csp2!$A$13)/10))","v":0},0,{"$error":"#DIV/0!"},{"$error":"#DIV/0!"},{"$error":"#DIV/0!"},{"$error":"#DIV/0!"},{"$f":"+(aem2csp2!D184+(aem2csp2!E184*10))*(10^((65-aem2csp2!$A$14)/10))","v":0},0,{"$error":"#DIV/0!"},{"$error":"#DIV/0!"},{"$error":"#DIV/0!"},{"$error":"#DIV/0!"},{"$f":"+(aem2csp2!D184+(aem2csp2!E184*10))*(10^((65-aem2csp2!$A$15)/10))","v":0},0,{"$error":"#DIV/0!"},{"$error":"#DIV/0!"},{"$error":"#DIV/0!"},{"$error":"#DIV/0!"},{"$f":"+(aem2csp2!D184+(aem2csp2!E184*10))*(10^((65-aem2csp2!$A$16)/10))","v":0},0,{"$error":"#DIV/0!"},{"$error":"#DIV/0!"},{"$error":"#DIV/0!"},{"$error":"#DIV/0!"}]
[null,null,null,null,"F102 ",5.33715876548021E-2,0.86056854750667799,{"$f":"+(aem2csp2!B185+(aem2csp2!C185*10))*(10^((65-aem2csp2!$A$11)/10))","v":0},0,{"$error":"#DIV/0!"},{"$error":"#DIV/0!"},{"$error":"#DIV/0!"},{"$error":"#DIV/0!"},{"$f":"+(aem2csp2!B185+(aem2csp2!C185*10))*(10^((65-aem2csp2!$A$12)/10))","v":0},0,{"$error":"#DIV/0!"},{"$error":"#DIV/0!"},{"$error":"#DIV/0!"},{"$error":"#DIV/0!"},{"$f":"+(aem2csp2!B185+(aem2csp2!C185*10))*(10^((65-aem2csp2!$A$13)/10))","v":0},0,{"$error":"#DIV/0!"},{"$error":"#DIV/0!"},{"$error":"#DIV/0!"},{"$error":"#DIV/0!"},{"$f":"+(aem2csp2!B185+(aem2csp2!C185*10))*(10^((65-aem2csp2!$A$14)/10))","v":0},0,{"$error":"#DIV/0!"},{"$error":"#DIV/0!"},{"$error":"#DIV/0!"},{"$error":"#DIV/0!"},{"$f":"+(aem2csp2!B185+(aem2csp2!C185*10))*(10^((65-aem2csp2!$A$15)/10))","v":0},0,{"$error":"#DIV/0!"},{"$error":"#DIV/0!"},{"$error":"#DIV/0!"},{"$error":"#DIV/0!"},{"$f":"+(aem2csp2!B185+(aem2csp2!C185*10))*(10^((65-aem2csp2!$A$16)/10))","v":0},0,{"$error":"#DIV/0!"},{"$error":"#DIV/0!"},{"$error":"#DIV/0!"},{"$error":"#DIV/0!"},155,{"$f":"+(aem2csp2!D185+(aem2csp2!E185*10))*(10^((65-aem2csp2!$A$11)/10))","v":0},0,{"$error":"#DIV/0!"},{"$error":"#DIV/0!"},{"$error":"#DIV/0!"},{"$error":"#DIV/0!"},{"$f":"+(aem2csp2!D185+(aem2csp2!E185*10))*(10^((65-aem2csp2!$A$12)/10))","v":0},0,{"$error":"#DIV/0!"},{"$error":"#DIV/0!"},{"$error":"#DIV/0!"},{"$error":"#DIV/0!"},{"$f":"+(aem2csp2!D185+(aem2csp2!E185*10))*(10^((65-aem2csp2!$A$13)/10))","v":0},0,{"$error":"#DIV/0!"},{"$error":"#DIV/0!"},{"$error":"#DIV/0!"},{"$error":"#DIV/0!"},{"$f":"+(aem2csp2!D185+(aem2csp2!E185*10))*(10^((65-aem2csp2!$A$14)/10))","v":0},0,{"$error":"#DIV/0!"},{"$error":"#DIV/0!"},{"$error":"#DIV/0!"},{"$error":"#DIV/0!"},{"$f":"+(aem2csp2!D185+(aem2csp2!E185*10))*(10^((65-aem2csp2!$A$15)/10))","v":0},0,{"$error":"#DIV/0!"},{"$error":"#DIV/0!"},{"$error":"#DIV/0!"},{"$error":"#DIV/0!"},{"$f":"+(aem2csp2!D185+(aem2csp2!E185*10))*(10^((65-aem2csp2!$A$16)/10))","v":0},0,{"$error":"#DIV/0!"},{"$error":"#DIV/0!"},{"$error":"#DIV/0!"},{"$error":"#DIV/0!"}]
[null,null,null,null,"F104G ",0.19619836445945699,0.92512476038277602,{"$f":"+(aem2csp2!B186+(aem2csp2!C186*10))*(10^((65-aem2csp2!$A$11)/10))","v":0},0,{"$error":"#DIV/0!"},{"$error":"#DIV/0!"},{"$error":"#DIV/0!"},{"$error":"#DIV/0!"},{"$f":"+(aem2csp2!B186+(aem2csp2!C186*10))*(10^((65-aem2csp2!$A$12)/10))","v":0},0,{"$error":"#DIV/0!"},{"$error":"#DIV/0!"},{"$error":"#DIV/0!"},{"$error":"#DIV/0!"},{"$f":"+(aem2csp2!B186+(aem2csp2!C186*10))*(10^((65-aem2csp2!$A$13)/10))","v":0},0,{"$error":"#DIV/0!"},{"$error":"#DIV/0!"},{"$error":"#DIV/0!"},{"$error":"#DIV/0!"},{"$f":"+(aem2csp2!B186+(aem2csp2!C186*10))*(10^((65-aem2csp2!$A$14)/10))","v":0},0,{"$error":"#DIV/0!"},{"$error":"#DIV/0!"},{"$error":"#DIV/0!"},{"$error":"#DIV/0!"},{"$f":"+(aem2csp2!B186+(aem2csp2!C186*10))*(10^((65-aem2csp2!$A$15)/10))","v":0},0,{"$error":"#DIV/0!"},{"$error":"#DIV/0!"},{"$error":"#DIV/0!"},{"$error":"#DIV/0!"},{"$f":"+(aem2csp2!B186+(aem2csp2!C186*10))*(10^((65-aem2csp2!$A$16)/10))","v":0},0,{"$error":"#DIV/0!"},{"$error":"#DIV/0!"},{"$error":"#DIV/0!"},{"$error":"#DIV/0!"},156,{"$f":"+(aem2csp2!D186+(aem2csp2!E186*10))*(10^((65-aem2csp2!$A$11)/10))","v":0},0,{"$error":"#DIV/0!"},{"$error":"#DIV/0!"},{"$error":"#DIV/0!"},{"$error":"#DIV/0!"},{"$f":"+(aem2csp2!D186+(aem2csp2!E186*10))*(10^((65-aem2csp2!$A$12)/10))","v":0},0,{"$error":"#DIV/0!"},{"$error":"#DIV/0!"},{"$error":"#DIV/0!"},{"$error":"#DIV/0!"},{"$f":"+(aem2csp2!D186+(aem2csp2!E186*10))*(10^((65-aem2csp2!$A$13)/10))","v":0},0,{"$error":"#DIV/0!"},{"$error":"#DIV/0!"},{"$error":"#DIV/0!"},{"$error":"#DIV/0!"},{"$f":"+(aem2csp2!D186+(aem2csp2!E186*10))*(10^((65-aem2csp2!$A$14)/10))","v":0},0,{"$error":"#DIV/0!"},{"$error":"#DIV/0!"},{"$error":"#DIV/0!"},{"$error":"#DIV/0!"},{"$f":"+(aem2csp2!D186+(aem2csp2!E186*10))*(10^((65-aem2csp2!$A$15)/10))","v":0},0,{"$error":"#DIV/0!"},{"$error":"#DIV/0!"},{"$error":"#DIV/0!"},{"$error":"#DIV/0!"},{"$f":"+(aem2csp2!D186+(aem2csp2!E186*10))*(10^((65-aem2csp2!$A$16)/10))","v":0},0,{"$error":"#DIV/0!"},{"$error":"#DIV/0!"},{"$error":"#DIV/0!"},{"$error":"#DIV/0!"}]
[null,null,null,null,"F105D ",0.63005208809415403,0.56558479430543895,{"$f":"+(aem2csp2!B187+(aem2csp2!C187*10))*(10^((65-aem2csp2!$A$11)/10))","v":0},0,{"$error":"#DIV/0!"},{"$error":"#DIV/0!"},{"$error":"#DIV/0!"},{"$error":"#DIV/0!"},{"$f":"+(aem2csp2!B187+(aem2csp2!C187*10))*(10^((65-aem2csp2!$A$12)/10))","v":0},0,{"$error":"#DIV/0!"},{"$error":"#DIV/0!"},{"$error":"#DIV/0!"},{"$error":"#DIV/0!"},{"$f":"+(aem2csp2!B187+(aem2csp2!C187*10))*(10^((65-aem2csp2!$A$13)/10))","v":0},0,{"$error":"#DIV/0!"},{"$error":"#DIV/0!"},{"$error":"#DIV/0!"},{"$error":"#DIV/0!"},{"$f":"+(aem2csp2!B187+(aem2csp2!C187*10))*(10^((65-aem2csp2!$A$14)/10))","v":0},0,{"$error":"#DIV/0!"},{"$error":"#DIV/0!"},{"$error":"#DIV/0!"},{"$error":"#DIV/0!"},{"$f":"+(aem2csp2!B187+(aem2csp2!C187*10))*(10^((65-aem2csp2!$A$15)/10))","v":0},0,{"$error":"#DIV/0!"},{"$error":"#DIV/0!"},{"$error":"#DIV/0!"},{"$error":"#DIV/0!"},{"$f":"+(aem2csp2!B187+(aem2csp2!C187*10))*(10^((65-aem2csp2!$A$16)/10))","v":0},0,{"$error":"#DIV/0!"},{"$error":"#DIV/0!"},{"$error":"#DIV/0!"},{"$error":"#DIV/0!"},157,{"$f":"+(aem2csp2!D187+(aem2csp2!E187*10))*(10^((65-aem2csp2!$A$11)/10))","v":0},0,{"$error":"#DIV/0!"},{"$error":"#DIV/0!"},{"$error":"#DIV/0!"},{"$error":"#DIV/0!"},{"$f":"+(aem2csp2!D187+(aem2csp2!E187*10))*(10^((65-aem2csp2!$A$12)/10))","v":0},0,{"$error":"#DIV/0!"},{"$error":"#DIV/0!"},{"$error":"#DIV/0!"},{"$error":"#DIV/0!"},{"$f":"+(aem2csp2!D187+(aem2csp2!E187*10))*(10^((65-aem2csp2!$A$13)/10))","v":0},0,{"$error":"#DIV/0!"},{"$error":"#DIV/0!"},{"$error":"#DIV/0!"},{"$error":"#DIV/0!"},{"$f":"+(aem2csp2!D187+(aem2csp2!E187*10))*(10^((65-aem2csp2!$A$14)/10))","v":0},0,{"$error":"#DIV/0!"},{"$error":"#DIV/0!"},{"$error":"#DIV/0!"},{"$error":"#DIV/0!"},{"$f":"+(aem2csp2!D187+(aem2csp2!E187*10))*(10^((65-aem2csp2!$A$15)/10))","v":0},0,{"$error":"#DIV/0!"},{"$error":"#DIV/0!"},{"$error":"#DIV/0!"},{"$error":"#DIV/0!"},{"$f":"+(aem2csp2!D187+(aem2csp2!E187*10))*(10^((65-aem2csp2!$A$16)/10))","v":0},0,{"$error":"#DIV/0!"},{"$error":"#DIV/0!"},{"$error":"#DIV/0!"},{"$error":"#DIV/0!"}]
[null,null,null,null,"F106 ",1.00919484272405,0.492342414453868,{"$f":"+(aem2csp2!B188+(aem2csp2!C188*10))*(10^((65-aem2csp2!$A$11)/10))","v":0},0,{"$error":"#DIV/0!"},{"$error":"#DIV/0!"},{"$error":"#DIV/0!"},{"$error":"#DIV/0!"},{"$f":"+(aem2csp2!B188+(aem2csp2!C188*10))*(10^((65-aem2csp2!$A$12)/10))","v":0},0,{"$error":"#DIV/0!"},{"$error":"#DIV/0!"},{"$error":"#DIV/0!"},{"$error":"#DIV/0!"},{"$f":"+(aem2csp2!B188+(aem2csp2!C188*10))*(10^((65-aem2csp2!$A$13)/10))","v":0},0,{"$error":"#DIV/0!"},{"$error":"#DIV/0!"},{"$error":"#DIV/0!"},{"$error":"#DIV/0!"},{"$f":"+(aem2csp2!B188+(aem2csp2!C188*10))*(10^((65-aem2csp2!$A$14)/10))","v":0},0,{"$error":"#DIV/0!"},{"$error":"#DIV/0!"},{"$error":"#DIV/0!"},{"$error":"#DIV/0!"},{"$f":"+(aem2csp2!B188+(aem2csp2!C188*10))*(10^((65-aem2csp2!$A$15)/10))","v":0},0,{"$error":"#DIV/0!"},{"$error":"#DIV/0!"},{"$error":"#DIV/0!"},{"$error":"#DIV/0!"},{"$f":"+(aem2csp2!B188+(aem2csp2!C188*10))*(10^((65-aem2csp2!$A$16)/10))","v":0},0,{"$error":"#DIV/0!"},{"$error":"#DIV/0!"},{"$error":"#DIV/0!"},{"$error":"#DIV/0!"},158,{"$f":"+(aem2csp2!D188+(aem2csp2!E188*10))*(10^((65-aem2csp2!$A$11)/10))","v":0},0,{"$error":"#DIV/0!"},{"$error":"#DIV/0!"},{"$error":"#DIV/0!"},{"$error":"#DIV/0!"},{"$f":"+(aem2csp2!D188+(aem2csp2!E188*10))*(10^((65-aem2csp2!$A$12)/10))","v":0},0,{"$error":"#DIV/0!"},{"$error":"#DIV/0!"},{"$error":"#DIV/0!"},{"$error":"#DIV/0!"},{"$f":"+(aem2csp2!D188+(aem2csp2!E188*10))*(10^((65-aem2csp2!$A$13)/10))","v":0},0,{"$error":"#DIV/0!"},{"$error":"#DIV/0!"},{"$error":"#DIV/0!"},{"$error":"#DIV/0!"},{"$f":"+(aem2csp2!D188+(aem2csp2!E188*10))*(10^((65-aem2csp2!$A$14)/10))","v":0},0,{"$error":"#DIV/0!"},{"$error":"#DIV/0!"},{"$error":"#DIV/0!"},{"$error":"#DIV/0!"},{"$f":"+(aem2csp2!D188+(aem2csp2!E188*10))*(10^((65-aem2csp2!$A$15)/10))","v":0},0,{"$error":"#DIV/0!"},{"$error":"#DIV/0!"},{"$error":"#DIV/0!"},{"$error":"#DIV/0!"},{"$f":"+(aem2csp2!D188+(aem2csp2!E188*10))*(10^((65-aem2csp2!$A$16)/10))","v":0},0,{"$error":"#DIV/0!"},{"$error":"#DIV/0!"},{"$error":"#DIV/0!"},{"$error":"#DIV/0!"}]
[null,null,null,null,"F111AE ",1.0440265430198199,0.56576416624907,{"$f":"+(aem2csp2!B189+(aem2csp2!C189*10))*(10^((65-aem2csp2!$A$11)/10))","v":0},0,{"$error":"#DIV/0!"},{"$error":"#DIV/0!"},{"$error":"#DIV/0!"},{"$error":"#DIV/0!"},{"$f":"+(aem2csp2!B189+(aem2csp2!C189*10))*(10^((65-aem2csp2!$A$12)/10))","v":0},0,{"$error":"#DIV/0!"},{"$error":"#DIV/0!"},{"$error":"#DIV/0!"},{"$error":"#DIV/0!"},{"$f":"+(aem2csp2!B189+(aem2csp2!C189*10))*(10^((65-aem2csp2!$A$13)/10))","v":0},0,{"$error":"#DIV/0!"},{"$error":"#DIV/0!"},{"$error":"#DIV/0!"},{"$error":"#DIV/0!"},{"$f":"+(aem2csp2!B189+(aem2csp2!C189*10))*(10^((65-aem2csp2!$A$14)/10))","v":0},0,{"$error":"#DIV/0!"},{"$error":"#DIV/0!"},{"$error":"#DIV/0!"},{"$error":"#DIV/0!"},{"$f":"+(aem2csp2!B189+(aem2csp2!C189*10))*(10^((65-aem2csp2!$A$15)/10))","v":0},0,{"$error":"#DIV/0!"},{"$error":"#DIV/0!"},{"$error":"#DIV/0!"},{"$error":"#DIV/0!"},{"$f":"+(aem2csp2!B189+(aem2csp2!C189*10))*(10^((65-aem2csp2!$A$16)/10))","v":0},0,{"$error":"#DIV/0!"},{"$error":"#DIV/0!"},{"$error":"#DIV/0!"},{"$error":"#DIV/0!"},159,{"$f":"+(aem2csp2!D189+(aem2csp2!E189*10))*(10^((65-aem2csp2!$A$11)/10))","v":0},0,{"$error":"#DIV/0!"},{"$error":"#DIV/0!"},{"$error":"#DIV/0!"},{"$error":"#DIV/0!"},{"$f":"+(aem2csp2!D189+(aem2csp2!E189*10))*(10^((65-aem2csp2!$A$12)/10))","v":0},0,{"$error":"#DIV/0!"},{"$error":"#DIV/0!"},{"$error":"#DIV/0!"},{"$error":"#DIV/0!"},{"$f":"+(aem2csp2!D189+(aem2csp2!E189*10))*(10^((65-aem2csp2!$A$13)/10))","v":0},0,{"$error":"#DIV/0!"},{"$error":"#DIV/0!"},{"$error":"#DIV/0!"},{"$error":"#DIV/0!"},{"$f":"+(aem2csp2!D189+(aem2csp2!E189*10))*(10^((65-aem2csp2!$A$14)/10))","v":0},0,{"$error":"#DIV/0!"},{"$error":"#DIV/0!"},{"$error":"#DIV/0!"},{"$error":"#DIV/0!"},{"$f":"+(aem2csp2!D189+(aem2csp2!E189*10))*(10^((65-aem2csp2!$A$15)/10))","v":0},0,{"$error":"#DIV/0!"},{"$error":"#DIV/0!"},{"$error":"#DIV/0!"},{"$error":"#DIV/0!"},{"$f":"+(aem2csp2!D189+(aem2csp2!E189*10))*(10^((65-aem2csp2!$A$16)/10))","v":0},0,{"$error":"#DIV/0!"},{"$error":"#DIV/0!"},{"$error":"#DIV/0!"},{"$error":"#DIV/0!"}]
[null,null,null,null,"F111D ",1.4861290038236299,0.49279523791093799,{"$f":"+(aem2csp2!B190+(aem2csp2!C190*10))*(10^((65-aem2csp2!$A$11)/10))","v":0},0,{"$error":"#DIV/0!"},{"$error":"#DIV/0!"},{"$error":"#DIV/0!"},{"$error":"#DIV/0!"},{"$f":"+(aem2csp2!B190+(aem2csp2!C190*10))*(10^((65-aem2csp2!$A$12)/10))","v":0},0,{"$error":"#DIV/0!"},{"$error":"#DIV/0!"},{"$error":"#DIV/0!"},{"$error":"#DIV/0!"},{"$f":"+(aem2csp2!B190+(aem2csp2!C190*10))*(10^((65-aem2csp2!$A$13)/10))","v":0},0,{"$error":"#DIV/0!"},{"$error":"#DIV/0!"},{"$error":"#DIV/0!"},{"$error":"#DIV/0!"},{"$f":"+(aem2csp2!B190+(aem2csp2!C190*10))*(10^((65-aem2csp2!$A$14)/10))","v":0},0,{"$error":"#DIV/0!"},{"$error":"#DIV/0!"},{"$error":"#DIV/0!"},{"$error":"#DIV/0!"},{"$f":"+(aem2csp2!B190+(aem2csp2!C190*10))*(10^((65-aem2csp2!$A$15)/10))","v":0},0,{"$error":"#DIV/0!"},{"$error":"#DIV/0!"},{"$error":"#DIV/0!"},{"$error":"#DIV/0!"},{"$f":"+(aem2csp2!B190+(aem2csp2!C190*10))*(10^((65-aem2csp2!$A$16)/10))","v":0},0,{"$error":"#DIV/0!"},{"$error":"#DIV/0!"},{"$error":"#DIV/0!"},{"$error":"#DIV/0!"},160,{"$f":"+(aem2csp2!D190+(aem2csp2!E190*10))*(10^((65-aem2csp2!$A$11)/10))","v":0},0,{"$error":"#DIV/0!"},{"$error":"#DIV/0!"},{"$error":"#DIV/0!"},{"$error":"#DIV/0!"},{"$f":"+(aem2csp2!D190+(aem2csp2!E190*10))*(10^((65-aem2csp2!$A$12)/10))","v":0},0,{"$error":"#DIV/0!"},{"$error":"#DIV/0!"},{"$error":"#DIV/0!"},{"$error":"#DIV/0!"},{"$f":"+(aem2csp2!D190+(aem2csp2!E190*10))*(10^((65-aem2csp2!$A$13)/10))","v":0},0,{"$error":"#DIV/0!"},{"$error":"#DIV/0!"},{"$error":"#DIV/0!"},{"$error":"#DIV/0!"},{"$f":"+(aem2csp2!D190+(aem2csp2!E190*10))*(10^((65-aem2csp2!$A$14)/10))","v":0},0,{"$error":"#DIV/0!"},{"$error":"#DIV/0!"},{"$error":"#DIV/0!"},{"$error":"#DIV/0!"},{"$f":"+(aem2csp2!D190+(aem2csp2!E190*10))*(10^((65-aem2csp2!$A$15)/10))","v":0},0,{"$error":"#DIV/0!"},{"$error":"#DIV/0!"},{"$error":"#DIV/0!"},{"$error":"#DIV/0!"},{"$f":"+(aem2csp2!D190+(aem2csp2!E190*10))*(10^((65-aem2csp2!$A$16)/10))","v":0},0,{"$error":"#DIV/0!"},{"$error":"#DIV/0!"},{"$error":"#DIV/0!"},{"$error":"#DIV/0!"}]
[null,null,null,null,"F-111F ",2.40998916042148,0.51203978271206396,{"$f":"+(aem2csp2!B191+(aem2csp2!C191*10))*(10^((65-aem2csp2!$A$11)/10))","v":0},0,{"$error":"#DIV/0!"},{"$error":"#DIV/0!"},{"$error":"#DIV/0!"},{"$error":"#DIV/0!"},{"$f":"+(aem2csp2!B191+(aem2csp2!C191*10))*(10^((65-aem2csp2!$A$12)/10))","v":0},0,{"$error":"#DIV/0!"},{"$error":"#DIV/0!"},{"$error":"#DIV/0!"},{"$error":"#DIV/0!"},{"$f":"+(aem2csp2!B191+(aem2csp2!C191*10))*(10^((65-aem2csp2!$A$13)/10))","v":0},0,{"$error":"#DIV/0!"},{"$error":"#DIV/0!"},{"$error":"#DIV/0!"},{"$error":"#DIV/0!"},{"$f":"+(aem2csp2!B191+(aem2csp2!C191*10))*(10^((65-aem2csp2!$A$14)/10))","v":0},0,{"$error":"#DIV/0!"},{"$error":"#DIV/0!"},{"$error":"#DIV/0!"},{"$error":"#DIV/0!"},{"$f":"+(aem2csp2!B191+(aem2csp2!C191*10))*(10^((65-aem2csp2!$A$15)/10))","v":0},0,{"$error":"#DIV/0!"},{"$error":"#DIV/0!"},{"$error":"#DIV/0!"},{"$error":"#DIV/0!"},{"$f":"+(aem2csp2!B191+(aem2csp2!C191*10))*(10^((65-aem2csp2!$A$16)/10))","v":0},0,{"$error":"#DIV/0!"},{"$error":"#DIV/0!"},{"$error":"#DIV/0!"},{"$error":"#DIV/0!"},161,{"$f":"+(aem2csp2!D191+(aem2csp2!E191*10))*(10^((65-aem2csp2!$A$11)/10))","v":0},0,{"$error":"#DIV/0!"},{"$error":"#DIV/0!"},{"$error":"#DIV/0!"},{"$error":"#DIV/0!"},{"$f":"+(aem2csp2!D191+(aem2csp2!E191*10))*(10^((65-aem2csp2!$A$12)/10))","v":0},0,{"$error":"#DIV/0!"},{"$error":"#DIV/0!"},{"$error":"#DIV/0!"},{"$error":"#DIV/0!"},{"$f":"+(aem2csp2!D191+(aem2csp2!E191*10))*(10^((65-aem2csp2!$A$13)/10))","v":0},0,{"$error":"#DIV/0!"},{"$error":"#DIV/0!"},{"$error":"#DIV/0!"},{"$error":"#DIV/0!"},{"$f":"+(aem2csp2!D191+(aem2csp2!E191*10))*(10^((65-aem2csp2!$A$14)/10))","v":0},0,{"$error":"#DIV/0!"},{"$error":"#DIV/0!"},{"$error":"#DIV/0!"},{"$error":"#DIV/0!"},{"$f":"+(aem2csp2!D191+(aem2csp2!E191*10))*(10^((65-aem2csp2!$A$15)/10))","v":0},0,{"$error":"#DIV/0!"},{"$error":"#DIV/0!"},{"$error":"#DIV/0!"},{"$error":"#DIV/0!"},{"$f":"+(aem2csp2!D191+(aem2csp2!E191*10))*(10^((65-aem2csp2!$A$16)/10))","v":0},0,{"$error":"#DIV/0!"},{"$error":"#DIV/0!"},{"$error":"#DIV/0!"},{"$error":"#DIV/0!"}]
[null,null,null,null,"F117A ",0.44521886682562001,0.897303812413906,{"$f":"+(aem2csp2!B192+(aem2csp2!C192*10))*(10^((65-aem2csp2!$A$11)/10))","v":0},0,{"$error":"#DIV/0!"},{"$error":"#DIV/0!"},{"$error":"#DIV/0!"},{"$error":"#DIV/0!"},{"$f":"+(aem2csp2!B192+(aem2csp2!C192*10))*(10^((65-aem2csp2!$A$12)/10))","v":0},0,{"$error":"#DIV/0!"},{"$error":"#DIV/0!"},{"$error":"#DIV/0!"},{"$error":"#DIV/0!"},{"$f":"+(aem2csp2!B192+(aem2csp2!C192*10))*(10^((65-aem2csp2!$A$13)/10))","v":0},0,{"$error":"#DIV/0!"},{"$error":"#DIV/0!"},{"$error":"#DIV/0!"},{"$error":"#DIV/0!"},{"$f":"+(aem2csp2!B192+(aem2csp2!C192*10))*(10^((65-aem2csp2!$A$14)/10))","v":0},0,{"$error":"#DIV/0!"},{"$error":"#DIV/0!"},{"$error":"#DIV/0!"},{"$error":"#DIV/0!"},{"$f":"+(aem2csp2!B192+(aem2csp2!C192*10))*(10^((65-aem2csp2!$A$15)/10))","v":0},0,{"$error":"#DIV/0!"},{"$error":"#DIV/0!"},{"$error":"#DIV/0!"},{"$error":"#DIV/0!"},{"$f":"+(aem2csp2!B192+(aem2csp2!C192*10))*(10^((65-aem2csp2!$A$16)/10))","v":0},0,{"$error":"#DIV/0!"},{"$error":"#DIV/0!"},{"$error":"#DIV/0!"},{"$error":"#DIV/0!"},162,{"$f":"+(aem2csp2!D192+(aem2csp2!E192*10))*(10^((65-aem2csp2!$A$11)/10))","v":0},0,{"$error":"#DIV/0!"},{"$error":"#DIV/0!"},{"$error":"#DIV/0!"},{"$error":"#DIV/0!"},{"$f":"+(aem2csp2!D192+(aem2csp2!E192*10))*(10^((65-aem2csp2!$A$12)/10))","v":0},0,{"$error":"#DIV/0!"},{"$error":"#DIV/0!"},{"$error":"#DIV/0!"},{"$error":"#DIV/0!"},{"$f":"+(aem2csp2!D192+(aem2csp2!E192*10))*(10^((65-aem2csp2!$A$13)/10))","v":0},0,{"$error":"#DIV/0!"},{"$error":"#DIV/0!"},{"$error":"#DIV/0!"},{"$error":"#DIV/0!"},{"$f":"+(aem2csp2!D192+(aem2csp2!E192*10))*(10^((65-aem2csp2!$A$14)/10))","v":0},0,{"$error":"#DIV/0!"},{"$error":"#DIV/0!"},{"$error":"#DIV/0!"},{"$error":"#DIV/0!"},{"$f":"+(aem2csp2!D192+(aem2csp2!E192*10))*(10^((65-aem2csp2!$A$15)/10))","v":0},0,{"$error":"#DIV/0!"},{"$error":"#DIV/0!"},{"$error":"#DIV/0!"},{"$error":"#DIV/0!"},{"$f":"+(aem2csp2!D192+(aem2csp2!E192*10))*(10^((65-aem2csp2!$A$16)/10))","v":0},0,{"$error":"#DIV/0!"},{"$error":"#DIV/0!"},{"$error":"#DIV/0!"},{"$error":"#DIV/0!"}]
[null,null,null,null,"F14A ",1.0883219275929701,0.37836404015299002,{"$f":"+(aem2csp2!B193+(aem2csp2!C193*10))*(10^((65-aem2csp2!$A$11)/10))","v":0},0,{"$error":"#DIV/0!"},{"$error":"#DIV/0!"},{"$error":"#DIV/0!"},{"$error":"#DIV/0!"},{"$f":"+(aem2csp2!B193+(aem2csp2!C193*10))*(10^((65-aem2csp2!$A$12)/10))","v":0},0,{"$error":"#DIV/0!"},{"$error":"#DIV/0!"},{"$error":"#DIV/0!"},{"$error":"#DIV/0!"},{"$f":"+(aem2csp2!B193+(aem2csp2!C193*10))*(10^((65-aem2csp2!$A$13)/10))","v":0},0,{"$error":"#DIV/0!"},{"$error":"#DIV/0!"},{"$error":"#DIV/0!"},{"$error":"#DIV/0!"},{"$f":"+(aem2csp2!B193+(aem2csp2!C193*10))*(10^((65-aem2csp2!$A$14)/10))","v":0},0,{"$error":"#DIV/0!"},{"$error":"#DIV/0!"},{"$error":"#DIV/0!"},{"$error":"#DIV/0!"},{"$f":"+(aem2csp2!B193+(aem2csp2!C193*10))*(10^((65-aem2csp2!$A$15)/10))","v":0},0,{"$error":"#DIV/0!"},{"$error":"#DIV/0!"},{"$error":"#DIV/0!"},{"$error":"#DIV/0!"},{"$f":"+(aem2csp2!B193+(aem2csp2!C193*10))*(10^((65-aem2csp2!$A$16)/10))","v":0},0,{"$error":"#DIV/0!"},{"$error":"#DIV/0!"},{"$error":"#DIV/0!"},{"$error":"#DIV/0!"},163,{"$f":"+(aem2csp2!D193+(aem2csp2!E193*10))*(10^((65-aem2csp2!$A$11)/10))","v":0},0,{"$error":"#DIV/0!"},{"$error":"#DIV/0!"},{"$error":"#DIV/0!"},{"$error":"#DIV/0!"},{"$f":"+(aem2csp2!D193+(aem2csp2!E193*10))*(10^((65-aem2csp2!$A$12)/10))","v":0},0,{"$error":"#DIV/0!"},{"$error":"#DIV/0!"},{"$error":"#DIV/0!"},{"$error":"#DIV/0!"},{"$f":"+(aem2csp2!D193+(aem2csp2!E193*10))*(10^((65-aem2csp2!$A$13)/10))","v":0},0,{"$error":"#DIV/0!"},{"$error":"#DIV/0!"},{"$error":"#DIV/0!"},{"$error":"#DIV/0!"},{"$f":"+(aem2csp2!D193+(aem2csp2!E193*10))*(10^((65-aem2csp2!$A$14)/10))","v":0},0,{"$error":"#DIV/0!"},{"$error":"#DIV/0!"},{"$error":"#DIV/0!"},{"$error":"#DIV/0!"},{"$f":"+(aem2csp2!D193+(aem2csp2!E193*10))*(10^((65-aem2csp2!$A$15)/10))","v":0},0,{"$error":"#DIV/0!"},{"$error":"#DIV/0!"},{"$error":"#DIV/0!"},{"$error":"#DIV/0!"},{"$f":"+(aem2csp2!D193+(aem2csp2!E193*10))*(10^((65-aem2csp2!$A$16)/10))","v":0},0,{"$error":"#DIV/0!"},{"$error":"#DIV/0!"},{"$error":"#DIV/0!"},{"$error":"#DIV/0!"}]
[null,null,null,null,"F15A ",0.50196564043487901,0.64039524490875899,{"$f":"+(aem2csp2!B194+(aem2csp2!C194*10))*(10^((65-aem2csp2!$A$11)/10))","v":0},0,{"$error":"#DIV/0!"},{"$error":"#DIV/0!"},{"$error":"#DIV/0!"},{"$error":"#DIV/0!"},{"$f":"+(aem2csp2!B194+(aem2csp2!C194*10))*(10^((65-aem2csp2!$A$12)/10))","v":0},0,{"$error":"#DIV/0!"},{"$error":"#DIV/0!"},{"$error":"#DIV/0!"},{"$error":"#DIV/0!"},{"$f":"+(aem2csp2!B194+(aem2csp2!C194*10))*(10^((65-aem2csp2!$A$13)/10))","v":0},0,{"$error":"#DIV/0!"},{"$error":"#DIV/0!"},{"$error":"#DIV/0!"},{"$error":"#DIV/0!"},{"$f":"+(aem2csp2!B194+(aem2csp2!C194*10))*(10^((65-aem2csp2!$A$14)/10))","v":0},0,{"$error":"#DIV/0!"},{"$error":"#DIV/0!"},{"$error":"#DIV/0!"},{"$error":"#DIV/0!"},{"$f":"+(aem2csp2!B194+(aem2csp2!C194*10))*(10^((65-aem2csp2!$A$15)/10))","v":0},0,{"$error":"#DIV/0!"},{"$error":"#DIV/0!"},{"$error":"#DIV/0!"},{"$error":"#DIV/0!"},{"$f":"+(aem2csp2!B194+(aem2csp2!C194*10))*(10^((65-aem2csp2!$A$16)/10))","v":0},0,{"$error":"#DIV/0!"},{"$error":"#DIV/0!"},{"$error":"#DIV/0!"},{"$error":"#DIV/0!"},164,{"$f":"+(aem2csp2!D194+(aem2csp2!E194*10))*(10^((65-aem2csp2!$A$11)/10))","v":0},0,{"$error":"#DIV/0!"},{"$error":"#DIV/0!"},{"$error":"#DIV/0!"},{"$error":"#DIV/0!"},{"$f":"+(aem2csp2!D194+(aem2csp2!E194*10))*(10^((65-aem2csp2!$A$12)/10))","v":0},0,{"$error":"#DIV/0!"},{"$error":"#DIV/0!"},{"$error":"#DIV/0!"},{"$error":"#DIV/0!"},{"$f":"+(aem2csp2!D194+(aem2csp2!E194*10))*(10^((65-aem2csp2!$A$13)/10))","v":0},0,{"$error":"#DIV/0!"},{"$error":"#DIV/0!"},{"$error":"#DIV/0!"},{"$error":"#DIV/0!"},{"$f":"+(aem2csp2!D194+(aem2csp2!E194*10))*(10^((65-aem2csp2!$A$14)/10))","v":0},0,{"$error":"#DIV/0!"},{"$error":"#DIV/0!"},{"$error":"#DIV/0!"},{"$error":"#DIV/0!"},{"$f":"+(aem2csp2!D194+(aem2csp2!E194*10))*(10^((65-aem2csp2!$A$15)/10))","v":0},0,{"$error":"#DIV/0!"},{"$error":"#DIV/0!"},{"$error":"#DIV/0!"},{"$error":"#DIV/0!"},{"$f":"+(aem2csp2!D194+(aem2csp2!E194*10))*(10^((65-aem2csp2!$A$16)/10))","v":0},0,{"$error":"#DIV/0!"},{"$error":"#DIV/0!"},{"$error":"#DIV/0!"},{"$error":"#DIV/0!"}]
[null,null,null,null,"F15E20 ",0.82798428958724701,0.69692057536007201,{"$f":"+(aem2csp2!B195+(aem2csp2!C195*10))*(10^((65-aem2csp2!$A$11)/10))","v":0},0,{"$error":"#DIV/0!"},{"$error":"#DIV/0!"},{"$error":"#DIV/0!"},{"$error":"#DIV/0!"},{"$f":"+(aem2csp2!B195+(aem2csp2!C195*10))*(10^((65-aem2csp2!$A$12)/10))","v":0},0,{"$error":"#DIV/0!"},{"$error":"#DIV/0!"},{"$error":"#DIV/0!"},{"$error":"#DIV/0!"},{"$f":"+(aem2csp2!B195+(aem2csp2!C195*10))*(10^((65-aem2csp2!$A$13)/10))","v":0},0,{"$error":"#DIV/0!"},{"$error":"#DIV/0!"},{"$error":"#DIV/0!"},{"$error":"#DIV/0!"},{"$f":"+(aem2csp2!B195+(aem2csp2!C195*10))*(10^((65-aem2csp2!$A$14)/10))","v":0},0,{"$error":"#DIV/0!"},{"$error":"#DIV/0!"},{"$error":"#DIV/0!"},{"$error":"#DIV/0!"},{"$f":"+(aem2csp2!B195+(aem2csp2!C195*10))*(10^((65-aem2csp2!$A$15)/10))","v":0},0,{"$error":"#DIV/0!"},{"$error":"#DIV/0!"},{"$error":"#DIV/0!"},{"$error":"#DIV/0!"},{"$f":"+(aem2csp2!B195+(aem2csp2!C195*10))*(10^((65-aem2csp2!$A$16)/10))","v":0},0,{"$error":"#DIV/0!"},{"$error":"#DIV/0!"},{"$error":"#DIV/0!"},{"$error":"#DIV/0!"},165,{"$f":"+(aem2csp2!D195+(aem2csp2!E195*10))*(10^((65-aem2csp2!$A$11)/10))","v":0},0,{"$error":"#DIV/0!"},{"$error":"#DIV/0!"},{"$error":"#DIV/0!"},{"$error":"#DIV/0!"},{"$f":"+(aem2csp2!D195+(aem2csp2!E195*10))*(10^((65-aem2csp2!$A$12)/10))","v":0},0,{"$error":"#DIV/0!"},{"$error":"#DIV/0!"},{"$error":"#DIV/0!"},{"$error":"#DIV/0!"},{"$f":"+(aem2csp2!D195+(aem2csp2!E195*10))*(10^((65-aem2csp2!$A$13)/10))","v":0},0,{"$error":"#DIV/0!"},{"$error":"#DIV/0!"},{"$error":"#DIV/0!"},{"$error":"#DIV/0!"},{"$f":"+(aem2csp2!D195+(aem2csp2!E195*10))*(10^((65-aem2csp2!$A$14)/10))","v":0},0,{"$error":"#DIV/0!"},{"$error":"#DIV/0!"},{"$error":"#DIV/0!"},{"$error":"#DIV/0!"},{"$f":"+(aem2csp2!D195+(aem2csp2!E195*10))*(10^((65-aem2csp2!$A$15)/10))","v":0},0,{"$error":"#DIV/0!"},{"$error":"#DIV/0!"},{"$error":"#DIV/0!"},{"$error":"#DIV/0!"},{"$f":"+(aem2csp2!D195+(aem2csp2!E195*10))*(10^((65-aem2csp2!$A$16)/10))","v":0},0,{"$error":"#DIV/0!"},{"$error":"#DIV/0!"},{"$error":"#DIV/0!"},{"$error":"#DIV/0!"}]
[null,null,null,null,"F15E29 ",1.63520363846413,0.71681026621471799,{"$f":"+(aem2csp2!B196+(aem2csp2!C196*10))*(10^((65-aem2csp2!$A$11)/10))","v":0},0,{"$error":"#DIV/0!"},{"$error":"#DIV/0!"},{"$error":"#DIV/0!"},{"$error":"#DIV/0!"},{"$f":"+(aem2csp2!B196+(aem2csp2!C196*10))*(10^((65-aem2csp2!$A$12)/10))","v":0},0,{"$error":"#DIV/0!"},{"$error":"#DIV/0!"},{"$error":"#DIV/0!"},{"$error":"#DIV/0!"},{"$f":"+(aem2csp2!B196+(aem2csp2!C196*10))*(10^((65-aem2csp2!$A$13)/10))","v":0},0,{"$error":"#DIV/0!"},{"$error":"#DIV/0!"},{"$error":"#DIV/0!"},{"$error":"#DIV/0!"},{"$f":"+(aem2csp2!B196+(aem2csp2!C196*10))*(10^((65-aem2csp2!$A$14)/10))","v":0},0,{"$error":"#DIV/0!"},{"$error":"#DIV/0!"},{"$error":"#DIV/0!"},{"$error":"#DIV/0!"},{"$f":"+(aem2csp2!B196+(aem2csp2!C196*10))*(10^((65-aem2csp2!$A$15)/10))","v":0},0,{"$error":"#DIV/0!"},{"$error":"#DIV/0!"},{"$error":"#DIV/0!"},{"$error":"#DIV/0!"},{"$f":"+(aem2csp2!B196+(aem2csp2!C196*10))*(10^((65-aem2csp2!$A$16)/10))","v":0},0,{"$error":"#DIV/0!"},{"$error":"#DIV/0!"},{"$error":"#DIV/0!"},{"$error":"#DIV/0!"},166,{"$f":"+(aem2csp2!D196+(aem2csp2!E196*10))*(10^((65-aem2csp2!$A$11)/10))","v":0},0,{"$error":"#DIV/0!"},{"$error":"#DIV/0!"},{"$error":"#DIV/0!"},{"$error":"#DIV/0!"},{"$f":"+(aem2csp2!D196+(aem2csp2!E196*10))*(10^((65-aem2csp2!$A$12)/10))","v":0},0,{"$error":"#DIV/0!"},{"$error":"#DIV/0!"},{"$error":"#DIV/0!"},{"$error":"#DIV/0!"},{"$f":"+(aem2csp2!D196+(aem2csp2!E196*10))*(10^((65-aem2csp2!$A$13)/10))","v":0},0,{"$error":"#DIV/0!"},{"$error":"#DIV/0!"},{"$error":"#DIV/0!"},{"$error":"#DIV/0!"},{"$f":"+(aem2csp2!D196+(aem2csp2!E196*10))*(10^((65-aem2csp2!$A$14)/10))","v":0},0,{"$error":"#DIV/0!"},{"$error":"#DIV/0!"},{"$error":"#DIV/0!"},{"$error":"#DIV/0!"},{"$f":"+(aem2csp2!D196+(aem2csp2!E196*10))*(10^((65-aem2csp2!$A$15)/10))","v":0},0,{"$error":"#DIV/0!"},{"$error":"#DIV/0!"},{"$error":"#DIV/0!"},{"$error":"#DIV/0!"},{"$f":"+(aem2csp2!D196+(aem2csp2!E196*10))*(10^((65-aem2csp2!$A$16)/10))","v":0},0,{"$error":"#DIV/0!"},{"$error":"#DIV/0!"},{"$error":"#DIV/0!"},{"$error":"#DIV/0!"}]
[null,null,null,null,"F16A ",0.22261835199308699,0.63769783417064596,{"$f":"+(aem2csp2!B197+(aem2csp2!C197*10))*(10^((65-aem2csp2!$A$11)/10))","v":0},0,{"$error":"#DIV/0!"},{"$error":"#DIV/0!"},{"$error":"#DIV/0!"},{"$error":"#DIV/0!"},{"$f":"+(aem2csp2!B197+(aem2csp2!C197*10))*(10^((65-aem2csp2!$A$12)/10))","v":0},0,{"$error":"#DIV/0!"},{"$error":"#DIV/0!"},{"$error":"#DIV/0!"},{"$error":"#DIV/0!"},{"$f":"+(aem2csp2!B197+(aem2csp2!C197*10))*(10^((65-aem2csp2!$A$13)/10))","v":0},0,{"$error":"#DIV/0!"},{"$error":"#DIV/0!"},{"$error":"#DIV/0!"},{"$error":"#DIV/0!"},{"$f":"+(aem2csp2!B197+(aem2csp2!C197*10))*(10^((65-aem2csp2!$A$14)/10))","v":0},0,{"$error":"#DIV/0!"},{"$error":"#DIV/0!"},{"$error":"#DIV/0!"},{"$error":"#DIV/0!"},{"$f":"+(aem2csp2!B197+(aem2csp2!C197*10))*(10^((65-aem2csp2!$A$15)/10))","v":0},0,{"$error":"#DIV/0!"},{"$error":"#DIV/0!"},{"$error":"#DIV/0!"},{"$error":"#DIV/0!"},{"$f":"+(aem2csp2!B197+(aem2csp2!C197*10))*(10^((65-aem2csp2!$A$16)/10))","v":0},0,{"$error":"#DIV/0!"},{"$error":"#DIV/0!"},{"$error":"#DIV/0!"},{"$error":"#DIV/0!"},167,{"$f":"+(aem2csp2!D197+(aem2csp2!E197*10))*(10^((65-aem2csp2!$A$11)/10))","v":0},0,{"$error":"#DIV/0!"},{"$error":"#DIV/0!"},{"$error":"#DIV/0!"},{"$error":"#DIV/0!"},{"$f":"+(aem2csp2!D197+(aem2csp2!E197*10))*(10^((65-aem2csp2!$A$12)/10))","v":0},0,{"$error":"#DIV/0!"},{"$error":"#DIV/0!"},{"$error":"#DIV/0!"},{"$error":"#DIV/0!"},{"$f":"+(aem2csp2!D197+(aem2csp2!E197*10))*(10^((65-aem2csp2!$A$13)/10))","v":0},0,{"$error":"#DIV/0!"},{"$error":"#DIV/0!"},{"$error":"#DIV/0!"},{"$error":"#DIV/0!"},{"$f":"+(aem2csp2!D197+(aem2csp2!E197*10))*(10^((65-aem2csp2!$A$14)/10))","v":0},0,{"$error":"#DIV/0!"},{"$error":"#DIV/0!"},{"$error":"#DIV/0!"},{"$error":"#DIV/0!"},{"$f":"+(aem2csp2!D197+(aem2csp2!E197*10))*(10^((65-aem2csp2!$A$15)/10))","v":0},0,{"$error":"#DIV/0!"},{"$error":"#DIV/0!"},{"$error":"#DIV/0!"},{"$error":"#DIV/0!"},{"$f":"+(aem2csp2!D197+(aem2csp2!E197*10))*(10^((65-aem2csp2!$A$16)/10))","v":0},0,{"$error":"#DIV/0!"},{"$error":"#DIV/0!"},{"$error":"#DIV/0!"},{"$error":"#DIV/0!"}]
[null,null,null,null,"F16GE ",0.106125779664482,0.63319628076888301,{"$f":"+(aem2csp2!B198+(aem2csp2!C198*10))*(10^((65-aem2csp2!$A$11)/10))","v":0},0,{"$error":"#DIV/0!"},{"$error":"#DIV/0!"},{"$error":"#DIV/0!"},{"$error":"#DIV/0!"},{"$f":"+(aem2csp2!B198+(aem2csp2!C198*10))*(10^((65-aem2csp2!$A$12)/10))","v":0},0,{"$error":"#DIV/0!"},{"$error":"#DIV/0!"},{"$error":"#DIV/0!"},{"$error":"#DIV/0!"},{"$f":"+(aem2csp2!B198+(aem2csp2!C198*10))*(10^((65-aem2csp2!$A$13)/10))","v":0},0,{"$error":"#DIV/0!"},{"$error":"#DIV/0!"},{"$error":"#DIV/0!"},{"$error":"#DIV/0!"},{"$f":"+(aem2csp2!B198+(aem2csp2!C198*10))*(10^((65-aem2csp2!$A$14)/10))","v":0},0,{"$error":"#DIV/0!"},{"$error":"#DIV/0!"},{"$error":"#DIV/0!"},{"$error":"#DIV/0!"},{"$f":"+(aem2csp2!B198+(aem2csp2!C198*10))*(10^((65-aem2csp2!$A$15)/10))","v":0},0,{"$error":"#DIV/0!"},{"$error":"#DIV/0!"},{"$error":"#DIV/0!"},{"$error":"#DIV/0!"},{"$f":"+(aem2csp2!B198+(aem2csp2!C198*10))*(10^((65-aem2csp2!$A$16)/10))","v":0},0,{"$error":"#DIV/0!"},{"$error":"#DIV/0!"},{"$error":"#DIV/0!"},{"$error":"#DIV/0!"},168,{"$f":"+(aem2csp2!D198+(aem2csp2!E198*10))*(10^((65-aem2csp2!$A$11)/10))","v":0},0,{"$error":"#DIV/0!"},{"$error":"#DIV/0!"},{"$error":"#DIV/0!"},{"$error":"#DIV/0!"},{"$f":"+(aem2csp2!D198+(aem2csp2!E198*10))*(10^((65-aem2csp2!$A$12)/10))","v":0},0,{"$error":"#DIV/0!"},{"$error":"#DIV/0!"},{"$error":"#DIV/0!"},{"$error":"#DIV/0!"},{"$f":"+(aem2csp2!D198+(aem2csp2!E198*10))*(10^((65-aem2csp2!$A$13)/10))","v":0},0,{"$error":"#DIV/0!"},{"$error":"#DIV/0!"},{"$error":"#DIV/0!"},{"$error":"#DIV/0!"},{"$f":"+(aem2csp2!D198+(aem2csp2!E198*10))*(10^((65-aem2csp2!$A$14)/10))","v":0},0,{"$error":"#DIV/0!"},{"$error":"#DIV/0!"},{"$error":"#DIV/0!"},{"$error":"#DIV/0!"},{"$f":"+(aem2csp2!D198+(aem2csp2!E198*10))*(10^((65-aem2csp2!$A$15)/10))","v":0},0,{"$error":"#DIV/0!"},{"$error":"#DIV/0!"},{"$error":"#DIV/0!"},{"$error":"#DIV/0!"},{"$f":"+(aem2csp2!D198+(aem2csp2!E198*10))*(10^((65-aem2csp2!$A$16)/10))","v":0},0,{"$error":"#DIV/0!"},{"$error":"#DIV/0!"},{"$error":"#DIV/0!"},{"$error":"#DIV/0!"}]
[null,null,null,null,"F16PW0 ",0.41086645390207999,0.553944152194221,{"$f":"+(aem2csp2!B199+(aem2csp2!C199*10))*(10^((65-aem2csp2!$A$11)/10))","v":0},0,{"$error":"#DIV/0!"},{"$error":"#DIV/0!"},{"$error":"#DIV/0!"},{"$error":"#DIV/0!"},{"$f":"+(aem2csp2!B199+(aem2csp2!C199*10))*(10^((65-aem2csp2!$A$12)/10))","v":0},0,{"$error":"#DIV/0!"},{"$error":"#DIV/0!"},{"$error":"#DIV/0!"},{"$error":"#DIV/0!"},{"$f":"+(aem2csp2!B199+(aem2csp2!C199*10))*(10^((65-aem2csp2!$A$13)/10))","v":0},0,{"$error":"#DIV/0!"},{"$error":"#DIV/0!"},{"$error":"#DIV/0!"},{"$error":"#DIV/0!"},{"$f":"+(aem2csp2!B199+(aem2csp2!C199*10))*(10^((65-aem2csp2!$A$14)/10))","v":0},0,{"$error":"#DIV/0!"},{"$error":"#DIV/0!"},{"$error":"#DIV/0!"},{"$error":"#DIV/0!"},{"$f":"+(aem2csp2!B199+(aem2csp2!C199*10))*(10^((65-aem2csp2!$A$15)/10))","v":0},0,{"$error":"#DIV/0!"},{"$error":"#DIV/0!"},{"$error":"#DIV/0!"},{"$error":"#DIV/0!"},{"$f":"+(aem2csp2!B199+(aem2csp2!C199*10))*(10^((65-aem2csp2!$A$16)/10))","v":0},0,{"$error":"#DIV/0!"},{"$error":"#DIV/0!"},{"$error":"#DIV/0!"},{"$error":"#DIV/0!"},169,{"$f":"+(aem2csp2!D199+(aem2csp2!E199*10))*(10^((65-aem2csp2!$A$11)/10))","v":0},0,{"$error":"#DIV/0!"},{"$error":"#DIV/0!"},{"$error":"#DIV/0!"},{"$error":"#DIV/0!"},{"$f":"+(aem2csp2!D199+(aem2csp2!E199*10))*(10^((65-aem2csp2!$A$12)/10))","v":0},0,{"$error":"#DIV/0!"},{"$error":"#DIV/0!"},{"$error":"#DIV/0!"},{"$error":"#DIV/0!"},{"$f":"+(aem2csp2!D199+(aem2csp2!E199*10))*(10^((65-aem2csp2!$A$13)/10))","v":0},0,{"$error":"#DIV/0!"},{"$error":"#DIV/0!"},{"$error":"#DIV/0!"},{"$error":"#DIV/0!"},{"$f":"+(aem2csp2!D199+(aem2csp2!E199*10))*(10^((65-aem2csp2!$A$14)/10))","v":0},0,{"$error":"#DIV/0!"},{"$error":"#DIV/0!"},{"$error":"#DIV/0!"},{"$error":"#DIV/0!"},{"$f":"+(aem2csp2!D199+(aem2csp2!E199*10))*(10^((65-aem2csp2!$A$15)/10))","v":0},0,{"$error":"#DIV/0!"},{"$error":"#DIV/0!"},{"$error":"#DIV/0!"},{"$error":"#DIV/0!"},{"$f":"+(aem2csp2!D199+(aem2csp2!E199*10))*(10^((65-aem2csp2!$A$16)/10))","v":0},0,{"$error":"#DIV/0!"},{"$error":"#DIV/0!"},{"$error":"#DIV/0!"},{"$error":"#DIV/0!"}]
[null,null,null,null,"F-18 ",0.56854381941454202,0.70984548150746496,{"$f":"+(aem2csp2!B200+(aem2csp2!C200*10))*(10^((65-aem2csp2!$A$11)/10))","v":0},0,{"$error":"#DIV/0!"},{"$error":"#DIV/0!"},{"$error":"#DIV/0!"},{"$error":"#DIV/0!"},{"$f":"+(aem2csp2!B200+(aem2csp2!C200*10))*(10^((65-aem2csp2!$A$12)/10))","v":0},0,{"$error":"#DIV/0!"},{"$error":"#DIV/0!"},{"$error":"#DIV/0!"},{"$error":"#DIV/0!"},{"$f":"+(aem2csp2!B200+(aem2csp2!C200*10))*(10^((65-aem2csp2!$A$13)/10))","v":0},0,{"$error":"#DIV/0!"},{"$error":"#DIV/0!"},{"$error":"#DIV/0!"},{"$error":"#DIV/0!"},{"$f":"+(aem2csp2!B200+(aem2csp2!C200*10))*(10^((65-aem2csp2!$A$14)/10))","v":0},0,{"$error":"#DIV/0!"},{"$error":"#DIV/0!"},{"$error":"#DIV/0!"},{"$error":"#DIV/0!"},{"$f":"+(aem2csp2!B200+(aem2csp2!C200*10))*(10^((65-aem2csp2!$A$15)/10))","v":0},0,{"$error":"#DIV/0!"},{"$error":"#DIV/0!"},{"$error":"#DIV/0!"},{"$error":"#DIV/0!"},{"$f":"+(aem2csp2!B200+(aem2csp2!C200*10))*(10^((65-aem2csp2!$A$16)/10))","v":0},0,{"$error":"#DIV/0!"},{"$error":"#DIV/0!"},{"$error":"#DIV/0!"},{"$error":"#DIV/0!"},170,{"$f":"+(aem2csp2!D200+(aem2csp2!E200*10))*(10^((65-aem2csp2!$A$11)/10))","v":0},0,{"$error":"#DIV/0!"},{"$error":"#DIV/0!"},{"$error":"#DIV/0!"},{"$error":"#DIV/0!"},{"$f":"+(aem2csp2!D200+(aem2csp2!E200*10))*(10^((65-aem2csp2!$A$12)/10))","v":0},0,{"$error":"#DIV/0!"},{"$error":"#DIV/0!"},{"$error":"#DIV/0!"},{"$error":"#DIV/0!"},{"$f":"+(aem2csp2!D200+(aem2csp2!E200*10))*(10^((65-aem2csp2!$A$13)/10))","v":0},0,{"$error":"#DIV/0!"},{"$error":"#DIV/0!"},{"$error":"#DIV/0!"},{"$error":"#DIV/0!"},{"$f":"+(aem2csp2!D200+(aem2csp2!E200*10))*(10^((65-aem2csp2!$A$14)/10))","v":0},0,{"$error":"#DIV/0!"},{"$error":"#DIV/0!"},{"$error":"#DIV/0!"},{"$error":"#DIV/0!"},{"$f":"+(aem2csp2!D200+(aem2csp2!E200*10))*(10^((65-aem2csp2!$A$15)/10))","v":0},0,{"$error":"#DIV/0!"},{"$error":"#DIV/0!"},{"$error":"#DIV/0!"},{"$error":"#DIV/0!"},{"$f":"+(aem2csp2!D200+(aem2csp2!E200*10))*(10^((65-aem2csp2!$A$16)/10))","v":0},0,{"$error":"#DIV/0!"},{"$error":"#DIV/0!"},{"$error":"#DIV/0!"},{"$error":"#DIV/0!"}]
[null,null,null,null,"F28MK2 ",6.4316529801768996E-2,0.85663769698946302,{"$f":"+(aem2csp2!B201+(aem2csp2!C201*10))*(10^((65-aem2csp2!$A$11)/10))","v":0},0,{"$error":"#DIV/0!"},{"$error":"#DIV/0!"},{"$error":"#DIV/0!"},{"$error":"#DIV/0!"},{"$f":"+(aem2csp2!B201+(aem2csp2!C201*10))*(10^((65-aem2csp2!$A$12)/10))","v":0},0,{"$error":"#DIV/0!"},{"$error":"#DIV/0!"},{"$error":"#DIV/0!"},{"$error":"#DIV/0!"},{"$f":"+(aem2csp2!B201+(aem2csp2!C201*10))*(10^((65-aem2csp2!$A$13)/10))","v":0},0,{"$error":"#DIV/0!"},{"$error":"#DIV/0!"},{"$error":"#DIV/0!"},{"$error":"#DIV/0!"},{"$f":"+(aem2csp2!B201+(aem2csp2!C201*10))*(10^((65-aem2csp2!$A$14)/10))","v":0},0,{"$error":"#DIV/0!"},{"$error":"#DIV/0!"},{"$error":"#DIV/0!"},{"$error":"#DIV/0!"},{"$f":"+(aem2csp2!B201+(aem2csp2!C201*10))*(10^((65-aem2csp2!$A$15)/10))","v":0},0,{"$error":"#DIV/0!"},{"$error":"#DIV/0!"},{"$error":"#DIV/0!"},{"$error":"#DIV/0!"},{"$f":"+(aem2csp2!B201+(aem2csp2!C201*10))*(10^((65-aem2csp2!$A$16)/10))","v":0},0,{"$error":"#DIV/0!"},{"$error":"#DIV/0!"},{"$error":"#DIV/0!"},{"$error":"#DIV/0!"},171,{"$f":"+(aem2csp2!D201+(aem2csp2!E201*10))*(10^((65-aem2csp2!$A$11)/10))","v":0},0,{"$error":"#DIV/0!"},{"$error":"#DIV/0!"},{"$error":"#DIV/0!"},{"$error":"#DIV/0!"},{"$f":"+(aem2csp2!D201+(aem2csp2!E201*10))*(10^((65-aem2csp2!$A$12)/10))","v":0},0,{"$error":"#DIV/0!"},{"$error":"#DIV/0!"},{"$error":"#DIV/0!"},{"$error":"#DIV/0!"},{"$f":"+(aem2csp2!D201+(aem2csp2!E201*10))*(10^((65-aem2csp2!$A$13)/10))","v":0},0,{"$error":"#DIV/0!"},{"$error":"#DIV/0!"},{"$error":"#DIV/0!"},{"$error":"#DIV/0!"},{"$f":"+(aem2csp2!D201+(aem2csp2!E201*10))*(10^((65-aem2csp2!$A$14)/10))","v":0},0,{"$error":"#DIV/0!"},{"$error":"#DIV/0!"},{"$error":"#DIV/0!"},{"$error":"#DIV/0!"},{"$f":"+(aem2csp2!D201+(aem2csp2!E201*10))*(10^((65-aem2csp2!$A$15)/10))","v":0},0,{"$error":"#DIV/0!"},{"$error":"#DIV/0!"},{"$error":"#DIV/0!"},{"$error":"#DIV/0!"},{"$f":"+(aem2csp2!D201+(aem2csp2!E201*10))*(10^((65-aem2csp2!$A$16)/10))","v":0},0,{"$error":"#DIV/0!"},{"$error":"#DIV/0!"},{"$error":"#DIV/0!"},{"$error":"#DIV/0!"}]
[null,null,null,null,"F28MK4 ",4.1216422760415899E-2,0.844761283690598,{"$f":"+(aem2csp2!B202+(aem2csp2!C202*10))*(10^((65-aem2csp2!$A$11)/10))","v":0},0,{"$error":"#DIV/0!"},{"$error":"#DIV/0!"},{"$error":"#DIV/0!"},{"$error":"#DIV/0!"},{"$f":"+(aem2csp2!B202+(aem2csp2!C202*10))*(10^((65-aem2csp2!$A$12)/10))","v":0},0,{"$error":"#DIV/0!"},{"$error":"#DIV/0!"},{"$error":"#DIV/0!"},{"$error":"#DIV/0!"},{"$f":"+(aem2csp2!B202+(aem2csp2!C202*10))*(10^((65-aem2csp2!$A$13)/10))","v":0},0,{"$error":"#DIV/0!"},{"$error":"#DIV/0!"},{"$error":"#DIV/0!"},{"$error":"#DIV/0!"},{"$f":"+(aem2csp2!B202+(aem2csp2!C202*10))*(10^((65-aem2csp2!$A$14)/10))","v":0},0,{"$error":"#DIV/0!"},{"$error":"#DIV/0!"},{"$error":"#DIV/0!"},{"$error":"#DIV/0!"},{"$f":"+(aem2csp2!B202+(aem2csp2!C202*10))*(10^((65-aem2csp2!$A$15)/10))","v":0},0,{"$error":"#DIV/0!"},{"$error":"#DIV/0!"},{"$error":"#DIV/0!"},{"$error":"#DIV/0!"},{"$f":"+(aem2csp2!B202+(aem2csp2!C202*10))*(10^((65-aem2csp2!$A$16)/10))","v":0},0,{"$error":"#DIV/0!"},{"$error":"#DIV/0!"},{"$error":"#DIV/0!"},{"$error":"#DIV/0!"},172,{"$f":"+(aem2csp2!D202+(aem2csp2!E202*10))*(10^((65-aem2csp2!$A$11)/10))","v":0},0,{"$error":"#DIV/0!"},{"$error":"#DIV/0!"},{"$error":"#DIV/0!"},{"$error":"#DIV/0!"},{"$f":"+(aem2csp2!D202+(aem2csp2!E202*10))*(10^((65-aem2csp2!$A$12)/10))","v":0},0,{"$error":"#DIV/0!"},{"$error":"#DIV/0!"},{"$error":"#DIV/0!"},{"$error":"#DIV/0!"},{"$f":"+(aem2csp2!D202+(aem2csp2!E202*10))*(10^((65-aem2csp2!$A$13)/10))","v":0},0,{"$error":"#DIV/0!"},{"$error":"#DIV/0!"},{"$error":"#DIV/0!"},{"$error":"#DIV/0!"},{"$f":"+(aem2csp2!D202+(aem2csp2!E202*10))*(10^((65-aem2csp2!$A$14)/10))","v":0},0,{"$error":"#DIV/0!"},{"$error":"#DIV/0!"},{"$error":"#DIV/0!"},{"$error":"#DIV/0!"},{"$f":"+(aem2csp2!D202+(aem2csp2!E202*10))*(10^((65-aem2csp2!$A$15)/10))","v":0},0,{"$error":"#DIV/0!"},{"$error":"#DIV/0!"},{"$error":"#DIV/0!"},{"$error":"#DIV/0!"},{"$f":"+(aem2csp2!D202+(aem2csp2!E202*10))*(10^((65-aem2csp2!$A$16)/10))","v":0},0,{"$error":"#DIV/0!"},{"$error":"#DIV/0!"},{"$error":"#DIV/0!"},{"$error":"#DIV/0!"}]
[null,null,null,null,"F4C ",1.3123667574264699,0.53838646995744799,{"$f":"+(aem2csp2!B203+(aem2csp2!C203*10))*(10^((65-aem2csp2!$A$11)/10))","v":0},0,{"$error":"#DIV/0!"},{"$error":"#DIV/0!"},{"$error":"#DIV/0!"},{"$error":"#DIV/0!"},{"$f":"+(aem2csp2!B203+(aem2csp2!C203*10))*(10^((65-aem2csp2!$A$12)/10))","v":0},0,{"$error":"#DIV/0!"},{"$error":"#DIV/0!"},{"$error":"#DIV/0!"},{"$error":"#DIV/0!"},{"$f":"+(aem2csp2!B203+(aem2csp2!C203*10))*(10^((65-aem2csp2!$A$13)/10))","v":0},0,{"$error":"#DIV/0!"},{"$error":"#DIV/0!"},{"$error":"#DIV/0!"},{"$error":"#DIV/0!"},{"$f":"+(aem2csp2!B203+(aem2csp2!C203*10))*(10^((65-aem2csp2!$A$14)/10))","v":0},0,{"$error":"#DIV/0!"},{"$error":"#DIV/0!"},{"$error":"#DIV/0!"},{"$error":"#DIV/0!"},{"$f":"+(aem2csp2!B203+(aem2csp2!C203*10))*(10^((65-aem2csp2!$A$15)/10))","v":0},0,{"$error":"#DIV/0!"},{"$error":"#DIV/0!"},{"$error":"#DIV/0!"},{"$error":"#DIV/0!"},{"$f":"+(aem2csp2!B203+(aem2csp2!C203*10))*(10^((65-aem2csp2!$A$16)/10))","v":0},0,{"$error":"#DIV/0!"},{"$error":"#DIV/0!"},{"$error":"#DIV/0!"},{"$error":"#DIV/0!"},173,{"$f":"+(aem2csp2!D203+(aem2csp2!E203*10))*(10^((65-aem2csp2!$A$11)/10))","v":0},0,{"$error":"#DIV/0!"},{"$error":"#DIV/0!"},{"$error":"#DIV/0!"},{"$error":"#DIV/0!"},{"$f":"+(aem2csp2!D203+(aem2csp2!E203*10))*(10^((65-aem2csp2!$A$12)/10))","v":0},0,{"$error":"#DIV/0!"},{"$error":"#DIV/0!"},{"$error":"#DIV/0!"},{"$error":"#DIV/0!"},{"$f":"+(aem2csp2!D203+(aem2csp2!E203*10))*(10^((65-aem2csp2!$A$13)/10))","v":0},0,{"$error":"#DIV/0!"},{"$error":"#DIV/0!"},{"$error":"#DIV/0!"},{"$error":"#DIV/0!"},{"$f":"+(aem2csp2!D203+(aem2csp2!E203*10))*(10^((65-aem2csp2!$A$14)/10))","v":0},0,{"$error":"#DIV/0!"},{"$error":"#DIV/0!"},{"$error":"#DIV/0!"},{"$error":"#DIV/0!"},{"$f":"+(aem2csp2!D203+(aem2csp2!E203*10))*(10^((65-aem2csp2!$A$15)/10))","v":0},0,{"$error":"#DIV/0!"},{"$error":"#DIV/0!"},{"$error":"#DIV/0!"},{"$error":"#DIV/0!"},{"$f":"+(aem2csp2!D203+(aem2csp2!E203*10))*(10^((65-aem2csp2!$A$16)/10))","v":0},0,{"$error":"#DIV/0!"},{"$error":"#DIV/0!"},{"$error":"#DIV/0!"},{"$error":"#DIV/0!"}]
[null,null,null,null,"F-4C ",1.1915154018193099,0.61898619783958497,{"$f":"+(aem2csp2!B204+(aem2csp2!C204*10))*(10^((65-aem2csp2!$A$11)/10))","v":0},0,{"$error":"#DIV/0!"},{"$error":"#DIV/0!"},{"$error":"#DIV/0!"},{"$error":"#DIV/0!"},{"$f":"+(aem2csp2!B204+(aem2csp2!C204*10))*(10^((65-aem2csp2!$A$12)/10))","v":0},0,{"$error":"#DIV/0!"},{"$error":"#DIV/0!"},{"$error":"#DIV/0!"},{"$error":"#DIV/0!"},{"$f":"+(aem2csp2!B204+(aem2csp2!C204*10))*(10^((65-aem2csp2!$A$13)/10))","v":0},0,{"$error":"#DIV/0!"},{"$error":"#DIV/0!"},{"$error":"#DIV/0!"},{"$error":"#DIV/0!"},{"$f":"+(aem2csp2!B204+(aem2csp2!C204*10))*(10^((65-aem2csp2!$A$14)/10))","v":0},0,{"$error":"#DIV/0!"},{"$error":"#DIV/0!"},{"$error":"#DIV/0!"},{"$error":"#DIV/0!"},{"$f":"+(aem2csp2!B204+(aem2csp2!C204*10))*(10^((65-aem2csp2!$A$15)/10))","v":0},0,{"$error":"#DIV/0!"},{"$error":"#DIV/0!"},{"$error":"#DIV/0!"},{"$error":"#DIV/0!"},{"$f":"+(aem2csp2!B204+(aem2csp2!C204*10))*(10^((65-aem2csp2!$A$16)/10))","v":0},0,{"$error":"#DIV/0!"},{"$error":"#DIV/0!"},{"$error":"#DIV/0!"},{"$error":"#DIV/0!"},174,{"$f":"+(aem2csp2!D204+(aem2csp2!E204*10))*(10^((65-aem2csp2!$A$11)/10))","v":0},0,{"$error":"#DIV/0!"},{"$error":"#DIV/0!"},{"$error":"#DIV/0!"},{"$error":"#DIV/0!"},{"$f":"+(aem2csp2!D204+(aem2csp2!E204*10))*(10^((65-aem2csp2!$A$12)/10))","v":0},0,{"$error":"#DIV/0!"},{"$error":"#DIV/0!"},{"$error":"#DIV/0!"},{"$error":"#DIV/0!"},{"$f":"+(aem2csp2!D204+(aem2csp2!E204*10))*(10^((65-aem2csp2!$A$13)/10))","v":0},0,{"$error":"#DIV/0!"},{"$error":"#DIV/0!"},{"$error":"#DIV/0!"},{"$error":"#DIV/0!"},{"$f":"+(aem2csp2!D204+(aem2csp2!E204*10))*(10^((65-aem2csp2!$A$14)/10))","v":0},0,{"$error":"#DIV/0!"},{"$error":"#DIV/0!"},{"$error":"#DIV/0!"},{"$error":"#DIV/0!"},{"$f":"+(aem2csp2!D204+(aem2csp2!E204*10))*(10^((65-aem2csp2!$A$15)/10))","v":0},0,{"$error":"#DIV/0!"},{"$error":"#DIV/0!"},{"$error":"#DIV/0!"},{"$error":"#DIV/0!"},{"$f":"+(aem2csp2!D204+(aem2csp2!E204*10))*(10^((65-aem2csp2!$A$16)/10))","v":0},0,{"$error":"#DIV/0!"},{"$error":"#DIV/0!"},{"$error":"#DIV/0!"},{"$error":"#DIV/0!"}]
[null,null,null,null,"F5AB ",0.53772361217836795,0.53775384473270005,{"$f":"+(aem2csp2!B205+(aem2csp2!C205*10))*(10^((65-aem2csp2!$A$11)/10))","v":0},0,{"$error":"#DIV/0!"},{"$error":"#DIV/0!"},{"$error":"#DIV/0!"},{"$error":"#DIV/0!"},{"$f":"+(aem2csp2!B205+(aem2csp2!C205*10))*(10^((65-aem2csp2!$A$12)/10))","v":0},0,{"$error":"#DIV/0!"},{"$error":"#DIV/0!"},{"$error":"#DIV/0!"},{"$error":"#DIV/0!"},{"$f":"+(aem2csp2!B205+(aem2csp2!C205*10))*(10^((65-aem2csp2!$A$13)/10))","v":0},0,{"$error":"#DIV/0!"},{"$error":"#DIV/0!"},{"$error":"#DIV/0!"},{"$error":"#DIV/0!"},{"$f":"+(aem2csp2!B205+(aem2csp2!C205*10))*(10^((65-aem2csp2!$A$14)/10))","v":0},0,{"$error":"#DIV/0!"},{"$error":"#DIV/0!"},{"$error":"#DIV/0!"},{"$error":"#DIV/0!"},{"$f":"+(aem2csp2!B205+(aem2csp2!C205*10))*(10^((65-aem2csp2!$A$15)/10))","v":0},0,{"$error":"#DIV/0!"},{"$error":"#DIV/0!"},{"$error":"#DIV/0!"},{"$error":"#DIV/0!"},{"$f":"+(aem2csp2!B205+(aem2csp2!C205*10))*(10^((65-aem2csp2!$A$16)/10))","v":0},0,{"$error":"#DIV/0!"},{"$error":"#DIV/0!"},{"$error":"#DIV/0!"},{"$error":"#DIV/0!"},175,{"$f":"+(aem2csp2!D205+(aem2csp2!E205*10))*(10^((65-aem2csp2!$A$11)/10))","v":0},0,{"$error":"#DIV/0!"},{"$error":"#DIV/0!"},{"$error":"#DIV/0!"},{"$error":"#DIV/0!"},{"$f":"+(aem2csp2!D205+(aem2csp2!E205*10))*(10^((65-aem2csp2!$A$12)/10))","v":0},0,{"$error":"#DIV/0!"},{"$error":"#DIV/0!"},{"$error":"#DIV/0!"},{"$error":"#DIV/0!"},{"$f":"+(aem2csp2!D205+(aem2csp2!E205*10))*(10^((65-aem2csp2!$A$13)/10))","v":0},0,{"$error":"#DIV/0!"},{"$error":"#DIV/0!"},{"$error":"#DIV/0!"},{"$error":"#DIV/0!"},{"$f":"+(aem2csp2!D205+(aem2csp2!E205*10))*(10^((65-aem2csp2!$A$14)/10))","v":0},0,{"$error":"#DIV/0!"},{"$error":"#DIV/0!"},{"$error":"#DIV/0!"},{"$error":"#DIV/0!"},{"$f":"+(aem2csp2!D205+(aem2csp2!E205*10))*(10^((65-aem2csp2!$A$15)/10))","v":0},0,{"$error":"#DIV/0!"},{"$error":"#DIV/0!"},{"$error":"#DIV/0!"},{"$error":"#DIV/0!"},{"$f":"+(aem2csp2!D205+(aem2csp2!E205*10))*(10^((65-aem2csp2!$A$16)/10))","v":0},0,{"$error":"#DIV/0!"},{"$error":"#DIV/0!"},{"$error":"#DIV/0!"},{"$error":"#DIV/0!"}]
[null,null,null,null,"F5E ",0.62855975479358805,0.53052749475462802,{"$f":"+(aem2csp2!B206+(aem2csp2!C206*10))*(10^((65-aem2csp2!$A$11)/10))","v":0},0,{"$error":"#DIV/0!"},{"$error":"#DIV/0!"},{"$error":"#DIV/0!"},{"$error":"#DIV/0!"},{"$f":"+(aem2csp2!B206+(aem2csp2!C206*10))*(10^((65-aem2csp2!$A$12)/10))","v":0},0,{"$error":"#DIV/0!"},{"$error":"#DIV/0!"},{"$error":"#DIV/0!"},{"$error":"#DIV/0!"},{"$f":"+(aem2csp2!B206+(aem2csp2!C206*10))*(10^((65-aem2csp2!$A$13)/10))","v":0},0,{"$error":"#DIV/0!"},{"$error":"#DIV/0!"},{"$error":"#DIV/0!"},{"$error":"#DIV/0!"},{"$f":"+(aem2csp2!B206+(aem2csp2!C206*10))*(10^((65-aem2csp2!$A$14)/10))","v":0},0,{"$error":"#DIV/0!"},{"$error":"#DIV/0!"},{"$error":"#DIV/0!"},{"$error":"#DIV/0!"},{"$f":"+(aem2csp2!B206+(aem2csp2!C206*10))*(10^((65-aem2csp2!$A$15)/10))","v":0},0,{"$error":"#DIV/0!"},{"$error":"#DIV/0!"},{"$error":"#DIV/0!"},{"$error":"#DIV/0!"},{"$f":"+(aem2csp2!B206+(aem2csp2!C206*10))*(10^((65-aem2csp2!$A$16)/10))","v":0},0,{"$error":"#DIV/0!"},{"$error":"#DIV/0!"},{"$error":"#DIV/0!"},{"$error":"#DIV/0!"},176,{"$f":"+(aem2csp2!D206+(aem2csp2!E206*10))*(10^((65-aem2csp2!$A$11)/10))","v":0},0,{"$error":"#DIV/0!"},{"$error":"#DIV/0!"},{"$error":"#DIV/0!"},{"$error":"#DIV/0!"},{"$f":"+(aem2csp2!D206+(aem2csp2!E206*10))*(10^((65-aem2csp2!$A$12)/10))","v":0},0,{"$error":"#DIV/0!"},{"$error":"#DIV/0!"},{"$error":"#DIV/0!"},{"$error":"#DIV/0!"},{"$f":"+(aem2csp2!D206+(aem2csp2!E206*10))*(10^((65-aem2csp2!$A$13)/10))","v":0},0,{"$error":"#DIV/0!"},{"$error":"#DIV/0!"},{"$error":"#DIV/0!"},{"$error":"#DIV/0!"},{"$f":"+(aem2csp2!D206+(aem2csp2!E206*10))*(10^((65-aem2csp2!$A$14)/10))","v":0},0,{"$error":"#DIV/0!"},{"$error":"#DIV/0!"},{"$error":"#DIV/0!"},{"$error":"#DIV/0!"},{"$f":"+(aem2csp2!D206+(aem2csp2!E206*10))*(10^((65-aem2csp2!$A$15)/10))","v":0},0,{"$error":"#DIV/0!"},{"$error":"#DIV/0!"},{"$error":"#DIV/0!"},{"$error":"#DIV/0!"},{"$f":"+(aem2csp2!D206+(aem2csp2!E206*10))*(10^((65-aem2csp2!$A$16)/10))","v":0},0,{"$error":"#DIV/0!"},{"$error":"#DIV/0!"},{"$error":"#DIV/0!"},{"$error":"#DIV/0!"}]
[null,null,null,null,"F8 ",1.6350680048422299,0.46784203098452798,{"$f":"+(aem2csp2!B207+(aem2csp2!C207*10))*(10^((65-aem2csp2!$A$11)/10))","v":0},0,{"$error":"#DIV/0!"},{"$error":"#DIV/0!"},{"$error":"#DIV/0!"},{"$error":"#DIV/0!"},{"$f":"+(aem2csp2!B207+(aem2csp2!C207*10))*(10^((65-aem2csp2!$A$12)/10))","v":0},0,{"$error":"#DIV/0!"},{"$error":"#DIV/0!"},{"$error":"#DIV/0!"},{"$error":"#DIV/0!"},{"$f":"+(aem2csp2!B207+(aem2csp2!C207*10))*(10^((65-aem2csp2!$A$13)/10))","v":0},0,{"$error":"#DIV/0!"},{"$error":"#DIV/0!"},{"$error":"#DIV/0!"},{"$error":"#DIV/0!"},{"$f":"+(aem2csp2!B207+(aem2csp2!C207*10))*(10^((65-aem2csp2!$A$14)/10))","v":0},0,{"$error":"#DIV/0!"},{"$error":"#DIV/0!"},{"$error":"#DIV/0!"},{"$error":"#DIV/0!"},{"$f":"+(aem2csp2!B207+(aem2csp2!C207*10))*(10^((65-aem2csp2!$A$15)/10))","v":0},0,{"$error":"#DIV/0!"},{"$error":"#DIV/0!"},{"$error":"#DIV/0!"},{"$error":"#DIV/0!"},{"$f":"+(aem2csp2!B207+(aem2csp2!C207*10))*(10^((65-aem2csp2!$A$16)/10))","v":0},0,{"$error":"#DIV/0!"},{"$error":"#DIV/0!"},{"$error":"#DIV/0!"},{"$error":"#DIV/0!"},177,{"$f":"+(aem2csp2!D207+(aem2csp2!E207*10))*(10^((65-aem2csp2!$A$11)/10))","v":0},0,{"$error":"#DIV/0!"},{"$error":"#DIV/0!"},{"$error":"#DIV/0!"},{"$error":"#DIV/0!"},{"$f":"+(aem2csp2!D207+(aem2csp2!E207*10))*(10^((65-aem2csp2!$A$12)/10))","v":0},0,{"$error":"#DIV/0!"},{"$error":"#DIV/0!"},{"$error":"#DIV/0!"},{"$error":"#DIV/0!"},{"$f":"+(aem2csp2!D207+(aem2csp2!E207*10))*(10^((65-aem2csp2!$A$13)/10))","v":0},0,{"$error":"#DIV/0!"},{"$error":"#DIV/0!"},{"$error":"#DIV/0!"},{"$error":"#DIV/0!"},{"$f":"+(aem2csp2!D207+(aem2csp2!E207*10))*(10^((65-aem2csp2!$A$14)/10))","v":0},0,{"$error":"#DIV/0!"},{"$error":"#DIV/0!"},{"$error":"#DIV/0!"},{"$error":"#DIV/0!"},{"$f":"+(aem2csp2!D207+(aem2csp2!E207*10))*(10^((65-aem2csp2!$A$15)/10))","v":0},0,{"$error":"#DIV/0!"},{"$error":"#DIV/0!"},{"$error":"#DIV/0!"},{"$error":"#DIV/0!"},{"$f":"+(aem2csp2!D207+(aem2csp2!E207*10))*(10^((65-aem2csp2!$A$16)/10))","v":0},0,{"$error":"#DIV/0!"},{"$error":"#DIV/0!"},{"$error":"#DIV/0!"},{"$error":"#DIV/0!"}]
[null,null,null,null,"FAL20 ",4.84824346141274E-2,0.681554415604124,{"$f":"+(aem2csp2!B208+(aem2csp2!C208*10))*(10^((65-aem2csp2!$A$11)/10))","v":0},0,{"$error":"#DIV/0!"},{"$error":"#DIV/0!"},{"$error":"#DIV/0!"},{"$error":"#DIV/0!"},{"$f":"+(aem2csp2!B208+(aem2csp2!C208*10))*(10^((65-aem2csp2!$A$12)/10))","v":0},0,{"$error":"#DIV/0!"},{"$error":"#DIV/0!"},{"$error":"#DIV/0!"},{"$error":"#DIV/0!"},{"$f":"+(aem2csp2!B208+(aem2csp2!C208*10))*(10^((65-aem2csp2!$A$13)/10))","v":0},0,{"$error":"#DIV/0!"},{"$error":"#DIV/0!"},{"$error":"#DIV/0!"},{"$error":"#DIV/0!"},{"$f":"+(aem2csp2!B208+(aem2csp2!C208*10))*(10^((65-aem2csp2!$A$14)/10))","v":0},0,{"$error":"#DIV/0!"},{"$error":"#DIV/0!"},{"$error":"#DIV/0!"},{"$error":"#DIV/0!"},{"$f":"+(aem2csp2!B208+(aem2csp2!C208*10))*(10^((65-aem2csp2!$A$15)/10))","v":0},0,{"$error":"#DIV/0!"},{"$error":"#DIV/0!"},{"$error":"#DIV/0!"},{"$error":"#DIV/0!"},{"$f":"+(aem2csp2!B208+(aem2csp2!C208*10))*(10^((65-aem2csp2!$A$16)/10))","v":0},0,{"$error":"#DIV/0!"},{"$error":"#DIV/0!"},{"$error":"#DIV/0!"},{"$error":"#DIV/0!"},178,{"$f":"+(aem2csp2!D208+(aem2csp2!E208*10))*(10^((65-aem2csp2!$A$11)/10))","v":0},0,{"$error":"#DIV/0!"},{"$error":"#DIV/0!"},{"$error":"#DIV/0!"},{"$error":"#DIV/0!"},{"$f":"+(aem2csp2!D208+(aem2csp2!E208*10))*(10^((65-aem2csp2!$A$12)/10))","v":0},0,{"$error":"#DIV/0!"},{"$error":"#DIV/0!"},{"$error":"#DIV/0!"},{"$error":"#DIV/0!"},{"$f":"+(aem2csp2!D208+(aem2csp2!E208*10))*(10^((65-aem2csp2!$A$13)/10))","v":0},0,{"$error":"#DIV/0!"},{"$error":"#DIV/0!"},{"$error":"#DIV/0!"},{"$error":"#DIV/0!"},{"$f":"+(aem2csp2!D208+(aem2csp2!E208*10))*(10^((65-aem2csp2!$A$14)/10))","v":0},0,{"$error":"#DIV/0!"},{"$error":"#DIV/0!"},{"$error":"#DIV/0!"},{"$error":"#DIV/0!"},{"$f":"+(aem2csp2!D208+(aem2csp2!E208*10))*(10^((65-aem2csp2!$A$15)/10))","v":0},0,{"$error":"#DIV/0!"},{"$error":"#DIV/0!"},{"$error":"#DIV/0!"},{"$error":"#DIV/0!"},{"$f":"+(aem2csp2!D208+(aem2csp2!E208*10))*(10^((65-aem2csp2!$A$16)/10))","v":0},0,{"$error":"#DIV/0!"},{"$error":"#DIV/0!"},{"$error":"#DIV/0!"},{"$error":"#DIV/0!"}]
[null,null,null,null,"FB111A ",0.83164867695877498,0.50009113322353305,{"$f":"+(aem2csp2!B209+(aem2csp2!C209*10))*(10^((65-aem2csp2!$A$11)/10))","v":0},0,{"$error":"#DIV/0!"},{"$error":"#DIV/0!"},{"$error":"#DIV/0!"},{"$error":"#DIV/0!"},{"$f":"+(aem2csp2!B209+(aem2csp2!C209*10))*(10^((65-aem2csp2!$A$12)/10))","v":0},0,{"$error":"#DIV/0!"},{"$error":"#DIV/0!"},{"$error":"#DIV/0!"},{"$error":"#DIV/0!"},{"$f":"+(aem2csp2!B209+(aem2csp2!C209*10))*(10^((65-aem2csp2!$A$13)/10))","v":0},0,{"$error":"#DIV/0!"},{"$error":"#DIV/0!"},{"$error":"#DIV/0!"},{"$error":"#DIV/0!"},{"$f":"+(aem2csp2!B209+(aem2csp2!C209*10))*(10^((65-aem2csp2!$A$14)/10))","v":0},0,{"$error":"#DIV/0!"},{"$error":"#DIV/0!"},{"$error":"#DIV/0!"},{"$error":"#DIV/0!"},{"$f":"+(aem2csp2!B209+(aem2csp2!C209*10))*(10^((65-aem2csp2!$A$15)/10))","v":0},0,{"$error":"#DIV/0!"},{"$error":"#DIV/0!"},{"$error":"#DIV/0!"},{"$error":"#DIV/0!"},{"$f":"+(aem2csp2!B209+(aem2csp2!C209*10))*(10^((65-aem2csp2!$A$16)/10))","v":0},0,{"$error":"#DIV/0!"},{"$error":"#DIV/0!"},{"$error":"#DIV/0!"},{"$error":"#DIV/0!"},179,{"$f":"+(aem2csp2!D209+(aem2csp2!E209*10))*(10^((65-aem2csp2!$A$11)/10))","v":0},0,{"$error":"#DIV/0!"},{"$error":"#DIV/0!"},{"$error":"#DIV/0!"},{"$error":"#DIV/0!"},{"$f":"+(aem2csp2!D209+(aem2csp2!E209*10))*(10^((65-aem2csp2!$A$12)/10))","v":0},0,{"$error":"#DIV/0!"},{"$error":"#DIV/0!"},{"$error":"#DIV/0!"},{"$error":"#DIV/0!"},{"$f":"+(aem2csp2!D209+(aem2csp2!E209*10))*(10^((65-aem2csp2!$A$13)/10))","v":0},0,{"$error":"#DIV/0!"},{"$error":"#DIV/0!"},{"$error":"#DIV/0!"},{"$error":"#DIV/0!"},{"$f":"+(aem2csp2!D209+(aem2csp2!E209*10))*(10^((65-aem2csp2!$A$14)/10))","v":0},0,{"$error":"#DIV/0!"},{"$error":"#DIV/0!"},{"$error":"#DIV/0!"},{"$error":"#DIV/0!"},{"$f":"+(aem2csp2!D209+(aem2csp2!E209*10))*(10^((65-aem2csp2!$A$15)/10))","v":0},0,{"$error":"#DIV/0!"},{"$error":"#DIV/0!"},{"$error":"#DIV/0!"},{"$error":"#DIV/0!"},{"$f":"+(aem2csp2!D209+(aem2csp2!E209*10))*(10^((65-aem2csp2!$A$16)/10))","v":0},0,{"$error":"#DIV/0!"},{"$error":"#DIV/0!"},{"$error":"#DIV/0!"},{"$error":"#DIV/0!"}]
[null,null,null,null,"GASEPF ",6.1021186617463098E-3,0.55284787150828696,{"$f":"+(aem2csp2!B210+(aem2csp2!C210*10))*(10^((65-aem2csp2!$A$11)/10))","v":0},0,{"$error":"#DIV/0!"},{"$error":"#DIV/0!"},{"$error":"#DIV/0!"},{"$error":"#DIV/0!"},{"$f":"+(aem2csp2!B210+(aem2csp2!C210*10))*(10^((65-aem2csp2!$A$12)/10))","v":0},0,{"$error":"#DIV/0!"},{"$error":"#DIV/0!"},{"$error":"#DIV/0!"},{"$error":"#DIV/0!"},{"$f":"+(aem2csp2!B210+(aem2csp2!C210*10))*(10^((65-aem2csp2!$A$13)/10))","v":0},0,{"$error":"#DIV/0!"},{"$error":"#DIV/0!"},{"$error":"#DIV/0!"},{"$error":"#DIV/0!"},{"$f":"+(aem2csp2!B210+(aem2csp2!C210*10))*(10^((65-aem2csp2!$A$14)/10))","v":0},0,{"$error":"#DIV/0!"},{"$error":"#DIV/0!"},{"$error":"#DIV/0!"},{"$error":"#DIV/0!"},{"$f":"+(aem2csp2!B210+(aem2csp2!C210*10))*(10^((65-aem2csp2!$A$15)/10))","v":0},0,{"$error":"#DIV/0!"},{"$error":"#DIV/0!"},{"$error":"#DIV/0!"},{"$error":"#DIV/0!"},{"$f":"+(aem2csp2!B210+(aem2csp2!C210*10))*(10^((65-aem2csp2!$A$16)/10))","v":0},0,{"$error":"#DIV/0!"},{"$error":"#DIV/0!"},{"$error":"#DIV/0!"},{"$error":"#DIV/0!"},180,{"$f":"+(aem2csp2!D210+(aem2csp2!E210*10))*(10^((65-aem2csp2!$A$11)/10))","v":0},0,{"$error":"#DIV/0!"},{"$error":"#DIV/0!"},{"$error":"#DIV/0!"},{"$error":"#DIV/0!"},{"$f":"+(aem2csp2!D210+(aem2csp2!E210*10))*(10^((65-aem2csp2!$A$12)/10))","v":0},0,{"$error":"#DIV/0!"},{"$error":"#DIV/0!"},{"$error":"#DIV/0!"},{"$error":"#DIV/0!"},{"$f":"+(aem2csp2!D210+(aem2csp2!E210*10))*(10^((65-aem2csp2!$A$13)/10))","v":0},0,{"$error":"#DIV/0!"},{"$error":"#DIV/0!"},{"$error":"#DIV/0!"},{"$error":"#DIV/0!"},{"$f":"+(aem2csp2!D210+(aem2csp2!E210*10))*(10^((65-aem2csp2!$A$14)/10))","v":0},0,{"$error":"#DIV/0!"},{"$error":"#DIV/0!"},{"$error":"#DIV/0!"},{"$error":"#DIV/0!"},{"$f":"+(aem2csp2!D210+(aem2csp2!E210*10))*(10^((65-aem2csp2!$A$15)/10))","v":0},0,{"$error":"#DIV/0!"},{"$error":"#DIV/0!"},{"$error":"#DIV/0!"},{"$error":"#DIV/0!"},{"$f":"+(aem2csp2!D210+(aem2csp2!E210*10))*(10^((65-aem2csp2!$A$16)/10))","v":0},0,{"$error":"#DIV/0!"},{"$error":"#DIV/0!"},{"$error":"#DIV/0!"},{"$error":"#DIV/0!"}]
[null,null,null,null,"GASEPV ",9.3378753118591208E-3,0.68681650829420104,{"$f":"+(aem2csp2!B211+(aem2csp2!C211*10))*(10^((65-aem2csp2!$A$11)/10))","v":0},0,{"$error":"#DIV/0!"},{"$error":"#DIV/0!"},{"$error":"#DIV/0!"},{"$error":"#DIV/0!"},{"$f":"+(aem2csp2!B211+(aem2csp2!C211*10))*(10^((65-aem2csp2!$A$12)/10))","v":0},0,{"$error":"#DIV/0!"},{"$error":"#DIV/0!"},{"$error":"#DIV/0!"},{"$error":"#DIV/0!"},{"$f":"+(aem2csp2!B211+(aem2csp2!C211*10))*(10^((65-aem2csp2!$A$13)/10))","v":0},0,{"$error":"#DIV/0!"},{"$error":"#DIV/0!"},{"$error":"#DIV/0!"},{"$error":"#DIV/0!"},{"$f":"+(aem2csp2!B211+(aem2csp2!C211*10))*(10^((65-aem2csp2!$A$14)/10))","v":0},0,{"$error":"#DIV/0!"},{"$error":"#DIV/0!"},{"$error":"#DIV/0!"},{"$error":"#DIV/0!"},{"$f":"+(aem2csp2!B211+(aem2csp2!C211*10))*(10^((65-aem2csp2!$A$15)/10))","v":0},0,{"$error":"#DIV/0!"},{"$error":"#DIV/0!"},{"$error":"#DIV/0!"},{"$error":"#DIV/0!"},{"$f":"+(aem2csp2!B211+(aem2csp2!C211*10))*(10^((65-aem2csp2!$A$16)/10))","v":0},0,{"$error":"#DIV/0!"},{"$error":"#DIV/0!"},{"$error":"#DIV/0!"},{"$error":"#DIV/0!"},181,{"$f":"+(aem2csp2!D211+(aem2csp2!E211*10))*(10^((65-aem2csp2!$A$11)/10))","v":0},0,{"$error":"#DIV/0!"},{"$error":"#DIV/0!"},{"$error":"#DIV/0!"},{"$error":"#DIV/0!"},{"$f":"+(aem2csp2!D211+(aem2csp2!E211*10))*(10^((65-aem2csp2!$A$12)/10))","v":0},0,{"$error":"#DIV/0!"},{"$error":"#DIV/0!"},{"$error":"#DIV/0!"},{"$error":"#DIV/0!"},{"$f":"+(aem2csp2!D211+(aem2csp2!E211*10))*(10^((65-aem2csp2!$A$13)/10))","v":0},0,{"$error":"#DIV/0!"},{"$error":"#DIV/0!"},{"$error":"#DIV/0!"},{"$error":"#DIV/0!"},{"$f":"+(aem2csp2!D211+(aem2csp2!E211*10))*(10^((65-aem2csp2!$A$14)/10))","v":0},0,{"$error":"#DIV/0!"},{"$error":"#DIV/0!"},{"$error":"#DIV/0!"},{"$error":"#DIV/0!"},{"$f":"+(aem2csp2!D211+(aem2csp2!E211*10))*(10^((65-aem2csp2!$A$15)/10))","v":0},0,{"$error":"#DIV/0!"},{"$error":"#DIV/0!"},{"$error":"#DIV/0!"},{"$error":"#DIV/0!"},{"$f":"+(aem2csp2!D211+(aem2csp2!E211*10))*(10^((65-aem2csp2!$A$16)/10))","v":0},0,{"$error":"#DIV/0!"},{"$error":"#DIV/0!"},{"$error":"#DIV/0!"},{"$error":"#DIV/0!"}]
[null,null,null,null,"GII ",8.3769491148434502E-2,0.82469053475091403,{"$f":"+(aem2csp2!B212+(aem2csp2!C212*10))*(10^((65-aem2csp2!$A$11)/10))","v":0},0,{"$error":"#DIV/0!"},{"$error":"#DIV/0!"},{"$error":"#DIV/0!"},{"$error":"#DIV/0!"},{"$f":"+(aem2csp2!B212+(aem2csp2!C212*10))*(10^((65-aem2csp2!$A$12)/10))","v":0},0,{"$error":"#DIV/0!"},{"$error":"#DIV/0!"},{"$error":"#DIV/0!"},{"$error":"#DIV/0!"},{"$f":"+(aem2csp2!B212+(aem2csp2!C212*10))*(10^((65-aem2csp2!$A$13)/10))","v":0},0,{"$error":"#DIV/0!"},{"$error":"#DIV/0!"},{"$error":"#DIV/0!"},{"$error":"#DIV/0!"},{"$f":"+(aem2csp2!B212+(aem2csp2!C212*10))*(10^((65-aem2csp2!$A$14)/10))","v":0},0,{"$error":"#DIV/0!"},{"$error":"#DIV/0!"},{"$error":"#DIV/0!"},{"$error":"#DIV/0!"},{"$f":"+(aem2csp2!B212+(aem2csp2!C212*10))*(10^((65-aem2csp2!$A$15)/10))","v":0},0,{"$error":"#DIV/0!"},{"$error":"#DIV/0!"},{"$error":"#DIV/0!"},{"$error":"#DIV/0!"},{"$f":"+(aem2csp2!B212+(aem2csp2!C212*10))*(10^((65-aem2csp2!$A$16)/10))","v":0},0,{"$error":"#DIV/0!"},{"$error":"#DIV/0!"},{"$error":"#DIV/0!"},{"$error":"#DIV/0!"},182,{"$f":"+(aem2csp2!D212+(aem2csp2!E212*10))*(10^((65-aem2csp2!$A$11)/10))","v":0},0,{"$error":"#DIV/0!"},{"$error":"#DIV/0!"},{"$error":"#DIV/0!"},{"$error":"#DIV/0!"},{"$f":"+(aem2csp2!D212+(aem2csp2!E212*10))*(10^((65-aem2csp2!$A$12)/10))","v":0},0,{"$error":"#DIV/0!"},{"$error":"#DIV/0!"},{"$error":"#DIV/0!"},{"$error":"#DIV/0!"},{"$f":"+(aem2csp2!D212+(aem2csp2!E212*10))*(10^((65-aem2csp2!$A$13)/10))","v":0},0,{"$error":"#DIV/0!"},{"$error":"#DIV/0!"},{"$error":"#DIV/0!"},{"$error":"#DIV/0!"},{"$f":"+(aem2csp2!D212+(aem2csp2!E212*10))*(10^((65-aem2csp2!$A$14)/10))","v":0},0,{"$error":"#DIV/0!"},{"$error":"#DIV/0!"},{"$error":"#DIV/0!"},{"$error":"#DIV/0!"},{"$f":"+(aem2csp2!D212+(aem2csp2!E212*10))*(10^((65-aem2csp2!$A$15)/10))","v":0},0,{"$error":"#DIV/0!"},{"$error":"#DIV/0!"},{"$error":"#DIV/0!"},{"$error":"#DIV/0!"},{"$f":"+(aem2csp2!D212+(aem2csp2!E212*10))*(10^((65-aem2csp2!$A$16)/10))","v":0},0,{"$error":"#DIV/0!"},{"$error":"#DIV/0!"},{"$error":"#DIV/0!"},{"$error":"#DIV/0!"}]
[null,null,null,null,"GIIB ",4.8600230058242801E-2,0.907055616426096,{"$f":"+(aem2csp2!B213+(aem2csp2!C213*10))*(10^((65-aem2csp2!$A$11)/10))","v":0},{"$f":"+F213*(H213^G213)","v":0},{"$error":"#DIV/0!"},{"$f":"+J213/G213","v":{"$error":"#DIV/0!"}},{"$error":"#DIV/0!"},{"$error":"#DIV/0!"},{"$f":"+(aem2csp2!B213+(aem2csp2!C213*10))*(10^((65-aem2csp2!$A$12)/10))","v":0},0,{"$error":"#DIV/0!"},{"$error":"#DIV/0!"},{"$error":"#DIV/0!"},{"$error":"#DIV/0!"},{"$f":"+(aem2csp2!B213+(aem2csp2!C213*10))*(10^((65-aem2csp2!$A$13)/10))","v":0},0,{"$error":"#DIV/0!"},{"$error":"#DIV/0!"},{"$error":"#DIV/0!"},{"$error":"#DIV/0!"},{"$f":"+(aem2csp2!B213+(aem2csp2!C213*10))*(10^((65-aem2csp2!$A$14)/10))","v":0},0,{"$error":"#DIV/0!"},{"$error":"#DIV/0!"},{"$error":"#DIV/0!"},{"$error":"#DIV/0!"},{"$f":"+(aem2csp2!B213+(aem2csp2!C213*10))*(10^((65-aem2csp2!$A$15)/10))","v":0},0,{"$error":"#DIV/0!"},{"$error":"#DIV/0!"},{"$error":"#DIV/0!"},{"$error":"#DIV/0!"},{"$f":"+(aem2csp2!B213+(aem2csp2!C213*10))*(10^((65-aem2csp2!$A$16)/10))","v":0},0,{"$error":"#DIV/0!"},{"$error":"#DIV/0!"},{"$error":"#DIV/0!"},{"$error":"#DIV/0!"},183,{"$f":"+(aem2csp2!D213+(aem2csp2!E213*10))*(10^((65-aem2csp2!$A$11)/10))","v":0},0,{"$error":"#DIV/0!"},{"$error":"#DIV/0!"},{"$error":"#DIV/0!"},{"$error":"#DIV/0!"},{"$f":"+(aem2csp2!D213+(aem2csp2!E213*10))*(10^((65-aem2csp2!$A$12)/10))","v":0},0,{"$error":"#DIV/0!"},{"$error":"#DIV/0!"},{"$error":"#DIV/0!"},{"$error":"#DIV/0!"},{"$f":"+(aem2csp2!D213+(aem2csp2!E213*10))*(10^((65-aem2csp2!$A$13)/10))","v":0},0,{"$error":"#DIV/0!"},{"$error":"#DIV/0!"},{"$error":"#DIV/0!"},{"$error":"#DIV/0!"},{"$f":"+(aem2csp2!D213+(aem2csp2!E213*10))*(10^((65-aem2csp2!$A$14)/10))","v":0},0,{"$error":"#DIV/0!"},{"$error":"#DIV/0!"},{"$error":"#DIV/0!"},{"$error":"#DIV/0!"},{"$f":"+(aem2csp2!D213+(aem2csp2!E213*10))*(10^((65-aem2csp2!$A$15)/10))","v":0},0,{"$error":"#DIV/0!"},{"$error":"#DIV/0!"},{"$error":"#DIV/0!"},{"$error":"#DIV/0!"},{"$f":"+(aem2csp2!D213+(aem2csp2!E213*10))*(10^((65-aem2csp2!$A$16)/10))","v":0},0,{"$error":"#DIV/0!"},{"$error":"#DIV/0!"},{"$error":"#DIV/0!"},{"$error":"#DIV/0!"}]
[null,null,null,null,"GIV ",1.92863002948933E-2,0.56946084412284403,{"$f":"+(aem2csp2!B214+(aem2csp2!C214*10))*(10^((65-aem2csp2!$A$11)/10))","v":0},0,{"$error":"#DIV/0!"},{"$error":"#DIV/0!"},{"$error":"#DIV/0!"},{"$error":"#DIV/0!"},{"$f":"+(aem2csp2!B214+(aem2csp2!C214*10))*(10^((65-aem2csp2!$A$12)/10))","v":0},0,{"$error":"#DIV/0!"},{"$error":"#DIV/0!"},{"$error":"#DIV/0!"},{"$error":"#DIV/0!"},{"$f":"+(aem2csp2!B214+(aem2csp2!C214*10))*(10^((65-aem2csp2!$A$13)/10))","v":0},0,{"$error":"#DIV/0!"},{"$error":"#DIV/0!"},{"$error":"#DIV/0!"},{"$error":"#DIV/0!"},{"$f":"+(aem2csp2!B214+(aem2csp2!C214*10))*(10^((65-aem2csp2!$A$14)/10))","v":0},0,{"$error":"#DIV/0!"},{"$error":"#DIV/0!"},{"$error":"#DIV/0!"},{"$error":"#DIV/0!"},{"$f":"+(aem2csp2!B214+(aem2csp2!C214*10))*(10^((65-aem2csp2!$A$15)/10))","v":0},0,{"$error":"#DIV/0!"},{"$error":"#DIV/0!"},{"$error":"#DIV/0!"},{"$error":"#DIV/0!"},{"$f":"+(aem2csp2!B214+(aem2csp2!C214*10))*(10^((65-aem2csp2!$A$16)/10))","v":0},0,{"$error":"#DIV/0!"},{"$error":"#DIV/0!"},{"$error":"#DIV/0!"},{"$error":"#DIV/0!"},184,{"$f":"+(aem2csp2!D214+(aem2csp2!E214*10))*(10^((65-aem2csp2!$A$11)/10))","v":0},0,{"$error":"#DIV/0!"},{"$error":"#DIV/0!"},{"$error":"#DIV/0!"},{"$error":"#DIV/0!"},{"$f":"+(aem2csp2!D214+(aem2csp2!E214*10))*(10^((65-aem2csp2!$A$12)/10))","v":0},0,{"$error":"#DIV/0!"},{"$error":"#DIV/0!"},{"$error":"#DIV/0!"},{"$error":"#DIV/0!"},{"$f":"+(aem2csp2!D214+(aem2csp2!E214*10))*(10^((65-aem2csp2!$A$13)/10))","v":0},0,{"$error":"#DIV/0!"},{"$error":"#DIV/0!"},{"$error":"#DIV/0!"},{"$error":"#DIV/0!"},{"$f":"+(aem2csp2!D214+(aem2csp2!E214*10))*(10^((65-aem2csp2!$A$14)/10))","v":0},0,{"$error":"#DIV/0!"},{"$error":"#DIV/0!"},{"$error":"#DIV/0!"},{"$error":"#DIV/0!"},{"$f":"+(aem2csp2!D214+(aem2csp2!E214*10))*(10^((65-aem2csp2!$A$15)/10))","v":0},0,{"$error":"#DIV/0!"},{"$error":"#DIV/0!"},{"$error":"#DIV/0!"},{"$error":"#DIV/0!"},{"$f":"+(aem2csp2!D214+(aem2csp2!E214*10))*(10^((65-aem2csp2!$A$16)/10))","v":0},0,{"$error":"#DIV/0!"},{"$error":"#DIV/0!"},{"$error":"#DIV/0!"},{"$error":"#DIV/0!"}]
[null,null,null,null,"GV ",1.31708782768667E-2,0.68953421493315503,{"$f":"+(aem2csp2!B215+(aem2csp2!C215*10))*(10^((65-aem2csp2!$A$11)/10))","v":0},0,{"$error":"#DIV/0!"},{"$error":"#DIV/0!"},{"$error":"#DIV/0!"},{"$error":"#DIV/0!"},{"$f":"+(aem2csp2!B215+(aem2csp2!C215*10))*(10^((65-aem2csp2!$A$12)/10))","v":0},0,{"$error":"#DIV/0!"},{"$error":"#DIV/0!"},{"$error":"#DIV/0!"},{"$error":"#DIV/0!"},{"$f":"+(aem2csp2!B215+(aem2csp2!C215*10))*(10^((65-aem2csp2!$A$13)/10))","v":0},0,{"$error":"#DIV/0!"},{"$error":"#DIV/0!"},{"$error":"#DIV/0!"},{"$error":"#DIV/0!"},{"$f":"+(aem2csp2!B215+(aem2csp2!C215*10))*(10^((65-aem2csp2!$A$14)/10))","v":0},0,{"$error":"#DIV/0!"},{"$error":"#DIV/0!"},{"$error":"#DIV/0!"},{"$error":"#DIV/0!"},{"$f":"+(aem2csp2!B215+(aem2csp2!C215*10))*(10^((65-aem2csp2!$A$15)/10))","v":0},0,{"$error":"#DIV/0!"},{"$error":"#DIV/0!"},{"$error":"#DIV/0!"},{"$error":"#DIV/0!"},{"$f":"+(aem2csp2!B215+(aem2csp2!C215*10))*(10^((65-aem2csp2!$A$16)/10))","v":0},0,{"$error":"#DIV/0!"},{"$error":"#DIV/0!"},{"$error":"#DIV/0!"},{"$error":"#DIV/0!"},185,{"$f":"+(aem2csp2!D215+(aem2csp2!E215*10))*(10^((65-aem2csp2!$A$11)/10))","v":0},0,{"$error":"#DIV/0!"},{"$error":"#DIV/0!"},{"$error":"#DIV/0!"},{"$error":"#DIV/0!"},{"$f":"+(aem2csp2!D215+(aem2csp2!E215*10))*(10^((65-aem2csp2!$A$12)/10))","v":0},0,{"$error":"#DIV/0!"},{"$error":"#DIV/0!"},{"$error":"#DIV/0!"},{"$error":"#DIV/0!"},{"$f":"+(aem2csp2!D215+(aem2csp2!E215*10))*(10^((65-aem2csp2!$A$13)/10))","v":0},0,{"$error":"#DIV/0!"},{"$error":"#DIV/0!"},{"$error":"#DIV/0!"},{"$error":"#DIV/0!"},{"$f":"+(aem2csp2!D215+(aem2csp2!E215*10))*(10^((65-aem2csp2!$A$14)/10))","v":0},0,{"$error":"#DIV/0!"},{"$error":"#DIV/0!"},{"$error":"#DIV/0!"},{"$error":"#DIV/0!"},{"$f":"+(aem2csp2!D215+(aem2csp2!E215*10))*(10^((65-aem2csp2!$A$15)/10))","v":0},0,{"$error":"#DIV/0!"},{"$error":"#DIV/0!"},{"$error":"#DIV/0!"},{"$error":"#DIV/0!"},{"$f":"+(aem2csp2!D215+(aem2csp2!E215*10))*(10^((65-aem2csp2!$A$16)/10))","v":0},0,{"$error":"#DIV/0!"},{"$error":"#DIV/0!"},{"$error":"#DIV/0!"},{"$error":"#DIV/0!"}]
[null,null,null,null,"HS748A ",1.6888626462383299E-2,0.77100591108892003,{"$f":"+(aem2csp2!B216+(aem2csp2!C216*10))*(10^((65-aem2csp2!$A$11)/10))","v":0},0,{"$error":"#DIV/0!"},{"$error":"#DIV/0!"},{"$error":"#DIV/0!"},{"$error":"#DIV/0!"},{"$f":"+(aem2csp2!B216+(aem2csp2!C216*10))*(10^((65-aem2csp2!$A$12)/10))","v":0},0,{"$error":"#DIV/0!"},{"$error":"#DIV/0!"},{"$error":"#DIV/0!"},{"$error":"#DIV/0!"},{"$f":"+(aem2csp2!B216+(aem2csp2!C216*10))*(10^((65-aem2csp2!$A$13)/10))","v":0},0,{"$error":"#DIV/0!"},{"$error":"#DIV/0!"},{"$error":"#DIV/0!"},{"$error":"#DIV/0!"},{"$f":"+(aem2csp2!B216+(aem2csp2!C216*10))*(10^((65-aem2csp2!$A$14)/10))","v":0},0,{"$error":"#DIV/0!"},{"$error":"#DIV/0!"},{"$error":"#DIV/0!"},{"$error":"#DIV/0!"},{"$f":"+(aem2csp2!B216+(aem2csp2!C216*10))*(10^((65-aem2csp2!$A$15)/10))","v":0},0,{"$error":"#DIV/0!"},{"$error":"#DIV/0!"},{"$error":"#DIV/0!"},{"$error":"#DIV/0!"},{"$f":"+(aem2csp2!B216+(aem2csp2!C216*10))*(10^((65-aem2csp2!$A$16)/10))","v":0},0,{"$error":"#DIV/0!"},{"$error":"#DIV/0!"},{"$error":"#DIV/0!"},{"$error":"#DIV/0!"},186,{"$f":"+(aem2csp2!D216+(aem2csp2!E216*10))*(10^((65-aem2csp2!$A$11)/10))","v":0},0,{"$error":"#DIV/0!"},{"$error":"#DIV/0!"},{"$error":"#DIV/0!"},{"$error":"#DIV/0!"},{"$f":"+(aem2csp2!D216+(aem2csp2!E216*10))*(10^((65-aem2csp2!$A$12)/10))","v":0},0,{"$error":"#DIV/0!"},{"$error":"#DIV/0!"},{"$error":"#DIV/0!"},{"$error":"#DIV/0!"},{"$f":"+(aem2csp2!D216+(aem2csp2!E216*10))*(10^((65-aem2csp2!$A$13)/10))","v":0},0,{"$error":"#DIV/0!"},{"$error":"#DIV/0!"},{"$error":"#DIV/0!"},{"$error":"#DIV/0!"},{"$f":"+(aem2csp2!D216+(aem2csp2!E216*10))*(10^((65-aem2csp2!$A$14)/10))","v":0},0,{"$error":"#DIV/0!"},{"$error":"#DIV/0!"},{"$error":"#DIV/0!"},{"$error":"#DIV/0!"},{"$f":"+(aem2csp2!D216+(aem2csp2!E216*10))*(10^((65-aem2csp2!$A$15)/10))","v":0},0,{"$error":"#DIV/0!"},{"$error":"#DIV/0!"},{"$error":"#DIV/0!"},{"$error":"#DIV/0!"},{"$f":"+(aem2csp2!D216+(aem2csp2!E216*10))*(10^((65-aem2csp2!$A$16)/10))","v":0},0,{"$error":"#DIV/0!"},{"$error":"#DIV/0!"},{"$error":"#DIV/0!"},{"$error":"#DIV/0!"}]
[null,null,null,null,"IA1125 ",1.6363699788608601E-2,0.70175683950957501,{"$f":"+(aem2csp2!B217+(aem2csp2!C217*10))*(10^((65-aem2csp2!$A$11)/10))","v":0},0,{"$error":"#DIV/0!"},{"$error":"#DIV/0!"},{"$error":"#DIV/0!"},{"$error":"#DIV/0!"},{"$f":"+(aem2csp2!B217+(aem2csp2!C217*10))*(10^((65-aem2csp2!$A$12)/10))","v":0},0,{"$error":"#DIV/0!"},{"$error":"#DIV/0!"},{"$error":"#DIV/0!"},{"$error":"#DIV/0!"},{"$f":"+(aem2csp2!B217+(aem2csp2!C217*10))*(10^((65-aem2csp2!$A$13)/10))","v":0},0,{"$error":"#DIV/0!"},{"$error":"#DIV/0!"},{"$error":"#DIV/0!"},{"$error":"#DIV/0!"},{"$f":"+(aem2csp2!B217+(aem2csp2!C217*10))*(10^((65-aem2csp2!$A$14)/10))","v":0},0,{"$error":"#DIV/0!"},{"$error":"#DIV/0!"},{"$error":"#DIV/0!"},{"$error":"#DIV/0!"},{"$f":"+(aem2csp2!B217+(aem2csp2!C217*10))*(10^((65-aem2csp2!$A$15)/10))","v":0},0,{"$error":"#DIV/0!"},{"$error":"#DIV/0!"},{"$error":"#DIV/0!"},{"$error":"#DIV/0!"},{"$f":"+(aem2csp2!B217+(aem2csp2!C217*10))*(10^((65-aem2csp2!$A$16)/10))","v":0},0,{"$error":"#DIV/0!"},{"$error":"#DIV/0!"},{"$error":"#DIV/0!"},{"$error":"#DIV/0!"},187,{"$f":"+(aem2csp2!D217+(aem2csp2!E217*10))*(10^((65-aem2csp2!$A$11)/10))","v":0},0,{"$error":"#DIV/0!"},{"$error":"#DIV/0!"},{"$error":"#DIV/0!"},{"$error":"#DIV/0!"},{"$f":"+(aem2csp2!D217+(aem2csp2!E217*10))*(10^((65-aem2csp2!$A$12)/10))","v":0},0,{"$error":"#DIV/0!"},{"$error":"#DIV/0!"},{"$error":"#DIV/0!"},{"$error":"#DIV/0!"},{"$f":"+(aem2csp2!D217+(aem2csp2!E217*10))*(10^((65-aem2csp2!$A$13)/10))","v":0},0,{"$error":"#DIV/0!"},{"$error":"#DIV/0!"},{"$error":"#DIV/0!"},{"$error":"#DIV/0!"},{"$f":"+(aem2csp2!D217+(aem2csp2!E217*10))*(10^((65-aem2csp2!$A$14)/10))","v":0},0,{"$error":"#DIV/0!"},{"$error":"#DIV/0!"},{"$error":"#DIV/0!"},{"$error":"#DIV/0!"},{"$f":"+(aem2csp2!D217+(aem2csp2!E217*10))*(10^((65-aem2csp2!$A$15)/10))","v":0},0,{"$error":"#DIV/0!"},{"$error":"#DIV/0!"},{"$error":"#DIV/0!"},{"$error":"#DIV/0!"},{"$f":"+(aem2csp2!D217+(aem2csp2!E217*10))*(10^((65-aem2csp2!$A$16)/10))","v":0},0,{"$error":"#DIV/0!"},{"$error":"#DIV/0!"},{"$error":"#DIV/0!"},{"$error":"#DIV/0!"}]
[null,null,null,null,"JAGUAR ",0.308803435644944,0.78490955882715996,{"$f":"+(aem2csp2!B218+(aem2csp2!C218*10))*(10^((65-aem2csp2!$A$11)/10))","v":0},0,{"$error":"#DIV/0!"},{"$error":"#DIV/0!"},{"$error":"#DIV/0!"},{"$error":"#DIV/0!"},{"$f":"+(aem2csp2!B218+(aem2csp2!C218*10))*(10^((65-aem2csp2!$A$12)/10))","v":0},0,{"$error":"#DIV/0!"},{"$error":"#DIV/0!"},{"$error":"#DIV/0!"},{"$error":"#DIV/0!"},{"$f":"+(aem2csp2!B218+(aem2csp2!C218*10))*(10^((65-aem2csp2!$A$13)/10))","v":0},0,{"$error":"#DIV/0!"},{"$error":"#DIV/0!"},{"$error":"#DIV/0!"},{"$error":"#DIV/0!"},{"$f":"+(aem2csp2!B218+(aem2csp2!C218*10))*(10^((65-aem2csp2!$A$14)/10))","v":0},0,{"$error":"#DIV/0!"},{"$error":"#DIV/0!"},{"$error":"#DIV/0!"},{"$error":"#DIV/0!"},{"$f":"+(aem2csp2!B218+(aem2csp2!C218*10))*(10^((65-aem2csp2!$A$15)/10))","v":0},0,{"$error":"#DIV/0!"},{"$error":"#DIV/0!"},{"$error":"#DIV/0!"},{"$error":"#DIV/0!"},{"$f":"+(aem2csp2!B218+(aem2csp2!C218*10))*(10^((65-aem2csp2!$A$16)/10))","v":0},0,{"$error":"#DIV/0!"},{"$error":"#DIV/0!"},{"$error":"#DIV/0!"},{"$error":"#DIV/0!"},188,{"$f":"+(aem2csp2!D218+(aem2csp2!E218*10))*(10^((65-aem2csp2!$A$11)/10))","v":0},0,{"$error":"#DIV/0!"},{"$error":"#DIV/0!"},{"$error":"#DIV/0!"},{"$error":"#DIV/0!"},{"$f":"+(aem2csp2!D218+(aem2csp2!E218*10))*(10^((65-aem2csp2!$A$12)/10))","v":0},0,{"$error":"#DIV/0!"},{"$error":"#DIV/0!"},{"$error":"#DIV/0!"},{"$error":"#DIV/0!"},{"$f":"+(aem2csp2!D218+(aem2csp2!E218*10))*(10^((65-aem2csp2!$A$13)/10))","v":0},0,{"$error":"#DIV/0!"},{"$error":"#DIV/0!"},{"$error":"#DIV/0!"},{"$error":"#DIV/0!"},{"$f":"+(aem2csp2!D218+(aem2csp2!E218*10))*(10^((65-aem2csp2!$A$14)/10))","v":0},0,{"$error":"#DIV/0!"},{"$error":"#DIV/0!"},{"$error":"#DIV/0!"},{"$error":"#DIV/0!"},{"$f":"+(aem2csp2!D218+(aem2csp2!E218*10))*(10^((65-aem2csp2!$A$15)/10))","v":0},0,{"$error":"#DIV/0!"},{"$error":"#DIV/0!"},{"$error":"#DIV/0!"},{"$error":"#DIV/0!"},{"$f":"+(aem2csp2!D218+(aem2csp2!E218*10))*(10^((65-aem2csp2!$A$16)/10))","v":0},0,{"$error":"#DIV/0!"},{"$error":"#DIV/0!"},{"$error":"#DIV/0!"},{"$error":"#DIV/0!"}]
[null,null,null,null,"KC10A ",7.1897403479448105E-2,0.69492192172241496,{"$f":"+(aem2csp2!B219+(aem2csp2!C219*10))*(10^((65-aem2csp2!$A$11)/10))","v":0},0,{"$error":"#DIV/0!"},{"$error":"#DIV/0!"},{"$error":"#DIV/0!"},{"$error":"#DIV/0!"},{"$f":"+(aem2csp2!B219+(aem2csp2!C219*10))*(10^((65-aem2csp2!$A$12)/10))","v":0},0,{"$error":"#DIV/0!"},{"$error":"#DIV/0!"},{"$error":"#DIV/0!"},{"$error":"#DIV/0!"},{"$f":"+(aem2csp2!B219+(aem2csp2!C219*10))*(10^((65-aem2csp2!$A$13)/10))","v":0},0,{"$error":"#DIV/0!"},{"$error":"#DIV/0!"},{"$error":"#DIV/0!"},{"$error":"#DIV/0!"},{"$f":"+(aem2csp2!B219+(aem2csp2!C219*10))*(10^((65-aem2csp2!$A$14)/10))","v":0},0,{"$error":"#DIV/0!"},{"$error":"#DIV/0!"},{"$error":"#DIV/0!"},{"$error":"#DIV/0!"},{"$f":"+(aem2csp2!B219+(aem2csp2!C219*10))*(10^((65-aem2csp2!$A$15)/10))","v":0},0,{"$error":"#DIV/0!"},{"$error":"#DIV/0!"},{"$error":"#DIV/0!"},{"$error":"#DIV/0!"},{"$f":"+(aem2csp2!B219+(aem2csp2!C219*10))*(10^((65-aem2csp2!$A$16)/10))","v":0},0,{"$error":"#DIV/0!"},{"$error":"#DIV/0!"},{"$error":"#DIV/0!"},{"$error":"#DIV/0!"},189,{"$f":"+(aem2csp2!D219+(aem2csp2!E219*10))*(10^((65-aem2csp2!$A$11)/10))","v":0},0,{"$error":"#DIV/0!"},{"$error":"#DIV/0!"},{"$error":"#DIV/0!"},{"$error":"#DIV/0!"},{"$f":"+(aem2csp2!D219+(aem2csp2!E219*10))*(10^((65-aem2csp2!$A$12)/10))","v":0},0,{"$error":"#DIV/0!"},{"$error":"#DIV/0!"},{"$error":"#DIV/0!"},{"$error":"#DIV/0!"},{"$f":"+(aem2csp2!D219+(aem2csp2!E219*10))*(10^((65-aem2csp2!$A$13)/10))","v":0},0,{"$error":"#DIV/0!"},{"$error":"#DIV/0!"},{"$error":"#DIV/0!"},{"$error":"#DIV/0!"},{"$f":"+(aem2csp2!D219+(aem2csp2!E219*10))*(10^((65-aem2csp2!$A$14)/10))","v":0},0,{"$error":"#DIV/0!"},{"$error":"#DIV/0!"},{"$error":"#DIV/0!"},{"$error":"#DIV/0!"},{"$f":"+(aem2csp2!D219+(aem2csp2!E219*10))*(10^((65-aem2csp2!$A$15)/10))","v":0},0,{"$error":"#DIV/0!"},{"$error":"#DIV/0!"},{"$error":"#DIV/0!"},{"$error":"#DIV/0!"},{"$f":"+(aem2csp2!D219+(aem2csp2!E219*10))*(10^((65-aem2csp2!$A$16)/10))","v":0},0,{"$error":"#DIV/0!"},{"$error":"#DIV/0!"},{"$error":"#DIV/0!"},{"$error":"#DIV/0!"}]
[null,null,null,null,"KC135 ",2.8425712819576501,0.68323566438415795,{"$f":"+(aem2csp2!B220+(aem2csp2!C220*10))*(10^((65-aem2csp2!$A$11)/10))","v":0},0,{"$error":"#DIV/0!"},{"$error":"#DIV/0!"},{"$error":"#DIV/0!"},{"$error":"#DIV/0!"},{"$f":"+(aem2csp2!B220+(aem2csp2!C220*10))*(10^((65-aem2csp2!$A$12)/10))","v":0},0,{"$error":"#DIV/0!"},{"$error":"#DIV/0!"},{"$error":"#DIV/0!"},{"$error":"#DIV/0!"},{"$f":"+(aem2csp2!B220+(aem2csp2!C220*10))*(10^((65-aem2csp2!$A$13)/10))","v":0},0,{"$error":"#DIV/0!"},{"$error":"#DIV/0!"},{"$error":"#DIV/0!"},{"$error":"#DIV/0!"},{"$f":"+(aem2csp2!B220+(aem2csp2!C220*10))*(10^((65-aem2csp2!$A$14)/10))","v":0},0,{"$error":"#DIV/0!"},{"$error":"#DIV/0!"},{"$error":"#DIV/0!"},{"$error":"#DIV/0!"},{"$f":"+(aem2csp2!B220+(aem2csp2!C220*10))*(10^((65-aem2csp2!$A$15)/10))","v":0},0,{"$error":"#DIV/0!"},{"$error":"#DIV/0!"},{"$error":"#DIV/0!"},{"$error":"#DIV/0!"},{"$f":"+(aem2csp2!B220+(aem2csp2!C220*10))*(10^((65-aem2csp2!$A$16)/10))","v":0},0,{"$error":"#DIV/0!"},{"$error":"#DIV/0!"},{"$error":"#DIV/0!"},{"$error":"#DIV/0!"},190,{"$f":"+(aem2csp2!D220+(aem2csp2!E220*10))*(10^((65-aem2csp2!$A$11)/10))","v":0},0,{"$error":"#DIV/0!"},{"$error":"#DIV/0!"},{"$error":"#DIV/0!"},{"$error":"#DIV/0!"},{"$f":"+(aem2csp2!D220+(aem2csp2!E220*10))*(10^((65-aem2csp2!$A$12)/10))","v":0},0,{"$error":"#DIV/0!"},{"$error":"#DIV/0!"},{"$error":"#DIV/0!"},{"$error":"#DIV/0!"},{"$f":"+(aem2csp2!D220+(aem2csp2!E220*10))*(10^((65-aem2csp2!$A$13)/10))","v":0},0,{"$error":"#DIV/0!"},{"$error":"#DIV/0!"},{"$error":"#DIV/0!"},{"$error":"#DIV/0!"},{"$f":"+(aem2csp2!D220+(aem2csp2!E220*10))*(10^((65-aem2csp2!$A$14)/10))","v":0},0,{"$error":"#DIV/0!"},{"$error":"#DIV/0!"},{"$error":"#DIV/0!"},{"$error":"#DIV/0!"},{"$f":"+(aem2csp2!D220+(aem2csp2!E220*10))*(10^((65-aem2csp2!$A$15)/10))","v":0},0,{"$error":"#DIV/0!"},{"$error":"#DIV/0!"},{"$error":"#DIV/0!"},{"$error":"#DIV/0!"},{"$f":"+(aem2csp2!D220+(aem2csp2!E220*10))*(10^((65-aem2csp2!$A$16)/10))","v":0},0,{"$error":"#DIV/0!"},{"$error":"#DIV/0!"},{"$error":"#DIV/0!"},{"$error":"#DIV/0!"}]
[null,null,null,null,"KC-135 ",1.3652952280816401E-2,0.91777665008876097,{"$f":"+(aem2csp2!B221+(aem2csp2!C221*10))*(10^((65-aem2csp2!$A$11)/10))","v":0},0,{"$error":"#DIV/0!"},{"$error":"#DIV/0!"},{"$error":"#DIV/0!"},{"$error":"#DIV/0!"},{"$f":"+(aem2csp2!B221+(aem2csp2!C221*10))*(10^((65-aem2csp2!$A$12)/10))","v":0},0,{"$error":"#DIV/0!"},{"$error":"#DIV/0!"},{"$error":"#DIV/0!"},{"$error":"#DIV/0!"},{"$f":"+(aem2csp2!B221+(aem2csp2!C221*10))*(10^((65-aem2csp2!$A$13)/10))","v":0},0,{"$error":"#DIV/0!"},{"$error":"#DIV/0!"},{"$error":"#DIV/0!"},{"$error":"#DIV/0!"},{"$f":"+(aem2csp2!B221+(aem2csp2!C221*10))*(10^((65-aem2csp2!$A$14)/10))","v":0},0,{"$error":"#DIV/0!"},{"$error":"#DIV/0!"},{"$error":"#DIV/0!"},{"$error":"#DIV/0!"},{"$f":"+(aem2csp2!B221+(aem2csp2!C221*10))*(10^((65-aem2csp2!$A$15)/10))","v":0},0,{"$error":"#DIV/0!"},{"$error":"#DIV/0!"},{"$error":"#DIV/0!"},{"$error":"#DIV/0!"},{"$f":"+(aem2csp2!B221+(aem2csp2!C221*10))*(10^((65-aem2csp2!$A$16)/10))","v":0},0,{"$error":"#DIV/0!"},{"$error":"#DIV/0!"},{"$error":"#DIV/0!"},{"$error":"#DIV/0!"},191,{"$f":"+(aem2csp2!D221+(aem2csp2!E221*10))*(10^((65-aem2csp2!$A$11)/10))","v":0},0,{"$error":"#DIV/0!"},{"$error":"#DIV/0!"},{"$error":"#DIV/0!"},{"$error":"#DIV/0!"},{"$f":"+(aem2csp2!D221+(aem2csp2!E221*10))*(10^((65-aem2csp2!$A$12)/10))","v":0},0,{"$error":"#DIV/0!"},{"$error":"#DIV/0!"},{"$error":"#DIV/0!"},{"$error":"#DIV/0!"},{"$f":"+(aem2csp2!D221+(aem2csp2!E221*10))*(10^((65-aem2csp2!$A$13)/10))","v":0},0,{"$error":"#DIV/0!"},{"$error":"#DIV/0!"},{"$error":"#DIV/0!"},{"$error":"#DIV/0!"},{"$f":"+(aem2csp2!D221+(aem2csp2!E221*10))*(10^((65-aem2csp2!$A$14)/10))","v":0},0,{"$error":"#DIV/0!"},{"$error":"#DIV/0!"},{"$error":"#DIV/0!"},{"$error":"#DIV/0!"},{"$f":"+(aem2csp2!D221+(aem2csp2!E221*10))*(10^((65-aem2csp2!$A$15)/10))","v":0},0,{"$error":"#DIV/0!"},{"$error":"#DIV/0!"},{"$error":"#DIV/0!"},{"$error":"#DIV/0!"},{"$f":"+(aem2csp2!D221+(aem2csp2!E221*10))*(10^((65-aem2csp2!$A$16)/10))","v":0},0,{"$error":"#DIV/0!"},{"$error":"#DIV/0!"},{"$error":"#DIV/0!"},{"$error":"#DIV/0!"}]
[null,null,null,null,"KC135B ",0.458408958716441,0.63663137914288004,{"$f":"+(aem2csp2!B222+(aem2csp2!C222*10))*(10^((65-aem2csp2!$A$11)/10))","v":0},0,{"$error":"#DIV/0!"},{"$error":"#DIV/0!"},{"$error":"#DIV/0!"},{"$error":"#DIV/0!"},{"$f":"+(aem2csp2!B222+(aem2csp2!C222*10))*(10^((65-aem2csp2!$A$12)/10))","v":0},0,{"$error":"#DIV/0!"},{"$error":"#DIV/0!"},{"$error":"#DIV/0!"},{"$error":"#DIV/0!"},{"$f":"+(aem2csp2!B222+(aem2csp2!C222*10))*(10^((65-aem2csp2!$A$13)/10))","v":0},0,{"$error":"#DIV/0!"},{"$error":"#DIV/0!"},{"$error":"#DIV/0!"},{"$error":"#DIV/0!"},{"$f":"+(aem2csp2!B222+(aem2csp2!C222*10))*(10^((65-aem2csp2!$A$14)/10))","v":0},0,{"$error":"#DIV/0!"},{"$error":"#DIV/0!"},{"$error":"#DIV/0!"},{"$error":"#DIV/0!"},{"$f":"+(aem2csp2!B222+(aem2csp2!C222*10))*(10^((65-aem2csp2!$A$15)/10))","v":0},0,{"$error":"#DIV/0!"},{"$error":"#DIV/0!"},{"$error":"#DIV/0!"},{"$error":"#DIV/0!"},{"$f":"+(aem2csp2!B222+(aem2csp2!C222*10))*(10^((65-aem2csp2!$A$16)/10))","v":0},0,{"$error":"#DIV/0!"},{"$error":"#DIV/0!"},{"$error":"#DIV/0!"},{"$error":"#DIV/0!"},192,{"$f":"+(aem2csp2!D222+(aem2csp2!E222*10))*(10^((65-aem2csp2!$A$11)/10))","v":0},0,{"$error":"#DIV/0!"},{"$error":"#DIV/0!"},{"$error":"#DIV/0!"},{"$error":"#DIV/0!"},{"$f":"+(aem2csp2!D222+(aem2csp2!E222*10))*(10^((65-aem2csp2!$A$12)/10))","v":0},0,{"$error":"#DIV/0!"},{"$error":"#DIV/0!"},{"$error":"#DIV/0!"},{"$error":"#DIV/0!"},{"$f":"+(aem2csp2!D222+(aem2csp2!E222*10))*(10^((65-aem2csp2!$A$13)/10))","v":0},0,{"$error":"#DIV/0!"},{"$error":"#DIV/0!"},{"$error":"#DIV/0!"},{"$error":"#DIV/0!"},{"$f":"+(aem2csp2!D222+(aem2csp2!E222*10))*(10^((65-aem2csp2!$A$14)/10))","v":0},0,{"$error":"#DIV/0!"},{"$error":"#DIV/0!"},{"$error":"#DIV/0!"},{"$error":"#DIV/0!"},{"$f":"+(aem2csp2!D222+(aem2csp2!E222*10))*(10^((65-aem2csp2!$A$15)/10))","v":0},0,{"$error":"#DIV/0!"},{"$error":"#DIV/0!"},{"$error":"#DIV/0!"},{"$error":"#DIV/0!"},{"$f":"+(aem2csp2!D222+(aem2csp2!E222*10))*(10^((65-aem2csp2!$A$16)/10))","v":0},0,{"$error":"#DIV/0!"},{"$error":"#DIV/0!"},{"$error":"#DIV/0!"},{"$error":"#DIV/0!"}]
[null,null,null,null,"KC135R ",3.2262688900133903E-2,0.83917339514435796,{"$f":"+(aem2csp2!B223+(aem2csp2!C223*10))*(10^((65-aem2csp2!$A$11)/10))","v":0},0,{"$error":"#DIV/0!"},{"$error":"#DIV/0!"},{"$error":"#DIV/0!"},{"$error":"#DIV/0!"},{"$f":"+(aem2csp2!B223+(aem2csp2!C223*10))*(10^((65-aem2csp2!$A$12)/10))","v":0},0,{"$error":"#DIV/0!"},{"$error":"#DIV/0!"},{"$error":"#DIV/0!"},{"$f":"+N223/R223","v":{"$error":"#DIV/0!"}},{"$f":"+(aem2csp2!B223+(aem2csp2!C223*10))*(10^((65-aem2csp2!$A$13)/10))","v":0},{"$f":"+F223*(T223^G223)","v":0},{"$f":"+(U223/$U$267)^(1/G223)","v":{"$error":"#DIV/0!"}},{"$f":"+V223/G223","v":{"$error":"#DIV/0!"}},{"$f":"+($X$269/F223)^(1/G223)","v":{"$error":"#DIV/0!"}},{"$error":"#DIV/0!"},{"$f":"+(aem2csp2!B223+(aem2csp2!C223*10))*(10^((65-aem2csp2!$A$14)/10))","v":0},0,{"$error":"#DIV/0!"},{"$error":"#DIV/0!"},{"$error":"#DIV/0!"},{"$error":"#DIV/0!"},{"$f":"+(aem2csp2!B223+(aem2csp2!C223*10))*(10^((65-aem2csp2!$A$15)/10))","v":0},0,{"$error":"#DIV/0!"},{"$error":"#DIV/0!"},{"$error":"#DIV/0!"},{"$error":"#DIV/0!"},{"$f":"+(aem2csp2!B223+(aem2csp2!C223*10))*(10^((65-aem2csp2!$A$16)/10))","v":0},0,{"$error":"#DIV/0!"},{"$error":"#DIV/0!"},{"$error":"#DIV/0!"},{"$error":"#DIV/0!"},193,{"$f":"+(aem2csp2!D223+(aem2csp2!E223*10))*(10^((65-aem2csp2!$A$11)/10))","v":0},0,{"$error":"#DIV/0!"},{"$error":"#DIV/0!"},{"$error":"#DIV/0!"},{"$error":"#DIV/0!"},{"$f":"+(aem2csp2!D223+(aem2csp2!E223*10))*(10^((65-aem2csp2!$A$12)/10))","v":0},0,{"$error":"#DIV/0!"},{"$error":"#DIV/0!"},{"$error":"#DIV/0!"},{"$error":"#DIV/0!"},{"$f":"+(aem2csp2!D223+(aem2csp2!E223*10))*(10^((65-aem2csp2!$A$13)/10))","v":0},0,{"$error":"#DIV/0!"},{"$error":"#DIV/0!"},{"$error":"#DIV/0!"},{"$error":"#DIV/0!"},{"$f":"+(aem2csp2!D223+(aem2csp2!E223*10))*(10^((65-aem2csp2!$A$14)/10))","v":0},0,{"$error":"#DIV/0!"},{"$error":"#DIV/0!"},{"$error":"#DIV/0!"},{"$error":"#DIV/0!"},{"$f":"+(aem2csp2!D223+(aem2csp2!E223*10))*(10^((65-aem2csp2!$A$15)/10))","v":0},0,{"$error":"#DIV/0!"},{"$error":"#DIV/0!"},{"$error":"#DIV/0!"},{"$error":"#DIV/0!"},{"$f":"+(aem2csp2!D223+(aem2csp2!E223*10))*(10^((65-aem2csp2!$A$16)/10))","v":0},0,{"$error":"#DIV/0!"},{"$error":"#DIV/0!"},{"$error":"#DIV/0!"},{"$error":"#DIV/0!"}]
[null,null,null,null,"L1011 ",6.2657181555062405E-2,0.73100243623737504,{"$f":"+(aem2csp2!B224+(aem2csp2!C224*10))*(10^((65-aem2csp2!$A$11)/10))","v":0},0,{"$error":"#DIV/0!"},{"$error":"#DIV/0!"},{"$error":"#DIV/0!"},{"$error":"#DIV/0!"},{"$f":"+(aem2csp2!B224+(aem2csp2!C224*10))*(10^((65-aem2csp2!$A$12)/10))","v":0},0,{"$error":"#DIV/0!"},{"$error":"#DIV/0!"},{"$error":"#DIV/0!"},{"$error":"#DIV/0!"},{"$f":"+(aem2csp2!B224+(aem2csp2!C224*10))*(10^((65-aem2csp2!$A$13)/10))","v":0},0,{"$error":"#DIV/0!"},{"$error":"#DIV/0!"},{"$error":"#DIV/0!"},{"$error":"#DIV/0!"},{"$f":"+(aem2csp2!B224+(aem2csp2!C224*10))*(10^((65-aem2csp2!$A$14)/10))","v":0},0,{"$error":"#DIV/0!"},{"$error":"#DIV/0!"},{"$error":"#DIV/0!"},{"$error":"#DIV/0!"},{"$f":"+(aem2csp2!B224+(aem2csp2!C224*10))*(10^((65-aem2csp2!$A$15)/10))","v":0},0,{"$error":"#DIV/0!"},{"$error":"#DIV/0!"},{"$error":"#DIV/0!"},{"$error":"#DIV/0!"},{"$f":"+(aem2csp2!B224+(aem2csp2!C224*10))*(10^((65-aem2csp2!$A$16)/10))","v":0},0,{"$error":"#DIV/0!"},{"$error":"#DIV/0!"},{"$error":"#DIV/0!"},{"$error":"#DIV/0!"},194,{"$f":"+(aem2csp2!D224+(aem2csp2!E224*10))*(10^((65-aem2csp2!$A$11)/10))","v":0},0,{"$error":"#DIV/0!"},{"$error":"#DIV/0!"},{"$error":"#DIV/0!"},{"$error":"#DIV/0!"},{"$f":"+(aem2csp2!D224+(aem2csp2!E224*10))*(10^((65-aem2csp2!$A$12)/10))","v":0},0,{"$error":"#DIV/0!"},{"$error":"#DIV/0!"},{"$error":"#DIV/0!"},{"$error":"#DIV/0!"},{"$f":"+(aem2csp2!D224+(aem2csp2!E224*10))*(10^((65-aem2csp2!$A$13)/10))","v":0},0,{"$error":"#DIV/0!"},{"$error":"#DIV/0!"},{"$error":"#DIV/0!"},{"$error":"#DIV/0!"},{"$f":"+(aem2csp2!D224+(aem2csp2!E224*10))*(10^((65-aem2csp2!$A$14)/10))","v":0},0,{"$error":"#DIV/0!"},{"$error":"#DIV/0!"},{"$error":"#DIV/0!"},{"$error":"#DIV/0!"},{"$f":"+(aem2csp2!D224+(aem2csp2!E224*10))*(10^((65-aem2csp2!$A$15)/10))","v":0},0,{"$error":"#DIV/0!"},{"$error":"#DIV/0!"},{"$error":"#DIV/0!"},{"$error":"#DIV/0!"},{"$f":"+(aem2csp2!D224+(aem2csp2!E224*10))*(10^((65-aem2csp2!$A$16)/10))","v":0},0,{"$error":"#DIV/0!"},{"$error":"#DIV/0!"},{"$error":"#DIV/0!"},{"$error":"#DIV/0!"}]
[null,null,null,null,"L10115 ",6.8755927544641507E-2,0.73908472786856205,{"$f":"+(aem2csp2!B225+(aem2csp2!C225*10))*(10^((65-aem2csp2!$A$11)/10))","v":0},0,{"$error":"#DIV/0!"},{"$error":"#DIV/0!"},{"$error":"#DIV/0!"},{"$error":"#DIV/0!"},{"$f":"+(aem2csp2!B225+(aem2csp2!C225*10))*(10^((65-aem2csp2!$A$12)/10))","v":0},0,{"$error":"#DIV/0!"},{"$error":"#DIV/0!"},{"$error":"#DIV/0!"},{"$error":"#DIV/0!"},{"$f":"+(aem2csp2!B225+(aem2csp2!C225*10))*(10^((65-aem2csp2!$A$13)/10))","v":0},0,{"$error":"#DIV/0!"},{"$error":"#DIV/0!"},{"$error":"#DIV/0!"},{"$error":"#DIV/0!"},{"$f":"+(aem2csp2!B225+(aem2csp2!C225*10))*(10^((65-aem2csp2!$A$14)/10))","v":0},0,{"$error":"#DIV/0!"},{"$error":"#DIV/0!"},{"$error":"#DIV/0!"},{"$error":"#DIV/0!"},{"$f":"+(aem2csp2!B225+(aem2csp2!C225*10))*(10^((65-aem2csp2!$A$15)/10))","v":0},0,{"$error":"#DIV/0!"},{"$error":"#DIV/0!"},{"$error":"#DIV/0!"},{"$error":"#DIV/0!"},{"$f":"+(aem2csp2!B225+(aem2csp2!C225*10))*(10^((65-aem2csp2!$A$16)/10))","v":0},0,{"$error":"#DIV/0!"},{"$error":"#DIV/0!"},{"$error":"#DIV/0!"},{"$error":"#DIV/0!"},195,{"$f":"+(aem2csp2!D225+(aem2csp2!E225*10))*(10^((65-aem2csp2!$A$11)/10))","v":0},0,{"$error":"#DIV/0!"},{"$error":"#DIV/0!"},{"$error":"#DIV/0!"},{"$error":"#DIV/0!"},{"$f":"+(aem2csp2!D225+(aem2csp2!E225*10))*(10^((65-aem2csp2!$A$12)/10))","v":0},0,{"$error":"#DIV/0!"},{"$error":"#DIV/0!"},{"$error":"#DIV/0!"},{"$error":"#DIV/0!"},{"$f":"+(aem2csp2!D225+(aem2csp2!E225*10))*(10^((65-aem2csp2!$A$13)/10))","v":0},0,{"$error":"#DIV/0!"},{"$error":"#DIV/0!"},{"$error":"#DIV/0!"},{"$error":"#DIV/0!"},{"$f":"+(aem2csp2!D225+(aem2csp2!E225*10))*(10^((65-aem2csp2!$A$14)/10))","v":0},0,{"$error":"#DIV/0!"},{"$error":"#DIV/0!"},{"$error":"#DIV/0!"},{"$error":"#DIV/0!"},{"$f":"+(aem2csp2!D225+(aem2csp2!E225*10))*(10^((65-aem2csp2!$A$15)/10))","v":0},0,{"$error":"#DIV/0!"},{"$error":"#DIV/0!"},{"$error":"#DIV/0!"},{"$error":"#DIV/0!"},{"$f":"+(aem2csp2!D225+(aem2csp2!E225*10))*(10^((65-aem2csp2!$A$16)/10))","v":0},0,{"$error":"#DIV/0!"},{"$error":"#DIV/0!"},{"$error":"#DIV/0!"},{"$error":"#DIV/0!"}]
[null,null,null,null,"L188 ",8.1190188733212907E-3,0.87292641869907195,{"$f":"+(aem2csp2!B226+(aem2csp2!C226*10))*(10^((65-aem2csp2!$A$11)/10))","v":0},0,{"$error":"#DIV/0!"},{"$error":"#DIV/0!"},{"$error":"#DIV/0!"},{"$error":"#DIV/0!"},{"$f":"+(aem2csp2!B226+(aem2csp2!C226*10))*(10^((65-aem2csp2!$A$12)/10))","v":0},0,{"$error":"#DIV/0!"},{"$error":"#DIV/0!"},{"$error":"#DIV/0!"},{"$error":"#DIV/0!"},{"$f":"+(aem2csp2!B226+(aem2csp2!C226*10))*(10^((65-aem2csp2!$A$13)/10))","v":0},0,{"$error":"#DIV/0!"},{"$error":"#DIV/0!"},{"$error":"#DIV/0!"},{"$error":"#DIV/0!"},{"$f":"+(aem2csp2!B226+(aem2csp2!C226*10))*(10^((65-aem2csp2!$A$14)/10))","v":0},0,{"$error":"#DIV/0!"},{"$error":"#DIV/0!"},{"$error":"#DIV/0!"},{"$error":"#DIV/0!"},{"$f":"+(aem2csp2!B226+(aem2csp2!C226*10))*(10^((65-aem2csp2!$A$15)/10))","v":0},0,{"$error":"#DIV/0!"},{"$error":"#DIV/0!"},{"$error":"#DIV/0!"},{"$error":"#DIV/0!"},{"$f":"+(aem2csp2!B226+(aem2csp2!C226*10))*(10^((65-aem2csp2!$A$16)/10))","v":0},0,{"$error":"#DIV/0!"},{"$error":"#DIV/0!"},{"$error":"#DIV/0!"},{"$error":"#DIV/0!"},196,{"$f":"+(aem2csp2!D226+(aem2csp2!E226*10))*(10^((65-aem2csp2!$A$11)/10))","v":0},0,{"$error":"#DIV/0!"},{"$error":"#DIV/0!"},{"$error":"#DIV/0!"},{"$error":"#DIV/0!"},{"$f":"+(aem2csp2!D226+(aem2csp2!E226*10))*(10^((65-aem2csp2!$A$12)/10))","v":0},0,{"$error":"#DIV/0!"},{"$error":"#DIV/0!"},{"$error":"#DIV/0!"},{"$error":"#DIV/0!"},{"$f":"+(aem2csp2!D226+(aem2csp2!E226*10))*(10^((65-aem2csp2!$A$13)/10))","v":0},0,{"$error":"#DIV/0!"},{"$error":"#DIV/0!"},{"$error":"#DIV/0!"},{"$error":"#DIV/0!"},{"$f":"+(aem2csp2!D226+(aem2csp2!E226*10))*(10^((65-aem2csp2!$A$14)/10))","v":0},0,{"$error":"#DIV/0!"},{"$error":"#DIV/0!"},{"$error":"#DIV/0!"},{"$error":"#DIV/0!"},{"$f":"+(aem2csp2!D226+(aem2csp2!E226*10))*(10^((65-aem2csp2!$A$15)/10))","v":0},0,{"$error":"#DIV/0!"},{"$error":"#DIV/0!"},{"$error":"#DIV/0!"},{"$error":"#DIV/0!"},{"$f":"+(aem2csp2!D226+(aem2csp2!E226*10))*(10^((65-aem2csp2!$A$16)/10))","v":0},0,{"$error":"#DIV/0!"},{"$error":"#DIV/0!"},{"$error":"#DIV/0!"},{"$error":"#DIV/0!"}]
[null,null,null,null,"LEAR25 ",0.23934717559617999,0.63731212771469403,{"$f":"+(aem2csp2!B227+(aem2csp2!C227*10))*(10^((65-aem2csp2!$A$11)/10))","v":0},0,{"$error":"#DIV/0!"},{"$error":"#DIV/0!"},{"$error":"#DIV/0!"},{"$error":"#DIV/0!"},{"$f":"+(aem2csp2!B227+(aem2csp2!C227*10))*(10^((65-aem2csp2!$A$12)/10))","v":0},0,{"$error":"#DIV/0!"},{"$error":"#DIV/0!"},{"$error":"#DIV/0!"},{"$error":"#DIV/0!"},{"$f":"+(aem2csp2!B227+(aem2csp2!C227*10))*(10^((65-aem2csp2!$A$13)/10))","v":0},0,{"$error":"#DIV/0!"},{"$error":"#DIV/0!"},{"$error":"#DIV/0!"},{"$error":"#DIV/0!"},{"$f":"+(aem2csp2!B227+(aem2csp2!C227*10))*(10^((65-aem2csp2!$A$14)/10))","v":0},0,{"$error":"#DIV/0!"},{"$error":"#DIV/0!"},{"$error":"#DIV/0!"},{"$error":"#DIV/0!"},{"$f":"+(aem2csp2!B227+(aem2csp2!C227*10))*(10^((65-aem2csp2!$A$15)/10))","v":0},0,{"$error":"#DIV/0!"},{"$error":"#DIV/0!"},{"$error":"#DIV/0!"},{"$error":"#DIV/0!"},{"$f":"+(aem2csp2!B227+(aem2csp2!C227*10))*(10^((65-aem2csp2!$A$16)/10))","v":0},0,{"$error":"#DIV/0!"},{"$error":"#DIV/0!"},{"$error":"#DIV/0!"},{"$error":"#DIV/0!"},197,{"$f":"+(aem2csp2!D227+(aem2csp2!E227*10))*(10^((65-aem2csp2!$A$11)/10))","v":0},0,{"$error":"#DIV/0!"},{"$error":"#DIV/0!"},{"$error":"#DIV/0!"},{"$error":"#DIV/0!"},{"$f":"+(aem2csp2!D227+(aem2csp2!E227*10))*(10^((65-aem2csp2!$A$12)/10))","v":0},0,{"$error":"#DIV/0!"},{"$error":"#DIV/0!"},{"$error":"#DIV/0!"},{"$error":"#DIV/0!"},{"$f":"+(aem2csp2!D227+(aem2csp2!E227*10))*(10^((65-aem2csp2!$A$13)/10))","v":0},0,{"$error":"#DIV/0!"},{"$error":"#DIV/0!"},{"$error":"#DIV/0!"},{"$error":"#DIV/0!"},{"$f":"+(aem2csp2!D227+(aem2csp2!E227*10))*(10^((65-aem2csp2!$A$14)/10))","v":0},0,{"$error":"#DIV/0!"},{"$error":"#DIV/0!"},{"$error":"#DIV/0!"},{"$error":"#DIV/0!"},{"$f":"+(aem2csp2!D227+(aem2csp2!E227*10))*(10^((65-aem2csp2!$A$15)/10))","v":0},0,{"$error":"#DIV/0!"},{"$error":"#DIV/0!"},{"$error":"#DIV/0!"},{"$error":"#DIV/0!"},{"$f":"+(aem2csp2!D227+(aem2csp2!E227*10))*(10^((65-aem2csp2!$A$16)/10))","v":0},0,{"$error":"#DIV/0!"},{"$error":"#DIV/0!"},{"$error":"#DIV/0!"},{"$error":"#DIV/0!"}]
[null,null,null,null,"LEAR35 ",4.6502821403811498E-2,0.58809257309501195,{"$f":"+(aem2csp2!B228+(aem2csp2!C228*10))*(10^((65-aem2csp2!$A$11)/10))","v":0},0,{"$error":"#DIV/0!"},{"$error":"#DIV/0!"},{"$error":"#DIV/0!"},{"$error":"#DIV/0!"},{"$f":"+(aem2csp2!B228+(aem2csp2!C228*10))*(10^((65-aem2csp2!$A$12)/10))","v":0},0,{"$error":"#DIV/0!"},{"$error":"#DIV/0!"},{"$error":"#DIV/0!"},{"$error":"#DIV/0!"},{"$f":"+(aem2csp2!B228+(aem2csp2!C228*10))*(10^((65-aem2csp2!$A$13)/10))","v":0},0,{"$error":"#DIV/0!"},{"$error":"#DIV/0!"},{"$error":"#DIV/0!"},{"$f":"+T228/X228","v":{"$error":"#DIV/0!"}},{"$f":"+(aem2csp2!B228+(aem2csp2!C228*10))*(10^((65-aem2csp2!$A$14)/10))","v":0},{"$f":"+F228*(Z228^G228)","v":0},{"$f":"+(AA228/$AA$267)^(1/G228)","v":{"$error":"#DIV/0!"}},{"$f":"+AB228/G228","v":{"$error":"#DIV/0!"}},{"$f":"+($AD$269/F228)^(1/G228)","v":{"$error":"#DIV/0!"}},{"$f":"+Z228/AD228","v":{"$error":"#DIV/0!"}},{"$f":"+(aem2csp2!B228+(aem2csp2!C228*10))*(10^((65-aem2csp2!$A$15)/10))","v":0},{"$f":"+F228*(AF228^G228)","v":0},{"$f":"+(AG228/$AG$267)^(1/G228)","v":{"$error":"#DIV/0!"}},{"$f":"+AH228/G228","v":{"$error":"#DIV/0!"}},{"$f":"+($AJ$269/F228)^(1/G228)","v":{"$error":"#DIV/0!"}},{"$f":"+AF228/AJ228","v":{"$error":"#DIV/0!"}},{"$f":"+(aem2csp2!B228+(aem2csp2!C228*10))*(10^((65-aem2csp2!$A$16)/10))","v":0},{"$f":"+F228*(AL228^G228)","v":0},{"$f":"+(AM228/$AM$267)^(1/G228)","v":{"$error":"#DIV/0!"}},{"$f":"+AN228/G228","v":{"$error":"#DIV/0!"}},{"$f":"+($AP$269/F228)^(1/G228)","v":{"$error":"#DIV/0!"}},{"$f":"+AL228/AP228","v":{"$error":"#DIV/0!"}},198,{"$f":"+(aem2csp2!D228+(aem2csp2!E228*10))*(10^((65-aem2csp2!$A$11)/10))","v":0},{"$f":"+F228*(AS228^G228)","v":0},{"$f":"+(AT228/$AT$267)^(1/G228)","v":{"$error":"#DIV/0!"}},{"$f":"+AU228/G228","v":{"$error":"#DIV/0!"}},{"$f":"+($AW$269/F228)^(1/G228)","v":{"$error":"#DIV/0!"}},{"$f":"+AS228/AW228","v":{"$error":"#DIV/0!"}},{"$f":"+(aem2csp2!D228+(aem2csp2!E228*10))*(10^((65-aem2csp2!$A$12)/10))","v":0},{"$f":"+F228*(AY228^G228)","v":0},{"$f":"+(AZ228/$AZ$267)^(1/G228)","v":{"$error":"#DIV/0!"}},{"$f":"+BA228/G228","v":{"$error":"#DIV/0!"}},{"$f":"+($BC$269/F228)^(1/G228)","v":{"$error":"#DIV/0!"}},{"$f":"+AY228/BC228","v":{"$error":"#DIV/0!"}},{"$f":"+(aem2csp2!D228+(aem2csp2!E228*10))*(10^((65-aem2csp2!$A$13)/10))","v":0},{"$f":"+F228*(BE228^G228)","v":0},{"$f":"+(BF228/$BF$267)^(1/G228)","v":{"$error":"#DIV/0!"}},{"$f":"+BG228/G228","v":{"$error":"#DIV/0!"}},{"$f":"+($BI$269/F228)^(1/G228)","v":{"$error":"#DIV/0!"}},{"$f":"+BE228/BI228","v":{"$error":"#DIV/0!"}},{"$f":"+(aem2csp2!D228+(aem2csp2!E228*10))*(10^((65-aem2csp2!$A$14)/10))","v":0},{"$f":"+F228*(BK228^G228)","v":0},{"$f":"+(BL228/$BL$267)^(1/G228)","v":{"$error":"#DIV/0!"}},{"$f":"+BM228/G228","v":{"$error":"#DIV/0!"}},{"$f":"+($BO$269/F228)^(1/G228)","v":{"$error":"#DIV/0!"}},{"$f":"+BK228/BO228","v":{"$error":"#DIV/0!"}},{"$f":"+(aem2csp2!D228+(aem2csp2!E228*10))*(10^((65-aem2csp2!$A$15)/10))","v":0},{"$f":"+F228*(BQ228^G228)","v":0},{"$f":"+(BR228/$BR$267)^(1/G228)","v":{"$error":"#DIV/0!"}},{"$f":"+BS228/G228","v":{"$error":"#DIV/0!"}},{"$f":"+($BU$269/F228)^(1/G228)","v":{"$error":"#DIV/0!"}},{"$f":"+BQ228/BU228","v":{"$error":"#DIV/0!"}},{"$f":"+(aem2csp2!D228+(aem2csp2!E228*10))*(10^((65-aem2csp2!$A$16)/10))","v":0},{"$f":"+F228*(BW228^G228)","v":0},{"$f":"+(BX228/$BX$267)^(1/G228)","v":{"$error":"#DIV/0!"}},{"$f":"+BY228/G228","v":{"$error":"#DIV/0!"}},{"$f":"+($CA$269/F228)^(1/G228)","v":{"$error":"#DIV/0!"}},{"$f":"+BW228/CA228","v":{"$error":"#DIV/0!"}}]
[null,null,null,null,"MD11GE ",4.2710462385257601E-2,0.72909632543200498,{"$f":"+(aem2csp2!B229+(aem2csp2!C229*10))*(10^((65-aem2csp2!$A$11)/10))","v":0},0,{"$error":"#DIV/0!"},{"$error":"#DIV/0!"},{"$error":"#DIV/0!"},{"$error":"#DIV/0!"},{"$f":"+(aem2csp2!B229+(aem2csp2!C229*10))*(10^((65-aem2csp2!$A$12)/10))","v":0},0,{"$error":"#DIV/0!"},{"$error":"#DIV/0!"},{"$error":"#DIV/0!"},{"$error":"#DIV/0!"},{"$f":"+(aem2csp2!B229+(aem2csp2!C229*10))*(10^((65-aem2csp2!$A$13)/10))","v":0},0,{"$error":"#DIV/0!"},{"$error":"#DIV/0!"},{"$error":"#DIV/0!"},{"$error":"#DIV/0!"},{"$f":"+(aem2csp2!B229+(aem2csp2!C229*10))*(10^((65-aem2csp2!$A$14)/10))","v":0},0,{"$error":"#DIV/0!"},{"$error":"#DIV/0!"},{"$error":"#DIV/0!"},{"$error":"#DIV/0!"},{"$f":"+(aem2csp2!B229+(aem2csp2!C229*10))*(10^((65-aem2csp2!$A$15)/10))","v":0},0,{"$error":"#DIV/0!"},{"$error":"#DIV/0!"},{"$error":"#DIV/0!"},{"$error":"#DIV/0!"},{"$f":"+(aem2csp2!B229+(aem2csp2!C229*10))*(10^((65-aem2csp2!$A$16)/10))","v":0},0,{"$error":"#DIV/0!"},{"$error":"#DIV/0!"},{"$error":"#DIV/0!"},{"$error":"#DIV/0!"},199,{"$f":"+(aem2csp2!D229+(aem2csp2!E229*10))*(10^((65-aem2csp2!$A$11)/10))","v":0},0,{"$error":"#DIV/0!"},{"$error":"#DIV/0!"},{"$error":"#DIV/0!"},{"$error":"#DIV/0!"},{"$f":"+(aem2csp2!D229+(aem2csp2!E229*10))*(10^((65-aem2csp2!$A$12)/10))","v":0},0,{"$error":"#DIV/0!"},{"$error":"#DIV/0!"},{"$error":"#DIV/0!"},{"$error":"#DIV/0!"},{"$f":"+(aem2csp2!D229+(aem2csp2!E229*10))*(10^((65-aem2csp2!$A$13)/10))","v":0},0,{"$error":"#DIV/0!"},{"$error":"#DIV/0!"},{"$error":"#DIV/0!"},{"$error":"#DIV/0!"},{"$f":"+(aem2csp2!D229+(aem2csp2!E229*10))*(10^((65-aem2csp2!$A$14)/10))","v":0},0,{"$error":"#DIV/0!"},{"$error":"#DIV/0!"},{"$error":"#DIV/0!"},{"$error":"#DIV/0!"},{"$f":"+(aem2csp2!D229+(aem2csp2!E229*10))*(10^((65-aem2csp2!$A$15)/10))","v":0},0,{"$error":"#DIV/0!"},{"$error":"#DIV/0!"},{"$error":"#DIV/0!"},{"$error":"#DIV/0!"},{"$f":"+(aem2csp2!D229+(aem2csp2!E229*10))*(10^((65-aem2csp2!$A$16)/10))","v":0},0,{"$error":"#DIV/0!"},{"$error":"#DIV/0!"},{"$error":"#DIV/0!"},{"$error":"#DIV/0!"}]
[null,null,null,null,"MD11PW ",3.4242013387315799E-2,0.76467598185032803,{"$f":"+(aem2csp2!B230+(aem2csp2!C230*10))*(10^((65-aem2csp2!$A$11)/10))","v":0},0,{"$error":"#DIV/0!"},{"$error":"#DIV/0!"},{"$error":"#DIV/0!"},{"$error":"#DIV/0!"},{"$f":"+(aem2csp2!B230+(aem2csp2!C230*10))*(10^((65-aem2csp2!$A$12)/10))","v":0},0,{"$error":"#DIV/0!"},{"$error":"#DIV/0!"},{"$error":"#DIV/0!"},{"$error":"#DIV/0!"},{"$f":"+(aem2csp2!B230+(aem2csp2!C230*10))*(10^((65-aem2csp2!$A$13)/10))","v":0},0,{"$error":"#DIV/0!"},{"$error":"#DIV/0!"},{"$error":"#DIV/0!"},{"$error":"#DIV/0!"},{"$f":"+(aem2csp2!B230+(aem2csp2!C230*10))*(10^((65-aem2csp2!$A$14)/10))","v":0},0,{"$error":"#DIV/0!"},{"$error":"#DIV/0!"},{"$error":"#DIV/0!"},{"$error":"#DIV/0!"},{"$f":"+(aem2csp2!B230+(aem2csp2!C230*10))*(10^((65-aem2csp2!$A$15)/10))","v":0},0,{"$error":"#DIV/0!"},{"$error":"#DIV/0!"},{"$error":"#DIV/0!"},{"$error":"#DIV/0!"},{"$f":"+(aem2csp2!B230+(aem2csp2!C230*10))*(10^((65-aem2csp2!$A$16)/10))","v":0},0,{"$error":"#DIV/0!"},{"$error":"#DIV/0!"},{"$error":"#DIV/0!"},{"$error":"#DIV/0!"},200,{"$f":"+(aem2csp2!D230+(aem2csp2!E230*10))*(10^((65-aem2csp2!$A$11)/10))","v":0},0,{"$error":"#DIV/0!"},{"$error":"#DIV/0!"},{"$error":"#DIV/0!"},{"$error":"#DIV/0!"},{"$f":"+(aem2csp2!D230+(aem2csp2!E230*10))*(10^((65-aem2csp2!$A$12)/10))","v":0},0,{"$error":"#DIV/0!"},{"$error":"#DIV/0!"},{"$error":"#DIV/0!"},{"$error":"#DIV/0!"},{"$f":"+(aem2csp2!D230+(aem2csp2!E230*10))*(10^((65-aem2csp2!$A$13)/10))","v":0},0,{"$error":"#DIV/0!"},{"$error":"#DIV/0!"},{"$error":"#DIV/0!"},{"$error":"#DIV/0!"},{"$f":"+(aem2csp2!D230+(aem2csp2!E230*10))*(10^((65-aem2csp2!$A$14)/10))","v":0},0,{"$error":"#DIV/0!"},{"$error":"#DIV/0!"},{"$error":"#DIV/0!"},{"$error":"#DIV/0!"},{"$f":"+(aem2csp2!D230+(aem2csp2!E230*10))*(10^((65-aem2csp2!$A$15)/10))","v":0},0,{"$error":"#DIV/0!"},{"$error":"#DIV/0!"},{"$error":"#DIV/0!"},{"$error":"#DIV/0!"},{"$f":"+(aem2csp2!D230+(aem2csp2!E230*10))*(10^((65-aem2csp2!$A$16)/10))","v":0},0,{"$error":"#DIV/0!"},{"$error":"#DIV/0!"},{"$error":"#DIV/0!"},{"$error":"#DIV/0!"}]
[null,null,null,null,"MD81 ",2.6476486487204801E-2,0.82865098924207503,{"$f":"+(aem2csp2!B231+(aem2csp2!C231*10))*(10^((65-aem2csp2!$A$11)/10))","v":0},0,{"$error":"#DIV/0!"},{"$error":"#DIV/0!"},{"$error":"#DIV/0!"},{"$error":"#DIV/0!"},{"$f":"+(aem2csp2!B231+(aem2csp2!C231*10))*(10^((65-aem2csp2!$A$12)/10))","v":0},0,{"$error":"#DIV/0!"},{"$error":"#DIV/0!"},{"$error":"#DIV/0!"},{"$error":"#DIV/0!"},{"$f":"+(aem2csp2!B231+(aem2csp2!C231*10))*(10^((65-aem2csp2!$A$13)/10))","v":0},0,{"$error":"#DIV/0!"},{"$error":"#DIV/0!"},{"$error":"#DIV/0!"},{"$error":"#DIV/0!"},{"$f":"+(aem2csp2!B231+(aem2csp2!C231*10))*(10^((65-aem2csp2!$A$14)/10))","v":0},0,{"$error":"#DIV/0!"},{"$error":"#DIV/0!"},{"$error":"#DIV/0!"},{"$error":"#DIV/0!"},{"$f":"+(aem2csp2!B231+(aem2csp2!C231*10))*(10^((65-aem2csp2!$A$15)/10))","v":0},0,{"$error":"#DIV/0!"},{"$error":"#DIV/0!"},{"$error":"#DIV/0!"},{"$error":"#DIV/0!"},{"$f":"+(aem2csp2!B231+(aem2csp2!C231*10))*(10^((65-aem2csp2!$A$16)/10))","v":0},0,{"$error":"#DIV/0!"},{"$error":"#DIV/0!"},{"$error":"#DIV/0!"},{"$error":"#DIV/0!"},201,{"$f":"+(aem2csp2!D231+(aem2csp2!E231*10))*(10^((65-aem2csp2!$A$11)/10))","v":0},0,{"$error":"#DIV/0!"},{"$error":"#DIV/0!"},{"$error":"#DIV/0!"},{"$error":"#DIV/0!"},{"$f":"+(aem2csp2!D231+(aem2csp2!E231*10))*(10^((65-aem2csp2!$A$12)/10))","v":0},0,{"$error":"#DIV/0!"},{"$error":"#DIV/0!"},{"$error":"#DIV/0!"},{"$error":"#DIV/0!"},{"$f":"+(aem2csp2!D231+(aem2csp2!E231*10))*(10^((65-aem2csp2!$A$13)/10))","v":0},0,{"$error":"#DIV/0!"},{"$error":"#DIV/0!"},{"$error":"#DIV/0!"},{"$error":"#DIV/0!"},{"$f":"+(aem2csp2!D231+(aem2csp2!E231*10))*(10^((65-aem2csp2!$A$14)/10))","v":0},0,{"$error":"#DIV/0!"},{"$error":"#DIV/0!"},{"$error":"#DIV/0!"},{"$error":"#DIV/0!"},{"$f":"+(aem2csp2!D231+(aem2csp2!E231*10))*(10^((65-aem2csp2!$A$15)/10))","v":0},0,{"$error":"#DIV/0!"},{"$error":"#DIV/0!"},{"$error":"#DIV/0!"},{"$error":"#DIV/0!"},{"$f":"+(aem2csp2!D231+(aem2csp2!E231*10))*(10^((65-aem2csp2!$A$16)/10))","v":0},0,{"$error":"#DIV/0!"},{"$error":"#DIV/0!"},{"$error":"#DIV/0!"},{"$error":"#DIV/0!"}]
[null,null,null,null,"MD82 ",3.1619240554150801E-2,0.81722448060072295,{"$f":"+(aem2csp2!B232+(aem2csp2!C232*10))*(10^((65-aem2csp2!$A$11)/10))","v":0},0,{"$error":"#DIV/0!"},{"$error":"#DIV/0!"},{"$error":"#DIV/0!"},{"$error":"#DIV/0!"},{"$f":"+(aem2csp2!B232+(aem2csp2!C232*10))*(10^((65-aem2csp2!$A$12)/10))","v":0},0,{"$error":"#DIV/0!"},{"$error":"#DIV/0!"},{"$error":"#DIV/0!"},{"$error":"#DIV/0!"},{"$f":"+(aem2csp2!B232+(aem2csp2!C232*10))*(10^((65-aem2csp2!$A$13)/10))","v":0},0,{"$error":"#DIV/0!"},{"$error":"#DIV/0!"},{"$error":"#DIV/0!"},{"$error":"#DIV/0!"},{"$f":"+(aem2csp2!B232+(aem2csp2!C232*10))*(10^((65-aem2csp2!$A$14)/10))","v":0},0,{"$error":"#DIV/0!"},{"$error":"#DIV/0!"},{"$error":"#DIV/0!"},{"$error":"#DIV/0!"},{"$f":"+(aem2csp2!B232+(aem2csp2!C232*10))*(10^((65-aem2csp2!$A$15)/10))","v":0},0,{"$error":"#DIV/0!"},{"$error":"#DIV/0!"},{"$error":"#DIV/0!"},{"$error":"#DIV/0!"},{"$f":"+(aem2csp2!B232+(aem2csp2!C232*10))*(10^((65-aem2csp2!$A$16)/10))","v":0},0,{"$error":"#DIV/0!"},{"$error":"#DIV/0!"},{"$error":"#DIV/0!"},{"$error":"#DIV/0!"},202,{"$f":"+(aem2csp2!D232+(aem2csp2!E232*10))*(10^((65-aem2csp2!$A$11)/10))","v":0},0,{"$error":"#DIV/0!"},{"$error":"#DIV/0!"},{"$error":"#DIV/0!"},{"$error":"#DIV/0!"},{"$f":"+(aem2csp2!D232+(aem2csp2!E232*10))*(10^((65-aem2csp2!$A$12)/10))","v":0},0,{"$error":"#DIV/0!"},{"$error":"#DIV/0!"},{"$error":"#DIV/0!"},{"$error":"#DIV/0!"},{"$f":"+(aem2csp2!D232+(aem2csp2!E232*10))*(10^((65-aem2csp2!$A$13)/10))","v":0},0,{"$error":"#DIV/0!"},{"$error":"#DIV/0!"},{"$error":"#DIV/0!"},{"$error":"#DIV/0!"},{"$f":"+(aem2csp2!D232+(aem2csp2!E232*10))*(10^((65-aem2csp2!$A$14)/10))","v":0},0,{"$error":"#DIV/0!"},{"$error":"#DIV/0!"},{"$error":"#DIV/0!"},{"$error":"#DIV/0!"},{"$f":"+(aem2csp2!D232+(aem2csp2!E232*10))*(10^((65-aem2csp2!$A$15)/10))","v":0},0,{"$error":"#DIV/0!"},{"$error":"#DIV/0!"},{"$error":"#DIV/0!"},{"$error":"#DIV/0!"},{"$f":"+(aem2csp2!D232+(aem2csp2!E232*10))*(10^((65-aem2csp2!$A$16)/10))","v":0},0,{"$error":"#DIV/0!"},{"$error":"#DIV/0!"},{"$error":"#DIV/0!"},{"$error":"#DIV/0!"}]
[null,null,null,null,"MD83 ",3.6702338515202902E-2,0.81050917902313302,{"$f":"+(aem2csp2!B233+(aem2csp2!C233*10))*(10^((65-aem2csp2!$A$11)/10))","v":0},0,{"$error":"#DIV/0!"},{"$error":"#DIV/0!"},{"$error":"#DIV/0!"},{"$error":"#DIV/0!"},{"$f":"+(aem2csp2!B233+(aem2csp2!C233*10))*(10^((65-aem2csp2!$A$12)/10))","v":0},0,{"$error":"#DIV/0!"},{"$error":"#DIV/0!"},{"$error":"#DIV/0!"},{"$error":"#DIV/0!"},{"$f":"+(aem2csp2!B233+(aem2csp2!C233*10))*(10^((65-aem2csp2!$A$13)/10))","v":0},0,{"$error":"#DIV/0!"},{"$error":"#DIV/0!"},{"$error":"#DIV/0!"},{"$error":"#DIV/0!"},{"$f":"+(aem2csp2!B233+(aem2csp2!C233*10))*(10^((65-aem2csp2!$A$14)/10))","v":0},0,{"$error":"#DIV/0!"},{"$error":"#DIV/0!"},{"$error":"#DIV/0!"},{"$error":"#DIV/0!"},{"$f":"+(aem2csp2!B233+(aem2csp2!C233*10))*(10^((65-aem2csp2!$A$15)/10))","v":0},0,{"$error":"#DIV/0!"},{"$error":"#DIV/0!"},{"$error":"#DIV/0!"},{"$error":"#DIV/0!"},{"$f":"+(aem2csp2!B233+(aem2csp2!C233*10))*(10^((65-aem2csp2!$A$16)/10))","v":0},0,{"$error":"#DIV/0!"},{"$error":"#DIV/0!"},{"$error":"#DIV/0!"},{"$error":"#DIV/0!"},203,{"$f":"+(aem2csp2!D233+(aem2csp2!E233*10))*(10^((65-aem2csp2!$A$11)/10))","v":0},0,{"$error":"#DIV/0!"},{"$error":"#DIV/0!"},{"$error":"#DIV/0!"},{"$error":"#DIV/0!"},{"$f":"+(aem2csp2!D233+(aem2csp2!E233*10))*(10^((65-aem2csp2!$A$12)/10))","v":0},0,{"$error":"#DIV/0!"},{"$error":"#DIV/0!"},{"$error":"#DIV/0!"},{"$error":"#DIV/0!"},{"$f":"+(aem2csp2!D233+(aem2csp2!E233*10))*(10^((65-aem2csp2!$A$13)/10))","v":0},0,{"$error":"#DIV/0!"},{"$error":"#DIV/0!"},{"$error":"#DIV/0!"},{"$error":"#DIV/0!"},{"$f":"+(aem2csp2!D233+(aem2csp2!E233*10))*(10^((65-aem2csp2!$A$14)/10))","v":0},0,{"$error":"#DIV/0!"},{"$error":"#DIV/0!"},{"$error":"#DIV/0!"},{"$error":"#DIV/0!"},{"$f":"+(aem2csp2!D233+(aem2csp2!E233*10))*(10^((65-aem2csp2!$A$15)/10))","v":0},0,{"$error":"#DIV/0!"},{"$error":"#DIV/0!"},{"$error":"#DIV/0!"},{"$error":"#DIV/0!"},{"$f":"+(aem2csp2!D233+(aem2csp2!E233*10))*(10^((65-aem2csp2!$A$16)/10))","v":0},0,{"$error":"#DIV/0!"},{"$error":"#DIV/0!"},{"$error":"#DIV/0!"},{"$error":"#DIV/0!"}]
[null,null,null,null,"MD9025 ",1.77556889771378E-2,0.71313517489215605,{"$f":"+(aem2csp2!B234+(aem2csp2!C234*10))*(10^((65-aem2csp2!$A$11)/10))","v":0},0,{"$error":"#DIV/0!"},{"$error":"#DIV/0!"},{"$error":"#DIV/0!"},{"$error":"#DIV/0!"},{"$f":"+(aem2csp2!B234+(aem2csp2!C234*10))*(10^((65-aem2csp2!$A$12)/10))","v":0},0,{"$error":"#DIV/0!"},{"$error":"#DIV/0!"},{"$error":"#DIV/0!"},{"$error":"#DIV/0!"},{"$f":"+(aem2csp2!B234+(aem2csp2!C234*10))*(10^((65-aem2csp2!$A$13)/10))","v":0},0,{"$error":"#DIV/0!"},{"$error":"#DIV/0!"},{"$error":"#DIV/0!"},{"$error":"#DIV/0!"},{"$f":"+(aem2csp2!B234+(aem2csp2!C234*10))*(10^((65-aem2csp2!$A$14)/10))","v":0},0,{"$error":"#DIV/0!"},{"$error":"#DIV/0!"},{"$error":"#DIV/0!"},{"$error":"#DIV/0!"},{"$f":"+(aem2csp2!B234+(aem2csp2!C234*10))*(10^((65-aem2csp2!$A$15)/10))","v":0},0,{"$error":"#DIV/0!"},{"$error":"#DIV/0!"},{"$error":"#DIV/0!"},{"$error":"#DIV/0!"},{"$f":"+(aem2csp2!B234+(aem2csp2!C234*10))*(10^((65-aem2csp2!$A$16)/10))","v":0},0,{"$error":"#DIV/0!"},{"$error":"#DIV/0!"},{"$error":"#DIV/0!"},{"$error":"#DIV/0!"},204,{"$f":"+(aem2csp2!D234+(aem2csp2!E234*10))*(10^((65-aem2csp2!$A$11)/10))","v":0},0,{"$error":"#DIV/0!"},{"$error":"#DIV/0!"},{"$error":"#DIV/0!"},{"$error":"#DIV/0!"},{"$f":"+(aem2csp2!D234+(aem2csp2!E234*10))*(10^((65-aem2csp2!$A$12)/10))","v":0},0,{"$error":"#DIV/0!"},{"$error":"#DIV/0!"},{"$error":"#DIV/0!"},{"$error":"#DIV/0!"},{"$f":"+(aem2csp2!D234+(aem2csp2!E234*10))*(10^((65-aem2csp2!$A$13)/10))","v":0},0,{"$error":"#DIV/0!"},{"$error":"#DIV/0!"},{"$error":"#DIV/0!"},{"$error":"#DIV/0!"},{"$f":"+(aem2csp2!D234+(aem2csp2!E234*10))*(10^((65-aem2csp2!$A$14)/10))","v":0},0,{"$error":"#DIV/0!"},{"$error":"#DIV/0!"},{"$error":"#DIV/0!"},{"$error":"#DIV/0!"},{"$f":"+(aem2csp2!D234+(aem2csp2!E234*10))*(10^((65-aem2csp2!$A$15)/10))","v":0},0,{"$error":"#DIV/0!"},{"$error":"#DIV/0!"},{"$error":"#DIV/0!"},{"$error":"#DIV/0!"},{"$f":"+(aem2csp2!D234+(aem2csp2!E234*10))*(10^((65-aem2csp2!$A$16)/10))","v":0},0,{"$error":"#DIV/0!"},{"$error":"#DIV/0!"},{"$error":"#DIV/0!"},{"$error":"#DIV/0!"}]
[null,null,null,null,"MD9028 ",2.5924323737067399E-2,0.67000722999588402,{"$f":"+(aem2csp2!B235+(aem2csp2!C235*10))*(10^((65-aem2csp2!$A$11)/10))","v":0},0,{"$f":"+(I235/$I$267)^(1/G235)","v":{"$error":"#DIV/0!"}},{"$error":"#DIV/0!"},{"$f":"+($L$269/F235)^(1/G235)","v":{"$error":"#DIV/0!"}},{"$error":"#DIV/0!"},{"$f":"+(aem2csp2!B235+(aem2csp2!C235*10))*(10^((65-aem2csp2!$A$12)/10))","v":0},0,{"$error":"#DIV/0!"},{"$error":"#DIV/0!"},{"$error":"#DIV/0!"},{"$error":"#DIV/0!"},{"$f":"+(aem2csp2!B235+(aem2csp2!C235*10))*(10^((65-aem2csp2!$A$13)/10))","v":0},0,{"$error":"#DIV/0!"},{"$error":"#DIV/0!"},{"$error":"#DIV/0!"},{"$error":"#DIV/0!"},{"$f":"+(aem2csp2!B235+(aem2csp2!C235*10))*(10^((65-aem2csp2!$A$14)/10))","v":0},0,{"$error":"#DIV/0!"},{"$error":"#DIV/0!"},{"$error":"#DIV/0!"},{"$error":"#DIV/0!"},{"$f":"+(aem2csp2!B235+(aem2csp2!C235*10))*(10^((65-aem2csp2!$A$15)/10))","v":0},0,{"$error":"#DIV/0!"},{"$error":"#DIV/0!"},{"$error":"#DIV/0!"},{"$error":"#DIV/0!"},{"$f":"+(aem2csp2!B235+(aem2csp2!C235*10))*(10^((65-aem2csp2!$A$16)/10))","v":0},0,{"$error":"#DIV/0!"},{"$error":"#DIV/0!"},{"$error":"#DIV/0!"},{"$error":"#DIV/0!"},205,{"$f":"+(aem2csp2!D235+(aem2csp2!E235*10))*(10^((65-aem2csp2!$A$11)/10))","v":0},0,{"$error":"#DIV/0!"},{"$error":"#DIV/0!"},{"$error":"#DIV/0!"},{"$error":"#DIV/0!"},{"$f":"+(aem2csp2!D235+(aem2csp2!E235*10))*(10^((65-aem2csp2!$A$12)/10))","v":0},0,{"$error":"#DIV/0!"},{"$error":"#DIV/0!"},{"$error":"#DIV/0!"},{"$error":"#DIV/0!"},{"$f":"+(aem2csp2!D235+(aem2csp2!E235*10))*(10^((65-aem2csp2!$A$13)/10))","v":0},0,{"$error":"#DIV/0!"},{"$error":"#DIV/0!"},{"$error":"#DIV/0!"},{"$error":"#DIV/0!"},{"$f":"+(aem2csp2!D235+(aem2csp2!E235*10))*(10^((65-aem2csp2!$A$14)/10))","v":0},0,{"$error":"#DIV/0!"},{"$error":"#DIV/0!"},{"$error":"#DIV/0!"},{"$error":"#DIV/0!"},{"$f":"+(aem2csp2!D235+(aem2csp2!E235*10))*(10^((65-aem2csp2!$A$15)/10))","v":0},0,{"$error":"#DIV/0!"},{"$error":"#DIV/0!"},{"$error":"#DIV/0!"},{"$error":"#DIV/0!"},{"$f":"+(aem2csp2!D235+(aem2csp2!E235*10))*(10^((65-aem2csp2!$A$16)/10))","v":0},0,{"$error":"#DIV/0!"},{"$error":"#DIV/0!"},{"$error":"#DIV/0!"},{"$error":"#DIV/0!"}]
[null,null,null,null,"MU3001 ",1.58052413619768E-2,0.765506655225342,{"$f":"+(aem2csp2!B236+(aem2csp2!C236*10))*(10^((65-aem2csp2!$A$11)/10))","v":0},0,{"$error":"#DIV/0!"},{"$error":"#DIV/0!"},{"$error":"#DIV/0!"},{"$error":"#DIV/0!"},{"$f":"+(aem2csp2!B236+(aem2csp2!C236*10))*(10^((65-aem2csp2!$A$12)/10))","v":0},0,{"$error":"#DIV/0!"},{"$error":"#DIV/0!"},{"$error":"#DIV/0!"},{"$error":"#DIV/0!"},{"$f":"+(aem2csp2!B236+(aem2csp2!C236*10))*(10^((65-aem2csp2!$A$13)/10))","v":0},0,{"$error":"#DIV/0!"},{"$error":"#DIV/0!"},{"$error":"#DIV/0!"},{"$error":"#DIV/0!"},{"$f":"+(aem2csp2!B236+(aem2csp2!C236*10))*(10^((65-aem2csp2!$A$14)/10))","v":0},0,{"$error":"#DIV/0!"},{"$error":"#DIV/0!"},{"$error":"#DIV/0!"},{"$error":"#DIV/0!"},{"$f":"+(aem2csp2!B236+(aem2csp2!C236*10))*(10^((65-aem2csp2!$A$15)/10))","v":0},0,{"$error":"#DIV/0!"},{"$error":"#DIV/0!"},{"$error":"#DIV/0!"},{"$error":"#DIV/0!"},{"$f":"+(aem2csp2!B236+(aem2csp2!C236*10))*(10^((65-aem2csp2!$A$16)/10))","v":0},0,{"$error":"#DIV/0!"},{"$error":"#DIV/0!"},{"$error":"#DIV/0!"},{"$error":"#DIV/0!"},206,{"$f":"+(aem2csp2!D236+(aem2csp2!E236*10))*(10^((65-aem2csp2!$A$11)/10))","v":0},0,{"$error":"#DIV/0!"},{"$error":"#DIV/0!"},{"$error":"#DIV/0!"},{"$error":"#DIV/0!"},{"$f":"+(aem2csp2!D236+(aem2csp2!E236*10))*(10^((65-aem2csp2!$A$12)/10))","v":0},0,{"$error":"#DIV/0!"},{"$error":"#DIV/0!"},{"$error":"#DIV/0!"},{"$error":"#DIV/0!"},{"$f":"+(aem2csp2!D236+(aem2csp2!E236*10))*(10^((65-aem2csp2!$A$13)/10))","v":0},0,{"$error":"#DIV/0!"},{"$error":"#DIV/0!"},{"$error":"#DIV/0!"},{"$error":"#DIV/0!"},{"$f":"+(aem2csp2!D236+(aem2csp2!E236*10))*(10^((65-aem2csp2!$A$14)/10))","v":0},0,{"$error":"#DIV/0!"},{"$error":"#DIV/0!"},{"$error":"#DIV/0!"},{"$error":"#DIV/0!"},{"$f":"+(aem2csp2!D236+(aem2csp2!E236*10))*(10^((65-aem2csp2!$A$15)/10))","v":0},0,{"$error":"#DIV/0!"},{"$error":"#DIV/0!"},{"$error":"#DIV/0!"},{"$error":"#DIV/0!"},{"$f":"+(aem2csp2!D236+(aem2csp2!E236*10))*(10^((65-aem2csp2!$A$16)/10))","v":0},0,{"$error":"#DIV/0!"},{"$error":"#DIV/0!"},{"$error":"#DIV/0!"},{"$error":"#DIV/0!"}]
[null,null,null,null,"OV10A ",1.41749122042994E-3,1.26391655126328,{"$f":"+(aem2csp2!B237+(aem2csp2!C237*10))*(10^((65-aem2csp2!$A$11)/10))","v":0},0,{"$error":"#DIV/0!"},{"$error":"#DIV/0!"},{"$error":"#DIV/0!"},{"$f":"+H237/L237","v":{"$error":"#DIV/0!"}},{"$f":"+(aem2csp2!B237+(aem2csp2!C237*10))*(10^((65-aem2csp2!$A$12)/10))","v":0},{"$f":"+F237*(N237^G237)","v":0},{"$f":"+(O237/$O$267)^(1/G237)","v":{"$error":"#DIV/0!"}},{"$f":"+P237/G237","v":{"$error":"#DIV/0!"}},{"$error":"#DIV/0!"},{"$error":"#DIV/0!"},{"$f":"+(aem2csp2!B237+(aem2csp2!C237*10))*(10^((65-aem2csp2!$A$13)/10))","v":0},0,{"$error":"#DIV/0!"},{"$error":"#DIV/0!"},{"$error":"#DIV/0!"},{"$error":"#DIV/0!"},{"$f":"+(aem2csp2!B237+(aem2csp2!C237*10))*(10^((65-aem2csp2!$A$14)/10))","v":0},0,{"$error":"#DIV/0!"},{"$error":"#DIV/0!"},{"$error":"#DIV/0!"},{"$error":"#DIV/0!"},{"$f":"+(aem2csp2!B237+(aem2csp2!C237*10))*(10^((65-aem2csp2!$A$15)/10))","v":0},0,{"$error":"#DIV/0!"},{"$error":"#DIV/0!"},{"$error":"#DIV/0!"},{"$error":"#DIV/0!"},{"$f":"+(aem2csp2!B237+(aem2csp2!C237*10))*(10^((65-aem2csp2!$A$16)/10))","v":0},0,{"$error":"#DIV/0!"},{"$error":"#DIV/0!"},{"$error":"#DIV/0!"},{"$error":"#DIV/0!"},207,{"$f":"+(aem2csp2!D237+(aem2csp2!E237*10))*(10^((65-aem2csp2!$A$11)/10))","v":0},0,{"$error":"#DIV/0!"},{"$error":"#DIV/0!"},{"$error":"#DIV/0!"},{"$error":"#DIV/0!"},{"$f":"+(aem2csp2!D237+(aem2csp2!E237*10))*(10^((65-aem2csp2!$A$12)/10))","v":0},0,{"$error":"#DIV/0!"},{"$error":"#DIV/0!"},{"$error":"#DIV/0!"},{"$error":"#DIV/0!"},{"$f":"+(aem2csp2!D237+(aem2csp2!E237*10))*(10^((65-aem2csp2!$A$13)/10))","v":0},0,{"$error":"#DIV/0!"},{"$error":"#DIV/0!"},{"$error":"#DIV/0!"},{"$error":"#DIV/0!"},{"$f":"+(aem2csp2!D237+(aem2csp2!E237*10))*(10^((65-aem2csp2!$A$14)/10))","v":0},0,{"$error":"#DIV/0!"},{"$error":"#DIV/0!"},{"$error":"#DIV/0!"},{"$error":"#DIV/0!"},{"$f":"+(aem2csp2!D237+(aem2csp2!E237*10))*(10^((65-aem2csp2!$A$15)/10))","v":0},0,{"$error":"#DIV/0!"},{"$error":"#DIV/0!"},{"$error":"#DIV/0!"},{"$error":"#DIV/0!"},{"$f":"+(aem2csp2!D237+(aem2csp2!E237*10))*(10^((65-aem2csp2!$A$16)/10))","v":0},0,{"$error":"#DIV/0!"},{"$error":"#DIV/0!"},{"$error":"#DIV/0!"},{"$error":"#DIV/0!"}]
[null,null,null,null,"P3A ",1.3369262252087E-2,0.82363365061773697,{"$f":"+(aem2csp2!B238+(aem2csp2!C238*10))*(10^((65-aem2csp2!$A$11)/10))","v":0},0,{"$error":"#DIV/0!"},{"$error":"#DIV/0!"},{"$error":"#DIV/0!"},{"$error":"#DIV/0!"},{"$f":"+(aem2csp2!B238+(aem2csp2!C238*10))*(10^((65-aem2csp2!$A$12)/10))","v":0},0,{"$error":"#DIV/0!"},{"$error":"#DIV/0!"},{"$error":"#DIV/0!"},{"$error":"#DIV/0!"},{"$f":"+(aem2csp2!B238+(aem2csp2!C238*10))*(10^((65-aem2csp2!$A$13)/10))","v":0},0,{"$error":"#DIV/0!"},{"$error":"#DIV/0!"},{"$error":"#DIV/0!"},{"$error":"#DIV/0!"},{"$f":"+(aem2csp2!B238+(aem2csp2!C238*10))*(10^((65-aem2csp2!$A$14)/10))","v":0},0,{"$error":"#DIV/0!"},{"$error":"#DIV/0!"},{"$error":"#DIV/0!"},{"$error":"#DIV/0!"},{"$f":"+(aem2csp2!B238+(aem2csp2!C238*10))*(10^((65-aem2csp2!$A$15)/10))","v":0},0,{"$error":"#DIV/0!"},{"$error":"#DIV/0!"},{"$error":"#DIV/0!"},{"$error":"#DIV/0!"},{"$f":"+(aem2csp2!B238+(aem2csp2!C238*10))*(10^((65-aem2csp2!$A$16)/10))","v":0},0,{"$error":"#DIV/0!"},{"$error":"#DIV/0!"},{"$error":"#DIV/0!"},{"$error":"#DIV/0!"},208,{"$f":"+(aem2csp2!D238+(aem2csp2!E238*10))*(10^((65-aem2csp2!$A$11)/10))","v":0},0,{"$error":"#DIV/0!"},{"$error":"#DIV/0!"},{"$error":"#DIV/0!"},{"$error":"#DIV/0!"},{"$f":"+(aem2csp2!D238+(aem2csp2!E238*10))*(10^((65-aem2csp2!$A$12)/10))","v":0},0,{"$error":"#DIV/0!"},{"$error":"#DIV/0!"},{"$error":"#DIV/0!"},{"$error":"#DIV/0!"},{"$f":"+(aem2csp2!D238+(aem2csp2!E238*10))*(10^((65-aem2csp2!$A$13)/10))","v":0},0,{"$error":"#DIV/0!"},{"$error":"#DIV/0!"},{"$error":"#DIV/0!"},{"$error":"#DIV/0!"},{"$f":"+(aem2csp2!D238+(aem2csp2!E238*10))*(10^((65-aem2csp2!$A$14)/10))","v":0},0,{"$error":"#DIV/0!"},{"$error":"#DIV/0!"},{"$error":"#DIV/0!"},{"$error":"#DIV/0!"},{"$f":"+(aem2csp2!D238+(aem2csp2!E238*10))*(10^((65-aem2csp2!$A$15)/10))","v":0},0,{"$error":"#DIV/0!"},{"$error":"#DIV/0!"},{"$error":"#DIV/0!"},{"$error":"#DIV/0!"},{"$f":"+(aem2csp2!D238+(aem2csp2!E238*10))*(10^((65-aem2csp2!$A$16)/10))","v":0},0,{"$error":"#DIV/0!"},{"$error":"#DIV/0!"},{"$error":"#DIV/0!"},{"$error":"#DIV/0!"}]
[null,null,null,null,"PA28 ",3.5708058851294201E-3,0.68289382618199301,{"$f":"+(aem2csp2!B239+(aem2csp2!C239*10))*(10^((65-aem2csp2!$A$11)/10))","v":0},0,{"$error":"#DIV/0!"},{"$error":"#DIV/0!"},{"$error":"#DIV/0!"},{"$error":"#DIV/0!"},{"$f":"+(aem2csp2!B239+(aem2csp2!C239*10))*(10^((65-aem2csp2!$A$12)/10))","v":0},0,{"$error":"#DIV/0!"},{"$error":"#DIV/0!"},{"$f":"+($R$269/F239)^(1/G239)","v":{"$error":"#DIV/0!"}},{"$error":"#DIV/0!"},{"$f":"+(aem2csp2!B239+(aem2csp2!C239*10))*(10^((65-aem2csp2!$A$13)/10))","v":0},0,{"$error":"#DIV/0!"},{"$error":"#DIV/0!"},{"$error":"#DIV/0!"},{"$error":"#DIV/0!"},{"$f":"+(aem2csp2!B239+(aem2csp2!C239*10))*(10^((65-aem2csp2!$A$14)/10))","v":0},0,{"$error":"#DIV/0!"},{"$error":"#DIV/0!"},{"$error":"#DIV/0!"},{"$error":"#DIV/0!"},{"$f":"+(aem2csp2!B239+(aem2csp2!C239*10))*(10^((65-aem2csp2!$A$15)/10))","v":0},0,{"$error":"#DIV/0!"},{"$error":"#DIV/0!"},{"$error":"#DIV/0!"},{"$error":"#DIV/0!"},{"$f":"+(aem2csp2!B239+(aem2csp2!C239*10))*(10^((65-aem2csp2!$A$16)/10))","v":0},0,{"$error":"#DIV/0!"},{"$error":"#DIV/0!"},{"$error":"#DIV/0!"},{"$error":"#DIV/0!"},209,{"$f":"+(aem2csp2!D239+(aem2csp2!E239*10))*(10^((65-aem2csp2!$A$11)/10))","v":0},0,{"$error":"#DIV/0!"},{"$error":"#DIV/0!"},{"$error":"#DIV/0!"},{"$error":"#DIV/0!"},{"$f":"+(aem2csp2!D239+(aem2csp2!E239*10))*(10^((65-aem2csp2!$A$12)/10))","v":0},0,{"$error":"#DIV/0!"},{"$error":"#DIV/0!"},{"$error":"#DIV/0!"},{"$error":"#DIV/0!"},{"$f":"+(aem2csp2!D239+(aem2csp2!E239*10))*(10^((65-aem2csp2!$A$13)/10))","v":0},0,{"$error":"#DIV/0!"},{"$error":"#DIV/0!"},{"$error":"#DIV/0!"},{"$error":"#DIV/0!"},{"$f":"+(aem2csp2!D239+(aem2csp2!E239*10))*(10^((65-aem2csp2!$A$14)/10))","v":0},0,{"$error":"#DIV/0!"},{"$error":"#DIV/0!"},{"$error":"#DIV/0!"},{"$error":"#DIV/0!"},{"$f":"+(aem2csp2!D239+(aem2csp2!E239*10))*(10^((65-aem2csp2!$A$15)/10))","v":0},0,{"$error":"#DIV/0!"},{"$error":"#DIV/0!"},{"$error":"#DIV/0!"},{"$error":"#DIV/0!"},{"$f":"+(aem2csp2!D239+(aem2csp2!E239*10))*(10^((65-aem2csp2!$A$16)/10))","v":0},0,{"$error":"#DIV/0!"},{"$error":"#DIV/0!"},{"$error":"#DIV/0!"},{"$error":"#DIV/0!"}]
[null,null,null,null,"PA30 ",3.6964298921301098E-2,0.61253498561428998,{"$f":"+(aem2csp2!B240+(aem2csp2!C240*10))*(10^((65-aem2csp2!$A$11)/10))","v":0},0,{"$error":"#DIV/0!"},{"$error":"#DIV/0!"},{"$error":"#DIV/0!"},{"$error":"#DIV/0!"},{"$f":"+(aem2csp2!B240+(aem2csp2!C240*10))*(10^((65-aem2csp2!$A$12)/10))","v":0},0,{"$error":"#DIV/0!"},{"$error":"#DIV/0!"},{"$error":"#DIV/0!"},{"$error":"#DIV/0!"},{"$f":"+(aem2csp2!B240+(aem2csp2!C240*10))*(10^((65-aem2csp2!$A$13)/10))","v":0},0,{"$error":"#DIV/0!"},{"$error":"#DIV/0!"},{"$error":"#DIV/0!"},{"$error":"#DIV/0!"},{"$f":"+(aem2csp2!B240+(aem2csp2!C240*10))*(10^((65-aem2csp2!$A$14)/10))","v":0},0,{"$error":"#DIV/0!"},{"$error":"#DIV/0!"},{"$error":"#DIV/0!"},{"$error":"#DIV/0!"},{"$f":"+(aem2csp2!B240+(aem2csp2!C240*10))*(10^((65-aem2csp2!$A$15)/10))","v":0},0,{"$error":"#DIV/0!"},{"$error":"#DIV/0!"},{"$error":"#DIV/0!"},{"$error":"#DIV/0!"},{"$f":"+(aem2csp2!B240+(aem2csp2!C240*10))*(10^((65-aem2csp2!$A$16)/10))","v":0},0,{"$error":"#DIV/0!"},{"$error":"#DIV/0!"},{"$error":"#DIV/0!"},{"$error":"#DIV/0!"},210,{"$f":"+(aem2csp2!D240+(aem2csp2!E240*10))*(10^((65-aem2csp2!$A$11)/10))","v":0},0,{"$error":"#DIV/0!"},{"$error":"#DIV/0!"},{"$error":"#DIV/0!"},{"$error":"#DIV/0!"},{"$f":"+(aem2csp2!D240+(aem2csp2!E240*10))*(10^((65-aem2csp2!$A$12)/10))","v":0},0,{"$error":"#DIV/0!"},{"$error":"#DIV/0!"},{"$error":"#DIV/0!"},{"$error":"#DIV/0!"},{"$f":"+(aem2csp2!D240+(aem2csp2!E240*10))*(10^((65-aem2csp2!$A$13)/10))","v":0},0,{"$error":"#DIV/0!"},{"$error":"#DIV/0!"},{"$error":"#DIV/0!"},{"$error":"#DIV/0!"},{"$f":"+(aem2csp2!D240+(aem2csp2!E240*10))*(10^((65-aem2csp2!$A$14)/10))","v":0},0,{"$error":"#DIV/0!"},{"$error":"#DIV/0!"},{"$error":"#DIV/0!"},{"$error":"#DIV/0!"},{"$f":"+(aem2csp2!D240+(aem2csp2!E240*10))*(10^((65-aem2csp2!$A$15)/10))","v":0},0,{"$error":"#DIV/0!"},{"$error":"#DIV/0!"},{"$error":"#DIV/0!"},{"$error":"#DIV/0!"},{"$f":"+(aem2csp2!D240+(aem2csp2!E240*10))*(10^((65-aem2csp2!$A$16)/10))","v":0},0,{"$error":"#DIV/0!"},{"$error":"#DIV/0!"},{"$error":"#DIV/0!"},{"$error":"#DIV/0!"}]
[null,null,null,null,"PA31 ",9.7314764877282304E-3,0.62641431636116296,{"$f":"+(aem2csp2!B241+(aem2csp2!C241*10))*(10^((65-aem2csp2!$A$11)/10))","v":0},0,{"$error":"#DIV/0!"},{"$error":"#DIV/0!"},{"$error":"#DIV/0!"},{"$error":"#DIV/0!"},{"$f":"+(aem2csp2!B241+(aem2csp2!C241*10))*(10^((65-aem2csp2!$A$12)/10))","v":0},0,{"$error":"#DIV/0!"},{"$error":"#DIV/0!"},{"$error":"#DIV/0!"},{"$error":"#DIV/0!"},{"$f":"+(aem2csp2!B241+(aem2csp2!C241*10))*(10^((65-aem2csp2!$A$13)/10))","v":0},0,{"$error":"#DIV/0!"},{"$error":"#DIV/0!"},{"$error":"#DIV/0!"},{"$error":"#DIV/0!"},{"$f":"+(aem2csp2!B241+(aem2csp2!C241*10))*(10^((65-aem2csp2!$A$14)/10))","v":0},0,{"$error":"#DIV/0!"},{"$error":"#DIV/0!"},{"$error":"#DIV/0!"},{"$error":"#DIV/0!"},{"$f":"+(aem2csp2!B241+(aem2csp2!C241*10))*(10^((65-aem2csp2!$A$15)/10))","v":0},0,{"$error":"#DIV/0!"},{"$error":"#DIV/0!"},{"$error":"#DIV/0!"},{"$error":"#DIV/0!"},{"$f":"+(aem2csp2!B241+(aem2csp2!C241*10))*(10^((65-aem2csp2!$A$16)/10))","v":0},0,{"$error":"#DIV/0!"},{"$error":"#DIV/0!"},{"$error":"#DIV/0!"},{"$error":"#DIV/0!"},211,{"$f":"+(aem2csp2!D241+(aem2csp2!E241*10))*(10^((65-aem2csp2!$A$11)/10))","v":0},0,{"$error":"#DIV/0!"},{"$error":"#DIV/0!"},{"$error":"#DIV/0!"},{"$error":"#DIV/0!"},{"$f":"+(aem2csp2!D241+(aem2csp2!E241*10))*(10^((65-aem2csp2!$A$12)/10))","v":0},0,{"$error":"#DIV/0!"},{"$error":"#DIV/0!"},{"$error":"#DIV/0!"},{"$error":"#DIV/0!"},{"$f":"+(aem2csp2!D241+(aem2csp2!E241*10))*(10^((65-aem2csp2!$A$13)/10))","v":0},0,{"$error":"#DIV/0!"},{"$error":"#DIV/0!"},{"$error":"#DIV/0!"},{"$error":"#DIV/0!"},{"$f":"+(aem2csp2!D241+(aem2csp2!E241*10))*(10^((65-aem2csp2!$A$14)/10))","v":0},0,{"$error":"#DIV/0!"},{"$error":"#DIV/0!"},{"$error":"#DIV/0!"},{"$error":"#DIV/0!"},{"$f":"+(aem2csp2!D241+(aem2csp2!E241*10))*(10^((65-aem2csp2!$A$15)/10))","v":0},0,{"$error":"#DIV/0!"},{"$error":"#DIV/0!"},{"$error":"#DIV/0!"},{"$error":"#DIV/0!"},{"$f":"+(aem2csp2!D241+(aem2csp2!E241*10))*(10^((65-aem2csp2!$A$16)/10))","v":0},0,{"$error":"#DIV/0!"},{"$error":"#DIV/0!"},{"$error":"#DIV/0!"},{"$error":"#DIV/0!"}]
[null,null,null,null,"PA42 ",2.27352394218697E-2,0.47185869649228201,{"$f":"+(aem2csp2!B242+(aem2csp2!C242*10))*(10^((65-aem2csp2!$A$11)/10))","v":0},0,{"$error":"#DIV/0!"},{"$error":"#DIV/0!"},{"$error":"#DIV/0!"},{"$error":"#DIV/0!"},{"$f":"+(aem2csp2!B242+(aem2csp2!C242*10))*(10^((65-aem2csp2!$A$12)/10))","v":0},0,{"$error":"#DIV/0!"},{"$error":"#DIV/0!"},{"$error":"#DIV/0!"},{"$error":"#DIV/0!"},{"$f":"+(aem2csp2!B242+(aem2csp2!C242*10))*(10^((65-aem2csp2!$A$13)/10))","v":0},0,{"$error":"#DIV/0!"},{"$error":"#DIV/0!"},{"$error":"#DIV/0!"},{"$error":"#DIV/0!"},{"$f":"+(aem2csp2!B242+(aem2csp2!C242*10))*(10^((65-aem2csp2!$A$14)/10))","v":0},0,{"$error":"#DIV/0!"},{"$error":"#DIV/0!"},{"$error":"#DIV/0!"},{"$error":"#DIV/0!"},{"$f":"+(aem2csp2!B242+(aem2csp2!C242*10))*(10^((65-aem2csp2!$A$15)/10))","v":0},0,{"$error":"#DIV/0!"},{"$error":"#DIV/0!"},{"$error":"#DIV/0!"},{"$error":"#DIV/0!"},{"$f":"+(aem2csp2!B242+(aem2csp2!C242*10))*(10^((65-aem2csp2!$A$16)/10))","v":0},0,{"$error":"#DIV/0!"},{"$error":"#DIV/0!"},{"$error":"#DIV/0!"},{"$error":"#DIV/0!"},212,{"$f":"+(aem2csp2!D242+(aem2csp2!E242*10))*(10^((65-aem2csp2!$A$11)/10))","v":0},0,{"$error":"#DIV/0!"},{"$error":"#DIV/0!"},{"$error":"#DIV/0!"},{"$error":"#DIV/0!"},{"$f":"+(aem2csp2!D242+(aem2csp2!E242*10))*(10^((65-aem2csp2!$A$12)/10))","v":0},0,{"$error":"#DIV/0!"},{"$error":"#DIV/0!"},{"$error":"#DIV/0!"},{"$error":"#DIV/0!"},{"$f":"+(aem2csp2!D242+(aem2csp2!E242*10))*(10^((65-aem2csp2!$A$13)/10))","v":0},0,{"$error":"#DIV/0!"},{"$error":"#DIV/0!"},{"$error":"#DIV/0!"},{"$error":"#DIV/0!"},{"$f":"+(aem2csp2!D242+(aem2csp2!E242*10))*(10^((65-aem2csp2!$A$14)/10))","v":0},0,{"$error":"#DIV/0!"},{"$error":"#DIV/0!"},{"$error":"#DIV/0!"},{"$error":"#DIV/0!"},{"$f":"+(aem2csp2!D242+(aem2csp2!E242*10))*(10^((65-aem2csp2!$A$15)/10))","v":0},0,{"$error":"#DIV/0!"},{"$error":"#DIV/0!"},{"$error":"#DIV/0!"},{"$error":"#DIV/0!"},{"$f":"+(aem2csp2!D242+(aem2csp2!E242*10))*(10^((65-aem2csp2!$A$16)/10))","v":0},0,{"$error":"#DIV/0!"},{"$error":"#DIV/0!"},{"$error":"#DIV/0!"},{"$error":"#DIV/0!"}]
[null,null,null,null,"S3A&B ",6.16260297091E-2,0.544633740019692,{"$f":"+(aem2csp2!B243+(aem2csp2!C243*10))*(10^((65-aem2csp2!$A$11)/10))","v":0},0,{"$error":"#DIV/0!"},{"$error":"#DIV/0!"},{"$error":"#DIV/0!"},{"$error":"#DIV/0!"},{"$f":"+(aem2csp2!B243+(aem2csp2!C243*10))*(10^((65-aem2csp2!$A$12)/10))","v":0},0,{"$error":"#DIV/0!"},{"$error":"#DIV/0!"},{"$error":"#DIV/0!"},{"$error":"#DIV/0!"},{"$f":"+(aem2csp2!B243+(aem2csp2!C243*10))*(10^((65-aem2csp2!$A$13)/10))","v":0},0,{"$error":"#DIV/0!"},{"$error":"#DIV/0!"},{"$error":"#DIV/0!"},{"$error":"#DIV/0!"},{"$f":"+(aem2csp2!B243+(aem2csp2!C243*10))*(10^((65-aem2csp2!$A$14)/10))","v":0},0,{"$error":"#DIV/0!"},{"$error":"#DIV/0!"},{"$error":"#DIV/0!"},{"$error":"#DIV/0!"},{"$f":"+(aem2csp2!B243+(aem2csp2!C243*10))*(10^((65-aem2csp2!$A$15)/10))","v":0},0,{"$error":"#DIV/0!"},{"$error":"#DIV/0!"},{"$error":"#DIV/0!"},{"$error":"#DIV/0!"},{"$f":"+(aem2csp2!B243+(aem2csp2!C243*10))*(10^((65-aem2csp2!$A$16)/10))","v":0},0,{"$error":"#DIV/0!"},{"$error":"#DIV/0!"},{"$error":"#DIV/0!"},{"$error":"#DIV/0!"},213,{"$f":"+(aem2csp2!D243+(aem2csp2!E243*10))*(10^((65-aem2csp2!$A$11)/10))","v":0},0,{"$error":"#DIV/0!"},{"$error":"#DIV/0!"},{"$error":"#DIV/0!"},{"$error":"#DIV/0!"},{"$f":"+(aem2csp2!D243+(aem2csp2!E243*10))*(10^((65-aem2csp2!$A$12)/10))","v":0},0,{"$error":"#DIV/0!"},{"$error":"#DIV/0!"},{"$error":"#DIV/0!"},{"$error":"#DIV/0!"},{"$f":"+(aem2csp2!D243+(aem2csp2!E243*10))*(10^((65-aem2csp2!$A$13)/10))","v":0},0,{"$error":"#DIV/0!"},{"$error":"#DIV/0!"},{"$error":"#DIV/0!"},{"$error":"#DIV/0!"},{"$f":"+(aem2csp2!D243+(aem2csp2!E243*10))*(10^((65-aem2csp2!$A$14)/10))","v":0},0,{"$error":"#DIV/0!"},{"$error":"#DIV/0!"},{"$error":"#DIV/0!"},{"$error":"#DIV/0!"},{"$f":"+(aem2csp2!D243+(aem2csp2!E243*10))*(10^((65-aem2csp2!$A$15)/10))","v":0},0,{"$error":"#DIV/0!"},{"$error":"#DIV/0!"},{"$error":"#DIV/0!"},{"$error":"#DIV/0!"},{"$f":"+(aem2csp2!D243+(aem2csp2!E243*10))*(10^((65-aem2csp2!$A$16)/10))","v":0},0,{"$error":"#DIV/0!"},{"$error":"#DIV/0!"},{"$error":"#DIV/0!"},{"$error":"#DIV/0!"}]
[null,null,null,null,"SABR80 ",4.5230725101024202E-2,0.68540402853261695,{"$f":"+(aem2csp2!B244+(aem2csp2!C244*10))*(10^((65-aem2csp2!$A$11)/10))","v":0},0,{"$error":"#DIV/0!"},{"$error":"#DIV/0!"},{"$error":"#DIV/0!"},{"$error":"#DIV/0!"},{"$f":"+(aem2csp2!B244+(aem2csp2!C244*10))*(10^((65-aem2csp2!$A$12)/10))","v":0},0,{"$error":"#DIV/0!"},{"$error":"#DIV/0!"},{"$error":"#DIV/0!"},{"$error":"#DIV/0!"},{"$f":"+(aem2csp2!B244+(aem2csp2!C244*10))*(10^((65-aem2csp2!$A$13)/10))","v":0},0,{"$error":"#DIV/0!"},{"$error":"#DIV/0!"},{"$error":"#DIV/0!"},{"$error":"#DIV/0!"},{"$f":"+(aem2csp2!B244+(aem2csp2!C244*10))*(10^((65-aem2csp2!$A$14)/10))","v":0},0,{"$error":"#DIV/0!"},{"$error":"#DIV/0!"},{"$error":"#DIV/0!"},{"$error":"#DIV/0!"},{"$f":"+(aem2csp2!B244+(aem2csp2!C244*10))*(10^((65-aem2csp2!$A$15)/10))","v":0},0,{"$error":"#DIV/0!"},{"$error":"#DIV/0!"},{"$error":"#DIV/0!"},{"$error":"#DIV/0!"},{"$f":"+(aem2csp2!B244+(aem2csp2!C244*10))*(10^((65-aem2csp2!$A$16)/10))","v":0},0,{"$error":"#DIV/0!"},{"$error":"#DIV/0!"},{"$error":"#DIV/0!"},{"$error":"#DIV/0!"},214,{"$f":"+(aem2csp2!D244+(aem2csp2!E244*10))*(10^((65-aem2csp2!$A$11)/10))","v":0},0,{"$error":"#DIV/0!"},{"$error":"#DIV/0!"},{"$error":"#DIV/0!"},{"$error":"#DIV/0!"},{"$f":"+(aem2csp2!D244+(aem2csp2!E244*10))*(10^((65-aem2csp2!$A$12)/10))","v":0},0,{"$error":"#DIV/0!"},{"$error":"#DIV/0!"},{"$error":"#DIV/0!"},{"$error":"#DIV/0!"},{"$f":"+(aem2csp2!D244+(aem2csp2!E244*10))*(10^((65-aem2csp2!$A$13)/10))","v":0},0,{"$error":"#DIV/0!"},{"$error":"#DIV/0!"},{"$error":"#DIV/0!"},{"$error":"#DIV/0!"},{"$f":"+(aem2csp2!D244+(aem2csp2!E244*10))*(10^((65-aem2csp2!$A$14)/10))","v":0},0,{"$error":"#DIV/0!"},{"$error":"#DIV/0!"},{"$error":"#DIV/0!"},{"$error":"#DIV/0!"},{"$f":"+(aem2csp2!D244+(aem2csp2!E244*10))*(10^((65-aem2csp2!$A$15)/10))","v":0},0,{"$error":"#DIV/0!"},{"$error":"#DIV/0!"},{"$error":"#DIV/0!"},{"$error":"#DIV/0!"},{"$f":"+(aem2csp2!D244+(aem2csp2!E244*10))*(10^((65-aem2csp2!$A$16)/10))","v":0},0,{"$error":"#DIV/0!"},{"$error":"#DIV/0!"},{"$error":"#DIV/0!"},{"$error":"#DIV/0!"}]
[null,null,null,null,"SD330 ",1.96238945041049E-2,0.61339798423496095,{"$f":"+(aem2csp2!B245+(aem2csp2!C245*10))*(10^((65-aem2csp2!$A$11)/10))","v":0},0,{"$error":"#DIV/0!"},{"$error":"#DIV/0!"},{"$error":"#DIV/0!"},{"$error":"#DIV/0!"},{"$f":"+(aem2csp2!B245+(aem2csp2!C245*10))*(10^((65-aem2csp2!$A$12)/10))","v":0},0,{"$error":"#DIV/0!"},{"$error":"#DIV/0!"},{"$error":"#DIV/0!"},{"$error":"#DIV/0!"},{"$f":"+(aem2csp2!B245+(aem2csp2!C245*10))*(10^((65-aem2csp2!$A$13)/10))","v":0},0,{"$error":"#DIV/0!"},{"$error":"#DIV/0!"},{"$error":"#DIV/0!"},{"$error":"#DIV/0!"},{"$f":"+(aem2csp2!B245+(aem2csp2!C245*10))*(10^((65-aem2csp2!$A$14)/10))","v":0},0,{"$error":"#DIV/0!"},{"$error":"#DIV/0!"},{"$error":"#DIV/0!"},{"$error":"#DIV/0!"},{"$f":"+(aem2csp2!B245+(aem2csp2!C245*10))*(10^((65-aem2csp2!$A$15)/10))","v":0},0,{"$error":"#DIV/0!"},{"$error":"#DIV/0!"},{"$error":"#DIV/0!"},{"$error":"#DIV/0!"},{"$f":"+(aem2csp2!B245+(aem2csp2!C245*10))*(10^((65-aem2csp2!$A$16)/10))","v":0},0,{"$error":"#DIV/0!"},{"$error":"#DIV/0!"},{"$error":"#DIV/0!"},{"$error":"#DIV/0!"},215,{"$f":"+(aem2csp2!D245+(aem2csp2!E245*10))*(10^((65-aem2csp2!$A$11)/10))","v":0},0,{"$error":"#DIV/0!"},{"$error":"#DIV/0!"},{"$error":"#DIV/0!"},{"$error":"#DIV/0!"},{"$f":"+(aem2csp2!D245+(aem2csp2!E245*10))*(10^((65-aem2csp2!$A$12)/10))","v":0},0,{"$error":"#DIV/0!"},{"$error":"#DIV/0!"},{"$error":"#DIV/0!"},{"$error":"#DIV/0!"},{"$f":"+(aem2csp2!D245+(aem2csp2!E245*10))*(10^((65-aem2csp2!$A$13)/10))","v":0},0,{"$error":"#DIV/0!"},{"$error":"#DIV/0!"},{"$error":"#DIV/0!"},{"$error":"#DIV/0!"},{"$f":"+(aem2csp2!D245+(aem2csp2!E245*10))*(10^((65-aem2csp2!$A$14)/10))","v":0},0,{"$error":"#DIV/0!"},{"$error":"#DIV/0!"},{"$error":"#DIV/0!"},{"$error":"#DIV/0!"},{"$f":"+(aem2csp2!D245+(aem2csp2!E245*10))*(10^((65-aem2csp2!$A$15)/10))","v":0},0,{"$error":"#DIV/0!"},{"$error":"#DIV/0!"},{"$error":"#DIV/0!"},{"$error":"#DIV/0!"},{"$f":"+(aem2csp2!D245+(aem2csp2!E245*10))*(10^((65-aem2csp2!$A$16)/10))","v":0},0,{"$error":"#DIV/0!"},{"$error":"#DIV/0!"},{"$error":"#DIV/0!"},{"$error":"#DIV/0!"}]
[null,null,null,null,"SF340 ",3.1607210074176502E-2,0.50930985108780602,{"$f":"+(aem2csp2!B246+(aem2csp2!C246*10))*(10^((65-aem2csp2!$A$11)/10))","v":0},0,{"$error":"#DIV/0!"},{"$error":"#DIV/0!"},{"$error":"#DIV/0!"},{"$error":"#DIV/0!"},{"$f":"+(aem2csp2!B246+(aem2csp2!C246*10))*(10^((65-aem2csp2!$A$12)/10))","v":0},0,{"$error":"#DIV/0!"},{"$error":"#DIV/0!"},{"$error":"#DIV/0!"},{"$error":"#DIV/0!"},{"$f":"+(aem2csp2!B246+(aem2csp2!C246*10))*(10^((65-aem2csp2!$A$13)/10))","v":0},0,{"$error":"#DIV/0!"},{"$error":"#DIV/0!"},{"$error":"#DIV/0!"},{"$error":"#DIV/0!"},{"$f":"+(aem2csp2!B246+(aem2csp2!C246*10))*(10^((65-aem2csp2!$A$14)/10))","v":0},0,{"$error":"#DIV/0!"},{"$error":"#DIV/0!"},{"$error":"#DIV/0!"},{"$error":"#DIV/0!"},{"$f":"+(aem2csp2!B246+(aem2csp2!C246*10))*(10^((65-aem2csp2!$A$15)/10))","v":0},0,{"$error":"#DIV/0!"},{"$error":"#DIV/0!"},{"$error":"#DIV/0!"},{"$error":"#DIV/0!"},{"$f":"+(aem2csp2!B246+(aem2csp2!C246*10))*(10^((65-aem2csp2!$A$16)/10))","v":0},0,{"$error":"#DIV/0!"},{"$error":"#DIV/0!"},{"$error":"#DIV/0!"},{"$error":"#DIV/0!"},216,{"$f":"+(aem2csp2!D246+(aem2csp2!E246*10))*(10^((65-aem2csp2!$A$11)/10))","v":0},0,{"$error":"#DIV/0!"},{"$error":"#DIV/0!"},{"$error":"#DIV/0!"},{"$error":"#DIV/0!"},{"$f":"+(aem2csp2!D246+(aem2csp2!E246*10))*(10^((65-aem2csp2!$A$12)/10))","v":0},0,{"$error":"#DIV/0!"},{"$error":"#DIV/0!"},{"$error":"#DIV/0!"},{"$error":"#DIV/0!"},{"$f":"+(aem2csp2!D246+(aem2csp2!E246*10))*(10^((65-aem2csp2!$A$13)/10))","v":0},0,{"$error":"#DIV/0!"},{"$error":"#DIV/0!"},{"$error":"#DIV/0!"},{"$error":"#DIV/0!"},{"$f":"+(aem2csp2!D246+(aem2csp2!E246*10))*(10^((65-aem2csp2!$A$14)/10))","v":0},0,{"$error":"#DIV/0!"},{"$error":"#DIV/0!"},{"$error":"#DIV/0!"},{"$error":"#DIV/0!"},{"$f":"+(aem2csp2!D246+(aem2csp2!E246*10))*(10^((65-aem2csp2!$A$15)/10))","v":0},0,{"$error":"#DIV/0!"},{"$error":"#DIV/0!"},{"$error":"#DIV/0!"},{"$error":"#DIV/0!"},{"$f":"+(aem2csp2!D246+(aem2csp2!E246*10))*(10^((65-aem2csp2!$A$16)/10))","v":0},0,{"$error":"#DIV/0!"},{"$error":"#DIV/0!"},{"$error":"#DIV/0!"},{"$error":"#DIV/0!"}]
[null,null,null,null,"SR71 ",2.2981523606851399,0.60341459294383804,{"$f":"+(aem2csp2!B247+(aem2csp2!C247*10))*(10^((65-aem2csp2!$A$11)/10))","v":0},0,{"$error":"#DIV/0!"},{"$error":"#DIV/0!"},{"$error":"#DIV/0!"},{"$error":"#DIV/0!"},{"$f":"+(aem2csp2!B247+(aem2csp2!C247*10))*(10^((65-aem2csp2!$A$12)/10))","v":0},0,{"$error":"#DIV/0!"},{"$error":"#DIV/0!"},{"$error":"#DIV/0!"},{"$error":"#DIV/0!"},{"$f":"+(aem2csp2!B247+(aem2csp2!C247*10))*(10^((65-aem2csp2!$A$13)/10))","v":0},0,{"$error":"#DIV/0!"},{"$error":"#DIV/0!"},{"$error":"#DIV/0!"},{"$error":"#DIV/0!"},{"$f":"+(aem2csp2!B247+(aem2csp2!C247*10))*(10^((65-aem2csp2!$A$14)/10))","v":0},0,{"$error":"#DIV/0!"},{"$error":"#DIV/0!"},{"$error":"#DIV/0!"},{"$error":"#DIV/0!"},{"$f":"+(aem2csp2!B247+(aem2csp2!C247*10))*(10^((65-aem2csp2!$A$15)/10))","v":0},0,{"$error":"#DIV/0!"},{"$error":"#DIV/0!"},{"$error":"#DIV/0!"},{"$error":"#DIV/0!"},{"$f":"+(aem2csp2!B247+(aem2csp2!C247*10))*(10^((65-aem2csp2!$A$16)/10))","v":0},0,{"$error":"#DIV/0!"},{"$error":"#DIV/0!"},{"$error":"#DIV/0!"},{"$error":"#DIV/0!"},217,{"$f":"+(aem2csp2!D247+(aem2csp2!E247*10))*(10^((65-aem2csp2!$A$11)/10))","v":0},0,{"$error":"#DIV/0!"},{"$error":"#DIV/0!"},{"$error":"#DIV/0!"},{"$error":"#DIV/0!"},{"$f":"+(aem2csp2!D247+(aem2csp2!E247*10))*(10^((65-aem2csp2!$A$12)/10))","v":0},0,{"$error":"#DIV/0!"},{"$error":"#DIV/0!"},{"$error":"#DIV/0!"},{"$error":"#DIV/0!"},{"$f":"+(aem2csp2!D247+(aem2csp2!E247*10))*(10^((65-aem2csp2!$A$13)/10))","v":0},0,{"$error":"#DIV/0!"},{"$error":"#DIV/0!"},{"$error":"#DIV/0!"},{"$error":"#DIV/0!"},{"$f":"+(aem2csp2!D247+(aem2csp2!E247*10))*(10^((65-aem2csp2!$A$14)/10))","v":0},0,{"$error":"#DIV/0!"},{"$error":"#DIV/0!"},{"$error":"#DIV/0!"},{"$error":"#DIV/0!"},{"$f":"+(aem2csp2!D247+(aem2csp2!E247*10))*(10^((65-aem2csp2!$A$15)/10))","v":0},0,{"$error":"#DIV/0!"},{"$error":"#DIV/0!"},{"$error":"#DIV/0!"},{"$error":"#DIV/0!"},{"$f":"+(aem2csp2!D247+(aem2csp2!E247*10))*(10^((65-aem2csp2!$A$16)/10))","v":0},0,{"$error":"#DIV/0!"},{"$error":"#DIV/0!"},{"$error":"#DIV/0!"},{"$error":"#DIV/0!"}]
[null,null,null,null,"T1 ",7.2239824368022301E-3,1.19492730518032,{"$f":"+(aem2csp2!B248+(aem2csp2!C248*10))*(10^((65-aem2csp2!$A$11)/10))","v":0},0,{"$error":"#DIV/0!"},{"$error":"#DIV/0!"},{"$error":"#DIV/0!"},{"$error":"#DIV/0!"},{"$f":"+(aem2csp2!B248+(aem2csp2!C248*10))*(10^((65-aem2csp2!$A$12)/10))","v":0},0,{"$error":"#DIV/0!"},{"$error":"#DIV/0!"},{"$error":"#DIV/0!"},{"$error":"#DIV/0!"},{"$f":"+(aem2csp2!B248+(aem2csp2!C248*10))*(10^((65-aem2csp2!$A$13)/10))","v":0},0,{"$error":"#DIV/0!"},{"$error":"#DIV/0!"},{"$error":"#DIV/0!"},{"$error":"#DIV/0!"},{"$f":"+(aem2csp2!B248+(aem2csp2!C248*10))*(10^((65-aem2csp2!$A$14)/10))","v":0},0,{"$error":"#DIV/0!"},{"$error":"#DIV/0!"},{"$error":"#DIV/0!"},{"$error":"#DIV/0!"},{"$f":"+(aem2csp2!B248+(aem2csp2!C248*10))*(10^((65-aem2csp2!$A$15)/10))","v":0},0,{"$error":"#DIV/0!"},{"$error":"#DIV/0!"},{"$error":"#DIV/0!"},{"$error":"#DIV/0!"},{"$f":"+(aem2csp2!B248+(aem2csp2!C248*10))*(10^((65-aem2csp2!$A$16)/10))","v":0},0,{"$error":"#DIV/0!"},{"$error":"#DIV/0!"},{"$error":"#DIV/0!"},{"$error":"#DIV/0!"},218,{"$f":"+(aem2csp2!D248+(aem2csp2!E248*10))*(10^((65-aem2csp2!$A$11)/10))","v":0},0,{"$error":"#DIV/0!"},{"$error":"#DIV/0!"},{"$error":"#DIV/0!"},{"$error":"#DIV/0!"},{"$f":"+(aem2csp2!D248+(aem2csp2!E248*10))*(10^((65-aem2csp2!$A$12)/10))","v":0},0,{"$error":"#DIV/0!"},{"$error":"#DIV/0!"},{"$error":"#DIV/0!"},{"$error":"#DIV/0!"},{"$f":"+(aem2csp2!D248+(aem2csp2!E248*10))*(10^((65-aem2csp2!$A$13)/10))","v":0},0,{"$error":"#DIV/0!"},{"$error":"#DIV/0!"},{"$error":"#DIV/0!"},{"$error":"#DIV/0!"},{"$f":"+(aem2csp2!D248+(aem2csp2!E248*10))*(10^((65-aem2csp2!$A$14)/10))","v":0},0,{"$error":"#DIV/0!"},{"$error":"#DIV/0!"},{"$error":"#DIV/0!"},{"$error":"#DIV/0!"},{"$f":"+(aem2csp2!D248+(aem2csp2!E248*10))*(10^((65-aem2csp2!$A$15)/10))","v":0},0,{"$error":"#DIV/0!"},{"$error":"#DIV/0!"},{"$error":"#DIV/0!"},{"$error":"#DIV/0!"},{"$f":"+(aem2csp2!D248+(aem2csp2!E248*10))*(10^((65-aem2csp2!$A$16)/10))","v":0},0,{"$error":"#DIV/0!"},{"$error":"#DIV/0!"},{"$error":"#DIV/0!"},{"$error":"#DIV/0!"}]
[null,null,null,null,"T29 ",4.7649354694802297E-2,0.75150060091396498,{"$f":"+(aem2csp2!B249+(aem2csp2!C249*10))*(10^((65-aem2csp2!$A$11)/10))","v":0},0,{"$error":"#DIV/0!"},{"$error":"#DIV/0!"},{"$error":"#DIV/0!"},{"$error":"#DIV/0!"},{"$f":"+(aem2csp2!B249+(aem2csp2!C249*10))*(10^((65-aem2csp2!$A$12)/10))","v":0},0,{"$error":"#DIV/0!"},{"$error":"#DIV/0!"},{"$error":"#DIV/0!"},{"$error":"#DIV/0!"},{"$f":"+(aem2csp2!B249+(aem2csp2!C249*10))*(10^((65-aem2csp2!$A$13)/10))","v":0},0,{"$error":"#DIV/0!"},{"$error":"#DIV/0!"},{"$error":"#DIV/0!"},{"$error":"#DIV/0!"},{"$f":"+(aem2csp2!B249+(aem2csp2!C249*10))*(10^((65-aem2csp2!$A$14)/10))","v":0},0,{"$error":"#DIV/0!"},{"$error":"#DIV/0!"},{"$error":"#DIV/0!"},{"$error":"#DIV/0!"},{"$f":"+(aem2csp2!B249+(aem2csp2!C249*10))*(10^((65-aem2csp2!$A$15)/10))","v":0},0,{"$error":"#DIV/0!"},{"$error":"#DIV/0!"},{"$error":"#DIV/0!"},{"$error":"#DIV/0!"},{"$f":"+(aem2csp2!B249+(aem2csp2!C249*10))*(10^((65-aem2csp2!$A$16)/10))","v":0},0,{"$error":"#DIV/0!"},{"$error":"#DIV/0!"},{"$error":"#DIV/0!"},{"$error":"#DIV/0!"},219,{"$f":"+(aem2csp2!D249+(aem2csp2!E249*10))*(10^((65-aem2csp2!$A$11)/10))","v":0},0,{"$error":"#DIV/0!"},{"$error":"#DIV/0!"},{"$error":"#DIV/0!"},{"$error":"#DIV/0!"},{"$f":"+(aem2csp2!D249+(aem2csp2!E249*10))*(10^((65-aem2csp2!$A$12)/10))","v":0},0,{"$error":"#DIV/0!"},{"$error":"#DIV/0!"},{"$error":"#DIV/0!"},{"$error":"#DIV/0!"},{"$f":"+(aem2csp2!D249+(aem2csp2!E249*10))*(10^((65-aem2csp2!$A$13)/10))","v":0},0,{"$error":"#DIV/0!"},{"$error":"#DIV/0!"},{"$error":"#DIV/0!"},{"$error":"#DIV/0!"},{"$f":"+(aem2csp2!D249+(aem2csp2!E249*10))*(10^((65-aem2csp2!$A$14)/10))","v":0},0,{"$error":"#DIV/0!"},{"$error":"#DIV/0!"},{"$error":"#DIV/0!"},{"$error":"#DIV/0!"},{"$f":"+(aem2csp2!D249+(aem2csp2!E249*10))*(10^((65-aem2csp2!$A$15)/10))","v":0},0,{"$error":"#DIV/0!"},{"$error":"#DIV/0!"},{"$error":"#DIV/0!"},{"$error":"#DIV/0!"},{"$f":"+(aem2csp2!D249+(aem2csp2!E249*10))*(10^((65-aem2csp2!$A$16)/10))","v":0},0,{"$error":"#DIV/0!"},{"$error":"#DIV/0!"},{"$error":"#DIV/0!"},{"$error":"#DIV/0!"}]
[null,null,null,null,"T-2C ",0.25413233875143598,0.66135824093060602,{"$f":"+(aem2csp2!B250+(aem2csp2!C250*10))*(10^((65-aem2csp2!$A$11)/10))","v":0},0,{"$error":"#DIV/0!"},{"$error":"#DIV/0!"},{"$error":"#DIV/0!"},{"$error":"#DIV/0!"},{"$f":"+(aem2csp2!B250+(aem2csp2!C250*10))*(10^((65-aem2csp2!$A$12)/10))","v":0},0,{"$error":"#DIV/0!"},{"$error":"#DIV/0!"},{"$error":"#DIV/0!"},{"$error":"#DIV/0!"},{"$f":"+(aem2csp2!B250+(aem2csp2!C250*10))*(10^((65-aem2csp2!$A$13)/10))","v":0},0,{"$error":"#DIV/0!"},{"$error":"#DIV/0!"},{"$error":"#DIV/0!"},{"$error":"#DIV/0!"},{"$f":"+(aem2csp2!B250+(aem2csp2!C250*10))*(10^((65-aem2csp2!$A$14)/10))","v":0},0,{"$error":"#DIV/0!"},{"$error":"#DIV/0!"},{"$error":"#DIV/0!"},{"$error":"#DIV/0!"},{"$f":"+(aem2csp2!B250+(aem2csp2!C250*10))*(10^((65-aem2csp2!$A$15)/10))","v":0},0,{"$error":"#DIV/0!"},{"$error":"#DIV/0!"},{"$error":"#DIV/0!"},{"$error":"#DIV/0!"},{"$f":"+(aem2csp2!B250+(aem2csp2!C250*10))*(10^((65-aem2csp2!$A$16)/10))","v":0},0,{"$error":"#DIV/0!"},{"$error":"#DIV/0!"},{"$error":"#DIV/0!"},{"$error":"#DIV/0!"},220,{"$f":"+(aem2csp2!D250+(aem2csp2!E250*10))*(10^((65-aem2csp2!$A$11)/10))","v":0},0,{"$error":"#DIV/0!"},{"$error":"#DIV/0!"},{"$error":"#DIV/0!"},{"$error":"#DIV/0!"},{"$f":"+(aem2csp2!D250+(aem2csp2!E250*10))*(10^((65-aem2csp2!$A$12)/10))","v":0},0,{"$error":"#DIV/0!"},{"$error":"#DIV/0!"},{"$error":"#DIV/0!"},{"$error":"#DIV/0!"},{"$f":"+(aem2csp2!D250+(aem2csp2!E250*10))*(10^((65-aem2csp2!$A$13)/10))","v":0},0,{"$error":"#DIV/0!"},{"$error":"#DIV/0!"},{"$error":"#DIV/0!"},{"$error":"#DIV/0!"},{"$f":"+(aem2csp2!D250+(aem2csp2!E250*10))*(10^((65-aem2csp2!$A$14)/10))","v":0},0,{"$error":"#DIV/0!"},{"$error":"#DIV/0!"},{"$error":"#DIV/0!"},{"$error":"#DIV/0!"},{"$f":"+(aem2csp2!D250+(aem2csp2!E250*10))*(10^((65-aem2csp2!$A$15)/10))","v":0},0,{"$error":"#DIV/0!"},{"$error":"#DIV/0!"},{"$error":"#DIV/0!"},{"$error":"#DIV/0!"},{"$f":"+(aem2csp2!D250+(aem2csp2!E250*10))*(10^((65-aem2csp2!$A$16)/10))","v":0},0,{"$error":"#DIV/0!"},{"$error":"#DIV/0!"},{"$error":"#DIV/0!"},{"$error":"#DIV/0!"}]
[null,null,null,null,"T3 ",1.3790074090101301E-2,0.58473097940463303,{"$f":"+(aem2csp2!B251+(aem2csp2!C251*10))*(10^((65-aem2csp2!$A$11)/10))","v":0},0,{"$error":"#DIV/0!"},{"$error":"#DIV/0!"},{"$error":"#DIV/0!"},{"$error":"#DIV/0!"},{"$f":"+(aem2csp2!B251+(aem2csp2!C251*10))*(10^((65-aem2csp2!$A$12)/10))","v":0},0,{"$error":"#DIV/0!"},{"$error":"#DIV/0!"},{"$error":"#DIV/0!"},{"$error":"#DIV/0!"},{"$f":"+(aem2csp2!B251+(aem2csp2!C251*10))*(10^((65-aem2csp2!$A$13)/10))","v":0},0,{"$error":"#DIV/0!"},{"$error":"#DIV/0!"},{"$error":"#DIV/0!"},{"$error":"#DIV/0!"},{"$f":"+(aem2csp2!B251+(aem2csp2!C251*10))*(10^((65-aem2csp2!$A$14)/10))","v":0},0,{"$error":"#DIV/0!"},{"$error":"#DIV/0!"},{"$error":"#DIV/0!"},{"$error":"#DIV/0!"},{"$f":"+(aem2csp2!B251+(aem2csp2!C251*10))*(10^((65-aem2csp2!$A$15)/10))","v":0},0,{"$error":"#DIV/0!"},{"$error":"#DIV/0!"},{"$error":"#DIV/0!"},{"$error":"#DIV/0!"},{"$f":"+(aem2csp2!B251+(aem2csp2!C251*10))*(10^((65-aem2csp2!$A$16)/10))","v":0},0,{"$error":"#DIV/0!"},{"$error":"#DIV/0!"},{"$error":"#DIV/0!"},{"$error":"#DIV/0!"},221,{"$f":"+(aem2csp2!D251+(aem2csp2!E251*10))*(10^((65-aem2csp2!$A$11)/10))","v":0},0,{"$error":"#DIV/0!"},{"$error":"#DIV/0!"},{"$error":"#DIV/0!"},{"$error":"#DIV/0!"},{"$f":"+(aem2csp2!D251+(aem2csp2!E251*10))*(10^((65-aem2csp2!$A$12)/10))","v":0},0,{"$error":"#DIV/0!"},{"$error":"#DIV/0!"},{"$error":"#DIV/0!"},{"$error":"#DIV/0!"},{"$f":"+(aem2csp2!D251+(aem2csp2!E251*10))*(10^((65-aem2csp2!$A$13)/10))","v":0},0,{"$error":"#DIV/0!"},{"$error":"#DIV/0!"},{"$error":"#DIV/0!"},{"$error":"#DIV/0!"},{"$f":"+(aem2csp2!D251+(aem2csp2!E251*10))*(10^((65-aem2csp2!$A$14)/10))","v":0},0,{"$error":"#DIV/0!"},{"$error":"#DIV/0!"},{"$error":"#DIV/0!"},{"$error":"#DIV/0!"},{"$f":"+(aem2csp2!D251+(aem2csp2!E251*10))*(10^((65-aem2csp2!$A$15)/10))","v":0},0,{"$error":"#DIV/0!"},{"$error":"#DIV/0!"},{"$error":"#DIV/0!"},{"$error":"#DIV/0!"},{"$f":"+(aem2csp2!D251+(aem2csp2!E251*10))*(10^((65-aem2csp2!$A$16)/10))","v":0},0,{"$error":"#DIV/0!"},{"$error":"#DIV/0!"},{"$error":"#DIV/0!"},{"$error":"#DIV/0!"}]
[null,null,null,null,"T33A ",4.1633772804206201E-2,0.68929130833262098,{"$f":"+(aem2csp2!B252+(aem2csp2!C252*10))*(10^((65-aem2csp2!$A$11)/10))","v":0},0,{"$error":"#DIV/0!"},{"$error":"#DIV/0!"},{"$error":"#DIV/0!"},{"$error":"#DIV/0!"},{"$f":"+(aem2csp2!B252+(aem2csp2!C252*10))*(10^((65-aem2csp2!$A$12)/10))","v":0},0,{"$error":"#DIV/0!"},{"$error":"#DIV/0!"},{"$error":"#DIV/0!"},{"$error":"#DIV/0!"},{"$f":"+(aem2csp2!B252+(aem2csp2!C252*10))*(10^((65-aem2csp2!$A$13)/10))","v":0},0,{"$error":"#DIV/0!"},{"$error":"#DIV/0!"},{"$error":"#DIV/0!"},{"$error":"#DIV/0!"},{"$f":"+(aem2csp2!B252+(aem2csp2!C252*10))*(10^((65-aem2csp2!$A$14)/10))","v":0},0,{"$error":"#DIV/0!"},{"$error":"#DIV/0!"},{"$error":"#DIV/0!"},{"$error":"#DIV/0!"},{"$f":"+(aem2csp2!B252+(aem2csp2!C252*10))*(10^((65-aem2csp2!$A$15)/10))","v":0},0,{"$error":"#DIV/0!"},{"$error":"#DIV/0!"},{"$error":"#DIV/0!"},{"$error":"#DIV/0!"},{"$f":"+(aem2csp2!B252+(aem2csp2!C252*10))*(10^((65-aem2csp2!$A$16)/10))","v":0},0,{"$error":"#DIV/0!"},{"$error":"#DIV/0!"},{"$error":"#DIV/0!"},{"$error":"#DIV/0!"},222,{"$f":"+(aem2csp2!D252+(aem2csp2!E252*10))*(10^((65-aem2csp2!$A$11)/10))","v":0},0,{"$error":"#DIV/0!"},{"$error":"#DIV/0!"},{"$error":"#DIV/0!"},{"$error":"#DIV/0!"},{"$f":"+(aem2csp2!D252+(aem2csp2!E252*10))*(10^((65-aem2csp2!$A$12)/10))","v":0},0,{"$error":"#DIV/0!"},{"$error":"#DIV/0!"},{"$error":"#DIV/0!"},{"$error":"#DIV/0!"},{"$f":"+(aem2csp2!D252+(aem2csp2!E252*10))*(10^((65-aem2csp2!$A$13)/10))","v":0},0,{"$error":"#DIV/0!"},{"$error":"#DIV/0!"},{"$error":"#DIV/0!"},{"$error":"#DIV/0!"},{"$f":"+(aem2csp2!D252+(aem2csp2!E252*10))*(10^((65-aem2csp2!$A$14)/10))","v":0},0,{"$error":"#DIV/0!"},{"$error":"#DIV/0!"},{"$error":"#DIV/0!"},{"$error":"#DIV/0!"},{"$f":"+(aem2csp2!D252+(aem2csp2!E252*10))*(10^((65-aem2csp2!$A$15)/10))","v":0},0,{"$error":"#DIV/0!"},{"$error":"#DIV/0!"},{"$error":"#DIV/0!"},{"$error":"#DIV/0!"},{"$f":"+(aem2csp2!D252+(aem2csp2!E252*10))*(10^((65-aem2csp2!$A$16)/10))","v":0},0,{"$error":"#DIV/0!"},{"$error":"#DIV/0!"},{"$error":"#DIV/0!"},{"$error":"#DIV/0!"}]
[null,null,null,null,"T34 ",1.5833632782601002E-2,0.41983034863803897,{"$f":"+(aem2csp2!B253+(aem2csp2!C253*10))*(10^((65-aem2csp2!$A$11)/10))","v":0},0,{"$error":"#DIV/0!"},{"$error":"#DIV/0!"},{"$error":"#DIV/0!"},{"$error":"#DIV/0!"},{"$f":"+(aem2csp2!B253+(aem2csp2!C253*10))*(10^((65-aem2csp2!$A$12)/10))","v":0},0,{"$error":"#DIV/0!"},{"$error":"#DIV/0!"},{"$error":"#DIV/0!"},{"$error":"#DIV/0!"},{"$f":"+(aem2csp2!B253+(aem2csp2!C253*10))*(10^((65-aem2csp2!$A$13)/10))","v":0},0,{"$error":"#DIV/0!"},{"$error":"#DIV/0!"},{"$error":"#DIV/0!"},{"$error":"#DIV/0!"},{"$f":"+(aem2csp2!B253+(aem2csp2!C253*10))*(10^((65-aem2csp2!$A$14)/10))","v":0},0,{"$error":"#DIV/0!"},{"$error":"#DIV/0!"},{"$error":"#DIV/0!"},{"$error":"#DIV/0!"},{"$f":"+(aem2csp2!B253+(aem2csp2!C253*10))*(10^((65-aem2csp2!$A$15)/10))","v":0},0,{"$error":"#DIV/0!"},{"$error":"#DIV/0!"},{"$error":"#DIV/0!"},{"$error":"#DIV/0!"},{"$f":"+(aem2csp2!B253+(aem2csp2!C253*10))*(10^((65-aem2csp2!$A$16)/10))","v":0},0,{"$error":"#DIV/0!"},{"$error":"#DIV/0!"},{"$error":"#DIV/0!"},{"$error":"#DIV/0!"},223,{"$f":"+(aem2csp2!D253+(aem2csp2!E253*10))*(10^((65-aem2csp2!$A$11)/10))","v":0},0,{"$error":"#DIV/0!"},{"$error":"#DIV/0!"},{"$error":"#DIV/0!"},{"$error":"#DIV/0!"},{"$f":"+(aem2csp2!D253+(aem2csp2!E253*10))*(10^((65-aem2csp2!$A$12)/10))","v":0},0,{"$error":"#DIV/0!"},{"$error":"#DIV/0!"},{"$error":"#DIV/0!"},{"$error":"#DIV/0!"},{"$f":"+(aem2csp2!D253+(aem2csp2!E253*10))*(10^((65-aem2csp2!$A$13)/10))","v":0},0,{"$error":"#DIV/0!"},{"$error":"#DIV/0!"},{"$error":"#DIV/0!"},{"$error":"#DIV/0!"},{"$f":"+(aem2csp2!D253+(aem2csp2!E253*10))*(10^((65-aem2csp2!$A$14)/10))","v":0},0,{"$error":"#DIV/0!"},{"$error":"#DIV/0!"},{"$error":"#DIV/0!"},{"$error":"#DIV/0!"},{"$f":"+(aem2csp2!D253+(aem2csp2!E253*10))*(10^((65-aem2csp2!$A$15)/10))","v":0},0,{"$error":"#DIV/0!"},{"$error":"#DIV/0!"},{"$error":"#DIV/0!"},{"$error":"#DIV/0!"},{"$f":"+(aem2csp2!D253+(aem2csp2!E253*10))*(10^((65-aem2csp2!$A$16)/10))","v":0},0,{"$error":"#DIV/0!"},{"$error":"#DIV/0!"},{"$error":"#DIV/0!"},{"$error":"#DIV/0!"}]
[null,null,null,null,"T37B ",2.13544285693626E-2,0.81290660917323598,{"$f":"+(aem2csp2!B254+(aem2csp2!C254*10))*(10^((65-aem2csp2!$A$11)/10))","v":0},0,{"$error":"#DIV/0!"},{"$error":"#DIV/0!"},{"$error":"#DIV/0!"},{"$error":"#DIV/0!"},{"$f":"+(aem2csp2!B254+(aem2csp2!C254*10))*(10^((65-aem2csp2!$A$12)/10))","v":0},0,{"$error":"#DIV/0!"},{"$error":"#DIV/0!"},{"$error":"#DIV/0!"},{"$error":"#DIV/0!"},{"$f":"+(aem2csp2!B254+(aem2csp2!C254*10))*(10^((65-aem2csp2!$A$13)/10))","v":0},0,{"$error":"#DIV/0!"},{"$error":"#DIV/0!"},{"$error":"#DIV/0!"},{"$error":"#DIV/0!"},{"$f":"+(aem2csp2!B254+(aem2csp2!C254*10))*(10^((65-aem2csp2!$A$14)/10))","v":0},0,{"$error":"#DIV/0!"},{"$error":"#DIV/0!"},{"$error":"#DIV/0!"},{"$error":"#DIV/0!"},{"$f":"+(aem2csp2!B254+(aem2csp2!C254*10))*(10^((65-aem2csp2!$A$15)/10))","v":0},0,{"$error":"#DIV/0!"},{"$error":"#DIV/0!"},{"$error":"#DIV/0!"},{"$error":"#DIV/0!"},{"$f":"+(aem2csp2!B254+(aem2csp2!C254*10))*(10^((65-aem2csp2!$A$16)/10))","v":0},0,{"$error":"#DIV/0!"},{"$error":"#DIV/0!"},{"$error":"#DIV/0!"},{"$error":"#DIV/0!"},224,{"$f":"+(aem2csp2!D254+(aem2csp2!E254*10))*(10^((65-aem2csp2!$A$11)/10))","v":0},0,{"$error":"#DIV/0!"},{"$error":"#DIV/0!"},{"$error":"#DIV/0!"},{"$error":"#DIV/0!"},{"$f":"+(aem2csp2!D254+(aem2csp2!E254*10))*(10^((65-aem2csp2!$A$12)/10))","v":0},0,{"$error":"#DIV/0!"},{"$error":"#DIV/0!"},{"$error":"#DIV/0!"},{"$error":"#DIV/0!"},{"$f":"+(aem2csp2!D254+(aem2csp2!E254*10))*(10^((65-aem2csp2!$A$13)/10))","v":0},0,{"$error":"#DIV/0!"},{"$error":"#DIV/0!"},{"$error":"#DIV/0!"},{"$error":"#DIV/0!"},{"$f":"+(aem2csp2!D254+(aem2csp2!E254*10))*(10^((65-aem2csp2!$A$14)/10))","v":0},0,{"$error":"#DIV/0!"},{"$error":"#DIV/0!"},{"$error":"#DIV/0!"},{"$error":"#DIV/0!"},{"$f":"+(aem2csp2!D254+(aem2csp2!E254*10))*(10^((65-aem2csp2!$A$15)/10))","v":0},0,{"$error":"#DIV/0!"},{"$error":"#DIV/0!"},{"$error":"#DIV/0!"},{"$error":"#DIV/0!"},{"$f":"+(aem2csp2!D254+(aem2csp2!E254*10))*(10^((65-aem2csp2!$A$16)/10))","v":0},0,{"$error":"#DIV/0!"},{"$error":"#DIV/0!"},{"$error":"#DIV/0!"},{"$error":"#DIV/0!"}]
[null,null,null,null,"T-38A ",0.25953609094755598,0.63724744918905896,{"$f":"+(aem2csp2!B255+(aem2csp2!C255*10))*(10^((65-aem2csp2!$A$11)/10))","v":0},0,{"$error":"#DIV/0!"},{"$error":"#DIV/0!"},{"$error":"#DIV/0!"},{"$error":"#DIV/0!"},{"$f":"+(aem2csp2!B255+(aem2csp2!C255*10))*(10^((65-aem2csp2!$A$12)/10))","v":0},0,{"$error":"#DIV/0!"},{"$error":"#DIV/0!"},{"$error":"#DIV/0!"},{"$error":"#DIV/0!"},{"$f":"+(aem2csp2!B255+(aem2csp2!C255*10))*(10^((65-aem2csp2!$A$13)/10))","v":0},0,{"$error":"#DIV/0!"},{"$error":"#DIV/0!"},{"$error":"#DIV/0!"},{"$error":"#DIV/0!"},{"$f":"+(aem2csp2!B255+(aem2csp2!C255*10))*(10^((65-aem2csp2!$A$14)/10))","v":0},0,{"$error":"#DIV/0!"},{"$error":"#DIV/0!"},{"$error":"#DIV/0!"},{"$error":"#DIV/0!"},{"$f":"+(aem2csp2!B255+(aem2csp2!C255*10))*(10^((65-aem2csp2!$A$15)/10))","v":0},0,{"$error":"#DIV/0!"},{"$error":"#DIV/0!"},{"$error":"#DIV/0!"},{"$error":"#DIV/0!"},{"$f":"+(aem2csp2!B255+(aem2csp2!C255*10))*(10^((65-aem2csp2!$A$16)/10))","v":0},0,{"$error":"#DIV/0!"},{"$error":"#DIV/0!"},{"$error":"#DIV/0!"},{"$error":"#DIV/0!"},225,{"$f":"+(aem2csp2!D255+(aem2csp2!E255*10))*(10^((65-aem2csp2!$A$11)/10))","v":0},0,{"$error":"#DIV/0!"},{"$error":"#DIV/0!"},{"$error":"#DIV/0!"},{"$error":"#DIV/0!"},{"$f":"+(aem2csp2!D255+(aem2csp2!E255*10))*(10^((65-aem2csp2!$A$12)/10))","v":0},0,{"$error":"#DIV/0!"},{"$error":"#DIV/0!"},{"$error":"#DIV/0!"},{"$error":"#DIV/0!"},{"$f":"+(aem2csp2!D255+(aem2csp2!E255*10))*(10^((65-aem2csp2!$A$13)/10))","v":0},0,{"$error":"#DIV/0!"},{"$error":"#DIV/0!"},{"$error":"#DIV/0!"},{"$error":"#DIV/0!"},{"$f":"+(aem2csp2!D255+(aem2csp2!E255*10))*(10^((65-aem2csp2!$A$14)/10))","v":0},0,{"$error":"#DIV/0!"},{"$error":"#DIV/0!"},{"$error":"#DIV/0!"},{"$error":"#DIV/0!"},{"$f":"+(aem2csp2!D255+(aem2csp2!E255*10))*(10^((65-aem2csp2!$A$15)/10))","v":0},0,{"$error":"#DIV/0!"},{"$error":"#DIV/0!"},{"$error":"#DIV/0!"},{"$error":"#DIV/0!"},{"$f":"+(aem2csp2!D255+(aem2csp2!E255*10))*(10^((65-aem2csp2!$A$16)/10))","v":0},0,{"$error":"#DIV/0!"},{"$error":"#DIV/0!"},{"$error":"#DIV/0!"},{"$error":"#DIV/0!"}]
[null,null,null,null,"T39A ",0.143744104680675,0.84773248567870796,{"$f":"+(aem2csp2!B256+(aem2csp2!C256*10))*(10^((65-aem2csp2!$A$11)/10))","v":0},0,{"$error":"#DIV/0!"},{"$error":"#DIV/0!"},{"$error":"#DIV/0!"},{"$error":"#DIV/0!"},{"$f":"+(aem2csp2!B256+(aem2csp2!C256*10))*(10^((65-aem2csp2!$A$12)/10))","v":0},0,{"$error":"#DIV/0!"},{"$error":"#DIV/0!"},{"$error":"#DIV/0!"},{"$error":"#DIV/0!"},{"$f":"+(aem2csp2!B256+(aem2csp2!C256*10))*(10^((65-aem2csp2!$A$13)/10))","v":0},0,{"$error":"#DIV/0!"},{"$error":"#DIV/0!"},{"$error":"#DIV/0!"},{"$error":"#DIV/0!"},{"$f":"+(aem2csp2!B256+(aem2csp2!C256*10))*(10^((65-aem2csp2!$A$14)/10))","v":0},0,{"$error":"#DIV/0!"},{"$error":"#DIV/0!"},{"$error":"#DIV/0!"},{"$error":"#DIV/0!"},{"$f":"+(aem2csp2!B256+(aem2csp2!C256*10))*(10^((65-aem2csp2!$A$15)/10))","v":0},0,{"$error":"#DIV/0!"},{"$error":"#DIV/0!"},{"$error":"#DIV/0!"},{"$error":"#DIV/0!"},{"$f":"+(aem2csp2!B256+(aem2csp2!C256*10))*(10^((65-aem2csp2!$A$16)/10))","v":0},0,{"$error":"#DIV/0!"},{"$error":"#DIV/0!"},{"$error":"#DIV/0!"},{"$error":"#DIV/0!"},226,{"$f":"+(aem2csp2!D256+(aem2csp2!E256*10))*(10^((65-aem2csp2!$A$11)/10))","v":0},0,{"$error":"#DIV/0!"},{"$error":"#DIV/0!"},{"$error":"#DIV/0!"},{"$error":"#DIV/0!"},{"$f":"+(aem2csp2!D256+(aem2csp2!E256*10))*(10^((65-aem2csp2!$A$12)/10))","v":0},0,{"$error":"#DIV/0!"},{"$error":"#DIV/0!"},{"$error":"#DIV/0!"},{"$error":"#DIV/0!"},{"$f":"+(aem2csp2!D256+(aem2csp2!E256*10))*(10^((65-aem2csp2!$A$13)/10))","v":0},0,{"$error":"#DIV/0!"},{"$error":"#DIV/0!"},{"$error":"#DIV/0!"},{"$error":"#DIV/0!"},{"$f":"+(aem2csp2!D256+(aem2csp2!E256*10))*(10^((65-aem2csp2!$A$14)/10))","v":0},0,{"$error":"#DIV/0!"},{"$error":"#DIV/0!"},{"$error":"#DIV/0!"},{"$error":"#DIV/0!"},{"$f":"+(aem2csp2!D256+(aem2csp2!E256*10))*(10^((65-aem2csp2!$A$15)/10))","v":0},0,{"$error":"#DIV/0!"},{"$error":"#DIV/0!"},{"$error":"#DIV/0!"},{"$error":"#DIV/0!"},{"$f":"+(aem2csp2!D256+(aem2csp2!E256*10))*(10^((65-aem2csp2!$A$16)/10))","v":0},0,{"$error":"#DIV/0!"},{"$error":"#DIV/0!"},{"$error":"#DIV/0!"},{"$error":"#DIV/0!"}]
[null,null,null,null,"T41 ",1.9405260927228898E-2,0.37585804631199898,{"$f":"+(aem2csp2!B257+(aem2csp2!C257*10))*(10^((65-aem2csp2!$A$11)/10))","v":0},0,{"$error":"#DIV/0!"},{"$error":"#DIV/0!"},{"$error":"#DIV/0!"},{"$error":"#DIV/0!"},{"$f":"+(aem2csp2!B257+(aem2csp2!C257*10))*(10^((65-aem2csp2!$A$12)/10))","v":0},0,{"$error":"#DIV/0!"},{"$error":"#DIV/0!"},{"$error":"#DIV/0!"},{"$error":"#DIV/0!"},{"$f":"+(aem2csp2!B257+(aem2csp2!C257*10))*(10^((65-aem2csp2!$A$13)/10))","v":0},0,{"$error":"#DIV/0!"},{"$error":"#DIV/0!"},{"$error":"#DIV/0!"},{"$error":"#DIV/0!"},{"$f":"+(aem2csp2!B257+(aem2csp2!C257*10))*(10^((65-aem2csp2!$A$14)/10))","v":0},0,{"$error":"#DIV/0!"},{"$error":"#DIV/0!"},{"$error":"#DIV/0!"},{"$error":"#DIV/0!"},{"$f":"+(aem2csp2!B257+(aem2csp2!C257*10))*(10^((65-aem2csp2!$A$15)/10))","v":0},0,{"$error":"#DIV/0!"},{"$error":"#DIV/0!"},{"$error":"#DIV/0!"},{"$error":"#DIV/0!"},{"$f":"+(aem2csp2!B257+(aem2csp2!C257*10))*(10^((65-aem2csp2!$A$16)/10))","v":0},0,{"$error":"#DIV/0!"},{"$error":"#DIV/0!"},{"$error":"#DIV/0!"},{"$error":"#DIV/0!"},227,{"$f":"+(aem2csp2!D257+(aem2csp2!E257*10))*(10^((65-aem2csp2!$A$11)/10))","v":0},0,{"$error":"#DIV/0!"},{"$error":"#DIV/0!"},{"$error":"#DIV/0!"},{"$error":"#DIV/0!"},{"$f":"+(aem2csp2!D257+(aem2csp2!E257*10))*(10^((65-aem2csp2!$A$12)/10))","v":0},0,{"$error":"#DIV/0!"},{"$error":"#DIV/0!"},{"$error":"#DIV/0!"},{"$error":"#DIV/0!"},{"$f":"+(aem2csp2!D257+(aem2csp2!E257*10))*(10^((65-aem2csp2!$A$13)/10))","v":0},0,{"$error":"#DIV/0!"},{"$error":"#DIV/0!"},{"$error":"#DIV/0!"},{"$error":"#DIV/0!"},{"$f":"+(aem2csp2!D257+(aem2csp2!E257*10))*(10^((65-aem2csp2!$A$14)/10))","v":0},0,{"$error":"#DIV/0!"},{"$error":"#DIV/0!"},{"$error":"#DIV/0!"},{"$error":"#DIV/0!"},{"$f":"+(aem2csp2!D257+(aem2csp2!E257*10))*(10^((65-aem2csp2!$A$15)/10))","v":0},0,{"$error":"#DIV/0!"},{"$error":"#DIV/0!"},{"$error":"#DIV/0!"},{"$error":"#DIV/0!"},{"$f":"+(aem2csp2!D257+(aem2csp2!E257*10))*(10^((65-aem2csp2!$A$16)/10))","v":0},0,{"$error":"#DIV/0!"},{"$error":"#DIV/0!"},{"$error":"#DIV/0!"},{"$error":"#DIV/0!"}]
[null,null,null,null,"T42 ",5.29537342111191E-3,0.81063130242049597,{"$f":"+(aem2csp2!B258+(aem2csp2!C258*10))*(10^((65-aem2csp2!$A$11)/10))","v":0},0,{"$error":"#DIV/0!"},{"$error":"#DIV/0!"},{"$error":"#DIV/0!"},{"$error":"#DIV/0!"},{"$f":"+(aem2csp2!B258+(aem2csp2!C258*10))*(10^((65-aem2csp2!$A$12)/10))","v":0},0,{"$error":"#DIV/0!"},{"$error":"#DIV/0!"},{"$error":"#DIV/0!"},{"$error":"#DIV/0!"},{"$f":"+(aem2csp2!B258+(aem2csp2!C258*10))*(10^((65-aem2csp2!$A$13)/10))","v":0},0,{"$error":"#DIV/0!"},{"$error":"#DIV/0!"},{"$error":"#DIV/0!"},{"$error":"#DIV/0!"},{"$f":"+(aem2csp2!B258+(aem2csp2!C258*10))*(10^((65-aem2csp2!$A$14)/10))","v":0},0,{"$error":"#DIV/0!"},{"$error":"#DIV/0!"},{"$error":"#DIV/0!"},{"$error":"#DIV/0!"},{"$f":"+(aem2csp2!B258+(aem2csp2!C258*10))*(10^((65-aem2csp2!$A$15)/10))","v":0},0,{"$error":"#DIV/0!"},{"$error":"#DIV/0!"},{"$error":"#DIV/0!"},{"$error":"#DIV/0!"},{"$f":"+(aem2csp2!B258+(aem2csp2!C258*10))*(10^((65-aem2csp2!$A$16)/10))","v":0},0,{"$error":"#DIV/0!"},{"$error":"#DIV/0!"},{"$error":"#DIV/0!"},{"$error":"#DIV/0!"},228,{"$f":"+(aem2csp2!D258+(aem2csp2!E258*10))*(10^((65-aem2csp2!$A$11)/10))","v":0},0,{"$error":"#DIV/0!"},{"$error":"#DIV/0!"},{"$error":"#DIV/0!"},{"$error":"#DIV/0!"},{"$f":"+(aem2csp2!D258+(aem2csp2!E258*10))*(10^((65-aem2csp2!$A$12)/10))","v":0},0,{"$error":"#DIV/0!"},{"$error":"#DIV/0!"},{"$error":"#DIV/0!"},{"$error":"#DIV/0!"},{"$f":"+(aem2csp2!D258+(aem2csp2!E258*10))*(10^((65-aem2csp2!$A$13)/10))","v":0},0,{"$error":"#DIV/0!"},{"$error":"#DIV/0!"},{"$error":"#DIV/0!"},{"$error":"#DIV/0!"},{"$f":"+(aem2csp2!D258+(aem2csp2!E258*10))*(10^((65-aem2csp2!$A$14)/10))","v":0},0,{"$error":"#DIV/0!"},{"$error":"#DIV/0!"},{"$error":"#DIV/0!"},{"$error":"#DIV/0!"},{"$f":"+(aem2csp2!D258+(aem2csp2!E258*10))*(10^((65-aem2csp2!$A$15)/10))","v":0},0,{"$error":"#DIV/0!"},{"$error":"#DIV/0!"},{"$error":"#DIV/0!"},{"$error":"#DIV/0!"},{"$f":"+(aem2csp2!D258+(aem2csp2!E258*10))*(10^((65-aem2csp2!$A$16)/10))","v":0},0,{"$error":"#DIV/0!"},{"$error":"#DIV/0!"},{"$error":"#DIV/0!"},{"$error":"#DIV/0!"}]
[null,null,null,null,"T-43A ",0.106803098084154,0.66983634821609706,{"$f":"+(aem2csp2!B259+(aem2csp2!C259*10))*(10^((65-aem2csp2!$A$11)/10))","v":0},0,{"$error":"#DIV/0!"},{"$error":"#DIV/0!"},{"$error":"#DIV/0!"},{"$error":"#DIV/0!"},{"$f":"+(aem2csp2!B259+(aem2csp2!C259*10))*(10^((65-aem2csp2!$A$12)/10))","v":0},0,{"$error":"#DIV/0!"},{"$error":"#DIV/0!"},{"$error":"#DIV/0!"},{"$error":"#DIV/0!"},{"$f":"+(aem2csp2!B259+(aem2csp2!C259*10))*(10^((65-aem2csp2!$A$13)/10))","v":0},0,{"$error":"#DIV/0!"},{"$error":"#DIV/0!"},{"$error":"#DIV/0!"},{"$error":"#DIV/0!"},{"$f":"+(aem2csp2!B259+(aem2csp2!C259*10))*(10^((65-aem2csp2!$A$14)/10))","v":0},0,{"$error":"#DIV/0!"},{"$error":"#DIV/0!"},{"$error":"#DIV/0!"},{"$error":"#DIV/0!"},{"$f":"+(aem2csp2!B259+(aem2csp2!C259*10))*(10^((65-aem2csp2!$A$15)/10))","v":0},0,{"$error":"#DIV/0!"},{"$error":"#DIV/0!"},{"$error":"#DIV/0!"},{"$error":"#DIV/0!"},{"$f":"+(aem2csp2!B259+(aem2csp2!C259*10))*(10^((65-aem2csp2!$A$16)/10))","v":0},0,{"$error":"#DIV/0!"},{"$error":"#DIV/0!"},{"$error":"#DIV/0!"},{"$error":"#DIV/0!"},229,{"$f":"+(aem2csp2!D259+(aem2csp2!E259*10))*(10^((65-aem2csp2!$A$11)/10))","v":0},0,{"$error":"#DIV/0!"},{"$error":"#DIV/0!"},{"$error":"#DIV/0!"},{"$error":"#DIV/0!"},{"$f":"+(aem2csp2!D259+(aem2csp2!E259*10))*(10^((65-aem2csp2!$A$12)/10))","v":0},0,{"$error":"#DIV/0!"},{"$error":"#DIV/0!"},{"$error":"#DIV/0!"},{"$error":"#DIV/0!"},{"$f":"+(aem2csp2!D259+(aem2csp2!E259*10))*(10^((65-aem2csp2!$A$13)/10))","v":0},0,{"$error":"#DIV/0!"},{"$error":"#DIV/0!"},{"$error":"#DIV/0!"},{"$error":"#DIV/0!"},{"$f":"+(aem2csp2!D259+(aem2csp2!E259*10))*(10^((65-aem2csp2!$A$14)/10))","v":0},0,{"$error":"#DIV/0!"},{"$error":"#DIV/0!"},{"$error":"#DIV/0!"},{"$error":"#DIV/0!"},{"$f":"+(aem2csp2!D259+(aem2csp2!E259*10))*(10^((65-aem2csp2!$A$15)/10))","v":0},0,{"$error":"#DIV/0!"},{"$error":"#DIV/0!"},{"$error":"#DIV/0!"},{"$error":"#DIV/0!"},{"$f":"+(aem2csp2!D259+(aem2csp2!E259*10))*(10^((65-aem2csp2!$A$16)/10))","v":0},0,{"$error":"#DIV/0!"},{"$error":"#DIV/0!"},{"$error":"#DIV/0!"},{"$error":"#DIV/0!"}]
[null,null,null,null,"T44 ",1.3657031940449401E-2,0.47301911659136597,{"$f":"+(aem2csp2!B260+(aem2csp2!C260*10))*(10^((65-aem2csp2!$A$11)/10))","v":0},0,{"$error":"#DIV/0!"},{"$error":"#DIV/0!"},{"$error":"#DIV/0!"},{"$error":"#DIV/0!"},{"$f":"+(aem2csp2!B260+(aem2csp2!C260*10))*(10^((65-aem2csp2!$A$12)/10))","v":0},0,{"$error":"#DIV/0!"},{"$error":"#DIV/0!"},{"$error":"#DIV/0!"},{"$error":"#DIV/0!"},{"$f":"+(aem2csp2!B260+(aem2csp2!C260*10))*(10^((65-aem2csp2!$A$13)/10))","v":0},0,{"$error":"#DIV/0!"},{"$error":"#DIV/0!"},{"$error":"#DIV/0!"},{"$error":"#DIV/0!"},{"$f":"+(aem2csp2!B260+(aem2csp2!C260*10))*(10^((65-aem2csp2!$A$14)/10))","v":0},0,{"$error":"#DIV/0!"},{"$error":"#DIV/0!"},{"$error":"#DIV/0!"},{"$error":"#DIV/0!"},{"$f":"+(aem2csp2!B260+(aem2csp2!C260*10))*(10^((65-aem2csp2!$A$15)/10))","v":0},0,{"$error":"#DIV/0!"},{"$error":"#DIV/0!"},{"$error":"#DIV/0!"},{"$error":"#DIV/0!"},{"$f":"+(aem2csp2!B260+(aem2csp2!C260*10))*(10^((65-aem2csp2!$A$16)/10))","v":0},0,{"$error":"#DIV/0!"},{"$error":"#DIV/0!"},{"$error":"#DIV/0!"},{"$error":"#DIV/0!"},230,{"$f":"+(aem2csp2!D260+(aem2csp2!E260*10))*(10^((65-aem2csp2!$A$11)/10))","v":0},0,{"$error":"#DIV/0!"},{"$error":"#DIV/0!"},{"$error":"#DIV/0!"},{"$error":"#DIV/0!"},{"$f":"+(aem2csp2!D260+(aem2csp2!E260*10))*(10^((65-aem2csp2!$A$12)/10))","v":0},0,{"$error":"#DIV/0!"},{"$error":"#DIV/0!"},{"$error":"#DIV/0!"},{"$error":"#DIV/0!"},{"$f":"+(aem2csp2!D260+(aem2csp2!E260*10))*(10^((65-aem2csp2!$A$13)/10))","v":0},0,{"$error":"#DIV/0!"},{"$error":"#DIV/0!"},{"$error":"#DIV/0!"},{"$error":"#DIV/0!"},{"$f":"+(aem2csp2!D260+(aem2csp2!E260*10))*(10^((65-aem2csp2!$A$14)/10))","v":0},0,{"$error":"#DIV/0!"},{"$error":"#DIV/0!"},{"$error":"#DIV/0!"},{"$error":"#DIV/0!"},{"$f":"+(aem2csp2!D260+(aem2csp2!E260*10))*(10^((65-aem2csp2!$A$15)/10))","v":0},0,{"$error":"#DIV/0!"},{"$error":"#DIV/0!"},{"$error":"#DIV/0!"},{"$error":"#DIV/0!"},{"$f":"+(aem2csp2!D260+(aem2csp2!E260*10))*(10^((65-aem2csp2!$A$16)/10))","v":0},0,{"$error":"#DIV/0!"},{"$error":"#DIV/0!"},{"$error":"#DIV/0!"},{"$error":"#DIV/0!"}]
[null,null,null,null,"TORNAD ",0.45053001026476802,0.71803975431187295,{"$f":"+(aem2csp2!B261+(aem2csp2!C261*10))*(10^((65-aem2csp2!$A$11)/10))","v":0},0,{"$error":"#DIV/0!"},{"$error":"#DIV/0!"},{"$error":"#DIV/0!"},{"$error":"#DIV/0!"},{"$f":"+(aem2csp2!B261+(aem2csp2!C261*10))*(10^((65-aem2csp2!$A$12)/10))","v":0},0,{"$error":"#DIV/0!"},{"$error":"#DIV/0!"},{"$error":"#DIV/0!"},{"$error":"#DIV/0!"},{"$f":"+(aem2csp2!B261+(aem2csp2!C261*10))*(10^((65-aem2csp2!$A$13)/10))","v":0},0,{"$error":"#DIV/0!"},{"$error":"#DIV/0!"},{"$error":"#DIV/0!"},{"$error":"#DIV/0!"},{"$f":"+(aem2csp2!B261+(aem2csp2!C261*10))*(10^((65-aem2csp2!$A$14)/10))","v":0},0,{"$error":"#DIV/0!"},{"$error":"#DIV/0!"},{"$error":"#DIV/0!"},{"$error":"#DIV/0!"},{"$f":"+(aem2csp2!B261+(aem2csp2!C261*10))*(10^((65-aem2csp2!$A$15)/10))","v":0},0,{"$error":"#DIV/0!"},{"$error":"#DIV/0!"},{"$error":"#DIV/0!"},{"$error":"#DIV/0!"},{"$f":"+(aem2csp2!B261+(aem2csp2!C261*10))*(10^((65-aem2csp2!$A$16)/10))","v":0},0,{"$error":"#DIV/0!"},{"$error":"#DIV/0!"},{"$error":"#DIV/0!"},{"$error":"#DIV/0!"},231,{"$f":"+(aem2csp2!D261+(aem2csp2!E261*10))*(10^((65-aem2csp2!$A$11)/10))","v":0},0,{"$error":"#DIV/0!"},{"$error":"#DIV/0!"},{"$error":"#DIV/0!"},{"$error":"#DIV/0!"},{"$f":"+(aem2csp2!D261+(aem2csp2!E261*10))*(10^((65-aem2csp2!$A$12)/10))","v":0},0,{"$error":"#DIV/0!"},{"$error":"#DIV/0!"},{"$error":"#DIV/0!"},{"$error":"#DIV/0!"},{"$f":"+(aem2csp2!D261+(aem2csp2!E261*10))*(10^((65-aem2csp2!$A$13)/10))","v":0},0,{"$error":"#DIV/0!"},{"$error":"#DIV/0!"},{"$error":"#DIV/0!"},{"$error":"#DIV/0!"},{"$f":"+(aem2csp2!D261+(aem2csp2!E261*10))*(10^((65-aem2csp2!$A$14)/10))","v":0},0,{"$error":"#DIV/0!"},{"$error":"#DIV/0!"},{"$error":"#DIV/0!"},{"$error":"#DIV/0!"},{"$f":"+(aem2csp2!D261+(aem2csp2!E261*10))*(10^((65-aem2csp2!$A$15)/10))","v":0},0,{"$error":"#DIV/0!"},{"$error":"#DIV/0!"},{"$error":"#DIV/0!"},{"$error":"#DIV/0!"},{"$f":"+(aem2csp2!D261+(aem2csp2!E261*10))*(10^((65-aem2csp2!$A$16)/10))","v":0},0,{"$error":"#DIV/0!"},{"$error":"#DIV/0!"},{"$error":"#DIV/0!"},{"$error":"#DIV/0!"}]
[null,null,null,null,"TR1 ",0.22300462688264899,0.65687633775445897,{"$f":"+(aem2csp2!B262+(aem2csp2!C262*10))*(10^((65-aem2csp2!$A$11)/10))","v":0},0,{"$error":"#DIV/0!"},{"$error":"#DIV/0!"},{"$error":"#DIV/0!"},{"$error":"#DIV/0!"},{"$f":"+(aem2csp2!B262+(aem2csp2!C262*10))*(10^((65-aem2csp2!$A$12)/10))","v":0},0,{"$error":"#DIV/0!"},{"$error":"#DIV/0!"},{"$error":"#DIV/0!"},{"$error":"#DIV/0!"},{"$f":"+(aem2csp2!B262+(aem2csp2!C262*10))*(10^((65-aem2csp2!$A$13)/10))","v":0},0,{"$error":"#DIV/0!"},{"$error":"#DIV/0!"},{"$error":"#DIV/0!"},{"$error":"#DIV/0!"},{"$f":"+(aem2csp2!B262+(aem2csp2!C262*10))*(10^((65-aem2csp2!$A$14)/10))","v":0},0,{"$error":"#DIV/0!"},{"$error":"#DIV/0!"},{"$error":"#DIV/0!"},{"$error":"#DIV/0!"},{"$f":"+(aem2csp2!B262+(aem2csp2!C262*10))*(10^((65-aem2csp2!$A$15)/10))","v":0},0,{"$error":"#DIV/0!"},{"$error":"#DIV/0!"},{"$error":"#DIV/0!"},{"$error":"#DIV/0!"},{"$f":"+(aem2csp2!B262+(aem2csp2!C262*10))*(10^((65-aem2csp2!$A$16)/10))","v":0},0,{"$error":"#DIV/0!"},{"$error":"#DIV/0!"},{"$error":"#DIV/0!"},{"$error":"#DIV/0!"},232,{"$f":"+(aem2csp2!D262+(aem2csp2!E262*10))*(10^((65-aem2csp2!$A$11)/10))","v":0},0,{"$error":"#DIV/0!"},{"$error":"#DIV/0!"},{"$error":"#DIV/0!"},{"$error":"#DIV/0!"},{"$f":"+(aem2csp2!D262+(aem2csp2!E262*10))*(10^((65-aem2csp2!$A$12)/10))","v":0},0,{"$error":"#DIV/0!"},{"$error":"#DIV/0!"},{"$error":"#DIV/0!"},{"$error":"#DIV/0!"},{"$f":"+(aem2csp2!D262+(aem2csp2!E262*10))*(10^((65-aem2csp2!$A$13)/10))","v":0},0,{"$error":"#DIV/0!"},{"$error":"#DIV/0!"},{"$error":"#DIV/0!"},{"$error":"#DIV/0!"},{"$f":"+(aem2csp2!D262+(aem2csp2!E262*10))*(10^((65-aem2csp2!$A$14)/10))","v":0},0,{"$error":"#DIV/0!"},{"$error":"#DIV/0!"},{"$error":"#DIV/0!"},{"$error":"#DIV/0!"},{"$f":"+(aem2csp2!D262+(aem2csp2!E262*10))*(10^((65-aem2csp2!$A$15)/10))","v":0},0,{"$error":"#DIV/0!"},{"$error":"#DIV/0!"},{"$error":"#DIV/0!"},{"$error":"#DIV/0!"},{"$f":"+(aem2csp2!D262+(aem2csp2!E262*10))*(10^((65-aem2csp2!$A$16)/10))","v":0},0,{"$error":"#DIV/0!"},{"$error":"#DIV/0!"},{"$error":"#DIV/0!"},{"$error":"#DIV/0!"}]
[null,null,null,null,"U2 ",0.21699791932738099,0.64739267757673102,{"$f":"+(aem2csp2!B263+(aem2csp2!C263*10))*(10^((65-aem2csp2!$A$11)/10))","v":0},0,{"$error":"#DIV/0!"},{"$error":"#DIV/0!"},{"$error":"#DIV/0!"},{"$error":"#DIV/0!"},{"$f":"+(aem2csp2!B263+(aem2csp2!C263*10))*(10^((65-aem2csp2!$A$12)/10))","v":0},0,{"$error":"#DIV/0!"},{"$error":"#DIV/0!"},{"$error":"#DIV/0!"},{"$error":"#DIV/0!"},{"$f":"+(aem2csp2!B263+(aem2csp2!C263*10))*(10^((65-aem2csp2!$A$13)/10))","v":0},0,{"$error":"#DIV/0!"},{"$error":"#DIV/0!"},{"$error":"#DIV/0!"},{"$error":"#DIV/0!"},{"$f":"+(aem2csp2!B263+(aem2csp2!C263*10))*(10^((65-aem2csp2!$A$14)/10))","v":0},0,{"$error":"#DIV/0!"},{"$error":"#DIV/0!"},{"$error":"#DIV/0!"},{"$error":"#DIV/0!"},{"$f":"+(aem2csp2!B263+(aem2csp2!C263*10))*(10^((65-aem2csp2!$A$15)/10))","v":0},0,{"$error":"#DIV/0!"},{"$error":"#DIV/0!"},{"$error":"#DIV/0!"},{"$error":"#DIV/0!"},{"$f":"+(aem2csp2!B263+(aem2csp2!C263*10))*(10^((65-aem2csp2!$A$16)/10))","v":0},0,{"$error":"#DIV/0!"},{"$error":"#DIV/0!"},{"$error":"#DIV/0!"},{"$error":"#DIV/0!"},233,{"$f":"+(aem2csp2!D263+(aem2csp2!E263*10))*(10^((65-aem2csp2!$A$11)/10))","v":0},0,{"$error":"#DIV/0!"},{"$error":"#DIV/0!"},{"$error":"#DIV/0!"},{"$error":"#DIV/0!"},{"$f":"+(aem2csp2!D263+(aem2csp2!E263*10))*(10^((65-aem2csp2!$A$12)/10))","v":0},0,{"$error":"#DIV/0!"},{"$error":"#DIV/0!"},{"$error":"#DIV/0!"},{"$error":"#DIV/0!"},{"$f":"+(aem2csp2!D263+(aem2csp2!E263*10))*(10^((65-aem2csp2!$A$13)/10))","v":0},0,{"$error":"#DIV/0!"},{"$error":"#DIV/0!"},{"$error":"#DIV/0!"},{"$error":"#DIV/0!"},{"$f":"+(aem2csp2!D263+(aem2csp2!E263*10))*(10^((65-aem2csp2!$A$14)/10))","v":0},0,{"$error":"#DIV/0!"},{"$error":"#DIV/0!"},{"$error":"#DIV/0!"},{"$error":"#DIV/0!"},{"$f":"+(aem2csp2!D263+(aem2csp2!E263*10))*(10^((65-aem2csp2!$A$15)/10))","v":0},0,{"$error":"#DIV/0!"},{"$error":"#DIV/0!"},{"$error":"#DIV/0!"},{"$error":"#DIV/0!"},{"$f":"+(aem2csp2!D263+(aem2csp2!E263*10))*(10^((65-aem2csp2!$A$16)/10))","v":0},0,{"$error":"#DIV/0!"},{"$error":"#DIV/0!"},{"$error":"#DIV/0!"},{"$error":"#DIV/0!"}]
[null,null,null,null,"U21 ",1.85428218780994E-2,0.42711759295901502,{"$f":"+(aem2csp2!B264+(aem2csp2!C264*10))*(10^((65-aem2csp2!$A$11)/10))","v":0},0,{"$error":"#DIV/0!"},{"$error":"#DIV/0!"},{"$error":"#DIV/0!"},{"$error":"#DIV/0!"},{"$f":"+(aem2csp2!B264+(aem2csp2!C264*10))*(10^((65-aem2csp2!$A$12)/10))","v":0},0,{"$error":"#DIV/0!"},{"$error":"#DIV/0!"},{"$error":"#DIV/0!"},{"$error":"#DIV/0!"},{"$f":"+(aem2csp2!B264+(aem2csp2!C264*10))*(10^((65-aem2csp2!$A$13)/10))","v":0},0,{"$error":"#DIV/0!"},{"$error":"#DIV/0!"},{"$error":"#DIV/0!"},{"$error":"#DIV/0!"},{"$f":"+(aem2csp2!B264+(aem2csp2!C264*10))*(10^((65-aem2csp2!$A$14)/10))","v":0},0,{"$error":"#DIV/0!"},{"$error":"#DIV/0!"},{"$error":"#DIV/0!"},{"$error":"#DIV/0!"},{"$f":"+(aem2csp2!B264+(aem2csp2!C264*10))*(10^((65-aem2csp2!$A$15)/10))","v":0},0,{"$error":"#DIV/0!"},{"$error":"#DIV/0!"},{"$error":"#DIV/0!"},{"$error":"#DIV/0!"},{"$f":"+(aem2csp2!B264+(aem2csp2!C264*10))*(10^((65-aem2csp2!$A$16)/10))","v":0},0,{"$error":"#DIV/0!"},{"$error":"#DIV/0!"},{"$error":"#DIV/0!"},{"$error":"#DIV/0!"},234,{"$f":"+(aem2csp2!D264+(aem2csp2!E264*10))*(10^((65-aem2csp2!$A$11)/10))","v":0},0,{"$error":"#DIV/0!"},{"$error":"#DIV/0!"},{"$error":"#DIV/0!"},{"$error":"#DIV/0!"},{"$f":"+(aem2csp2!D264+(aem2csp2!E264*10))*(10^((65-aem2csp2!$A$12)/10))","v":0},0,{"$error":"#DIV/0!"},{"$error":"#DIV/0!"},{"$error":"#DIV/0!"},{"$error":"#DIV/0!"},{"$f":"+(aem2csp2!D264+(aem2csp2!E264*10))*(10^((65-aem2csp2!$A$13)/10))","v":0},0,{"$error":"#DIV/0!"},{"$error":"#DIV/0!"},{"$error":"#DIV/0!"},{"$error":"#DIV/0!"},{"$f":"+(aem2csp2!D264+(aem2csp2!E264*10))*(10^((65-aem2csp2!$A$14)/10))","v":0},0,{"$error":"#DIV/0!"},{"$error":"#DIV/0!"},{"$error":"#DIV/0!"},{"$error":"#DIV/0!"},{"$f":"+(aem2csp2!D264+(aem2csp2!E264*10))*(10^((65-aem2csp2!$A$15)/10))","v":0},0,{"$error":"#DIV/0!"},{"$error":"#DIV/0!"},{"$error":"#DIV/0!"},{"$error":"#DIV/0!"},{"$f":"+(aem2csp2!D264+(aem2csp2!E264*10))*(10^((65-aem2csp2!$A$16)/10))","v":0},0,{"$error":"#DIV/0!"},{"$error":"#DIV/0!"},{"$error":"#DIV/0!"},{"$error":"#DIV/0!"}]
[null,null,null,null,"U6 ",1.6997302369002799E-2,0.40400147432269201,{"$f":"+(aem2csp2!B265+(aem2csp2!C265*10))*(10^((65-aem2csp2!$A$11)/10))","v":0},0,{"$error":"#DIV/0!"},{"$error":"#DIV/0!"},{"$error":"#DIV/0!"},{"$error":"#DIV/0!"},{"$f":"+(aem2csp2!B265+(aem2csp2!C265*10))*(10^((65-aem2csp2!$A$12)/10))","v":0},0,{"$error":"#DIV/0!"},{"$error":"#DIV/0!"},{"$error":"#DIV/0!"},{"$error":"#DIV/0!"},{"$f":"+(aem2csp2!B265+(aem2csp2!C265*10))*(10^((65-aem2csp2!$A$13)/10))","v":0},0,{"$error":"#DIV/0!"},{"$error":"#DIV/0!"},{"$error":"#DIV/0!"},{"$error":"#DIV/0!"},{"$f":"+(aem2csp2!B265+(aem2csp2!C265*10))*(10^((65-aem2csp2!$A$14)/10))","v":0},0,{"$error":"#DIV/0!"},{"$error":"#DIV/0!"},{"$error":"#DIV/0!"},{"$error":"#DIV/0!"},{"$f":"+(aem2csp2!B265+(aem2csp2!C265*10))*(10^((65-aem2csp2!$A$15)/10))","v":0},0,{"$error":"#DIV/0!"},{"$error":"#DIV/0!"},{"$error":"#DIV/0!"},{"$error":"#DIV/0!"},{"$f":"+(aem2csp2!B265+(aem2csp2!C265*10))*(10^((65-aem2csp2!$A$16)/10))","v":0},0,{"$error":"#DIV/0!"},{"$error":"#DIV/0!"},{"$error":"#DIV/0!"},{"$error":"#DIV/0!"},235,{"$f":"+(aem2csp2!D265+(aem2csp2!E265*10))*(10^((65-aem2csp2!$A$11)/10))","v":0},0,{"$error":"#DIV/0!"},{"$error":"#DIV/0!"},{"$error":"#DIV/0!"},{"$error":"#DIV/0!"},{"$f":"+(aem2csp2!D265+(aem2csp2!E265*10))*(10^((65-aem2csp2!$A$12)/10))","v":0},0,{"$error":"#DIV/0!"},{"$error":"#DIV/0!"},{"$error":"#DIV/0!"},{"$error":"#DIV/0!"},{"$f":"+(aem2csp2!D265+(aem2csp2!E265*10))*(10^((65-aem2csp2!$A$13)/10))","v":0},0,{"$error":"#DIV/0!"},{"$error":"#DIV/0!"},{"$error":"#DIV/0!"},{"$error":"#DIV/0!"},{"$f":"+(aem2csp2!D265+(aem2csp2!E265*10))*(10^((65-aem2csp2!$A$14)/10))","v":0},0,{"$error":"#DIV/0!"},{"$error":"#DIV/0!"},{"$error":"#DIV/0!"},{"$error":"#DIV/0!"},{"$f":"+(aem2csp2!D265+(aem2csp2!E265*10))*(10^((65-aem2csp2!$A$15)/10))","v":0},0,{"$error":"#DIV/0!"},{"$error":"#DIV/0!"},{"$error":"#DIV/0!"},{"$error":"#DIV/0!"},{"$f":"+(aem2csp2!D265+(aem2csp2!E265*10))*(10^((65-aem2csp2!$A$16)/10))","v":0},0,{"$error":"#DIV/0!"},{"$error":"#DIV/0!"},{"$error":"#DIV/0!"},{"$error":"#DIV/0!"}]
[null,null,null,null,"U8F ",3.9213422569711496E-3,0.94914049289891,{"$f":"+(aem2csp2!B266+(aem2csp2!C266*10))*(10^((65-aem2csp2!$A$11)/10))","v":0},0,{"$error":"#DIV/0!"},{"$error":"#DIV/0!"},{"$error":"#DIV/0!"},{"$error":"#DIV/0!"},{"$f":"+(aem2csp2!B266+(aem2csp2!C266*10))*(10^((65-aem2csp2!$A$12)/10))","v":0},0,{"$error":"#DIV/0!"},{"$error":"#DIV/0!"},{"$error":"#DIV/0!"},{"$error":"#DIV/0!"},{"$f":"+(aem2csp2!B266+(aem2csp2!C266*10))*(10^((65-aem2csp2!$A$13)/10))","v":0},0,{"$error":"#DIV/0!"},{"$error":"#DIV/0!"},{"$error":"#DIV/0!"},{"$error":"#DIV/0!"},{"$f":"+(aem2csp2!B266+(aem2csp2!C266*10))*(10^((65-aem2csp2!$A$14)/10))","v":0},0,{"$error":"#DIV/0!"},{"$error":"#DIV/0!"},{"$error":"#DIV/0!"},{"$error":"#DIV/0!"},{"$f":"+(aem2csp2!B266+(aem2csp2!C266*10))*(10^((65-aem2csp2!$A$15)/10))","v":0},0,{"$error":"#DIV/0!"},{"$error":"#DIV/0!"},{"$error":"#DIV/0!"},{"$error":"#DIV/0!"},{"$f":"+(aem2csp2!B266+(aem2csp2!C266*10))*(10^((65-aem2csp2!$A$16)/10))","v":0},0,{"$error":"#DIV/0!"},{"$error":"#DIV/0!"},{"$error":"#DIV/0!"},{"$error":"#DIV/0!"},236,{"$f":"+(aem2csp2!D266+(aem2csp2!E266*10))*(10^((65-aem2csp2!$A$11)/10))","v":0},0,{"$error":"#DIV/0!"},{"$error":"#DIV/0!"},{"$error":"#DIV/0!"},{"$error":"#DIV/0!"},{"$f":"+(aem2csp2!D266+(aem2csp2!E266*10))*(10^((65-aem2csp2!$A$12)/10))","v":0},0,{"$error":"#DIV/0!"},{"$error":"#DIV/0!"},{"$error":"#DIV/0!"},{"$error":"#DIV/0!"},{"$f":"+(aem2csp2!D266+(aem2csp2!E266*10))*(10^((65-aem2csp2!$A$13)/10))","v":0},0,{"$error":"#DIV/0!"},{"$error":"#DIV/0!"},{"$error":"#DIV/0!"},{"$error":"#DIV/0!"},{"$f":"+(aem2csp2!D266+(aem2csp2!E266*10))*(10^((65-aem2csp2!$A$14)/10))","v":0},0,{"$error":"#DIV/0!"},{"$error":"#DIV/0!"},{"$error":"#DIV/0!"},{"$error":"#DIV/0!"},{"$f":"+(aem2csp2!D266+(aem2csp2!E266*10))*(10^((65-aem2csp2!$A$15)/10))","v":0},0,{"$error":"#DIV/0!"},{"$error":"#DIV/0!"},{"$error":"#DIV/0!"},{"$error":"#DIV/0!"},{"$f":"+(aem2csp2!D266+(aem2csp2!E266*10))*(10^((65-aem2csp2!$A$16)/10))","v":0},0,{"$error":"#DIV/0!"},{"$error":"#DIV/0!"},{"$error":"#DIV/0!"},{"$error":"#DIV/0!"}]
[null,null,null,null,null,null,null,{"$f":"SUM(H20:H266)","v":0},{"$f":"MAX(I20:I266)","v":0},{"$f":"SUMIF(J17:J266,\"<>#DIV/0!\")","v":0},{"$f":"SUMIF(K17:K266,\"<>#DIV/0!\")","v":0},null,null,{"$f":"SUM(N20:N266)","v":0},{"$f":"MAX(O20:O266)","v":0},{"$f":"SUMIF(P17:P266,\"<>#DIV/0!\")","v":0},{"$f":"SUMIF(Q17:Q266,\"<>#DIV/0!\")","v":0},null,{"$f":"SUMIF(S17:S266,\"<>#DIV/0!\")","v":0},{"$f":"SUM(T20:T266)","v":0},{"$f":"MAX(U20:U266)","v":0},{"$f":"SUMIF(V17:V266,\"<>#DIV/0!\")","v":0},{"$f":"SUMIF(W17:W266,\"<>#DIV/0!\")","v":0},null,{"$f":"SUMIF(Y17:Y266,\"<>#DIV/0!\")","v":0},{"$f":"SUM(Z2:Z266)","v":0},{"$f":"MAX(AA20:AA266)","v":0},{"$f":"SUMIF(AB17:AB266,\"<>#DIV/0!\")","v":0},{"$f":"SUMIF(AC17:AC266,\"<>#DIV/0!\")","v":0},{"$f":"SUMIF(AD17:AD266,\"<>#DIV/0!\")","v":0},{"$f":"SUMIF(AE17:AE266,\"<>#DIV/0!\")","v":0},{"$f":"SUM(AF20:AF266)","v":0},{"$f":"MAX(AG20:AG266)","v":0},{"$f":"SUMIF(AH20:AH266,\"<>#DIV/0!\")","v":0},{"$f":"SUMIF(AI17:AI266,\"<>#DIV/0!\")","v":0},{"$f":"SUMIF(AJ17:AJ266,\"<>#DIV/0!\")","v":0},{"$f":"SUMIF(AK17:AK266,\"<>#DIV/0!\")","v":0},{"$f":"SUM(AL20:AL266)","v":0},{"$f":"MAX(AM20:AM266)","v":0},{"$f":"SUMIF(AN17:AN266,\"<>#DIV/0!\")","v":0},{"$f":"SUMIF(AO17:AO266,\"<>#DIV/0!\")","v":0},{"$f":"SUMIF(AP17:AP266,\"<>#DIV/0!\")","v":0},{"$f":"SUMIF(AQ17:AQ266,\"<>#DIV/0!\")","v":0},null,{"$f":"SUM(AS20:AS266)","v":0},{"$f":"MAX(AT20:AT266)","v":0},{"$f":"SUMIF(AU20:AU266,\"<>#DIV/0!\")","v":0},{"$f":"SUMIF(AV17:AV266,\"<>#DIV/0!\")","v":0},{"$f":"SUMIF(AW17:AW266,\"<>#DIV/0!\")","v":0},{"$f":"SUMIF(AX17:AX266,\"<>#DIV/0!\")","v":0},{"$f":"SUM(AY20:AY266)","v":0},{"$f":"MAX(AZ20:AZ266)","v":0},{"$f":"SUMIF(BA17:BA266,\"<>#DIV/0!\")","v":0},{"$f":"SUMIF(BB17:BB266,\"<>#DIV/0!\")","v":0},{"$f":"SUMIF(BC17:BC266,\"<>#DIV/0!\")","v":0},{"$f":"SUMIF(BD17:BD266,\"<>#DIV/0!\")","v":0},{"$f":"SUM(BE20:BE266)","v":0},{"$f":"MAX(BF20:BF266)","v":0},{"$f":"SUMIF(BG17:BG266,\"<>#DIV/0!\")","v":0},{"$f":"SUMIF(BH20:BH266,\"<>#DIV/0!\")","v":0},{"$f":"SUMIF(BI20:BI266,\"<>#DIV/0!\")","v":0},{"$f":"SUMIF(BJ17:BJ266,\"<>#DIV/0!\")","v":0},{"$f":"SUM(BK20:BK266)","v":0},{"$f":"MAX(BL20:BL266)","v":0},{"$f":"SUMIF(BM17:BM266,\"<>#DIV/0!\")","v":0},{"$f":"SUMIF(BN17:BN266,\"<>#DIV/0!\")","v":0},{"$f":"SUMIF(BO17:BO266,\"<>#DIV/0!\")","v":0},{"$f":"SUMIF(BP17:BP266,\"<>#DIV/0!\")","v":0},{"$f":"SUM(BQ20:BQ266)","v":0},{"$f":"MAX(BR20:BR266)","v":0},{"$f":"SUMIF(BS17:BS266,\"<>#DIV/0!\")","v":0},{"$f":"SUMIF(BT17:BT266,\"<>#DIV/0!\")","v":0},{"$f":"SUMIF(BU17:BU266,\"<>#DIV/0!\")","v":0},{"$f":"SUMIF(BV17:BV266,\"<>#DIV/0!\")","v":0},{"$f":"SUM(BW20:BW266)","v":0},{"$f":"MAX(BX20:BX266)","v":0},{"$f":"SUMIF(BY17:BY266,\"<>#DIV/0!\")","v":0},{"$f":"SUMIF(BZ17:BZ266,\"<>#DIV/0!\")","v":0},{"$f":"SUMIF(CA17:CA266,\"<>#DIV/0!\")","v":0},{"$f":"SUMIF(CB20:CB266,\"<>#DIV/0!\")","v":0}]
[null,{"$f":"aem2csp2!B267+aem2csp2!C267","v":0},null,{"$f":"aem2csp2!D267+aem2csp2!E267","v":0},null,null,null,null,"Ref. AR ","Ebar","Wbar",null,null,null,"Ref. AR ","Ebar","Wbar",null,null,null,"Ref. AR ","Ebar","Wbar",null,null,null,"Ref. AR ","Ebar","Wbar",null,null,null,"Ref. AR ","Ebar","Wbar",null,null,null,"Ref. AR ","Ebar","Wbar",null,null,null,null,"Ref. AR ","Ebar","Wbar",null,null,null,"Ref. AR ","Ebar","Wbar",null,null,null,"Ref. AR ","Ebar","Wbar",null,null,null,"Ref. AR ","Ebar","Wbar",null,null,null,"Ref. AR ","Ebar","Wbar",null,null,null,"Ref. AR ","Ebar","Wbar"]
[null,null,null,null,null,null,null,null,null,null,{"$f":"+J267/K267","v":{"$error":"#DIV/0!"}},{"$f":"+I267*(J267^K269)","v":{"$error":"#DIV/0!"}},null,null,null,null,{"$f":"+P267/Q267","v":{"$error":"#DIV/0!"}},{"$f":"+O267*(P267^Q269)","v":{"$error":"#DIV/0!"}},null,null,null,null,{"$f":"+V267/W267","v":{"$error":"#DIV/0!"}},{"$f":"+U267*(V267^W269)","v":{"$error":"#DIV/0!"}},null,null,null,null,{"$f":"+AB267/AC267","v":{"$error":"#DIV/0!"}},{"$f":"+AA267*(AB267^AC269)","v":{"$error":"#DIV/0!"}},null,null,null,null,{"$f":"+AH267/AI267","v":{"$error":"#DIV/0!"}},{"$f":"+AG267*(AH267^AI269)","v":{"$error":"#DIV/0!"}},null,null,null,null,{"$f":"+AN267/AO267","v":{"$error":"#DIV/0!"}},{"$f":"+AM267*(AN267^AO269)","v":{"$error":"#DIV/0!"}},null,null,null,null,null,{"$f":"+AU267/AV267","v":{"$error":"#DIV/0!"}},{"$f":"+AT267*(AU267^AV269)","v":{"$error":"#DIV/0!"}},null,null,null,null,{"$f":"+BA267/BB267","v":{"$error":"#DIV/0!"}},{"$f":"+AZ267*(BA267^BB269)","v":{"$error":"#DIV/0!"}},null,null,null,null,{"$f":"+BG267/BH267","v":{"$error":"#DIV/0!"}},{"$f":"+BF267*(BG267^BH269)","v":{"$error":"#DIV/0!"}},null,null,null,null,{"$f":"+BM267/BN267","v":{"$error":"#DIV/0!"}},{"$f":"+BL267*(BM267^BN269)","v":{"$error":"#DIV/0!"}},null,null,null,null,{"$f":"+BS267/BT267","v":{"$error":"#DIV/0!"}},{"$f":"+BR267*(BS267^BT269)","v":{"$error":"#DIV/0!"}},null,null,null,null,{"$f":"+BY267/BZ267","v":{"$error":"#DIV/0!"}},{"$f":"+BX267*(BY267^BZ269)","v":{"$error":"#DIV/0!"}}]
[null,null,null,null,null,null,null,null,null,null,"bbar","Abar",null,null,null,null,"bbar","Abar",null,null,null,null,"bbar","Abar",null,null,null,null,"bbar","Abar",null,null,null,null,"bbar","Abar",null,null,null,null,"bbar","Abar",null,null,null,null,null,"bbar","Abar",null,null,null,null,"bbar","Abar",null,null,null,null,"bbar","Abar",null,null,null,null,"bbar","Abar",null,null,null,null,"bbar","Abar",null,null,null,null,"bbar","Abar"]

{"sheet":"Emissions","index":6,"n_rows":249,"n_cols":87,"rows_kept":249,"cut":false,"hidden":true,"merged":[[0,0,0,14],[0,18,0,30],[0,32,0,44],[0,60,0,72],[0,74,0,86],[0,46,0,58]]}
["                                                                           Arrivals",null,null,null,null,null,null,null,null,null,null,null,null,null,null,null,null,null,"                     Departures",null,null,null,null,null,null,null,null,null,null,null,null,null,"LTO Total",null,null,null,null,null,null,null,null,null,null,null,null,null,"Percent Change",null,null,null,null,null,null,null,null,null,null,null,null,null,"BASE Case",null,null,null,null,null,null,null,null,null,null,null,null,null,"ALTERNATIVE Case"]
["aircraft"," OpType"," THC"," CO"," NOx"," TOG"," VOC"," NMHC"," SOx"," CO2"," H2O"," PMVS"," PMVO"," PMNV"," TPM",null,"aircraft"," OpType"," THC"," CO"," NOx"," TOG"," VOC"," NMHC"," SOx"," CO2"," H2O"," PMVS"," PMVO"," PMNV"," TPM",null," THC"," CO"," NOx"," TOG"," VOC"," NMHC"," SOx"," CO2"," H2O"," PMVS"," PMVO"," PMNV"," TPM",null," THC"," CO"," NOx"," TOG"," VOC"," NMHC"," SOx"," CO2"," H2O"," PMVS"," PMVO"," PMNV"," TPM",null," THC"," CO"," NOx"," TOG"," VOC"," NMHC"," SOx"," CO2"," H2O"," PMVS"," PMVO"," PMNV"," TPM",null," THC"," CO"," NOx"," TOG"," VOC"," NMHC"," SOx"," CO2"," H2O"," PMVS"," PMVO"," PMNV"," TPM"]
[707," Arrival ",9072.0275487884901,19829.0934908085,2167.4414338818901,10489.3871453753,10434.6902361057,10489.3871453753,609.97527583350995,1643162.5642543701,644244.72012128797,26.046090592625699,193.284484030588,26.470168280495599,245.80074290370899,null,707," Departure ",5776.1628036933898,11152.034939844199,16939.763191374499,6678.5961061976004,6643.7705668018398,6678.5961061976004,2128.9179529507201,5734918.1536539597,2248524.16991123,103.106388700186,1021.7729397668101,183.43825747152101,1308.3175859385201,null,{"$f":"SUM(C3,S3)","v":14848.190352481881},{"$f":"SUM(D3,T3)","v":30981.128430652701},19107.204625256389,17167.983251572899,17078.460802907539,17167.983251572899,2738.8932287842299,7378080.7179083303,2892768.8900325177,129.15247929281171,1215.0574237973981,209.90842575201663,1554.1183288422292,null,{"$f":"IFERROR((BW3-BI3)/BI3, 0)","v":0},{"$f":"IFERROR((BX3-BJ3)/BJ3, 0)","v":0},0,0,0,0,0,0,0,0,0,0,0,null,{"$f":"(SUM(aem2csp2!$B20,aem2csp2!$C20) * Emissions!AG3)/1000","v":0},{"$f":"(SUM(aem2csp2!$B20,aem2csp2!$C20) * Emissions!AH3)/1000","v":0},{"$f":"(SUM(aem2csp2!$B20,aem2csp2!$C20) * Emissions!AI3)/1000","v":0},{"$f":"(SUM(aem2csp2!$B20,aem2csp2!$C20) * Emissions!AJ3)/1000","v":0},{"$f":"(SUM(aem2csp2!$B20,aem2csp2!$C20) * Emissions!AK3)/1000","v":0},{"$f":"(SUM(aem2csp2!$B20,aem2csp2!$C20) * Emissions!AL3)/1000","v":0},{"$f":"(SUM(aem2csp2!$B20,aem2csp2!$C20) * Emissions!AM3)/1000","v":0},{"$f":"(SUM(aem2csp2!$B20,aem2csp2!$C20) * Emissions!AN3)/1000","v":0},{"$f":"(SUM(aem2csp2!$B20,aem2csp2!$C20) * Emissions!AO3)/1000","v":0},{"$f":"(SUM(aem2csp2!$B20,aem2csp2!$C20) * Emissions!AP3)/1000","v":0},{"$f":"(SUM(aem2csp2!$B20,aem2csp2!$C20) * Emissions!AQ3)/1000","v":0},{"$f":"(SUM(aem2csp2!$B20,aem2csp2!$C20) * Emissions!AR3)/1000","v":0},{"$f":"(SUM(aem2csp2!$B20,aem2csp2!$C20) * Emissions!AS3)/1000","v":0},null,{"$f":"(SUM(aem2csp2!$D20,aem2csp2!$E20) * Emissions!AG3)/1000","v":0},{"$f":"(SUM(aem2csp2!$D20,aem2csp2!$E20) * Emissions!AH3)/1000","v":0},{"$f":"(SUM(aem2csp2!$D20,aem2csp2!$E20) * Emissions!AI3)/1000","v":0},{"$f":"(SUM(aem2csp2!$D20,aem2csp2!$E20) * Emissions!AJ3)/1000","v":0},{"$f":"(SUM(aem2csp2!$D20,aem2csp2!$E20) * Emissions!AK3)/1000","v":0},{"$f":"(SUM(aem2csp2!$D20,aem2csp2!$E20) * Emissions!AL3)/1000","v":0},{"$f":"(SUM(aem2csp2!$D20,aem2csp2!$E20) * Emissions!AM3)/1000","v":0},{"$f":"(SUM(aem2csp2!$D20,aem2csp2!$E20) * Emissions!AN3)/1000","v":0},{"$f":"(SUM(aem2csp2!$D20,aem2csp2!$E20) * Emissions!AO3)/1000","v":0},{"$f":"(SUM(aem2csp2!$D20,aem2csp2!$E20) * Emissions!AP3)/1000","v":0},{"$f":"(SUM(aem2csp2!$D20,aem2csp2!$E20) * Emissions!AQ3)/1000","v":0},{"$f":"(SUM(aem2csp2!$D20,aem2csp2!$E20) * Emissions!AR3)/1000","v":0},{"$f":"(SUM(aem2csp2!$D20,aem2csp2!$E20) * Emissions!AS3)/1000","v":0}]
[720," Arrival ",0,0,0,0,0,0,535.75858397320098,1443236.2811095,565858.40879000095,22.7774459839518,70.6243323609268,22.506409479001601,115.90818782388,null,720," Departure ",0,0,0,0,0,0,1304.5872117864001,3514320.9128979701,1377881.1313010401,63.256298247106201,399.01813168186999,112.95729955396,575.23172948293598,null,{"$f":"SUM(C4,S4)","v":0},0,{"$f":"SUM(E4,U4)","v":0},{"$f":"SUM(F4,V4)","v":0},{"$f":"SUM(G4,W4)","v":0},{"$f":"SUM(H4,X4)","v":0},{"$f":"SUM(I4,Y4)","v":1840.3457957596011},{"$f":"SUM(J4,Z4)","v":4957557.1940074703},{"$f":"SUM(K4,AA4)","v":1943739.540091041},{"$f":"SUM(L4,AB4)","v":86.033744231057995},{"$f":"SUM(M4,AC4)","v":469.6424640427968},{"$f":"SUM(N4,AD4)","v":135.46370903296159},{"$f":"SUM(O4,AE4)","v":691.13991730681596},null,{"$f":"IFERROR((BW4-BI4)/BI4, 0)","v":0},{"$f":"IFERROR((BX4-BJ4)/BJ4, 0)","v":0},{"$f":"IFERROR((BY4-BK4)/BK4, 0)","v":0},{"$f":"IFERROR((BZ4-BL4)/BL4, 0)","v":0},{"$f":"IFERROR((CA4-BM4)/BM4, 0)","v":0},{"$f":"IFERROR((CB4-BN4)/BN4, 0)","v":0},{"$f":"IFERROR((CC4-BO4)/BO4, 0)","v":0},{"$f":"IFERROR((CD4-BP4)/BP4, 0)","v":0},{"$f":"IFERROR((CE4-BQ4)/BQ4, 0)","v":0},{"$f":"IFERROR((CF4-BR4)/BR4, 0)","v":0},{"$f":"IFERROR((CG4-BS4)/BS4, 0)","v":0},{"$f":"IFERROR((CH4-BT4)/BT4, 0)","v":0},{"$f":"IFERROR((CI4-BU4)/BU4, 0)","v":0},null,{"$f":"(SUM(aem2csp2!$B21,aem2csp2!$C21) * Emissions!AG4)/1000","v":0},{"$f":"(SUM(aem2csp2!$B21,aem2csp2!$C21) * Emissions!AH4)/1000","v":0},{"$f":"(SUM(aem2csp2!$B21,aem2csp2!$C21) * Emissions!AI4)/1000","v":0},{"$f":"(SUM(aem2csp2!$B21,aem2csp2!$C21) * Emissions!AJ4)/1000","v":0},{"$f":"(SUM(aem2csp2!$B21,aem2csp2!$C21) * Emissions!AK4)/1000","v":0},{"$f":"(SUM(aem2csp2!$B21,aem2csp2!$C21) * Emissions!AL4)/1000","v":0},{"$f":"(SUM(aem2csp2!$B21,aem2csp2!$C21) * Emissions!AM4)/1000","v":0},{"$f":"(SUM(aem2csp2!$B21,aem2csp2!$C21) * Emissions!AN4)/1000","v":0},{"$f":"(SUM(aem2csp2!$B21,aem2csp2!$C21) * Emissions!AO4)/1000","v":0},{"$f":"(SUM(aem2csp2!$B21,aem2csp2!$C21) * Emissions!AP4)/1000","v":0},{"$f":"(SUM(aem2csp2!$B21,aem2csp2!$C21) * Emissions!AQ4)/1000","v":0},{"$f":"(SUM(aem2csp2!$B21,aem2csp2!$C21) * Emissions!AR4)/1000","v":0},{"$f":"(SUM(aem2csp2!$B21,aem2csp2!$C21) * Emissions!AS4)/1000","v":0},null,{"$f":"(SUM(aem2csp2!$D21,aem2csp2!$E21) * Emissions!AG4)/1000","v":0},{"$f":"(SUM(aem2csp2!$D21,aem2csp2!$E21) * Emissions!AH4)/1000","v":0},{"$f":"(SUM(aem2csp2!$D21,aem2csp2!$E21) * Emissions!AI4)/1000","v":0},{"$f":"(SUM(aem2csp2!$D21,aem2csp2!$E21) * Emissions!AJ4)/1000","v":0},{"$f":"(SUM(aem2csp2!$D21,aem2csp2!$E21) * Emissions!AK4)/1000","v":0},{"$f":"(SUM(aem2csp2!$D21,aem2csp2!$E21) * Emissions!AL4)/1000","v":0},{"$f":"(SUM(aem2csp2!$D21,aem2csp2!$E21) * Emissions!AM4)/1000","v":0},{"$f":"(SUM(aem2csp2!$D21,aem2csp2!$E21) * Emissions!AN4)/1000","v":0},{"$f":"(SUM(aem2csp2!$D21,aem2csp2!$E21) * Emissions!AO4)/1000","v":0},{"$f":"(SUM(aem2csp2!$D21,aem2csp2!$E21) * Emissions!AP4)/1000","v":0},{"$f":"(SUM(aem2csp2!$D21,aem2csp2!$E21) * Emissions!AQ4)/1000","v":0},{"$f":"(SUM(aem2csp2!$D21,aem2csp2!$E21) * Emissions!AR4)/1000","v":0},{"$f":"(SUM(aem2csp2!$D21,aem2csp2!$E21) * Emissions!AS4)/1000","v":0}]
[737," Arrival ",253.65465306160701,1044.0826821640001,854.51671011235601,293.28414655711202,291.75481637489003,293.28414655711202,213.19650422665401,574312.64586329705,225174.24498665601,9.1526355649625799,42.993077501128099,9.6181349342728293,61.763848000363602,null,737," Departure ",87.959886335140894,567.95897445397702,8483.3549378926691,101.70221552686,101.171889323995,101.70221552686,587.07411487531704,1581470.99763629,620056.93314614706,28.007484753396799,193.908685149072,63.204492497345598,285.12066239981499,null,341.61453939674789,1612.041656617977,9337.8716480050243,394.98636208397204,392.92670569888503,394.98636208397204,800.27061910197108,2155783.6434995872,845231.17813280306,37.160120318359375,236.90176265020011,72.822627431618429,346.88451040017861,null,0,0,0,0,0,0,0,0,0,0,0,0,0,null,{"$f":"(SUM(aem2csp2!$B22,aem2csp2!$C22) * Emissions!AG5)/1000","v":0},{"$f":"(SUM(aem2csp2!$B22,aem2csp2!$C22) * Emissions!AH5)/1000","v":0},{"$f":"(SUM(aem2csp2!$B22,aem2csp2!$C22) * Emissions!AI5)/1000","v":0},{"$f":"(SUM(aem2csp2!$B22,aem2csp2!$C22) * Emissions!AJ5)/1000","v":0},{"$f":"(SUM(aem2csp2!$B22,aem2csp2!$C22) * Emissions!AK5)/1000","v":0},{"$f":"(SUM(aem2csp2!$B22,aem2csp2!$C22) * Emissions!AL5)/1000","v":0},{"$f":"(SUM(aem2csp2!$B22,aem2csp2!$C22) * Emissions!AM5)/1000","v":0},{"$f":"(SUM(aem2csp2!$B22,aem2csp2!$C22) * Emissions!AN5)/1000","v":0},{"$f":"(SUM(aem2csp2!$B22,aem2csp2!$C22) * Emissions!AO5)/1000","v":0},{"$f":"(SUM(aem2csp2!$B22,aem2csp2!$C22) * Emissions!AP5)/1000","v":0},{"$f":"(SUM(aem2csp2!$B22,aem2csp2!$C22) * Emissions!AQ5)/1000","v":0},{"$f":"(SUM(aem2csp2!$B22,aem2csp2!$C22) * Emissions!AR5)/1000","v":0},{"$f":"(SUM(aem2csp2!$B22,aem2csp2!$C22) * Emissions!AS5)/1000","v":0},null,{"$f":"(SUM(aem2csp2!$D22,aem2csp2!$E22) * Emissions!AG5)/1000","v":0},{"$f":"(SUM(aem2csp2!$D22,aem2csp2!$E22) * Emissions!AH5)/1000","v":0},{"$f":"(SUM(aem2csp2!$D22,aem2csp2!$E22) * Emissions!AI5)/1000","v":0},{"$f":"(SUM(aem2csp2!$D22,aem2csp2!$E22) * Emissions!AJ5)/1000","v":0},{"$f":"(SUM(aem2csp2!$D22,aem2csp2!$E22) * Emissions!AK5)/1000","v":0},{"$f":"(SUM(aem2csp2!$D22,aem2csp2!$E22) * Emissions!AL5)/1000","v":0},{"$f":"(SUM(aem2csp2!$D22,aem2csp2!$E22) * Emissions!AM5)/1000","v":0},{"$f":"(SUM(aem2csp2!$D22,aem2csp2!$E22) * Emissions!AN5)/1000","v":0},{"$f":"(SUM(aem2csp2!$D22,aem2csp2!$E22) * Emissions!AO5)/1000","v":0},{"$f":"(SUM(aem2csp2!$D22,aem2csp2!$E22) * Emissions!AP5)/1000","v":0},{"$f":"(SUM(aem2csp2!$D22,aem2csp2!$E22) * Emissions!AQ5)/1000","v":0},{"$f":"(SUM(aem2csp2!$D22,aem2csp2!$E22) * Emissions!AR5)/1000","v":0},{"$f":"(SUM(aem2csp2!$D22,aem2csp2!$E22) * Emissions!AS5)/1000","v":0}]
[7478," Arrival ",362.45104439967503,4582.6666931579402,11916.736833070299,419.07823863051499,416.89295515517603,419.07823863051499,1220.1814993944499,3286947.2597246198,1288733.3630045501,47.500596572356201,80.315320619222803,18.611208377321201,146.42712556890001,null,7478," Departure ",168.20453415589901,134.56362732471999,77593.136552363299,194.48380958723399,193.46967376214201,194.48380958723399,3752.4650923505701,10108459.158441,3963284.9378736899,171.64397211799599,1001.222752005,291.197893571468,1464.0646176944599,null,530.65557855557404,4717.2303204826603,89509.873385433602,613.56204821774895,610.36262891731803,613.56204821774895,4972.6465917450205,13395406.41816562,5252018.3008782398,219.14456869035217,1081.5380726242229,309.80910194878919,1610.4917432633599,null,0,0,0,0,0,0,0,0,0,0,0,0,0,null,{"$f":"(SUM(aem2csp2!$B23,aem2csp2!$C23) * Emissions!AG6)/1000","v":0},{"$f":"(SUM(aem2csp2!$B23,aem2csp2!$C23) * Emissions!AH6)/1000","v":0},{"$f":"(SUM(aem2csp2!$B23,aem2csp2!$C23) * Emissions!AI6)/1000","v":0},{"$f":"(SUM(aem2csp2!$B23,aem2csp2!$C23) * Emissions!AJ6)/1000","v":0},{"$f":"(SUM(aem2csp2!$B23,aem2csp2!$C23) * Emissions!AK6)/1000","v":0},{"$f":"(SUM(aem2csp2!$B23,aem2csp2!$C23) * Emissions!AL6)/1000","v":0},{"$f":"(SUM(aem2csp2!$B23,aem2csp2!$C23) * Emissions!AM6)/1000","v":0},{"$f":"(SUM(aem2csp2!$B23,aem2csp2!$C23) * Emissions!AN6)/1000","v":0},{"$f":"(SUM(aem2csp2!$B23,aem2csp2!$C23) * Emissions!AO6)/1000","v":0},{"$f":"(SUM(aem2csp2!$B23,aem2csp2!$C23) * Emissions!AP6)/1000","v":0},{"$f":"(SUM(aem2csp2!$B23,aem2csp2!$C23) * Emissions!AQ6)/1000","v":0},{"$f":"(SUM(aem2csp2!$B23,aem2csp2!$C23) * Emissions!AR6)/1000","v":0},{"$f":"(SUM(aem2csp2!$B23,aem2csp2!$C23) * Emissions!AS6)/1000","v":0},null,{"$f":"(SUM(aem2csp2!$D23,aem2csp2!$E23) * Emissions!AG6)/1000","v":0},{"$f":"(SUM(aem2csp2!$D23,aem2csp2!$E23) * Emissions!AH6)/1000","v":0},{"$f":"(SUM(aem2csp2!$D23,aem2csp2!$E23) * Emissions!AI6)/1000","v":0},{"$f":"(SUM(aem2csp2!$D23,aem2csp2!$E23) * Emissions!AJ6)/1000","v":0},{"$f":"(SUM(aem2csp2!$D23,aem2csp2!$E23) * Emissions!AK6)/1000","v":0},{"$f":"(SUM(aem2csp2!$D23,aem2csp2!$E23) * Emissions!AL6)/1000","v":0},{"$f":"(SUM(aem2csp2!$D23,aem2csp2!$E23) * Emissions!AM6)/1000","v":0},{"$f":"(SUM(aem2csp2!$D23,aem2csp2!$E23) * Emissions!AN6)/1000","v":0},{"$f":"(SUM(aem2csp2!$D23,aem2csp2!$E23) * Emissions!AO6)/1000","v":0},{"$f":"(SUM(aem2csp2!$D23,aem2csp2!$E23) * Emissions!AP6)/1000","v":0},{"$f":"(SUM(aem2csp2!$D23,aem2csp2!$E23) * Emissions!AQ6)/1000","v":0},{"$f":"(SUM(aem2csp2!$D23,aem2csp2!$E23) * Emissions!AR6)/1000","v":0},{"$f":"(SUM(aem2csp2!$D23,aem2csp2!$E23) * Emissions!AS6)/1000","v":0}]
[707120," Arrival ",8850.4738767123999,19699.364329573,2293.6698402335601,10233.2192460399,10179.8581242814,10233.2192460399,629.64433990220095,1696147.44910472,665018.82552853704,26.737714116522302,196.33633067597501,26.217371706375399,249.29141649887299,null,707120," Departure ",4678.7756072775101,4845.3680476641402,17526.9717773907,5409.7596647649098,5381.5504729929999,5409.7596647649098,1727.0471986912401,4652351.3591793496,1824075.63591279,84.295111509782799,930.52550072170698,153.67575300238099,1168.4963652338699,null,13529.24948398991,24544.732377237138,19820.64161762426,15642.97891080481,15561.4085972744,15642.97891080481,2356.6915385934408,6348498.8082840694,2489094.4614413269,111.0328256263051,1126.861831397682,179.89312470875637,1417.787781732743,null,0,0,0,0,0,0,0,0,0,0,0,0,0,null,{"$f":"(SUM(aem2csp2!$B24,aem2csp2!$C24) * Emissions!AG7)/1000","v":0},{"$f":"(SUM(aem2csp2!$B24,aem2csp2!$C24) * Emissions!AH7)/1000","v":0},{"$f":"(SUM(aem2csp2!$B24,aem2csp2!$C24) * Emissions!AI7)/1000","v":0},{"$f":"(SUM(aem2csp2!$B24,aem2csp2!$C24) * Emissions!AJ7)/1000","v":0},{"$f":"(SUM(aem2csp2!$B24,aem2csp2!$C24) * Emissions!AK7)/1000","v":0},{"$f":"(SUM(aem2csp2!$B24,aem2csp2!$C24) * Emissions!AL7)/1000","v":0},{"$f":"(SUM(aem2csp2!$B24,aem2csp2!$C24) * Emissions!AM7)/1000","v":0},{"$f":"(SUM(aem2csp2!$B24,aem2csp2!$C24) * Emissions!AN7)/1000","v":0},{"$f":"(SUM(aem2csp2!$B24,aem2csp2!$C24) * Emissions!AO7)/1000","v":0},{"$f":"(SUM(aem2csp2!$B24,aem2csp2!$C24) * Emissions!AP7)/1000","v":0},{"$f":"(SUM(aem2csp2!$B24,aem2csp2!$C24) * Emissions!AQ7)/1000","v":0},{"$f":"(SUM(aem2csp2!$B24,aem2csp2!$C24) * Emissions!AR7)/1000","v":0},{"$f":"(SUM(aem2csp2!$B24,aem2csp2!$C24) * Emissions!AS7)/1000","v":0},null,{"$f":"(SUM(aem2csp2!$D24,aem2csp2!$E24) * Emissions!AG7)/1000","v":0},{"$f":"(SUM(aem2csp2!$D24,aem2csp2!$E24) * Emissions!AH7)/1000","v":0},{"$f":"(SUM(aem2csp2!$D24,aem2csp2!$E24) * Emissions!AI7)/1000","v":0},{"$f":"(SUM(aem2csp2!$D24,aem2csp2!$E24) * Emissions!AJ7)/1000","v":0},{"$f":"(SUM(aem2csp2!$D24,aem2csp2!$E24) * Emissions!AK7)/1000","v":0},{"$f":"(SUM(aem2csp2!$D24,aem2csp2!$E24) * Emissions!AL7)/1000","v":0},{"$f":"(SUM(aem2csp2!$D24,aem2csp2!$E24) * Emissions!AM7)/1000","v":0},{"$f":"(SUM(aem2csp2!$D24,aem2csp2!$E24) * Emissions!AN7)/1000","v":0},{"$f":"(SUM(aem2csp2!$D24,aem2csp2!$E24) * Emissions!AO7)/1000","v":0},{"$f":"(SUM(aem2csp2!$D24,aem2csp2!$E24) * Emissions!AP7)/1000","v":0},{"$f":"(SUM(aem2csp2!$D24,aem2csp2!$E24) * Emissions!AQ7)/1000","v":0},{"$f":"(SUM(aem2csp2!$D24,aem2csp2!$E24) * Emissions!AR7)/1000","v":0},{"$f":"(SUM(aem2csp2!$D24,aem2csp2!$E24) * Emissions!AS7)/1000","v":0}]
[707320," Arrival ",0,0,0,0,0,0,566.04231756412605,1524815.15703109,597843.533834378,23.186034584021201,46.535661912482901,17.219585895034498,86.941282391538607,null,707320," Departure ",0,0,0,0,0,0,2336.79511870236,6294901.4681574004,2468080.2269764501,110.90141910839699,623.63219773242497,184.38922786052501,918.92284470134803,null,0,0,0,0,0,0,2902.8374362664863,7819716.6251884904,3065923.7608108278,134.08745369241819,670.16785964490782,201.60881375555951,1005.8641270928866,null,0,0,0,0,0,0,0,0,0,0,0,0,0,null,{"$f":"(SUM(aem2csp2!$B25,aem2csp2!$C25) * Emissions!AG8)/1000","v":0},{"$f":"(SUM(aem2csp2!$B25,aem2csp2!$C25) * Emissions!AH8)/1000","v":0},{"$f":"(SUM(aem2csp2!$B25,aem2csp2!$C25) * Emissions!AI8)/1000","v":0},{"$f":"(SUM(aem2csp2!$B25,aem2csp2!$C25) * Emissions!AJ8)/1000","v":0},{"$f":"(SUM(aem2csp2!$B25,aem2csp2!$C25) * Emissions!AK8)/1000","v":0},{"$f":"(SUM(aem2csp2!$B25,aem2csp2!$C25) * Emissions!AL8)/1000","v":0},{"$f":"(SUM(aem2csp2!$B25,aem2csp2!$C25) * Emissions!AM8)/1000","v":0},{"$f":"(SUM(aem2csp2!$B25,aem2csp2!$C25) * Emissions!AN8)/1000","v":0},{"$f":"(SUM(aem2csp2!$B25,aem2csp2!$C25) * Emissions!AO8)/1000","v":0},{"$f":"(SUM(aem2csp2!$B25,aem2csp2!$C25) * Emissions!AP8)/1000","v":0},{"$f":"(SUM(aem2csp2!$B25,aem2csp2!$C25) * Emissions!AQ8)/1000","v":0},{"$f":"(SUM(aem2csp2!$B25,aem2csp2!$C25) * Emissions!AR8)/1000","v":0},{"$f":"(SUM(aem2csp2!$B25,aem2csp2!$C25) * Emissions!AS8)/1000","v":0},null,{"$f":"(SUM(aem2csp2!$D25,aem2csp2!$E25) * Emissions!AG8)/1000","v":0},{"$f":"(SUM(aem2csp2!$D25,aem2csp2!$E25) * Emissions!AH8)/1000","v":0},{"$f":"(SUM(aem2csp2!$D25,aem2csp2!$E25) * Emissions!AI8)/1000","v":0},{"$f":"(SUM(aem2csp2!$D25,aem2csp2!$E25) * Emissions!AJ8)/1000","v":0},{"$f":"(SUM(aem2csp2!$D25,aem2csp2!$E25) * Emissions!AK8)/1000","v":0},{"$f":"(SUM(aem2csp2!$D25,aem2csp2!$E25) * Emissions!AL8)/1000","v":0},{"$f":"(SUM(aem2csp2!$D25,aem2csp2!$E25) * Emissions!AM8)/1000","v":0},{"$f":"(SUM(aem2csp2!$D25,aem2csp2!$E25) * Emissions!AN8)/1000","v":0},{"$f":"(SUM(aem2csp2!$D25,aem2csp2!$E25) * Emissions!AO8)/1000","v":0},{"$f":"(SUM(aem2csp2!$D25,aem2csp2!$E25) * Emissions!AP8)/1000","v":0},{"$f":"(SUM(aem2csp2!$D25,aem2csp2!$E25) * Emissions!AQ8)/1000","v":0},{"$f":"(SUM(aem2csp2!$D25,aem2csp2!$E25) * Emissions!AR8)/1000","v":0},{"$f":"(SUM(aem2csp2!$D25,aem2csp2!$E25) * Emissions!AS8)/1000","v":0}]
[717200," Arrival ",4.8064654819753203,1137.4826386314001,874.49609555009101,5.5573990456030602,5.5284199882797598,5.5573990456030602,152.53798613307299,410909.619407313,161107.828591711,6.4076975162352499,23.4360041561328,8.7166572203124009,38.560358892680497,null,717200," Departure ",14.8790516664821,317.47326439948398,7940.9097633289803,17.203666153616801,17.1139576364587,17.203666153616801,488.34211708706903,1315504.9346052799,515778.00447122997,24.484211296073799,193.64782493125699,64.672879281054506,282.80491550838502,null,19.685517148457421,1454.955903030884,8815.4058588790722,22.76106519921986,22.642377624738458,22.76106519921986,640.88010322014202,1726414.5540125929,676885.83306294098,30.891908812309048,217.0838290873898,73.389536501366905,321.36527440106551,null,0,0,0,0,0,0,0,0,0,0,0,0,0,null,{"$f":"(SUM(aem2csp2!$B26,aem2csp2!$C26) * Emissions!AG9)/1000","v":0},{"$f":"(SUM(aem2csp2!$B26,aem2csp2!$C26) * Emissions!AH9)/1000","v":0},{"$f":"(SUM(aem2csp2!$B26,aem2csp2!$C26) * Emissions!AI9)/1000","v":0},{"$f":"(SUM(aem2csp2!$B26,aem2csp2!$C26) * Emissions!AJ9)/1000","v":0},{"$f":"(SUM(aem2csp2!$B26,aem2csp2!$C26) * Emissions!AK9)/1000","v":0},{"$f":"(SUM(aem2csp2!$B26,aem2csp2!$C26) * Emissions!AL9)/1000","v":0},{"$f":"(SUM(aem2csp2!$B26,aem2csp2!$C26) * Emissions!AM9)/1000","v":0},{"$f":"(SUM(aem2csp2!$B26,aem2csp2!$C26) * Emissions!AN9)/1000","v":0},{"$f":"(SUM(aem2csp2!$B26,aem2csp2!$C26) * Emissions!AO9)/1000","v":0},{"$f":"(SUM(aem2csp2!$B26,aem2csp2!$C26) * Emissions!AP9)/1000","v":0},{"$f":"(SUM(aem2csp2!$B26,aem2csp2!$C26) * Emissions!AQ9)/1000","v":0},{"$f":"(SUM(aem2csp2!$B26,aem2csp2!$C26) * Emissions!AR9)/1000","v":0},{"$f":"(SUM(aem2csp2!$B26,aem2csp2!$C26) * Emissions!AS9)/1000","v":0},null,{"$f":"(SUM(aem2csp2!$D26,aem2csp2!$E26) * Emissions!AG9)/1000","v":0},{"$f":"(SUM(aem2csp2!$D26,aem2csp2!$E26) * Emissions!AH9)/1000","v":0},{"$f":"(SUM(aem2csp2!$D26,aem2csp2!$E26) * Emissions!AI9)/1000","v":0},{"$f":"(SUM(aem2csp2!$D26,aem2csp2!$E26) * Emissions!AJ9)/1000","v":0},{"$f":"(SUM(aem2csp2!$D26,aem2csp2!$E26) * Emissions!AK9)/1000","v":0},{"$f":"(SUM(aem2csp2!$D26,aem2csp2!$E26) * Emissions!AL9)/1000","v":0},{"$f":"(SUM(aem2csp2!$D26,aem2csp2!$E26) * Emissions!AM9)/1000","v":0},{"$f":"(SUM(aem2csp2!$D26,aem2csp2!$E26) * Emissions!AN9)/1000","v":0},{"$f":"(SUM(aem2csp2!$D26,aem2csp2!$E26) * Emissions!AO9)/1000","v":0},{"$f":"(SUM(aem2csp2!$D26,aem2csp2!$E26) * Emissions!AP9)/1000","v":0},{"$f":"(SUM(aem2csp2!$D26,aem2csp2!$E26) * Emissions!AQ9)/1000","v":0},{"$f":"(SUM(aem2csp2!$D26,aem2csp2!$E26) * Emissions!AR9)/1000","v":0},{"$f":"(SUM(aem2csp2!$D26,aem2csp2!$E26) * Emissions!AS9)/1000","v":0}]
[727100," Arrival ",545.0887927448,2202.9716823118601,791.22899763251598,630.25022189984202,626.96378211774504,630.25022189984202,255.01131692143301,686954.15376291005,269338.284692463,11.274835499468599,59.111687841740299,13.9453758740345,84.331899215243396,null,727100," Departure ",177.23558209343301,637.93684062085299,6792.2959005430503,204.92581471076201,203.857229049952,204.92581471076201,694.45221159751804,1870728.0802511701,733467.713239523,34.719505967088999,278.14993967646899,80.919096737367994,393.788542380926,null,722.32437483823298,2840.9085229327129,7583.5248981755667,835.176036610604,830.82101116769707,835.176036610604,949.46352851895108,2557682.2340140799,1002805.997931986,45.9943414665576,337.26162751820931,94.864472611402491,478.12044159616937,null,0,0,0,0,0,0,0,0,0,0,0,0,0,null,{"$f":"(SUM(aem2csp2!$B27,aem2csp2!$C27) * Emissions!AG10)/1000","v":0},{"$f":"(SUM(aem2csp2!$B27,aem2csp2!$C27) * Emissions!AH10)/1000","v":0},{"$f":"(SUM(aem2csp2!$B27,aem2csp2!$C27) * Emissions!AI10)/1000","v":0},{"$f":"(SUM(aem2csp2!$B27,aem2csp2!$C27) * Emissions!AJ10)/1000","v":0},{"$f":"(SUM(aem2csp2!$B27,aem2csp2!$C27) * Emissions!AK10)/1000","v":0},{"$f":"(SUM(aem2csp2!$B27,aem2csp2!$C27) * Emissions!AL10)/1000","v":0},{"$f":"(SUM(aem2csp2!$B27,aem2csp2!$C27) * Emissions!AM10)/1000","v":0},{"$f":"(SUM(aem2csp2!$B27,aem2csp2!$C27) * Emissions!AN10)/1000","v":0},{"$f":"(SUM(aem2csp2!$B27,aem2csp2!$C27) * Emissions!AO10)/1000","v":0},{"$f":"(SUM(aem2csp2!$B27,aem2csp2!$C27) * Emissions!AP10)/1000","v":0},{"$f":"(SUM(aem2csp2!$B27,aem2csp2!$C27) * Emissions!AQ10)/1000","v":0},{"$f":"(SUM(aem2csp2!$B27,aem2csp2!$C27) * Emissions!AR10)/1000","v":0},{"$f":"(SUM(aem2csp2!$B27,aem2csp2!$C27) * Emissions!AS10)/1000","v":0},null,{"$f":"(SUM(aem2csp2!$D27,aem2csp2!$E27) * Emissions!AG10)/1000","v":0},{"$f":"(SUM(aem2csp2!$D27,aem2csp2!$E27) * Emissions!AH10)/1000","v":0},{"$f":"(SUM(aem2csp2!$D27,aem2csp2!$E27) * Emissions!AI10)/1000","v":0},{"$f":"(SUM(aem2csp2!$D27,aem2csp2!$E27) * Emissions!AJ10)/1000","v":0},{"$f":"(SUM(aem2csp2!$D27,aem2csp2!$E27) * Emissions!AK10)/1000","v":0},{"$f":"(SUM(aem2csp2!$D27,aem2csp2!$E27) * Emissions!AL10)/1000","v":0},{"$f":"(SUM(aem2csp2!$D27,aem2csp2!$E27) * Emissions!AM10)/1000","v":0},{"$f":"(SUM(aem2csp2!$D27,aem2csp2!$E27) * Emissions!AN10)/1000","v":0},{"$f":"(SUM(aem2csp2!$D27,aem2csp2!$E27) * Emissions!AO10)/1000","v":0},{"$f":"(SUM(aem2csp2!$D27,aem2csp2!$E27) * Emissions!AP10)/1000","v":0},{"$f":"(SUM(aem2csp2!$D27,aem2csp2!$E27) * Emissions!AQ10)/1000","v":0},{"$f":"(SUM(aem2csp2!$D27,aem2csp2!$E27) * Emissions!AR10)/1000","v":0},{"$f":"(SUM(aem2csp2!$D27,aem2csp2!$E27) * Emissions!AS10)/1000","v":0}]
[727200," Arrival ",1211.98738701311,5336.82717775944,961.02620390582103,1401.34108382309,1394.0337907415001,1401.34108382309,295.68518095373798,796522.15326933295,312297.27530718403,13.1313263466104,81.665107875835304,16.603774161650001,111.400208384096,null,727200," Departure ",380.44810399298302,2225.9443986594601,8725.7040346126596,439.88705171418002,437.59326068301601,439.88705171418002,915.51393170955896,2466228.1886472502,966949.05526359705,45.650987090910299,369.75276780112898,152.34196103872699,567.74571593076598,null,1592.4354910060931,7562.7715764188997,9686.7302385184812,1841.22813553727,1831.6270514245161,1841.22813553727,1211.199112663297,3262750.341916583,1279246.3305707811,58.782313437520699,451.41787567696429,168.94573520037699,679.14592431486199,null,0,0,0,0,0,0,0,0,0,0,0,0,0,null,{"$f":"(SUM(aem2csp2!$B28,aem2csp2!$C28) * Emissions!AG11)/1000","v":0},{"$f":"(SUM(aem2csp2!$B28,aem2csp2!$C28) * Emissions!AH11)/1000","v":0},{"$f":"(SUM(aem2csp2!$B28,aem2csp2!$C28) * Emissions!AI11)/1000","v":0},{"$f":"(SUM(aem2csp2!$B28,aem2csp2!$C28) * Emissions!AJ11)/1000","v":0},{"$f":"(SUM(aem2csp2!$B28,aem2csp2!$C28) * Emissions!AK11)/1000","v":0},{"$f":"(SUM(aem2csp2!$B28,aem2csp2!$C28) * Emissions!AL11)/1000","v":0},{"$f":"(SUM(aem2csp2!$B28,aem2csp2!$C28) * Emissions!AM11)/1000","v":0},{"$f":"(SUM(aem2csp2!$B28,aem2csp2!$C28) * Emissions!AN11)/1000","v":0},{"$f":"(SUM(aem2csp2!$B28,aem2csp2!$C28) * Emissions!AO11)/1000","v":0},{"$f":"(SUM(aem2csp2!$B28,aem2csp2!$C28) * Emissions!AP11)/1000","v":0},{"$f":"(SUM(aem2csp2!$B28,aem2csp2!$C28) * Emissions!AQ11)/1000","v":0},{"$f":"(SUM(aem2csp2!$B28,aem2csp2!$C28) * Emissions!AR11)/1000","v":0},{"$f":"(SUM(aem2csp2!$B28,aem2csp2!$C28) * Emissions!AS11)/1000","v":0},null,{"$f":"(SUM(aem2csp2!$D28,aem2csp2!$E28) * Emissions!AG11)/1000","v":0},{"$f":"(SUM(aem2csp2!$D28,aem2csp2!$E28) * Emissions!AH11)/1000","v":0},{"$f":"(SUM(aem2csp2!$D28,aem2csp2!$E28) * Emissions!AI11)/1000","v":0},{"$f":"(SUM(aem2csp2!$D28,aem2csp2!$E28) * Emissions!AJ11)/1000","v":0},{"$f":"(SUM(aem2csp2!$D28,aem2csp2!$E28) * Emissions!AK11)/1000","v":0},{"$f":"(SUM(aem2csp2!$D28,aem2csp2!$E28) * Emissions!AL11)/1000","v":0},{"$f":"(SUM(aem2csp2!$D28,aem2csp2!$E28) * Emissions!AM11)/1000","v":0},{"$f":"(SUM(aem2csp2!$D28,aem2csp2!$E28) * Emissions!AN11)/1000","v":0},{"$f":"(SUM(aem2csp2!$D28,aem2csp2!$E28) * Emissions!AO11)/1000","v":0},{"$f":"(SUM(aem2csp2!$D28,aem2csp2!$E28) * Emissions!AP11)/1000","v":0},{"$f":"(SUM(aem2csp2!$D28,aem2csp2!$E28) * Emissions!AQ11)/1000","v":0},{"$f":"(SUM(aem2csp2!$D28,aem2csp2!$E28) * Emissions!AR11)/1000","v":0},{"$f":"(SUM(aem2csp2!$D28,aem2csp2!$E28) * Emissions!AS11)/1000","v":0}]
[737300," Arrival ",82.405676017472501,1838.3156399376801,1172.30094095462,95.280248442264494,94.783409586762303,95.280248442264494,203.76838042462799,548914.99337406096,215216.43321829301,8.65394946224405,34.559098884961898,10.3378216014362,53.550869948642202,null,737300," Departure ",22.090437578312901,454.08121688754301,8054.5528128223104,25.541716085354501,25.408528806827398,25.541716085354501,545.039015487234,1468236.07740969,575660.23066744301,25.916636055076602,174.55793721491099,46.165383716378599,246.639956986367,null,104.4961135957854,2292.396856825223,9226.8537537769298,120.821964527619,120.19193839358971,120.821964527619,748.80739591186193,2017151.0707837511,790876.66388573602,34.570585517320652,209.11703609987291,56.503205317814803,300.19082693500923,null,0,0,0,0,0,0,0,0,0,0,0,0,0,null,{"$f":"(SUM(aem2csp2!$B29,aem2csp2!$C29) * Emissions!AG12)/1000","v":0},{"$f":"(SUM(aem2csp2!$B29,aem2csp2!$C29) * Emissions!AH12)/1000","v":0},{"$f":"(SUM(aem2csp2!$B29,aem2csp2!$C29) * Emissions!AI12)/1000","v":0},{"$f":"(SUM(aem2csp2!$B29,aem2csp2!$C29) * Emissions!AJ12)/1000","v":0},{"$f":"(SUM(aem2csp2!$B29,aem2csp2!$C29) * Emissions!AK12)/1000","v":0},{"$f":"(SUM(aem2csp2!$B29,aem2csp2!$C29) * Emissions!AL12)/1000","v":0},{"$f":"(SUM(aem2csp2!$B29,aem2csp2!$C29) * Emissions!AM12)/1000","v":0},{"$f":"(SUM(aem2csp2!$B29,aem2csp2!$C29) * Emissions!AN12)/1000","v":0},{"$f":"(SUM(aem2csp2!$B29,aem2csp2!$C29) * Emissions!AO12)/1000","v":0},{"$f":"(SUM(aem2csp2!$B29,aem2csp2!$C29) * Emissions!AP12)/1000","v":0},{"$f":"(SUM(aem2csp2!$B29,aem2csp2!$C29) * Emissions!AQ12)/1000","v":0},{"$f":"(SUM(aem2csp2!$B29,aem2csp2!$C29) * Emissions!AR12)/1000","v":0},{"$f":"(SUM(aem2csp2!$B29,aem2csp2!$C29) * Emissions!AS12)/1000","v":0},null,{"$f":"(SUM(aem2csp2!$D29,aem2csp2!$E29) * Emissions!AG12)/1000","v":0},{"$f":"(SUM(aem2csp2!$D29,aem2csp2!$E29) * Emissions!AH12)/1000","v":0},{"$f":"(SUM(aem2csp2!$D29,aem2csp2!$E29) * Emissions!AI12)/1000","v":0},{"$f":"(SUM(aem2csp2!$D29,aem2csp2!$E29) * Emissions!AJ12)/1000","v":0},{"$f":"(SUM(aem2csp2!$D29,aem2csp2!$E29) * Emissions!AK12)/1000","v":0},{"$f":"(SUM(aem2csp2!$D29,aem2csp2!$E29) * Emissions!AL12)/1000","v":0},{"$f":"(SUM(aem2csp2!$D29,aem2csp2!$E29) * Emissions!AM12)/1000","v":0},{"$f":"(SUM(aem2csp2!$D29,aem2csp2!$E29) * Emissions!AN12)/1000","v":0},{"$f":"(SUM(aem2csp2!$D29,aem2csp2!$E29) * Emissions!AO12)/1000","v":0},{"$f":"(SUM(aem2csp2!$D29,aem2csp2!$E29) * Emissions!AP12)/1000","v":0},{"$f":"(SUM(aem2csp2!$D29,aem2csp2!$E29) * Emissions!AQ12)/1000","v":0},{"$f":"(SUM(aem2csp2!$D29,aem2csp2!$E29) * Emissions!AR12)/1000","v":0},{"$f":"(SUM(aem2csp2!$D29,aem2csp2!$E29) * Emissions!AS12)/1000","v":0}]
[737400," Arrival ",63.699622784579397,1515.1764725923999,1434.62521099848,73.651672771986796,73.2676161243173,73.651672771986796,225.413569601414,607223.20021555806,238077.68578974501,9.5834549155592903,38.534198433264002,11.507035591027501,59.624688939850799,null,737400," Departure ",25.335269146960599,481.37011379225203,7899.9954875757003,29.293500828295102,29.1407498682259,29.293500828295102,562.50761467154496,1515293.3096727501,594110.24534554395,26.976540428075001,187.11678231132899,48.7088472985198,262.80217003792302,null,89.034891931539988,1996.5465863846521,9334.620698574181,102.94517360028189,102.4083659925432,102.94517360028189,787.92118427295895,2122516.5098883081,832187.93113528891,36.559995343634291,225.650980744593,60.215882889547302,322.4268589777738,null,0,0,0,0,0,0,0,0,0,0,0,0,0,null,{"$f":"(SUM(aem2csp2!$B30,aem2csp2!$C30) * Emissions!AG13)/1000","v":0},{"$f":"(SUM(aem2csp2!$B30,aem2csp2!$C30) * Emissions!AH13)/1000","v":0},{"$f":"(SUM(aem2csp2!$B30,aem2csp2!$C30) * Emissions!AI13)/1000","v":0},{"$f":"(SUM(aem2csp2!$B30,aem2csp2!$C30) * Emissions!AJ13)/1000","v":0},{"$f":"(SUM(aem2csp2!$B30,aem2csp2!$C30) * Emissions!AK13)/1000","v":0},{"$f":"(SUM(aem2csp2!$B30,aem2csp2!$C30) * Emissions!AL13)/1000","v":0},{"$f":"(SUM(aem2csp2!$B30,aem2csp2!$C30) * Emissions!AM13)/1000","v":0},{"$f":"(SUM(aem2csp2!$B30,aem2csp2!$C30) * Emissions!AN13)/1000","v":0},{"$f":"(SUM(aem2csp2!$B30,aem2csp2!$C30) * Emissions!AO13)/1000","v":0},{"$f":"(SUM(aem2csp2!$B30,aem2csp2!$C30) * Emissions!AP13)/1000","v":0},{"$f":"(SUM(aem2csp2!$B30,aem2csp2!$C30) * Emissions!AQ13)/1000","v":0},{"$f":"(SUM(aem2csp2!$B30,aem2csp2!$C30) * Emissions!AR13)/1000","v":0},{"$f":"(SUM(aem2csp2!$B30,aem2csp2!$C30) * Emissions!AS13)/1000","v":0},null,{"$f":"(SUM(aem2csp2!$D30,aem2csp2!$E30) * Emissions!AG13)/1000","v":0},{"$f":"(SUM(aem2csp2!$D30,aem2csp2!$E30) * Emissions!AH13)/1000","v":0},{"$f":"(SUM(aem2csp2!$D30,aem2csp2!$E30) * Emissions!AI13)/1000","v":0},{"$f":"(SUM(aem2csp2!$D30,aem2csp2!$E30) * Emissions!AJ13)/1000","v":0},{"$f":"(SUM(aem2csp2!$D30,aem2csp2!$E30) * Emissions!AK13)/1000","v":0},{"$f":"(SUM(aem2csp2!$D30,aem2csp2!$E30) * Emissions!AL13)/1000","v":0},{"$f":"(SUM(aem2csp2!$D30,aem2csp2!$E30) * Emissions!AM13)/1000","v":0},{"$f":"(SUM(aem2csp2!$D30,aem2csp2!$E30) * Emissions!AN13)/1000","v":0},{"$f":"(SUM(aem2csp2!$D30,aem2csp2!$E30) * Emissions!AO13)/1000","v":0},{"$f":"(SUM(aem2csp2!$D30,aem2csp2!$E30) * Emissions!AP13)/1000","v":0},{"$f":"(SUM(aem2csp2!$D30,aem2csp2!$E30) * Emissions!AQ13)/1000","v":0},{"$f":"(SUM(aem2csp2!$D30,aem2csp2!$E30) * Emissions!AR13)/1000","v":0},{"$f":"(SUM(aem2csp2!$D30,aem2csp2!$E30) * Emissions!AS13)/1000","v":0}]
[737500," Arrival ",78.7391264037676,1750.60076455175,1276.88321712064,91.040858936551004,90.566126377626304,91.040858936551004,214.608413990419,578116.07423136395,226665.47823270899,9.0994995061929203,35.957632369121598,10.7849273087919,55.842059184106397,null,737500," Departure ",26.1122542113281,496.13283001523502,8141.6235762639399,30.191877415281201,30.0344418704993,30.191877415281201,579.68400962156602,1561563.3968203899,612251.63926048204,27.798439668541299,192.768755865852,50.178086506815603,270.74528204120901,null,104.85138061509571,2246.7335945669852,9418.5067933845803,121.2327363518322,120.6005682481256,121.2327363518322,794.29242361198499,2139679.471051754,838917.11749319104,36.897939174734219,228.7263882349736,60.963013815607503,326.58734122531541,null,0,0,0,0,0,0,0,0,0,0,0,0,0,null,{"$f":"(SUM(aem2csp2!$B31,aem2csp2!$C31) * Emissions!AG14)/1000","v":0},{"$f":"(SUM(aem2csp2!$B31,aem2csp2!$C31) * Emissions!AH14)/1000","v":0},{"$f":"(SUM(aem2csp2!$B31,aem2csp2!$C31) * Emissions!AI14)/1000","v":0},{"$f":"(SUM(aem2csp2!$B31,aem2csp2!$C31) * Emissions!AJ14)/1000","v":0},{"$f":"(SUM(aem2csp2!$B31,aem2csp2!$C31) * Emissions!AK14)/1000","v":0},{"$f":"(SUM(aem2csp2!$B31,aem2csp2!$C31) * Emissions!AL14)/1000","v":0},{"$f":"(SUM(aem2csp2!$B31,aem2csp2!$C31) * Emissions!AM14)/1000","v":0},{"$f":"(SUM(aem2csp2!$B31,aem2csp2!$C31) * Emissions!AN14)/1000","v":0},{"$f":"(SUM(aem2csp2!$B31,aem2csp2!$C31) * Emissions!AO14)/1000","v":0},{"$f":"(SUM(aem2csp2!$B31,aem2csp2!$C31) * Emissions!AP14)/1000","v":0},{"$f":"(SUM(aem2csp2!$B31,aem2csp2!$C31) * Emissions!AQ14)/1000","v":0},{"$f":"(SUM(aem2csp2!$B31,aem2csp2!$C31) * Emissions!AR14)/1000","v":0},{"$f":"(SUM(aem2csp2!$B31,aem2csp2!$C31) * Emissions!AS14)/1000","v":0},null,{"$f":"(SUM(aem2csp2!$D31,aem2csp2!$E31) * Emissions!AG14)/1000","v":0},{"$f":"(SUM(aem2csp2!$D31,aem2csp2!$E31) * Emissions!AH14)/1000","v":0},{"$f":"(SUM(aem2csp2!$D31,aem2csp2!$E31) * Emissions!AI14)/1000","v":0},{"$f":"(SUM(aem2csp2!$D31,aem2csp2!$E31) * Emissions!AJ14)/1000","v":0},{"$f":"(SUM(aem2csp2!$D31,aem2csp2!$E31) * Emissions!AK14)/1000","v":0},{"$f":"(SUM(aem2csp2!$D31,aem2csp2!$E31) * Emissions!AL14)/1000","v":0},{"$f":"(SUM(aem2csp2!$D31,aem2csp2!$E31) * Emissions!AM14)/1000","v":0},{"$f":"(SUM(aem2csp2!$D31,aem2csp2!$E31) * Emissions!AN14)/1000","v":0},{"$f":"(SUM(aem2csp2!$D31,aem2csp2!$E31) * Emissions!AO14)/1000","v":0},{"$f":"(SUM(aem2csp2!$D31,aem2csp2!$E31) * Emissions!AP14)/1000","v":0},{"$f":"(SUM(aem2csp2!$D31,aem2csp2!$E31) * Emissions!AQ14)/1000","v":0},{"$f":"(SUM(aem2csp2!$D31,aem2csp2!$E31) * Emissions!AR14)/1000","v":0},{"$f":"(SUM(aem2csp2!$D31,aem2csp2!$E31) * Emissions!AS14)/1000","v":0}]
[737700," Arrival ",85.736366852191793,1125.1109912074601,1529.2190526233701,99.131306592059104,98.614386393834806,99.131306592059104,220.22682644521899,593251.05655282305,232599.54261674901,9.35435706838817,37.552602172171497,9.18833149864634,56.095290739206,null,737700," Departure ",56.793920134255302,283.96960067127702,12938.679949973999,65.667064235412695,65.324643328957094,65.667064235412695,630.48423165877898,1698409.96489365,665905.903826767,30.2507679053105,211.49544861739199,67.898577825278906,309.64479434798102,null,142.53028698644709,1409.0805918787371,14467.899002597369,164.79837082747179,163.9390297227919,164.79837082747179,850.71105810399797,2291661.021446473,898505.44644351606,39.605124973698672,249.04805078956349,77.086909323925241,365.74008508718703,null,0,0,0,0,0,0,0,0,0,0,0,0,0,null,{"$f":"(SUM(aem2csp2!$B32,aem2csp2!$C32) * Emissions!AG15)/1000","v":0},{"$f":"(SUM(aem2csp2!$B32,aem2csp2!$C32) * Emissions!AH15)/1000","v":0},{"$f":"(SUM(aem2csp2!$B32,aem2csp2!$C32) * Emissions!AI15)/1000","v":0},{"$f":"(SUM(aem2csp2!$B32,aem2csp2!$C32) * Emissions!AJ15)/1000","v":0},{"$f":"(SUM(aem2csp2!$B32,aem2csp2!$C32) * Emissions!AK15)/1000","v":0},{"$f":"(SUM(aem2csp2!$B32,aem2csp2!$C32) * Emissions!AL15)/1000","v":0},{"$f":"(SUM(aem2csp2!$B32,aem2csp2!$C32) * Emissions!AM15)/1000","v":0},{"$f":"(SUM(aem2csp2!$B32,aem2csp2!$C32) * Emissions!AN15)/1000","v":0},{"$f":"(SUM(aem2csp2!$B32,aem2csp2!$C32) * Emissions!AO15)/1000","v":0},{"$f":"(SUM(aem2csp2!$B32,aem2csp2!$C32) * Emissions!AP15)/1000","v":0},{"$f":"(SUM(aem2csp2!$B32,aem2csp2!$C32) * Emissions!AQ15)/1000","v":0},{"$f":"(SUM(aem2csp2!$B32,aem2csp2!$C32) * Emissions!AR15)/1000","v":0},{"$f":"(SUM(aem2csp2!$B32,aem2csp2!$C32) * Emissions!AS15)/1000","v":0},null,{"$f":"(SUM(aem2csp2!$D32,aem2csp2!$E32) * Emissions!AG15)/1000","v":0},{"$f":"(SUM(aem2csp2!$D32,aem2csp2!$E32) * Emissions!AH15)/1000","v":0},{"$f":"(SUM(aem2csp2!$D32,aem2csp2!$E32) * Emissions!AI15)/1000","v":0},{"$f":"(SUM(aem2csp2!$D32,aem2csp2!$E32) * Emissions!AJ15)/1000","v":0},{"$f":"(SUM(aem2csp2!$D32,aem2csp2!$E32) * Emissions!AK15)/1000","v":0},{"$f":"(SUM(aem2csp2!$D32,aem2csp2!$E32) * Emissions!AL15)/1000","v":0},{"$f":"(SUM(aem2csp2!$D32,aem2csp2!$E32) * Emissions!AM15)/1000","v":0},{"$f":"(SUM(aem2csp2!$D32,aem2csp2!$E32) * Emissions!AN15)/1000","v":0},{"$f":"(SUM(aem2csp2!$D32,aem2csp2!$E32) * Emissions!AO15)/1000","v":0},{"$f":"(SUM(aem2csp2!$D32,aem2csp2!$E32) * Emissions!AP15)/1000","v":0},{"$f":"(SUM(aem2csp2!$D32,aem2csp2!$E32) * Emissions!AQ15)/1000","v":0},{"$f":"(SUM(aem2csp2!$D32,aem2csp2!$E32) * Emissions!AR15)/1000","v":0},{"$f":"(SUM(aem2csp2!$D32,aem2csp2!$E32) * Emissions!AS15)/1000","v":0}]
[737800," Arrival ",833.03151212868499,5634.2513747154198,1600.13607692149,963.17939821314201,958.15689924115895,963.17939821314201,268.215658716191,722524.25140845601,283284.46877726098,10.653155936803399,76.071402117122105,6.2567308792057199,92.981288933131296,null,737800," Departure ",28.557693815125099,1040.76928570678,10230.8762171744,33.019377949964301,32.8471984036442,33.019377949964301,704.25674788143897,1897139.7195747399,743823.08498065197,33.649157167081299,230.20296107251801,57.777554232435101,321.629672472035,null,861.58920594381004,6675.0206604222003,11831.01229409589,996.19877616310634,991.0040976448031,996.19877616310634,972.47240659762997,2619663.970983196,1027107.5537579129,44.3023131038847,306.2743631896401,64.034285111640827,414.61096140516628,null,0,0,0,0,0,0,0,0,0,0,0,0,0,null,{"$f":"(SUM(aem2csp2!$B33,aem2csp2!$C33) * Emissions!AG16)/1000","v":0},{"$f":"(SUM(aem2csp2!$B33,aem2csp2!$C33) * Emissions!AH16)/1000","v":0},{"$f":"(SUM(aem2csp2!$B33,aem2csp2!$C33) * Emissions!AI16)/1000","v":0},{"$f":"(SUM(aem2csp2!$B33,aem2csp2!$C33) * Emissions!AJ16)/1000","v":0},{"$f":"(SUM(aem2csp2!$B33,aem2csp2!$C33) * Emissions!AK16)/1000","v":0},{"$f":"(SUM(aem2csp2!$B33,aem2csp2!$C33) * Emissions!AL16)/1000","v":0},{"$f":"(SUM(aem2csp2!$B33,aem2csp2!$C33) * Emissions!AM16)/1000","v":0},{"$f":"(SUM(aem2csp2!$B33,aem2csp2!$C33) * Emissions!AN16)/1000","v":0},{"$f":"(SUM(aem2csp2!$B33,aem2csp2!$C33) * Emissions!AO16)/1000","v":0},{"$f":"(SUM(aem2csp2!$B33,aem2csp2!$C33) * Emissions!AP16)/1000","v":0},{"$f":"(SUM(aem2csp2!$B33,aem2csp2!$C33) * Emissions!AQ16)/1000","v":0},{"$f":"(SUM(aem2csp2!$B33,aem2csp2!$C33) * Emissions!AR16)/1000","v":0},{"$f":"(SUM(aem2csp2!$B33,aem2csp2!$C33) * Emissions!AS16)/1000","v":0},null,{"$f":"(SUM(aem2csp2!$D33,aem2csp2!$E33) * Emissions!AG16)/1000","v":0},{"$f":"(SUM(aem2csp2!$D33,aem2csp2!$E33) * Emissions!AH16)/1000","v":0},{"$f":"(SUM(aem2csp2!$D33,aem2csp2!$E33) * Emissions!AI16)/1000","v":0},{"$f":"(SUM(aem2csp2!$D33,aem2csp2!$E33) * Emissions!AJ16)/1000","v":0},{"$f":"(SUM(aem2csp2!$D33,aem2csp2!$E33) * Emissions!AK16)/1000","v":0},{"$f":"(SUM(aem2csp2!$D33,aem2csp2!$E33) * Emissions!AL16)/1000","v":0},{"$f":"(SUM(aem2csp2!$D33,aem2csp2!$E33) * Emissions!AM16)/1000","v":0},{"$f":"(SUM(aem2csp2!$D33,aem2csp2!$E33) * Emissions!AN16)/1000","v":0},{"$f":"(SUM(aem2csp2!$D33,aem2csp2!$E33) * Emissions!AO16)/1000","v":0},{"$f":"(SUM(aem2csp2!$D33,aem2csp2!$E33) * Emissions!AP16)/1000","v":0},{"$f":"(SUM(aem2csp2!$D33,aem2csp2!$E33) * Emissions!AQ16)/1000","v":0},{"$f":"(SUM(aem2csp2!$D33,aem2csp2!$E33) * Emissions!AR16)/1000","v":0},{"$f":"(SUM(aem2csp2!$D33,aem2csp2!$E33) * Emissions!AS16)/1000","v":0}]
[747100," Arrival ",284.81559689829498,2375.79757550251,5162.0799210086398,329.31349082006801,327.59628562218597,329.31349082006801,841.89691951556597,2267917.3335652398,889196.11461813096,36.481167477430098,165.793210437575,40.504422218401302,242.77880013340601,null,747100," Departure ",511.86603825726598,2059.4904047906598,105909.259374243,591.83694195978705,588.75080822593804,591.83694195978705,4191.6578182407002,11291564.563310601,4427152.2550919903,204.729516343678,1519.7153056637301,390.16671204337302,2114.6115340507799,null,796.68163515556103,4435.2879802931693,111071.33929525164,921.15043277985501,916.34709384812402,921.15043277985501,5033.5547377562661,13559481.89687584,5316348.3697101213,241.21068382110809,1685.5085161013051,430.67113426177434,2357.390334184186,null,0,0,0,0,0,0,0,0,0,0,0,0,0,null,{"$f":"(SUM(aem2csp2!$B34,aem2csp2!$C34) * Emissions!AG17)/1000","v":0},{"$f":"(SUM(aem2csp2!$B34,aem2csp2!$C34) * Emissions!AH17)/1000","v":0},{"$f":"(SUM(aem2csp2!$B34,aem2csp2!$C34) * Emissions!AI17)/1000","v":0},{"$f":"(SUM(aem2csp2!$B34,aem2csp2!$C34) * Emissions!AJ17)/1000","v":0},{"$f":"(SUM(aem2csp2!$B34,aem2csp2!$C34) * Emissions!AK17)/1000","v":0},{"$f":"(SUM(aem2csp2!$B34,aem2csp2!$C34) * Emissions!AL17)/1000","v":0},{"$f":"(SUM(aem2csp2!$B34,aem2csp2!$C34) * Emissions!AM17)/1000","v":0},{"$f":"(SUM(aem2csp2!$B34,aem2csp2!$C34) * Emissions!AN17)/1000","v":0},{"$f":"(SUM(aem2csp2!$B34,aem2csp2!$C34) * Emissions!AO17)/1000","v":0},{"$f":"(SUM(aem2csp2!$B34,aem2csp2!$C34) * Emissions!AP17)/1000","v":0},{"$f":"(SUM(aem2csp2!$B34,aem2csp2!$C34) * Emissions!AQ17)/1000","v":0},{"$f":"(SUM(aem2csp2!$B34,aem2csp2!$C34) * Emissions!AR17)/1000","v":0},{"$f":"(SUM(aem2csp2!$B34,aem2csp2!$C34) * Emissions!AS17)/1000","v":0},null,{"$f":"(SUM(aem2csp2!$D34,aem2csp2!$E34) * Emissions!AG17)/1000","v":0},{"$f":"(SUM(aem2csp2!$D34,aem2csp2!$E34) * Emissions!AH17)/1000","v":0},{"$f":"(SUM(aem2csp2!$D34,aem2csp2!$E34) * Emissions!AI17)/1000","v":0},{"$f":"(SUM(aem2csp2!$D34,aem2csp2!$E34) * Emissions!AJ17)/1000","v":0},{"$f":"(SUM(aem2csp2!$D34,aem2csp2!$E34) * Emissions!AK17)/1000","v":0},{"$f":"(SUM(aem2csp2!$D34,aem2csp2!$E34) * Emissions!AL17)/1000","v":0},{"$f":"(SUM(aem2csp2!$D34,aem2csp2!$E34) * Emissions!AM17)/1000","v":0},{"$f":"(SUM(aem2csp2!$D34,aem2csp2!$E34) * Emissions!AN17)/1000","v":0},{"$f":"(SUM(aem2csp2!$D34,aem2csp2!$E34) * Emissions!AO17)/1000","v":0},{"$f":"(SUM(aem2csp2!$D34,aem2csp2!$E34) * Emissions!AP17)/1000","v":0},{"$f":"(SUM(aem2csp2!$D34,aem2csp2!$E34) * Emissions!AQ17)/1000","v":0},{"$f":"(SUM(aem2csp2!$D34,aem2csp2!$E34) * Emissions!AR17)/1000","v":0},{"$f":"(SUM(aem2csp2!$D34,aem2csp2!$E34) * Emissions!AS17)/1000","v":0}]
[747200," Arrival ",5517.49792672689,15244.580912855101,5947.4641069789104,6379.5189681685397,6346.2529665090196,6379.5189681685397,923.438849691261,2487576.4777799901,975319.208562235,38.310816456547798,172.91287507931801,40.553923155319502,251.77761469118499,null,747200," Departure ",417.603088242627,0.45447513529598399,126525.23098567501,482.84690959367703,480.3291043836,482.84690959367703,4549.3541103587304,12255133.3830104,4804944.5308348304,213.15316204776599,1376.9039510796799,448.69356289112801,2038.7506760185699,null,5935.1010149695167,15245.035387990398,132472.69509265391,6862.3658777622168,6826.5820708926194,6862.3658777622168,5472.7929600499911,14742709.860790391,5780263.7393970657,251.46397850431379,1549.8168261589979,489.24748604644753,2290.5282907097549,null,0,0,0,0,0,0,0,0,0,0,0,0,0,null,{"$f":"(SUM(aem2csp2!$B35,aem2csp2!$C35) * Emissions!AG18)/1000","v":0},{"$f":"(SUM(aem2csp2!$B35,aem2csp2!$C35) * Emissions!AH18)/1000","v":0},{"$f":"(SUM(aem2csp2!$B35,aem2csp2!$C35) * Emissions!AI18)/1000","v":0},{"$f":"(SUM(aem2csp2!$B35,aem2csp2!$C35) * Emissions!AJ18)/1000","v":0},{"$f":"(SUM(aem2csp2!$B35,aem2csp2!$C35) * Emissions!AK18)/1000","v":0},{"$f":"(SUM(aem2csp2!$B35,aem2csp2!$C35) * Emissions!AL18)/1000","v":0},{"$f":"(SUM(aem2csp2!$B35,aem2csp2!$C35) * Emissions!AM18)/1000","v":0},{"$f":"(SUM(aem2csp2!$B35,aem2csp2!$C35) * Emissions!AN18)/1000","v":0},{"$f":"(SUM(aem2csp2!$B35,aem2csp2!$C35) * Emissions!AO18)/1000","v":0},{"$f":"(SUM(aem2csp2!$B35,aem2csp2!$C35) * Emissions!AP18)/1000","v":0},{"$f":"(SUM(aem2csp2!$B35,aem2csp2!$C35) * Emissions!AQ18)/1000","v":0},{"$f":"(SUM(aem2csp2!$B35,aem2csp2!$C35) * Emissions!AR18)/1000","v":0},{"$f":"(SUM(aem2csp2!$B35,aem2csp2!$C35) * Emissions!AS18)/1000","v":0},null,{"$f":"(SUM(aem2csp2!$D35,aem2csp2!$E35) * Emissions!AG18)/1000","v":0},{"$f":"(SUM(aem2csp2!$D35,aem2csp2!$E35) * Emissions!AH18)/1000","v":0},{"$f":"(SUM(aem2csp2!$D35,aem2csp2!$E35) * Emissions!AI18)/1000","v":0},{"$f":"(SUM(aem2csp2!$D35,aem2csp2!$E35) * Emissions!AJ18)/1000","v":0},{"$f":"(SUM(aem2csp2!$D35,aem2csp2!$E35) * Emissions!AK18)/1000","v":0},{"$f":"(SUM(aem2csp2!$D35,aem2csp2!$E35) * Emissions!AL18)/1000","v":0},{"$f":"(SUM(aem2csp2!$D35,aem2csp2!$E35) * Emissions!AM18)/1000","v":0},{"$f":"(SUM(aem2csp2!$D35,aem2csp2!$E35) * Emissions!AN18)/1000","v":0},{"$f":"(SUM(aem2csp2!$D35,aem2csp2!$E35) * Emissions!AO18)/1000","v":0},{"$f":"(SUM(aem2csp2!$D35,aem2csp2!$E35) * Emissions!AP18)/1000","v":0},{"$f":"(SUM(aem2csp2!$D35,aem2csp2!$E35) * Emissions!AQ18)/1000","v":0},{"$f":"(SUM(aem2csp2!$D35,aem2csp2!$E35) * Emissions!AR18)/1000","v":0},{"$f":"(SUM(aem2csp2!$D35,aem2csp2!$E35) * Emissions!AS18)/1000","v":0}]
[747400," Arrival ",253.22850276219901,3448.2065182450901,7863.7799398730403,292.79141707094601,291.26465622662897,292.79141707094601,940.67447726451098,2534006.1268524001,993523.16288951598,40.377816855235999,173.899499677432,42.3940854323765,256.67140196504499,null,747400," Departure ",113.96655335307899,1644.374555523,80067.950077675705,131.77200943400501,131.084884290812,131.77200943400501,3625.63613943984,9766805.0033578295,3829330.5195415602,169.73575075939999,1081.3336371207699,295.61542891308,1546.6848167932501,null,367.19505611527802,5092.5810737680904,87931.730017548747,424.56342650495105,422.34954051744097,424.56342650495105,4566.3106167043507,12300811.13021023,4822853.6824310757,210.113567614636,1255.2331367982019,338.00951434545652,1803.3562187582952,null,0,0,0,0,0,0,0,0,0,0,0,0,0,null,{"$f":"(SUM(aem2csp2!$B36,aem2csp2!$C36) * Emissions!AG19)/1000","v":0},{"$f":"(SUM(aem2csp2!$B36,aem2csp2!$C36) * Emissions!AH19)/1000","v":0},{"$f":"(SUM(aem2csp2!$B36,aem2csp2!$C36) * Emissions!AI19)/1000","v":0},{"$f":"(SUM(aem2csp2!$B36,aem2csp2!$C36) * Emissions!AJ19)/1000","v":0},{"$f":"(SUM(aem2csp2!$B36,aem2csp2!$C36) * Emissions!AK19)/1000","v":0},{"$f":"(SUM(aem2csp2!$B36,aem2csp2!$C36) * Emissions!AL19)/1000","v":0},{"$f":"(SUM(aem2csp2!$B36,aem2csp2!$C36) * Emissions!AM19)/1000","v":0},{"$f":"(SUM(aem2csp2!$B36,aem2csp2!$C36) * Emissions!AN19)/1000","v":0},{"$f":"(SUM(aem2csp2!$B36,aem2csp2!$C36) * Emissions!AO19)/1000","v":0},{"$f":"(SUM(aem2csp2!$B36,aem2csp2!$C36) * Emissions!AP19)/1000","v":0},{"$f":"(SUM(aem2csp2!$B36,aem2csp2!$C36) * Emissions!AQ19)/1000","v":0},{"$f":"(SUM(aem2csp2!$B36,aem2csp2!$C36) * Emissions!AR19)/1000","v":0},{"$f":"(SUM(aem2csp2!$B36,aem2csp2!$C36) * Emissions!AS19)/1000","v":0},null,{"$f":"(SUM(aem2csp2!$D36,aem2csp2!$E36) * Emissions!AG19)/1000","v":0},{"$f":"(SUM(aem2csp2!$D36,aem2csp2!$E36) * Emissions!AH19)/1000","v":0},{"$f":"(SUM(aem2csp2!$D36,aem2csp2!$E36) * Emissions!AI19)/1000","v":0},{"$f":"(SUM(aem2csp2!$D36,aem2csp2!$E36) * Emissions!AJ19)/1000","v":0},{"$f":"(SUM(aem2csp2!$D36,aem2csp2!$E36) * Emissions!AK19)/1000","v":0},{"$f":"(SUM(aem2csp2!$D36,aem2csp2!$E36) * Emissions!AL19)/1000","v":0},{"$f":"(SUM(aem2csp2!$D36,aem2csp2!$E36) * Emissions!AM19)/1000","v":0},{"$f":"(SUM(aem2csp2!$D36,aem2csp2!$E36) * Emissions!AN19)/1000","v":0},{"$f":"(SUM(aem2csp2!$D36,aem2csp2!$E36) * Emissions!AO19)/1000","v":0},{"$f":"(SUM(aem2csp2!$D36,aem2csp2!$E36) * Emissions!AP19)/1000","v":0},{"$f":"(SUM(aem2csp2!$D36,aem2csp2!$E36) * Emissions!AQ19)/1000","v":0},{"$f":"(SUM(aem2csp2!$D36,aem2csp2!$E36) * Emissions!AR19)/1000","v":0},{"$f":"(SUM(aem2csp2!$D36,aem2csp2!$E36) * Emissions!AS19)/1000","v":0}]
[757300," Arrival ",29.950883661593899,2429.7120144229798,3114.4103205495899,34.630231487172601,34.449652145082801,34.630231487172601,473.20585672028801,1274730.5993447001,499791.36335638299,19.302488473093501,56.111769454087103,17.869956270637399,93.284214197817903,null,757300," Departure ",35.251075877176298,341.74315136023301,18910.944025629698,40.758494193073801,40.545959025103997,40.758494193073801,1084.6221558684799,2921775.0185835599,1145558.06592325,51.9412084637612,359.19872410887399,159.100859041136,570.24079161377199,null,65.201959538770197,2771.4551657832126,22025.354346179287,75.388725680246409,74.995611170186805,75.388725680246409,1557.8280125887679,4196505.61792826,1645349.4292796331,71.243696936854704,415.31049356296108,176.97081531177341,663.52500581158984,null,0,0,0,0,0,0,0,0,0,0,0,0,0,null,{"$f":"(SUM(aem2csp2!$B37,aem2csp2!$C37) * Emissions!AG20)/1000","v":0},{"$f":"(SUM(aem2csp2!$B37,aem2csp2!$C37) * Emissions!AH20)/1000","v":0},{"$f":"(SUM(aem2csp2!$B37,aem2csp2!$C37) * Emissions!AI20)/1000","v":0},{"$f":"(SUM(aem2csp2!$B37,aem2csp2!$C37) * Emissions!AJ20)/1000","v":0},{"$f":"(SUM(aem2csp2!$B37,aem2csp2!$C37) * Emissions!AK20)/1000","v":0},{"$f":"(SUM(aem2csp2!$B37,aem2csp2!$C37) * Emissions!AL20)/1000","v":0},{"$f":"(SUM(aem2csp2!$B37,aem2csp2!$C37) * Emissions!AM20)/1000","v":0},{"$f":"(SUM(aem2csp2!$B37,aem2csp2!$C37) * Emissions!AN20)/1000","v":0},{"$f":"(SUM(aem2csp2!$B37,aem2csp2!$C37) * Emissions!AO20)/1000","v":0},{"$f":"(SUM(aem2csp2!$B37,aem2csp2!$C37) * Emissions!AP20)/1000","v":0},{"$f":"(SUM(aem2csp2!$B37,aem2csp2!$C37) * Emissions!AQ20)/1000","v":0},{"$f":"(SUM(aem2csp2!$B37,aem2csp2!$C37) * Emissions!AR20)/1000","v":0},{"$f":"(SUM(aem2csp2!$B37,aem2csp2!$C37) * Emissions!AS20)/1000","v":0},null,{"$f":"(SUM(aem2csp2!$D37,aem2csp2!$E37) * Emissions!AG20)/1000","v":0},{"$f":"(SUM(aem2csp2!$D37,aem2csp2!$E37) * Emissions!AH20)/1000","v":0},{"$f":"(SUM(aem2csp2!$D37,aem2csp2!$E37) * Emissions!AI20)/1000","v":0},{"$f":"(SUM(aem2csp2!$D37,aem2csp2!$E37) * Emissions!AJ20)/1000","v":0},{"$f":"(SUM(aem2csp2!$D37,aem2csp2!$E37) * Emissions!AK20)/1000","v":0},{"$f":"(SUM(aem2csp2!$D37,aem2csp2!$E37) * Emissions!AL20)/1000","v":0},{"$f":"(SUM(aem2csp2!$D37,aem2csp2!$E37) * Emissions!AM20)/1000","v":0},{"$f":"(SUM(aem2csp2!$D37,aem2csp2!$E37) * Emissions!AN20)/1000","v":0},{"$f":"(SUM(aem2csp2!$D37,aem2csp2!$E37) * Emissions!AO20)/1000","v":0},{"$f":"(SUM(aem2csp2!$D37,aem2csp2!$E37) * Emissions!AP20)/1000","v":0},{"$f":"(SUM(aem2csp2!$D37,aem2csp2!$E37) * Emissions!AQ20)/1000","v":0},{"$f":"(SUM(aem2csp2!$D37,aem2csp2!$E37) * Emissions!AR20)/1000","v":0},{"$f":"(SUM(aem2csp2!$D37,aem2csp2!$E37) * Emissions!AS20)/1000","v":0}]
[767300," Arrival ",174.601237219659,2165.7843482067601,3365.67418508333,201.879895470896,200.82719275596301,201.879895470896,426.37058698737599,1148564.89237122,450324.80883144197,17.5599924089654,57.0508263405981,13.6806601694754,88.291478919038894,null,767300," Departure ",78.894318121790207,534.05384574750303,31846.532951985999,91.220296885051496,90.744628646944406,91.220296885051496,1349.6242127011401,3635642.4104099199,1425448.3872193601,61.891766298249301,366.74353262322802,103.725977991661,532.361276913138,null,253.4955553414492,2699.8381939542633,35212.20713706933,293.10019235594751,291.5718214029074,293.10019235594751,1775.9947996885162,4784207.3027811404,1875773.196050802,79.451758707214708,423.79435896382614,117.4066381611364,620.65275583217692,null,0,0,0,0,0,0,0,0,0,0,0,0,0,null,{"$f":"(SUM(aem2csp2!$B38,aem2csp2!$C38) * Emissions!AG21)/1000","v":0},{"$f":"(SUM(aem2csp2!$B38,aem2csp2!$C38) * Emissions!AH21)/1000","v":0},{"$f":"(SUM(aem2csp2!$B38,aem2csp2!$C38) * Emissions!AI21)/1000","v":0},{"$f":"(SUM(aem2csp2!$B38,aem2csp2!$C38) * Emissions!AJ21)/1000","v":0},{"$f":"(SUM(aem2csp2!$B38,aem2csp2!$C38) * Emissions!AK21)/1000","v":0},{"$f":"(SUM(aem2csp2!$B38,aem2csp2!$C38) * Emissions!AL21)/1000","v":0},{"$f":"(SUM(aem2csp2!$B38,aem2csp2!$C38) * Emissions!AM21)/1000","v":0},{"$f":"(SUM(aem2csp2!$B38,aem2csp2!$C38) * Emissions!AN21)/1000","v":0},{"$f":"(SUM(aem2csp2!$B38,aem2csp2!$C38) * Emissions!AO21)/1000","v":0},{"$f":"(SUM(aem2csp2!$B38,aem2csp2!$C38) * Emissions!AP21)/1000","v":0},{"$f":"(SUM(aem2csp2!$B38,aem2csp2!$C38) * Emissions!AQ21)/1000","v":0},{"$f":"(SUM(aem2csp2!$B38,aem2csp2!$C38) * Emissions!AR21)/1000","v":0},{"$f":"(SUM(aem2csp2!$B38,aem2csp2!$C38) * Emissions!AS21)/1000","v":0},null,{"$f":"(SUM(aem2csp2!$D38,aem2csp2!$E38) * Emissions!AG21)/1000","v":0},{"$f":"(SUM(aem2csp2!$D38,aem2csp2!$E38) * Emissions!AH21)/1000","v":0},{"$f":"(SUM(aem2csp2!$D38,aem2csp2!$E38) * Emissions!AI21)/1000","v":0},{"$f":"(SUM(aem2csp2!$D38,aem2csp2!$E38) * Emissions!AJ21)/1000","v":0},{"$f":"(SUM(aem2csp2!$D38,aem2csp2!$E38) * Emissions!AK21)/1000","v":0},{"$f":"(SUM(aem2csp2!$D38,aem2csp2!$E38) * Emissions!AL21)/1000","v":0},{"$f":"(SUM(aem2csp2!$D38,aem2csp2!$E38) * Emissions!AM21)/1000","v":0},{"$f":"(SUM(aem2csp2!$D38,aem2csp2!$E38) * Emissions!AN21)/1000","v":0},{"$f":"(SUM(aem2csp2!$D38,aem2csp2!$E38) * Emissions!AO21)/1000","v":0},{"$f":"(SUM(aem2csp2!$D38,aem2csp2!$E38) * Emissions!AP21)/1000","v":0},{"$f":"(SUM(aem2csp2!$D38,aem2csp2!$E38) * Emissions!AQ21)/1000","v":0},{"$f":"(SUM(aem2csp2!$D38,aem2csp2!$E38) * Emissions!AR21)/1000","v":0},{"$f":"(SUM(aem2csp2!$D38,aem2csp2!$E38) * Emissions!AS21)/1000","v":0}]
[767400," Arrival ",166.902391167632,2287.2954165208998,3879.4643502039198,192.97822752753299,191.97194256009101,192.97822752753299,442.59021676168902,1192257.62797398,467455.68488235102,17.554201408726701,38.745557608434801,9.1727793269549895,65.472538344116501,null,767400," Departure ",62.8442829328391,56.872426474748799,27234.490930976201,72.662699711938103,72.283800064290205,72.662699711938103,1395.47580933631,3759158.2807855601,1473876.00422559,65.395085065663395,418.780967927853,120.264741455289,604.44079444880504,null,229.7466741004711,2344.1678429956487,31113.955281180119,265.64092723947113,264.25574262438124,265.64092723947113,1838.0660260979989,4951415.9087595399,1941331.689107941,82.949286474390092,457.52652553628781,129.43752078224398,669.91333279292155,null,0,0,0,0,0,0,0,0,0,0,0,0,0,null,{"$f":"(SUM(aem2csp2!$B39,aem2csp2!$C39) * Emissions!AG22)/1000","v":0},{"$f":"(SUM(aem2csp2!$B39,aem2csp2!$C39) * Emissions!AH22)/1000","v":0},{"$f":"(SUM(aem2csp2!$B39,aem2csp2!$C39) * Emissions!AI22)/1000","v":0},{"$f":"(SUM(aem2csp2!$B39,aem2csp2!$C39) * Emissions!AJ22)/1000","v":0},{"$f":"(SUM(aem2csp2!$B39,aem2csp2!$C39) * Emissions!AK22)/1000","v":0},{"$f":"(SUM(aem2csp2!$B39,aem2csp2!$C39) * Emissions!AL22)/1000","v":0},{"$f":"(SUM(aem2csp2!$B39,aem2csp2!$C39) * Emissions!AM22)/1000","v":0},{"$f":"(SUM(aem2csp2!$B39,aem2csp2!$C39) * Emissions!AN22)/1000","v":0},{"$f":"(SUM(aem2csp2!$B39,aem2csp2!$C39) * Emissions!AO22)/1000","v":0},{"$f":"(SUM(aem2csp2!$B39,aem2csp2!$C39) * Emissions!AP22)/1000","v":0},{"$f":"(SUM(aem2csp2!$B39,aem2csp2!$C39) * Emissions!AQ22)/1000","v":0},{"$f":"(SUM(aem2csp2!$B39,aem2csp2!$C39) * Emissions!AR22)/1000","v":0},{"$f":"(SUM(aem2csp2!$B39,aem2csp2!$C39) * Emissions!AS22)/1000","v":0},null,{"$f":"(SUM(aem2csp2!$D39,aem2csp2!$E39) * Emissions!AG22)/1000","v":0},{"$f":"(SUM(aem2csp2!$D39,aem2csp2!$E39) * Emissions!AH22)/1000","v":0},{"$f":"(SUM(aem2csp2!$D39,aem2csp2!$E39) * Emissions!AI22)/1000","v":0},{"$f":"(SUM(aem2csp2!$D39,aem2csp2!$E39) * Emissions!AJ22)/1000","v":0},{"$f":"(SUM(aem2csp2!$D39,aem2csp2!$E39) * Emissions!AK22)/1000","v":0},{"$f":"(SUM(aem2csp2!$D39,aem2csp2!$E39) * Emissions!AL22)/1000","v":0},{"$f":"(SUM(aem2csp2!$D39,aem2csp2!$E39) * Emissions!AM22)/1000","v":0},{"$f":"(SUM(aem2csp2!$D39,aem2csp2!$E39) * Emissions!AN22)/1000","v":0},{"$f":"(SUM(aem2csp2!$D39,aem2csp2!$E39) * Emissions!AO22)/1000","v":0},{"$f":"(SUM(aem2csp2!$D39,aem2csp2!$E39) * Emissions!AP22)/1000","v":0},{"$f":"(SUM(aem2csp2!$D39,aem2csp2!$E39) * Emissions!AQ22)/1000","v":0},{"$f":"(SUM(aem2csp2!$D39,aem2csp2!$E39) * Emissions!AR22)/1000","v":0},{"$f":"(SUM(aem2csp2!$D39,aem2csp2!$E39) * Emissions!AS22)/1000","v":0}]
[777200," Arrival ",98.028450200045398,2856.3780041525501,6977.5615747717202,113.34383189199301,112.752800480593,113.34383189199301,634.20925627133101,1708444.50438529,669840.20663220296,25.8686039641149,75.162865212567795,27.023605813086899,128.05507498976999,null,777200," Departure ",79.983960934528,268.05037365828298,78018.859717201005,92.480179006387203,91.997941112958401,92.480179006387203,2199.74591749295,5925715.8211153196,2323331.3694832502,106.751481551526,768.167605579981,201.23001579611201,1076.1491029276201,null,178.0124111345734,3124.4283778108329,84996.421291972729,205.82401089838021,204.7507415935514,205.82401089838021,2833.955173764281,7634160.3255006094,2993171.5761154532,132.62008551564091,843.33047079254879,228.25362160919892,1204.2041779173901,null,0,0,0,0,0,0,0,0,0,0,0,0,0,null,{"$f":"(SUM(aem2csp2!$B40,aem2csp2!$C40) * Emissions!AG23)/1000","v":0},{"$f":"(SUM(aem2csp2!$B40,aem2csp2!$C40) * Emissions!AH23)/1000","v":0},{"$f":"(SUM(aem2csp2!$B40,aem2csp2!$C40) * Emissions!AI23)/1000","v":0},{"$f":"(SUM(aem2csp2!$B40,aem2csp2!$C40) * Emissions!AJ23)/1000","v":0},{"$f":"(SUM(aem2csp2!$B40,aem2csp2!$C40) * Emissions!AK23)/1000","v":0},{"$f":"(SUM(aem2csp2!$B40,aem2csp2!$C40) * Emissions!AL23)/1000","v":0},{"$f":"(SUM(aem2csp2!$B40,aem2csp2!$C40) * Emissions!AM23)/1000","v":0},{"$f":"(SUM(aem2csp2!$B40,aem2csp2!$C40) * Emissions!AN23)/1000","v":0},{"$f":"(SUM(aem2csp2!$B40,aem2csp2!$C40) * Emissions!AO23)/1000","v":0},{"$f":"(SUM(aem2csp2!$B40,aem2csp2!$C40) * Emissions!AP23)/1000","v":0},{"$f":"(SUM(aem2csp2!$B40,aem2csp2!$C40) * Emissions!AQ23)/1000","v":0},{"$f":"(SUM(aem2csp2!$B40,aem2csp2!$C40) * Emissions!AR23)/1000","v":0},{"$f":"(SUM(aem2csp2!$B40,aem2csp2!$C40) * Emissions!AS23)/1000","v":0},null,{"$f":"(SUM(aem2csp2!$D40,aem2csp2!$E40) * Emissions!AG23)/1000","v":0},{"$f":"(SUM(aem2csp2!$D40,aem2csp2!$E40) * Emissions!AH23)/1000","v":0},{"$f":"(SUM(aem2csp2!$D40,aem2csp2!$E40) * Emissions!AI23)/1000","v":0},{"$f":"(SUM(aem2csp2!$D40,aem2csp2!$E40) * Emissions!AJ23)/1000","v":0},{"$f":"(SUM(aem2csp2!$D40,aem2csp2!$E40) * Emissions!AK23)/1000","v":0},{"$f":"(SUM(aem2csp2!$D40,aem2csp2!$E40) * Emissions!AL23)/1000","v":0},{"$f":"(SUM(aem2csp2!$D40,aem2csp2!$E40) * Emissions!AM23)/1000","v":0},{"$f":"(SUM(aem2csp2!$D40,aem2csp2!$E40) * Emissions!AN23)/1000","v":0},{"$f":"(SUM(aem2csp2!$D40,aem2csp2!$E40) * Emissions!AO23)/1000","v":0},{"$f":"(SUM(aem2csp2!$D40,aem2csp2!$E40) * Emissions!AP23)/1000","v":0},{"$f":"(SUM(aem2csp2!$D40,aem2csp2!$E40) * Emissions!AQ23)/1000","v":0},{"$f":"(SUM(aem2csp2!$D40,aem2csp2!$E40) * Emissions!AR23)/1000","v":0},{"$f":"(SUM(aem2csp2!$D40,aem2csp2!$E40) * Emissions!AS23)/1000","v":0}]
[777300," Arrival ",78.277957037610804,1853.6637039872201,5553.2081695901998,90.507639213044797,90.035687128368394,90.507639213044797,644.70033346827802,1736705.5601882001,680920.69031784497,25.377624308246101,47.695118482825301,19.707036130898999,92.779778921970305,null,777300," Departure ",7.1821728139354901,489.80323582298303,60269.097554728804,8.3042727532743505,8.2609701230023997,8.3042727532743505,2114.1618491016702,5695167.8909799997,2232939.0431512701,101.79901891850101,711.54221174679105,192.98051523785199,1006.32174590314,null,85.460129851546299,2343.4669398102033,65822.305724318998,98.811911966319144,98.296657251370789,98.811911966319144,2758.8621825699483,7431873.4511682,2913859.7334691151,127.1766432267471,759.2373302296163,212.68755136875097,1099.1015248251103,null,0,0,0,0,0,0,0,0,0,0,0,0,0,null,{"$f":"(SUM(aem2csp2!$B41,aem2csp2!$C41) * Emissions!AG24)/1000","v":0},{"$f":"(SUM(aem2csp2!$B41,aem2csp2!$C41) * Emissions!AH24)/1000","v":0},{"$f":"(SUM(aem2csp2!$B41,aem2csp2!$C41) * Emissions!AI24)/1000","v":0},{"$f":"(SUM(aem2csp2!$B41,aem2csp2!$C41) * Emissions!AJ24)/1000","v":0},{"$f":"(SUM(aem2csp2!$B41,aem2csp2!$C41) * Emissions!AK24)/1000","v":0},{"$f":"(SUM(aem2csp2!$B41,aem2csp2!$C41) * Emissions!AL24)/1000","v":0},{"$f":"(SUM(aem2csp2!$B41,aem2csp2!$C41) * Emissions!AM24)/1000","v":0},{"$f":"(SUM(aem2csp2!$B41,aem2csp2!$C41) * Emissions!AN24)/1000","v":0},{"$f":"(SUM(aem2csp2!$B41,aem2csp2!$C41) * Emissions!AO24)/1000","v":0},{"$f":"(SUM(aem2csp2!$B41,aem2csp2!$C41) * Emissions!AP24)/1000","v":0},{"$f":"(SUM(aem2csp2!$B41,aem2csp2!$C41) * Emissions!AQ24)/1000","v":0},{"$f":"(SUM(aem2csp2!$B41,aem2csp2!$C41) * Emissions!AR24)/1000","v":0},{"$f":"(SUM(aem2csp2!$B41,aem2csp2!$C41) * Emissions!AS24)/1000","v":0},null,{"$f":"(SUM(aem2csp2!$D41,aem2csp2!$E41) * Emissions!AG24)/1000","v":0},{"$f":"(SUM(aem2csp2!$D41,aem2csp2!$E41) * Emissions!AH24)/1000","v":0},{"$f":"(SUM(aem2csp2!$D41,aem2csp2!$E41) * Emissions!AI24)/1000","v":0},{"$f":"(SUM(aem2csp2!$D41,aem2csp2!$E41) * Emissions!AJ24)/1000","v":0},{"$f":"(SUM(aem2csp2!$D41,aem2csp2!$E41) * Emissions!AK24)/1000","v":0},{"$f":"(SUM(aem2csp2!$D41,aem2csp2!$E41) * Emissions!AL24)/1000","v":0},{"$f":"(SUM(aem2csp2!$D41,aem2csp2!$E41) * Emissions!AM24)/1000","v":0},{"$f":"(SUM(aem2csp2!$D41,aem2csp2!$E41) * Emissions!AN24)/1000","v":0},{"$f":"(SUM(aem2csp2!$D41,aem2csp2!$E41) * Emissions!AO24)/1000","v":0},{"$f":"(SUM(aem2csp2!$D41,aem2csp2!$E41) * Emissions!AP24)/1000","v":0},{"$f":"(SUM(aem2csp2!$D41,aem2csp2!$E41) * Emissions!AQ24)/1000","v":0},{"$f":"(SUM(aem2csp2!$D41,aem2csp2!$E41) * Emissions!AR24)/1000","v":0},{"$f":"(SUM(aem2csp2!$D41,aem2csp2!$E41) * Emissions!AS24)/1000","v":0}]
["1900D "," Arrival ",147.87073880531401,923.55812046250799,191.026673932808,170.97318305748999,170.08164339443701,170.97318305748999,49.357809156674101,132960.969850842,52130.814486685304,2.30337995246063,18.619379819982498,8.6505933473595107,29.573353119802601,null,"1900D "," Departure ",177.23012248910501,1200.61051548914,328.12340872658001,204.919502130344,203.85094938648501,204.919502130344,78.144773165632898,210507.82047265401,82535.078898469903,4.3147916177522996,42.920846504206601,14.9786662586953,62.214304380654198,null,325.10086129441902,2124.168635951648,519.15008265938798,375.89268518783399,373.93259278092205,375.89268518783399,127.50258232230701,343468.79032349598,134665.89338515521,6.6181715702129296,61.540226324189099,23.629259606054809,91.787657500456802,null,0,0,0,0,0,0,0,0,0,0,0,0,0,null,{"$f":"(SUM(aem2csp2!$B42,aem2csp2!$C42) * Emissions!AG25)/1000","v":0},{"$f":"(SUM(aem2csp2!$B42,aem2csp2!$C42) * Emissions!AH25)/1000","v":0},{"$f":"(SUM(aem2csp2!$B42,aem2csp2!$C42) * Emissions!AI25)/1000","v":0},{"$f":"(SUM(aem2csp2!$B42,aem2csp2!$C42) * Emissions!AJ25)/1000","v":0},{"$f":"(SUM(aem2csp2!$B42,aem2csp2!$C42) * Emissions!AK25)/1000","v":0},{"$f":"(SUM(aem2csp2!$B42,aem2csp2!$C42) * Emissions!AL25)/1000","v":0},{"$f":"(SUM(aem2csp2!$B42,aem2csp2!$C42) * Emissions!AM25)/1000","v":0},{"$f":"(SUM(aem2csp2!$B42,aem2csp2!$C42) * Emissions!AN25)/1000","v":0},{"$f":"(SUM(aem2csp2!$B42,aem2csp2!$C42) * Emissions!AO25)/1000","v":0},{"$f":"(SUM(aem2csp2!$B42,aem2csp2!$C42) * Emissions!AP25)/1000","v":0},{"$f":"(SUM(aem2csp2!$B42,aem2csp2!$C42) * Emissions!AQ25)/1000","v":0},{"$f":"(SUM(aem2csp2!$B42,aem2csp2!$C42) * Emissions!AR25)/1000","v":0},{"$f":"(SUM(aem2csp2!$B42,aem2csp2!$C42) * Emissions!AS25)/1000","v":0},null,{"$f":"(SUM(aem2csp2!$D42,aem2csp2!$E42) * Emissions!AG25)/1000","v":0},{"$f":"(SUM(aem2csp2!$D42,aem2csp2!$E42) * Emissions!AH25)/1000","v":0},{"$f":"(SUM(aem2csp2!$D42,aem2csp2!$E42) * Emissions!AI25)/1000","v":0},{"$f":"(SUM(aem2csp2!$D42,aem2csp2!$E42) * Emissions!AJ25)/1000","v":0},{"$f":"(SUM(aem2csp2!$D42,aem2csp2!$E42) * Emissions!AK25)/1000","v":0},{"$f":"(SUM(aem2csp2!$D42,aem2csp2!$E42) * Emissions!AL25)/1000","v":0},{"$f":"(SUM(aem2csp2!$D42,aem2csp2!$E42) * Emissions!AM25)/1000","v":0},{"$f":"(SUM(aem2csp2!$D42,aem2csp2!$E42) * Emissions!AN25)/1000","v":0},{"$f":"(SUM(aem2csp2!$D42,aem2csp2!$E42) * Emissions!AO25)/1000","v":0},{"$f":"(SUM(aem2csp2!$D42,aem2csp2!$E42) * Emissions!AP25)/1000","v":0},{"$f":"(SUM(aem2csp2!$D42,aem2csp2!$E42) * Emissions!AQ25)/1000","v":0},{"$f":"(SUM(aem2csp2!$D42,aem2csp2!$E42) * Emissions!AR25)/1000","v":0},{"$f":"(SUM(aem2csp2!$D42,aem2csp2!$E42) * Emissions!AS25)/1000","v":0}]
["707QN "," Arrival ",0,0,0,0,0,0,566.04231756412605,1524815.15703109,597843.533834378,23.186034584021201,46.535661912482901,17.219585895034498,86.941282391538607,null,"707QN "," Departure ",0,0,0,0,0,0,2336.79511870236,6294901.4681574004,2468080.2269764501,110.90141910839699,623.63219773242497,184.38922786052501,918.92284470134803,null,0,0,0,0,0,0,2902.8374362664863,7819716.6251884904,3065923.7608108278,134.08745369241819,670.16785964490782,201.60881375555951,1005.8641270928866,null,0,0,0,0,0,0,0,0,0,0,0,0,0,null,{"$f":"(SUM(aem2csp2!$B43,aem2csp2!$C43) * Emissions!AG26)/1000","v":0},{"$f":"(SUM(aem2csp2!$B43,aem2csp2!$C43) * Emissions!AH26)/1000","v":0},{"$f":"(SUM(aem2csp2!$B43,aem2csp2!$C43) * Emissions!AI26)/1000","v":0},{"$f":"(SUM(aem2csp2!$B43,aem2csp2!$C43) * Emissions!AJ26)/1000","v":0},{"$f":"(SUM(aem2csp2!$B43,aem2csp2!$C43) * Emissions!AK26)/1000","v":0},{"$f":"(SUM(aem2csp2!$B43,aem2csp2!$C43) * Emissions!AL26)/1000","v":0},{"$f":"(SUM(aem2csp2!$B43,aem2csp2!$C43) * Emissions!AM26)/1000","v":0},{"$f":"(SUM(aem2csp2!$B43,aem2csp2!$C43) * Emissions!AN26)/1000","v":0},{"$f":"(SUM(aem2csp2!$B43,aem2csp2!$C43) * Emissions!AO26)/1000","v":0},{"$f":"(SUM(aem2csp2!$B43,aem2csp2!$C43) * Emissions!AP26)/1000","v":0},{"$f":"(SUM(aem2csp2!$B43,aem2csp2!$C43) * Emissions!AQ26)/1000","v":0},{"$f":"(SUM(aem2csp2!$B43,aem2csp2!$C43) * Emissions!AR26)/1000","v":0},{"$f":"(SUM(aem2csp2!$B43,aem2csp2!$C43) * Emissions!AS26)/1000","v":0},null,{"$f":"(SUM(aem2csp2!$D43,aem2csp2!$E43) * Emissions!AG26)/1000","v":0},{"$f":"(SUM(aem2csp2!$D43,aem2csp2!$E43) * Emissions!AH26)/1000","v":0},{"$f":"(SUM(aem2csp2!$D43,aem2csp2!$E43) * Emissions!AI26)/1000","v":0},{"$f":"(SUM(aem2csp2!$D43,aem2csp2!$E43) * Emissions!AJ26)/1000","v":0},{"$f":"(SUM(aem2csp2!$D43,aem2csp2!$E43) * Emissions!AK26)/1000","v":0},{"$f":"(SUM(aem2csp2!$D43,aem2csp2!$E43) * Emissions!AL26)/1000","v":0},{"$f":"(SUM(aem2csp2!$D43,aem2csp2!$E43) * Emissions!AM26)/1000","v":0},{"$f":"(SUM(aem2csp2!$D43,aem2csp2!$E43) * Emissions!AN26)/1000","v":0},{"$f":"(SUM(aem2csp2!$D43,aem2csp2!$E43) * Emissions!AO26)/1000","v":0},{"$f":"(SUM(aem2csp2!$D43,aem2csp2!$E43) * Emissions!AP26)/1000","v":0},{"$f":"(SUM(aem2csp2!$D43,aem2csp2!$E43) * Emissions!AQ26)/1000","v":0},{"$f":"(SUM(aem2csp2!$D43,aem2csp2!$E43) * Emissions!AR26)/1000","v":0},{"$f":"(SUM(aem2csp2!$D43,aem2csp2!$E43) * Emissions!AS26)/1000","v":0}]
["720B "," Arrival ",16470.325956684599,20390.009378670798,1047.0218760333901,19043.551669247201,18944.249069067999,19043.551669247201,362.19606251658701,975690.38357226003,382544.85086493997,15.3384412138653,112.036255553956,14.7667939054885,142.14149067330899,null,"720B "," Departure ",3511.8498246054701,3982.48183775805,12960.4525170385,4060.5203421835199,4039.3467588592098,4060.5203421835199,1300.8459283417601,3504242.5750668198,1373929.65621479,62.078960981678101,645.00928622192998,105.201037571985,812.28928477559202,null,19982.175781290069,24372.491216428847,14007.474393071891,23104.072011430722,22983.595827927209,23104.072011430722,1663.0419908583472,4479932.9586390797,1756474.5070797298,77.417402195543403,757.04554177588602,119.9678314774735,954.43077544890104,null,0,0,0,0,0,0,0,0,0,0,0,0,0,null,{"$f":"(SUM(aem2csp2!$B44,aem2csp2!$C44) * Emissions!AG27)/1000","v":0},{"$f":"(SUM(aem2csp2!$B44,aem2csp2!$C44) * Emissions!AH27)/1000","v":0},{"$f":"(SUM(aem2csp2!$B44,aem2csp2!$C44) * Emissions!AI27)/1000","v":0},{"$f":"(SUM(aem2csp2!$B44,aem2csp2!$C44) * Emissions!AJ27)/1000","v":0},{"$f":"(SUM(aem2csp2!$B44,aem2csp2!$C44) * Emissions!AK27)/1000","v":0},{"$f":"(SUM(aem2csp2!$B44,aem2csp2!$C44) * Emissions!AL27)/1000","v":0},{"$f":"(SUM(aem2csp2!$B44,aem2csp2!$C44) * Emissions!AM27)/1000","v":0},{"$f":"(SUM(aem2csp2!$B44,aem2csp2!$C44) * Emissions!AN27)/1000","v":0},{"$f":"(SUM(aem2csp2!$B44,aem2csp2!$C44) * Emissions!AO27)/1000","v":0},{"$f":"(SUM(aem2csp2!$B44,aem2csp2!$C44) * Emissions!AP27)/1000","v":0},{"$f":"(SUM(aem2csp2!$B44,aem2csp2!$C44) * Emissions!AQ27)/1000","v":0},{"$f":"(SUM(aem2csp2!$B44,aem2csp2!$C44) * Emissions!AR27)/1000","v":0},{"$f":"(SUM(aem2csp2!$B44,aem2csp2!$C44) * Emissions!AS27)/1000","v":0},null,{"$f":"(SUM(aem2csp2!$D44,aem2csp2!$E44) * Emissions!AG27)/1000","v":0},{"$f":"(SUM(aem2csp2!$D44,aem2csp2!$E44) * Emissions!AH27)/1000","v":0},{"$f":"(SUM(aem2csp2!$D44,aem2csp2!$E44) * Emissions!AI27)/1000","v":0},{"$f":"(SUM(aem2csp2!$D44,aem2csp2!$E44) * Emissions!AJ27)/1000","v":0},{"$f":"(SUM(aem2csp2!$D44,aem2csp2!$E44) * Emissions!AK27)/1000","v":0},{"$f":"(SUM(aem2csp2!$D44,aem2csp2!$E44) * Emissions!AL27)/1000","v":0},{"$f":"(SUM(aem2csp2!$D44,aem2csp2!$E44) * Emissions!AM27)/1000","v":0},{"$f":"(SUM(aem2csp2!$D44,aem2csp2!$E44) * Emissions!AN27)/1000","v":0},{"$f":"(SUM(aem2csp2!$D44,aem2csp2!$E44) * Emissions!AO27)/1000","v":0},{"$f":"(SUM(aem2csp2!$D44,aem2csp2!$E44) * Emissions!AP27)/1000","v":0},{"$f":"(SUM(aem2csp2!$D44,aem2csp2!$E44) * Emissions!AQ27)/1000","v":0},{"$f":"(SUM(aem2csp2!$D44,aem2csp2!$E44) * Emissions!AR27)/1000","v":0},{"$f":"(SUM(aem2csp2!$D44,aem2csp2!$E44) * Emissions!AS27)/1000","v":0}]
["727D15 "," Arrival ",330.091690274722,2126.0124300917801,818.42884848701306,381.66325158759599,379.67306856219301,381.66325158759599,252.61574803486701,680500.92644297006,266808.12868778303,11.186474352013301,61.118268232421499,13.9453758740345,86.250118458469302,null,"727D15 "," Departure ",277.85144993966901,943.20929427564897,9097.9346014242601,321.26130698426402,319.58608989899398,321.26130698426402,893.91959541352298,2408056.9702268299,944141.51257388003,44.079039020697202,341.08644852323198,116.047749977987,501.21323752191603,null,607.94314021439095,3069.221724367429,9916.3634499112741,702.92455857185996,699.25915846118698,702.92455857185996,1146.53534344839,3088557.8966697999,1210949.6412616631,55.265513372710501,402.20471675565346,129.99312585202151,587.46335598038536,null,0,0,0,0,0,0,0,0,0,0,0,0,0,null,{"$f":"(SUM(aem2csp2!$B45,aem2csp2!$C45) * Emissions!AG28)/1000","v":0},{"$f":"(SUM(aem2csp2!$B45,aem2csp2!$C45) * Emissions!AH28)/1000","v":0},{"$f":"(SUM(aem2csp2!$B45,aem2csp2!$C45) * Emissions!AI28)/1000","v":0},{"$f":"(SUM(aem2csp2!$B45,aem2csp2!$C45) * Emissions!AJ28)/1000","v":0},{"$f":"(SUM(aem2csp2!$B45,aem2csp2!$C45) * Emissions!AK28)/1000","v":0},{"$f":"(SUM(aem2csp2!$B45,aem2csp2!$C45) * Emissions!AL28)/1000","v":0},{"$f":"(SUM(aem2csp2!$B45,aem2csp2!$C45) * Emissions!AM28)/1000","v":0},{"$f":"(SUM(aem2csp2!$B45,aem2csp2!$C45) * Emissions!AN28)/1000","v":0},{"$f":"(SUM(aem2csp2!$B45,aem2csp2!$C45) * Emissions!AO28)/1000","v":0},{"$f":"(SUM(aem2csp2!$B45,aem2csp2!$C45) * Emissions!AP28)/1000","v":0},{"$f":"(SUM(aem2csp2!$B45,aem2csp2!$C45) * Emissions!AQ28)/1000","v":0},{"$f":"(SUM(aem2csp2!$B45,aem2csp2!$C45) * Emissions!AR28)/1000","v":0},{"$f":"(SUM(aem2csp2!$B45,aem2csp2!$C45) * Emissions!AS28)/1000","v":0},null,{"$f":"(SUM(aem2csp2!$D45,aem2csp2!$E45) * Emissions!AG28)/1000","v":0},{"$f":"(SUM(aem2csp2!$D45,aem2csp2!$E45) * Emissions!AH28)/1000","v":0},{"$f":"(SUM(aem2csp2!$D45,aem2csp2!$E45) * Emissions!AI28)/1000","v":0},{"$f":"(SUM(aem2csp2!$D45,aem2csp2!$E45) * Emissions!AJ28)/1000","v":0},{"$f":"(SUM(aem2csp2!$D45,aem2csp2!$E45) * Emissions!AK28)/1000","v":0},{"$f":"(SUM(aem2csp2!$D45,aem2csp2!$E45) * Emissions!AL28)/1000","v":0},{"$f":"(SUM(aem2csp2!$D45,aem2csp2!$E45) * Emissions!AM28)/1000","v":0},{"$f":"(SUM(aem2csp2!$D45,aem2csp2!$E45) * Emissions!AN28)/1000","v":0},{"$f":"(SUM(aem2csp2!$D45,aem2csp2!$E45) * Emissions!AO28)/1000","v":0},{"$f":"(SUM(aem2csp2!$D45,aem2csp2!$E45) * Emissions!AP28)/1000","v":0},{"$f":"(SUM(aem2csp2!$D45,aem2csp2!$E45) * Emissions!AQ28)/1000","v":0},{"$f":"(SUM(aem2csp2!$D45,aem2csp2!$E45) * Emissions!AR28)/1000","v":0},{"$f":"(SUM(aem2csp2!$D45,aem2csp2!$E45) * Emissions!AS28)/1000","v":0}]
["727D17 "," Arrival ",199.496611133784,1794.4544313839399,871.18897628448997,230.66477445299401,229.461972986608,230.66477445299401,261.47127759229897,704356.11407419899,276161.17689692101,11.513112737328401,60.358433868729897,13.9453758740345,85.816922480092799,null,"727D17 "," Departure ",228.92517931809701,757.97753032869502,9371.7720119495698,264.69108700101498,263.310855327848,264.69108700101498,802.240295580777,2161089.5940551199,847311.51437279803,39.582582686285498,305.41929350063901,113.994206141003,458.99608232792701,null,428.42179045188101,2552.4319617126348,10242.960988234059,495.35586145400896,492.77282831445598,495.35586145400896,1063.711573173076,2865445.7081293189,1123472.691269719,51.095695423613897,365.7777273693689,127.9395820150375,544.81300480801985,null,0,0,0,0,0,0,0,0,0,0,0,0,0,null,{"$f":"(SUM(aem2csp2!$B46,aem2csp2!$C46) * Emissions!AG29)/1000","v":0},{"$f":"(SUM(aem2csp2!$B46,aem2csp2!$C46) * Emissions!AH29)/1000","v":0},{"$f":"(SUM(aem2csp2!$B46,aem2csp2!$C46) * Emissions!AI29)/1000","v":0},{"$f":"(SUM(aem2csp2!$B46,aem2csp2!$C46) * Emissions!AJ29)/1000","v":0},{"$f":"(SUM(aem2csp2!$B46,aem2csp2!$C46) * Emissions!AK29)/1000","v":0},{"$f":"(SUM(aem2csp2!$B46,aem2csp2!$C46) * Emissions!AL29)/1000","v":0},{"$f":"(SUM(aem2csp2!$B46,aem2csp2!$C46) * Emissions!AM29)/1000","v":0},{"$f":"(SUM(aem2csp2!$B46,aem2csp2!$C46) * Emissions!AN29)/1000","v":0},{"$f":"(SUM(aem2csp2!$B46,aem2csp2!$C46) * Emissions!AO29)/1000","v":0},{"$f":"(SUM(aem2csp2!$B46,aem2csp2!$C46) * Emissions!AP29)/1000","v":0},{"$f":"(SUM(aem2csp2!$B46,aem2csp2!$C46) * Emissions!AQ29)/1000","v":0},{"$f":"(SUM(aem2csp2!$B46,aem2csp2!$C46) * Emissions!AR29)/1000","v":0},{"$f":"(SUM(aem2csp2!$B46,aem2csp2!$C46) * Emissions!AS29)/1000","v":0},null,{"$f":"(SUM(aem2csp2!$D46,aem2csp2!$E46) * Emissions!AG29)/1000","v":0},{"$f":"(SUM(aem2csp2!$D46,aem2csp2!$E46) * Emissions!AH29)/1000","v":0},{"$f":"(SUM(aem2csp2!$D46,aem2csp2!$E46) * Emissions!AI29)/1000","v":0},{"$f":"(SUM(aem2csp2!$D46,aem2csp2!$E46) * Emissions!AJ29)/1000","v":0},{"$f":"(SUM(aem2csp2!$D46,aem2csp2!$E46) * Emissions!AK29)/1000","v":0},{"$f":"(SUM(aem2csp2!$D46,aem2csp2!$E46) * Emissions!AL29)/1000","v":0},{"$f":"(SUM(aem2csp2!$D46,aem2csp2!$E46) * Emissions!AM29)/1000","v":0},{"$f":"(SUM(aem2csp2!$D46,aem2csp2!$E46) * Emissions!AN29)/1000","v":0},{"$f":"(SUM(aem2csp2!$D46,aem2csp2!$E46) * Emissions!AO29)/1000","v":0},{"$f":"(SUM(aem2csp2!$D46,aem2csp2!$E46) * Emissions!AP29)/1000","v":0},{"$f":"(SUM(aem2csp2!$D46,aem2csp2!$E46) * Emissions!AQ29)/1000","v":0},{"$f":"(SUM(aem2csp2!$D46,aem2csp2!$E46) * Emissions!AR29)/1000","v":0},{"$f":"(SUM(aem2csp2!$D46,aem2csp2!$E46) * Emissions!AS29)/1000","v":0}]
["727EM1 "," Arrival ",545.0887927448,2202.9716823118601,791.22899763251598,630.25022189984202,626.96378211774504,630.25022189984202,255.01131692143301,686954.15376291005,269338.284692463,11.274835499468599,59.111687841740299,13.9453758740345,84.331899215243396,null,"727EM1 "," Departure ",177.23558209343301,637.93684062085299,6792.2959005430503,204.92581471076201,203.857229049952,204.92581471076201,694.45221159751804,1870728.0802511701,733467.713239523,34.719505967088999,278.14993967646899,80.919096737367994,393.788542380926,null,722.32437483823298,2840.9085229327129,7583.5248981755667,835.176036610604,830.82101116769707,835.176036610604,949.46352851895108,2557682.2340140799,1002805.997931986,45.9943414665576,337.26162751820931,94.864472611402491,478.12044159616937,null,0,0,0,0,0,0,0,0,0,0,0,0,0,null,{"$f":"(SUM(aem2csp2!$B47,aem2csp2!$C47) * Emissions!AG30)/1000","v":0},{"$f":"(SUM(aem2csp2!$B47,aem2csp2!$C47) * Emissions!AH30)/1000","v":0},{"$f":"(SUM(aem2csp2!$B47,aem2csp2!$C47) * Emissions!AI30)/1000","v":0},{"$f":"(SUM(aem2csp2!$B47,aem2csp2!$C47) * Emissions!AJ30)/1000","v":0},{"$f":"(SUM(aem2csp2!$B47,aem2csp2!$C47) * Emissions!AK30)/1000","v":0},{"$f":"(SUM(aem2csp2!$B47,aem2csp2!$C47) * Emissions!AL30)/1000","v":0},{"$f":"(SUM(aem2csp2!$B47,aem2csp2!$C47) * Emissions!AM30)/1000","v":0},{"$f":"(SUM(aem2csp2!$B47,aem2csp2!$C47) * Emissions!AN30)/1000","v":0},{"$f":"(SUM(aem2csp2!$B47,aem2csp2!$C47) * Emissions!AO30)/1000","v":0},{"$f":"(SUM(aem2csp2!$B47,aem2csp2!$C47) * Emissions!AP30)/1000","v":0},{"$f":"(SUM(aem2csp2!$B47,aem2csp2!$C47) * Emissions!AQ30)/1000","v":0},{"$f":"(SUM(aem2csp2!$B47,aem2csp2!$C47) * Emissions!AR30)/1000","v":0},{"$f":"(SUM(aem2csp2!$B47,aem2csp2!$C47) * Emissions!AS30)/1000","v":0},null,{"$f":"(SUM(aem2csp2!$D47,aem2csp2!$E47) * Emissions!AG30)/1000","v":0},{"$f":"(SUM(aem2csp2!$D47,aem2csp2!$E47) * Emissions!AH30)/1000","v":0},{"$f":"(SUM(aem2csp2!$D47,aem2csp2!$E47) * Emissions!AI30)/1000","v":0},{"$f":"(SUM(aem2csp2!$D47,aem2csp2!$E47) * Emissions!AJ30)/1000","v":0},{"$f":"(SUM(aem2csp2!$D47,aem2csp2!$E47) * Emissions!AK30)/1000","v":0},{"$f":"(SUM(aem2csp2!$D47,aem2csp2!$E47) * Emissions!AL30)/1000","v":0},{"$f":"(SUM(aem2csp2!$D47,aem2csp2!$E47) * Emissions!AM30)/1000","v":0},{"$f":"(SUM(aem2csp2!$D47,aem2csp2!$E47) * Emissions!AN30)/1000","v":0},{"$f":"(SUM(aem2csp2!$D47,aem2csp2!$E47) * Emissions!AO30)/1000","v":0},{"$f":"(SUM(aem2csp2!$D47,aem2csp2!$E47) * Emissions!AP30)/1000","v":0},{"$f":"(SUM(aem2csp2!$D47,aem2csp2!$E47) * Emissions!AQ30)/1000","v":0},{"$f":"(SUM(aem2csp2!$D47,aem2csp2!$E47) * Emissions!AR30)/1000","v":0},{"$f":"(SUM(aem2csp2!$D47,aem2csp2!$E47) * Emissions!AS30)/1000","v":0}]
["727EM2 "," Arrival ",1891.1859218080001,6454.2300134186798,735.28133546685899,2186.6535557838702,2175.2512508172299,2186.6535557838702,252.61574803486701,680500.92644297006,266808.12868778303,11.186474352013301,69.328675519011696,13.9453758740345,94.4605257450594,null,"727EM2 "," Departure ",345.00032940971602,1393.8157946446399,8964.8065810629505,398.90112777973002,396.82105784892201,398.90112777973002,893.91959541352298,2408056.9702268299,944141.51257388003,44.079039020697202,340.28719959374899,82.885036772951295,467.25127538739798,null,2236.1862512177163,7848.0458080633198,9700.0879165298102,2585.5546835636001,2572.0723086661519,2585.5546835636001,1146.53534344839,3088557.8966697999,1210949.6412616631,55.265513372710501,409.6158751127607,96.830412646985792,561.71180113245737,null,0,0,0,0,0,0,0,0,0,0,0,0,0,null,{"$f":"(SUM(aem2csp2!$B48,aem2csp2!$C48) * Emissions!AG31)/1000","v":0},{"$f":"(SUM(aem2csp2!$B48,aem2csp2!$C48) * Emissions!AH31)/1000","v":0},{"$f":"(SUM(aem2csp2!$B48,aem2csp2!$C48) * Emissions!AI31)/1000","v":0},{"$f":"(SUM(aem2csp2!$B48,aem2csp2!$C48) * Emissions!AJ31)/1000","v":0},{"$f":"(SUM(aem2csp2!$B48,aem2csp2!$C48) * Emissions!AK31)/1000","v":0},{"$f":"(SUM(aem2csp2!$B48,aem2csp2!$C48) * Emissions!AL31)/1000","v":0},{"$f":"(SUM(aem2csp2!$B48,aem2csp2!$C48) * Emissions!AM31)/1000","v":0},{"$f":"(SUM(aem2csp2!$B48,aem2csp2!$C48) * Emissions!AN31)/1000","v":0},{"$f":"(SUM(aem2csp2!$B48,aem2csp2!$C48) * Emissions!AO31)/1000","v":0},{"$f":"(SUM(aem2csp2!$B48,aem2csp2!$C48) * Emissions!AP31)/1000","v":0},{"$f":"(SUM(aem2csp2!$B48,aem2csp2!$C48) * Emissions!AQ31)/1000","v":0},{"$f":"(SUM(aem2csp2!$B48,aem2csp2!$C48) * Emissions!AR31)/1000","v":0},{"$f":"(SUM(aem2csp2!$B48,aem2csp2!$C48) * Emissions!AS31)/1000","v":0},null,{"$f":"(SUM(aem2csp2!$D48,aem2csp2!$E48) * Emissions!AG31)/1000","v":0},{"$f":"(SUM(aem2csp2!$D48,aem2csp2!$E48) * Emissions!AH31)/1000","v":0},{"$f":"(SUM(aem2csp2!$D48,aem2csp2!$E48) * Emissions!AI31)/1000","v":0},{"$f":"(SUM(aem2csp2!$D48,aem2csp2!$E48) * Emissions!AJ31)/1000","v":0},{"$f":"(SUM(aem2csp2!$D48,aem2csp2!$E48) * Emissions!AK31)/1000","v":0},{"$f":"(SUM(aem2csp2!$D48,aem2csp2!$E48) * Emissions!AL31)/1000","v":0},{"$f":"(SUM(aem2csp2!$D48,aem2csp2!$E48) * Emissions!AM31)/1000","v":0},{"$f":"(SUM(aem2csp2!$D48,aem2csp2!$E48) * Emissions!AN31)/1000","v":0},{"$f":"(SUM(aem2csp2!$D48,aem2csp2!$E48) * Emissions!AO31)/1000","v":0},{"$f":"(SUM(aem2csp2!$D48,aem2csp2!$E48) * Emissions!AP31)/1000","v":0},{"$f":"(SUM(aem2csp2!$D48,aem2csp2!$E48) * Emissions!AQ31)/1000","v":0},{"$f":"(SUM(aem2csp2!$D48,aem2csp2!$E48) * Emissions!AR31)/1000","v":0},{"$f":"(SUM(aem2csp2!$D48,aem2csp2!$E48) * Emissions!AS31)/1000","v":0}]
["727Q15 "," Arrival ",458.58664885732099,1877.5403605946699,871.57367654233701,530.23349782564105,527.46859525123,530.23349782564105,252.61574803486701,680500.92644297006,266808.12868778303,11.186474352013301,59.065666410774,13.9453758740345,84.197516636821703,null,"727Q15 "," Departure ",213.615282039704,814.56585973189999,9773.9010868517908,246.98926248104399,245.70133697183601,246.98926248104399,893.91959541352298,2408056.9702268299,944141.51257388003,44.079039020697202,340.28719959374899,100.471850166721,484.83808878116798,null,672.20193089702502,2692.1062203265701,10645.474763394128,777.22276030668502,773.16993222306598,777.22276030668502,1146.53534344839,3088557.8966697999,1210949.6412616631,55.265513372710501,399.35286600452298,114.41722604075549,569.0356054179897,null,0,0,0,0,0,0,0,0,0,0,0,0,0,null,{"$f":"(SUM(aem2csp2!$B49,aem2csp2!$C49) * Emissions!AG32)/1000","v":0},{"$f":"(SUM(aem2csp2!$B49,aem2csp2!$C49) * Emissions!AH32)/1000","v":0},{"$f":"(SUM(aem2csp2!$B49,aem2csp2!$C49) * Emissions!AI32)/1000","v":0},{"$f":"(SUM(aem2csp2!$B49,aem2csp2!$C49) * Emissions!AJ32)/1000","v":0},{"$f":"(SUM(aem2csp2!$B49,aem2csp2!$C49) * Emissions!AK32)/1000","v":0},{"$f":"(SUM(aem2csp2!$B49,aem2csp2!$C49) * Emissions!AL32)/1000","v":0},{"$f":"(SUM(aem2csp2!$B49,aem2csp2!$C49) * Emissions!AM32)/1000","v":0},{"$f":"(SUM(aem2csp2!$B49,aem2csp2!$C49) * Emissions!AN32)/1000","v":0},{"$f":"(SUM(aem2csp2!$B49,aem2csp2!$C49) * Emissions!AO32)/1000","v":0},{"$f":"(SUM(aem2csp2!$B49,aem2csp2!$C49) * Emissions!AP32)/1000","v":0},{"$f":"(SUM(aem2csp2!$B49,aem2csp2!$C49) * Emissions!AQ32)/1000","v":0},{"$f":"(SUM(aem2csp2!$B49,aem2csp2!$C49) * Emissions!AR32)/1000","v":0},{"$f":"(SUM(aem2csp2!$B49,aem2csp2!$C49) * Emissions!AS32)/1000","v":0},null,{"$f":"(SUM(aem2csp2!$D49,aem2csp2!$E49) * Emissions!AG32)/1000","v":0},{"$f":"(SUM(aem2csp2!$D49,aem2csp2!$E49) * Emissions!AH32)/1000","v":0},{"$f":"(SUM(aem2csp2!$D49,aem2csp2!$E49) * Emissions!AI32)/1000","v":0},{"$f":"(SUM(aem2csp2!$D49,aem2csp2!$E49) * Emissions!AJ32)/1000","v":0},{"$f":"(SUM(aem2csp2!$D49,aem2csp2!$E49) * Emissions!AK32)/1000","v":0},{"$f":"(SUM(aem2csp2!$D49,aem2csp2!$E49) * Emissions!AL32)/1000","v":0},{"$f":"(SUM(aem2csp2!$D49,aem2csp2!$E49) * Emissions!AM32)/1000","v":0},{"$f":"(SUM(aem2csp2!$D49,aem2csp2!$E49) * Emissions!AN32)/1000","v":0},{"$f":"(SUM(aem2csp2!$D49,aem2csp2!$E49) * Emissions!AO32)/1000","v":0},{"$f":"(SUM(aem2csp2!$D49,aem2csp2!$E49) * Emissions!AP32)/1000","v":0},{"$f":"(SUM(aem2csp2!$D49,aem2csp2!$E49) * Emissions!AQ32)/1000","v":0},{"$f":"(SUM(aem2csp2!$D49,aem2csp2!$E49) * Emissions!AR32)/1000","v":0},{"$f":"(SUM(aem2csp2!$D49,aem2csp2!$E49) * Emissions!AS32)/1000","v":0}]
["727Q7 "," Arrival ",310.12300969110498,2287.0014754588101,725.40256802183796,358.57478318321301,356.70499497630402,358.57478318321301,255.01131692143301,686954.15376291005,269338.284692463,11.274835499468599,60.360506971341202,13.9453758740345,85.5807183448442,null,"727Q7 "," Departure ",222.61341259923799,725.72663935749404,6510.39296973603,257.393207411324,256.051030531278,257.393207411324,694.45221159751804,1870728.0802511701,733467.713239523,34.719505967088999,278.17720584310598,91.829662926306,404.72637473650099,null,532.73642229034294,3012.7281148163042,7235.7955377578683,615.96799059453701,612.75602550758208,615.96799059453701,949.46352851895108,2557682.2340140799,1002805.997931986,45.9943414665576,338.53771281444716,105.7750388003405,490.30709308134522,null,0,0,0,0,0,0,0,0,0,0,0,0,0,null,{"$f":"(SUM(aem2csp2!$B50,aem2csp2!$C50) * Emissions!AG33)/1000","v":0},{"$f":"(SUM(aem2csp2!$B50,aem2csp2!$C50) * Emissions!AH33)/1000","v":0},{"$f":"(SUM(aem2csp2!$B50,aem2csp2!$C50) * Emissions!AI33)/1000","v":0},{"$f":"(SUM(aem2csp2!$B50,aem2csp2!$C50) * Emissions!AJ33)/1000","v":0},{"$f":"(SUM(aem2csp2!$B50,aem2csp2!$C50) * Emissions!AK33)/1000","v":0},{"$f":"(SUM(aem2csp2!$B50,aem2csp2!$C50) * Emissions!AL33)/1000","v":0},{"$f":"(SUM(aem2csp2!$B50,aem2csp2!$C50) * Emissions!AM33)/1000","v":0},{"$f":"(SUM(aem2csp2!$B50,aem2csp2!$C50) * Emissions!AN33)/1000","v":0},{"$f":"(SUM(aem2csp2!$B50,aem2csp2!$C50) * Emissions!AO33)/1000","v":0},{"$f":"(SUM(aem2csp2!$B50,aem2csp2!$C50) * Emissions!AP33)/1000","v":0},{"$f":"(SUM(aem2csp2!$B50,aem2csp2!$C50) * Emissions!AQ33)/1000","v":0},{"$f":"(SUM(aem2csp2!$B50,aem2csp2!$C50) * Emissions!AR33)/1000","v":0},{"$f":"(SUM(aem2csp2!$B50,aem2csp2!$C50) * Emissions!AS33)/1000","v":0},null,{"$f":"(SUM(aem2csp2!$D50,aem2csp2!$E50) * Emissions!AG33)/1000","v":0},{"$f":"(SUM(aem2csp2!$D50,aem2csp2!$E50) * Emissions!AH33)/1000","v":0},{"$f":"(SUM(aem2csp2!$D50,aem2csp2!$E50) * Emissions!AI33)/1000","v":0},{"$f":"(SUM(aem2csp2!$D50,aem2csp2!$E50) * Emissions!AJ33)/1000","v":0},{"$f":"(SUM(aem2csp2!$D50,aem2csp2!$E50) * Emissions!AK33)/1000","v":0},{"$f":"(SUM(aem2csp2!$D50,aem2csp2!$E50) * Emissions!AL33)/1000","v":0},{"$f":"(SUM(aem2csp2!$D50,aem2csp2!$E50) * Emissions!AM33)/1000","v":0},{"$f":"(SUM(aem2csp2!$D50,aem2csp2!$E50) * Emissions!AN33)/1000","v":0},{"$f":"(SUM(aem2csp2!$D50,aem2csp2!$E50) * Emissions!AO33)/1000","v":0},{"$f":"(SUM(aem2csp2!$D50,aem2csp2!$E50) * Emissions!AP33)/1000","v":0},{"$f":"(SUM(aem2csp2!$D50,aem2csp2!$E50) * Emissions!AQ33)/1000","v":0},{"$f":"(SUM(aem2csp2!$D50,aem2csp2!$E50) * Emissions!AR33)/1000","v":0},{"$f":"(SUM(aem2csp2!$D50,aem2csp2!$E50) * Emissions!AS33)/1000","v":0}]
["727Q9 "," Arrival ",460.01815542593499,1977.63011053422,821.94374353712794,531.88865446164095,529.11512107295005,531.88865446164095,261.06939115196798,703273.50502429903,275736.71179558098,11.498289057152199,60.951353106481903,13.9453758740345,86.395018037668606,null,"727Q9 "," Departure ",178.48580465769601,866.82249775956598,8931.8602753712694,206.37136460839099,205.29524112764,206.37136460839099,880.376238141572,2371573.6264828001,929837.26654809201,43.379383779444098,331.20525650874202,103.831183568084,478.41582385626998,null,638.503960083631,2844.4526082937859,9753.8040189083968,738.26001907003194,734.41036220059004,738.26001907003194,1141.4456292935399,3074847.1315070991,1205573.9783436731,54.877672836596297,392.15660961522394,117.7765594421185,564.81084189393857,null,0,0,0,0,0,0,0,0,0,0,0,0,0,null,{"$f":"(SUM(aem2csp2!$B51,aem2csp2!$C51) * Emissions!AG34)/1000","v":0},{"$f":"(SUM(aem2csp2!$B51,aem2csp2!$C51) * Emissions!AH34)/1000","v":0},{"$f":"(SUM(aem2csp2!$B51,aem2csp2!$C51) * Emissions!AI34)/1000","v":0},{"$f":"(SUM(aem2csp2!$B51,aem2csp2!$C51) * Emissions!AJ34)/1000","v":0},{"$f":"(SUM(aem2csp2!$B51,aem2csp2!$C51) * Emissions!AK34)/1000","v":0},{"$f":"(SUM(aem2csp2!$B51,aem2csp2!$C51) * Emissions!AL34)/1000","v":0},{"$f":"(SUM(aem2csp2!$B51,aem2csp2!$C51) * Emissions!AM34)/1000","v":0},{"$f":"(SUM(aem2csp2!$B51,aem2csp2!$C51) * Emissions!AN34)/1000","v":0},{"$f":"(SUM(aem2csp2!$B51,aem2csp2!$C51) * Emissions!AO34)/1000","v":0},{"$f":"(SUM(aem2csp2!$B51,aem2csp2!$C51) * Emissions!AP34)/1000","v":0},{"$f":"(SUM(aem2csp2!$B51,aem2csp2!$C51) * Emissions!AQ34)/1000","v":0},{"$f":"(SUM(aem2csp2!$B51,aem2csp2!$C51) * Emissions!AR34)/1000","v":0},{"$f":"(SUM(aem2csp2!$B51,aem2csp2!$C51) * Emissions!AS34)/1000","v":0},null,{"$f":"(SUM(aem2csp2!$D51,aem2csp2!$E51) * Emissions!AG34)/1000","v":0},{"$f":"(SUM(aem2csp2!$D51,aem2csp2!$E51) * Emissions!AH34)/1000","v":0},{"$f":"(SUM(aem2csp2!$D51,aem2csp2!$E51) * Emissions!AI34)/1000","v":0},{"$f":"(SUM(aem2csp2!$D51,aem2csp2!$E51) * Emissions!AJ34)/1000","v":0},{"$f":"(SUM(aem2csp2!$D51,aem2csp2!$E51) * Emissions!AK34)/1000","v":0},{"$f":"(SUM(aem2csp2!$D51,aem2csp2!$E51) * Emissions!AL34)/1000","v":0},{"$f":"(SUM(aem2csp2!$D51,aem2csp2!$E51) * Emissions!AM34)/1000","v":0},{"$f":"(SUM(aem2csp2!$D51,aem2csp2!$E51) * Emissions!AN34)/1000","v":0},{"$f":"(SUM(aem2csp2!$D51,aem2csp2!$E51) * Emissions!AO34)/1000","v":0},{"$f":"(SUM(aem2csp2!$D51,aem2csp2!$E51) * Emissions!AP34)/1000","v":0},{"$f":"(SUM(aem2csp2!$D51,aem2csp2!$E51) * Emissions!AQ34)/1000","v":0},{"$f":"(SUM(aem2csp2!$D51,aem2csp2!$E51) * Emissions!AR34)/1000","v":0},{"$f":"(SUM(aem2csp2!$D51,aem2csp2!$E51) * Emissions!AS34)/1000","v":0}]
["727QF "," Arrival ",122.575241217447,1995.4160306866499,757.69521768921004,141.72566746000001,140.98663896702999,141.72566746000001,252.23056233092601,679463.30614247895,266401.302598493,11.172266682605599,56.764532422183798,28.401094687231399,96.337893792020793,null,"727QF "," Departure ",86.961939482990005,399.576607647907,7264.9999596217804,100.548355397311,100.024045998091,100.548355397311,696.00116042766001,1874900.66696488,735103.68463884597,35.097965353174096,284.25780363439901,95.733270833657102,415.08903982123002,null,209.53718070043701,2394.9926383345569,8022.6951773109904,242.27402285731102,241.01068496512099,242.27402285731102,948.23172275858599,2554363.9731073589,1001504.9872373389,46.270232035779699,341.02233605658279,124.13436552088851,511.42693361325081,null,0,0,0,0,0,0,0,0,0,0,0,0,0,null,{"$f":"(SUM(aem2csp2!$B52,aem2csp2!$C52) * Emissions!AG35)/1000","v":0},{"$f":"(SUM(aem2csp2!$B52,aem2csp2!$C52) * Emissions!AH35)/1000","v":0},{"$f":"(SUM(aem2csp2!$B52,aem2csp2!$C52) * Emissions!AI35)/1000","v":0},{"$f":"(SUM(aem2csp2!$B52,aem2csp2!$C52) * Emissions!AJ35)/1000","v":0},{"$f":"(SUM(aem2csp2!$B52,aem2csp2!$C52) * Emissions!AK35)/1000","v":0},{"$f":"(SUM(aem2csp2!$B52,aem2csp2!$C52) * Emissions!AL35)/1000","v":0},{"$f":"(SUM(aem2csp2!$B52,aem2csp2!$C52) * Emissions!AM35)/1000","v":0},{"$f":"(SUM(aem2csp2!$B52,aem2csp2!$C52) * Emissions!AN35)/1000","v":0},{"$f":"(SUM(aem2csp2!$B52,aem2csp2!$C52) * Emissions!AO35)/1000","v":0},{"$f":"(SUM(aem2csp2!$B52,aem2csp2!$C52) * Emissions!AP35)/1000","v":0},{"$f":"(SUM(aem2csp2!$B52,aem2csp2!$C52) * Emissions!AQ35)/1000","v":0},{"$f":"(SUM(aem2csp2!$B52,aem2csp2!$C52) * Emissions!AR35)/1000","v":0},{"$f":"(SUM(aem2csp2!$B52,aem2csp2!$C52) * Emissions!AS35)/1000","v":0},null,{"$f":"(SUM(aem2csp2!$D52,aem2csp2!$E52) * Emissions!AG35)/1000","v":0},{"$f":"(SUM(aem2csp2!$D52,aem2csp2!$E52) * Emissions!AH35)/1000","v":0},{"$f":"(SUM(aem2csp2!$D52,aem2csp2!$E52) * Emissions!AI35)/1000","v":0},{"$f":"(SUM(aem2csp2!$D52,aem2csp2!$E52) * Emissions!AJ35)/1000","v":0},{"$f":"(SUM(aem2csp2!$D52,aem2csp2!$E52) * Emissions!AK35)/1000","v":0},{"$f":"(SUM(aem2csp2!$D52,aem2csp2!$E52) * Emissions!AL35)/1000","v":0},{"$f":"(SUM(aem2csp2!$D52,aem2csp2!$E52) * Emissions!AM35)/1000","v":0},{"$f":"(SUM(aem2csp2!$D52,aem2csp2!$E52) * Emissions!AN35)/1000","v":0},{"$f":"(SUM(aem2csp2!$D52,aem2csp2!$E52) * Emissions!AO35)/1000","v":0},{"$f":"(SUM(aem2csp2!$D52,aem2csp2!$E52) * Emissions!AP35)/1000","v":0},{"$f":"(SUM(aem2csp2!$D52,aem2csp2!$E52) * Emissions!AQ35)/1000","v":0},{"$f":"(SUM(aem2csp2!$D52,aem2csp2!$E52) * Emissions!AR35)/1000","v":0},{"$f":"(SUM(aem2csp2!$D52,aem2csp2!$E52) * Emissions!AS35)/1000","v":0}]
["7373B2 "," Arrival ",115.154395614652,2283.39463728395,870.22112428449202,133.14543310167701,132.451146240768,133.14543310167701,169.657772309378,457027.21280403499,179189.43335613099,7.2014499289867597,28.6168548689392,8.5806517870994607,44.398956585025402,null,"7373B2 "," Departure ",19.950548602328901,432.662499809542,8484.0766341660692,23.067503590242001,22.947218092770701,23.067503590242001,534.45411492621201,1439722.2785111,564480.65246219595,25.241366833389101,165.97797488785699,45.488967625822603,236.70830934706899,null,135.1049442169809,2716.0571370934922,9354.2977584505607,156.21293669191903,155.39836433353869,156.21293669191903,704.11188723559007,1896749.491315135,743670.08581832692,32.442816762375863,194.59482975679617,54.069619412922066,281.10726593209438,null,0,0,0,0,0,0,0,0,0,0,0,0,0,null,{"$f":"(SUM(aem2csp2!$B53,aem2csp2!$C53) * Emissions!AG36)/1000","v":0},{"$f":"(SUM(aem2csp2!$B53,aem2csp2!$C53) * Emissions!AH36)/1000","v":0},{"$f":"(SUM(aem2csp2!$B53,aem2csp2!$C53) * Emissions!AI36)/1000","v":0},{"$f":"(SUM(aem2csp2!$B53,aem2csp2!$C53) * Emissions!AJ36)/1000","v":0},{"$f":"(SUM(aem2csp2!$B53,aem2csp2!$C53) * Emissions!AK36)/1000","v":0},{"$f":"(SUM(aem2csp2!$B53,aem2csp2!$C53) * Emissions!AL36)/1000","v":0},{"$f":"(SUM(aem2csp2!$B53,aem2csp2!$C53) * Emissions!AM36)/1000","v":0},{"$f":"(SUM(aem2csp2!$B53,aem2csp2!$C53) * Emissions!AN36)/1000","v":0},{"$f":"(SUM(aem2csp2!$B53,aem2csp2!$C53) * Emissions!AO36)/1000","v":0},{"$f":"(SUM(aem2csp2!$B53,aem2csp2!$C53) * Emissions!AP36)/1000","v":0},{"$f":"(SUM(aem2csp2!$B53,aem2csp2!$C53) * Emissions!AQ36)/1000","v":0},{"$f":"(SUM(aem2csp2!$B53,aem2csp2!$C53) * Emissions!AR36)/1000","v":0},{"$f":"(SUM(aem2csp2!$B53,aem2csp2!$C53) * Emissions!AS36)/1000","v":0},null,{"$f":"(SUM(aem2csp2!$D53,aem2csp2!$E53) * Emissions!AG36)/1000","v":0},{"$f":"(SUM(aem2csp2!$D53,aem2csp2!$E53) * Emissions!AH36)/1000","v":0},{"$f":"(SUM(aem2csp2!$D53,aem2csp2!$E53) * Emissions!AI36)/1000","v":0},{"$f":"(SUM(aem2csp2!$D53,aem2csp2!$E53) * Emissions!AJ36)/1000","v":0},{"$f":"(SUM(aem2csp2!$D53,aem2csp2!$E53) * Emissions!AK36)/1000","v":0},{"$f":"(SUM(aem2csp2!$D53,aem2csp2!$E53) * Emissions!AL36)/1000","v":0},{"$f":"(SUM(aem2csp2!$D53,aem2csp2!$E53) * Emissions!AM36)/1000","v":0},{"$f":"(SUM(aem2csp2!$D53,aem2csp2!$E53) * Emissions!AN36)/1000","v":0},{"$f":"(SUM(aem2csp2!$D53,aem2csp2!$E53) * Emissions!AO36)/1000","v":0},{"$f":"(SUM(aem2csp2!$D53,aem2csp2!$E53) * Emissions!AP36)/1000","v":0},{"$f":"(SUM(aem2csp2!$D53,aem2csp2!$E53) * Emissions!AQ36)/1000","v":0},{"$f":"(SUM(aem2csp2!$D53,aem2csp2!$E53) * Emissions!AR36)/1000","v":0},{"$f":"(SUM(aem2csp2!$D53,aem2csp2!$E53) * Emissions!AS36)/1000","v":0}]
["737D17 "," Arrival ",468.67296293999402,1183.4961270756901,998.92935725526399,541.89563759693601,539.06992279468705,541.89563759693601,225.103230032553,606387.20180388098,237749.91081819401,9.5918180741965795,43.660432109758901,9.6181349342728293,62.870385118228299,null,"737D17 "," Departure ",158.971066057081,636.48190421922004,8903.7010543370307,183.80775938102599,182.84929381973299,183.80775938102599,634.17706724420498,1708357.79299476,669806.20917100599,30.302122161986201,213.92821808029601,84.064257036365504,328.29459727864798,null,627.644028997075,1819.9780312949101,9902.630411592294,725.70339697796203,721.91921661442007,725.70339697796203,859.28029727675801,2314744.9947986407,907556.11998920003,39.893940236182779,257.58865019005492,93.682391970638335,391.16498239687627,null,0,0,0,0,0,0,0,0,0,0,0,0,0,null,{"$f":"(SUM(aem2csp2!$B54,aem2csp2!$C54) * Emissions!AG37)/1000","v":0},{"$f":"(SUM(aem2csp2!$B54,aem2csp2!$C54) * Emissions!AH37)/1000","v":0},{"$f":"(SUM(aem2csp2!$B54,aem2csp2!$C54) * Emissions!AI37)/1000","v":0},{"$f":"(SUM(aem2csp2!$B54,aem2csp2!$C54) * Emissions!AJ37)/1000","v":0},{"$f":"(SUM(aem2csp2!$B54,aem2csp2!$C54) * Emissions!AK37)/1000","v":0},{"$f":"(SUM(aem2csp2!$B54,aem2csp2!$C54) * Emissions!AL37)/1000","v":0},{"$f":"(SUM(aem2csp2!$B54,aem2csp2!$C54) * Emissions!AM37)/1000","v":0},{"$f":"(SUM(aem2csp2!$B54,aem2csp2!$C54) * Emissions!AN37)/1000","v":0},{"$f":"(SUM(aem2csp2!$B54,aem2csp2!$C54) * Emissions!AO37)/1000","v":0},{"$f":"(SUM(aem2csp2!$B54,aem2csp2!$C54) * Emissions!AP37)/1000","v":0},{"$f":"(SUM(aem2csp2!$B54,aem2csp2!$C54) * Emissions!AQ37)/1000","v":0},{"$f":"(SUM(aem2csp2!$B54,aem2csp2!$C54) * Emissions!AR37)/1000","v":0},{"$f":"(SUM(aem2csp2!$B54,aem2csp2!$C54) * Emissions!AS37)/1000","v":0},null,{"$f":"(SUM(aem2csp2!$D54,aem2csp2!$E54) * Emissions!AG37)/1000","v":0},{"$f":"(SUM(aem2csp2!$D54,aem2csp2!$E54) * Emissions!AH37)/1000","v":0},{"$f":"(SUM(aem2csp2!$D54,aem2csp2!$E54) * Emissions!AI37)/1000","v":0},{"$f":"(SUM(aem2csp2!$D54,aem2csp2!$E54) * Emissions!AJ37)/1000","v":0},{"$f":"(SUM(aem2csp2!$D54,aem2csp2!$E54) * Emissions!AK37)/1000","v":0},{"$f":"(SUM(aem2csp2!$D54,aem2csp2!$E54) * Emissions!AL37)/1000","v":0},{"$f":"(SUM(aem2csp2!$D54,aem2csp2!$E54) * Emissions!AM37)/1000","v":0},{"$f":"(SUM(aem2csp2!$D54,aem2csp2!$E54) * Emissions!AN37)/1000","v":0},{"$f":"(SUM(aem2csp2!$D54,aem2csp2!$E54) * Emissions!AO37)/1000","v":0},{"$f":"(SUM(aem2csp2!$D54,aem2csp2!$E54) * Emissions!AP37)/1000","v":0},{"$f":"(SUM(aem2csp2!$D54,aem2csp2!$E54) * Emissions!AQ37)/1000","v":0},{"$f":"(SUM(aem2csp2!$D54,aem2csp2!$E54) * Emissions!AR37)/1000","v":0},{"$f":"(SUM(aem2csp2!$D54,aem2csp2!$E54) * Emissions!AS37)/1000","v":0}]
["737N17 "," Arrival ",468.67296293999402,1183.4961270756901,998.92935725526399,541.89563759693601,539.06992279468705,541.89563759693601,225.103230032553,606387.20180388098,237749.91081819401,9.5918180741965795,43.660432109758901,9.6181349342728293,62.870385118228299,null,"737N17 "," Departure ",158.971066057081,636.48190421922004,8903.7010543370307,183.80775938102599,182.84929381973299,183.80775938102599,634.17706724420498,1708357.79299476,669806.20917100599,30.302122161986201,213.92821808029601,84.064257036365504,328.29459727864798,null,{"$f":"SUM(C38,S38)","v":627.644028997075},1819.9780312949101,9902.630411592294,725.70339697796203,721.91921661442007,725.70339697796203,859.28029727675801,2314744.9947986407,907556.11998920003,39.893940236182779,257.58865019005492,93.682391970638335,391.16498239687627,null,0,0,0,0,0,0,0,0,0,0,0,0,0,null,{"$f":"(SUM(aem2csp2!$B55,aem2csp2!$C55) * Emissions!AG38)/1000","v":0},{"$f":"(SUM(aem2csp2!$B55,aem2csp2!$C55) * Emissions!AH38)/1000","v":0},{"$f":"(SUM(aem2csp2!$B55,aem2csp2!$C55) * Emissions!AI38)/1000","v":0},{"$f":"(SUM(aem2csp2!$B55,aem2csp2!$C55) * Emissions!AJ38)/1000","v":0},{"$f":"(SUM(aem2csp2!$B55,aem2csp2!$C55) * Emissions!AK38)/1000","v":0},{"$f":"(SUM(aem2csp2!$B55,aem2csp2!$C55) * Emissions!AL38)/1000","v":0},{"$f":"(SUM(aem2csp2!$B55,aem2csp2!$C55) * Emissions!AM38)/1000","v":0},{"$f":"(SUM(aem2csp2!$B55,aem2csp2!$C55) * Emissions!AN38)/1000","v":0},{"$f":"(SUM(aem2csp2!$B55,aem2csp2!$C55) * Emissions!AO38)/1000","v":0},{"$f":"(SUM(aem2csp2!$B55,aem2csp2!$C55) * Emissions!AP38)/1000","v":0},{"$f":"(SUM(aem2csp2!$B55,aem2csp2!$C55) * Emissions!AQ38)/1000","v":0},{"$f":"(SUM(aem2csp2!$B55,aem2csp2!$C55) * Emissions!AR38)/1000","v":0},{"$f":"(SUM(aem2csp2!$B55,aem2csp2!$C55) * Emissions!AS38)/1000","v":0},null,{"$f":"(SUM(aem2csp2!$D55,aem2csp2!$E55) * Emissions!AG38)/1000","v":0},{"$f":"(SUM(aem2csp2!$D55,aem2csp2!$E55) * Emissions!AH38)/1000","v":0},{"$f":"(SUM(aem2csp2!$D55,aem2csp2!$E55) * Emissions!AI38)/1000","v":0},{"$f":"(SUM(aem2csp2!$D55,aem2csp2!$E55) * Emissions!AJ38)/1000","v":0},{"$f":"(SUM(aem2csp2!$D55,aem2csp2!$E55) * Emissions!AK38)/1000","v":0},{"$f":"(SUM(aem2csp2!$D55,aem2csp2!$E55) * Emissions!AL38)/1000","v":0},{"$f":"(SUM(aem2csp2!$D55,aem2csp2!$E55) * Emissions!AM38)/1000","v":0},{"$f":"(SUM(aem2csp2!$D55,aem2csp2!$E55) * Emissions!AN38)/1000","v":0},{"$f":"(SUM(aem2csp2!$D55,aem2csp2!$E55) * Emissions!AO38)/1000","v":0},{"$f":"(SUM(aem2csp2!$D55,aem2csp2!$E55) * Emissions!AP38)/1000","v":0},{"$f":"(SUM(aem2csp2!$D55,aem2csp2!$E55) * Emissions!AQ38)/1000","v":0},{"$f":"(SUM(aem2csp2!$D55,aem2csp2!$E55) * Emissions!AR38)/1000","v":0},{"$f":"(SUM(aem2csp2!$D55,aem2csp2!$E55) * Emissions!AS38)/1000","v":0}]
["737N9 "," Arrival ",253.65465306160701,1044.0826821640001,854.51671011235601,293.28414655711202,291.75481637489003,293.28414655711202,213.19650422665401,574312.64586329705,225174.24498665601,9.1526355649625799,42.993077501128099,9.6181349342728293,61.763848000363602,null,"737N9 "," Departure ",87.959886335140894,567.95897445397702,8483.3549378926691,101.70221552686,101.171889323995,101.70221552686,587.07411487531704,1581470.99763629,620056.93314614706,28.007484753396799,193.908685149072,63.204492497345598,285.12066239981499,null,341.61453939674789,1612.041656617977,9337.8716480050243,394.98636208397204,392.92670569888503,394.98636208397204,800.27061910197108,2155783.6434995872,845231.17813280306,37.160120318359375,236.90176265020011,72.822627431618429,346.88451040017861,null,0,0,0,0,0,0,0,0,0,0,0,0,0,null,{"$f":"(SUM(aem2csp2!$B56,aem2csp2!$C56) * Emissions!AG39)/1000","v":0},{"$f":"(SUM(aem2csp2!$B56,aem2csp2!$C56) * Emissions!AH39)/1000","v":0},{"$f":"(SUM(aem2csp2!$B56,aem2csp2!$C56) * Emissions!AI39)/1000","v":0},{"$f":"(SUM(aem2csp2!$B56,aem2csp2!$C56) * Emissions!AJ39)/1000","v":0},{"$f":"(SUM(aem2csp2!$B56,aem2csp2!$C56) * Emissions!AK39)/1000","v":0},{"$f":"(SUM(aem2csp2!$B56,aem2csp2!$C56) * Emissions!AL39)/1000","v":0},{"$f":"(SUM(aem2csp2!$B56,aem2csp2!$C56) * Emissions!AM39)/1000","v":0},{"$f":"(SUM(aem2csp2!$B56,aem2csp2!$C56) * Emissions!AN39)/1000","v":0},{"$f":"(SUM(aem2csp2!$B56,aem2csp2!$C56) * Emissions!AO39)/1000","v":0},{"$f":"(SUM(aem2csp2!$B56,aem2csp2!$C56) * Emissions!AP39)/1000","v":0},{"$f":"(SUM(aem2csp2!$B56,aem2csp2!$C56) * Emissions!AQ39)/1000","v":0},{"$f":"(SUM(aem2csp2!$B56,aem2csp2!$C56) * Emissions!AR39)/1000","v":0},{"$f":"(SUM(aem2csp2!$B56,aem2csp2!$C56) * Emissions!AS39)/1000","v":0},null,{"$f":"(SUM(aem2csp2!$D56,aem2csp2!$E56) * Emissions!AG39)/1000","v":0},{"$f":"(SUM(aem2csp2!$D56,aem2csp2!$E56) * Emissions!AH39)/1000","v":0},{"$f":"(SUM(aem2csp2!$D56,aem2csp2!$E56) * Emissions!AI39)/1000","v":0},{"$f":"(SUM(aem2csp2!$D56,aem2csp2!$E56) * Emissions!AJ39)/1000","v":0},{"$f":"(SUM(aem2csp2!$D56,aem2csp2!$E56) * Emissions!AK39)/1000","v":0},{"$f":"(SUM(aem2csp2!$D56,aem2csp2!$E56) * Emissions!AL39)/1000","v":0},{"$f":"(SUM(aem2csp2!$D56,aem2csp2!$E56) * Emissions!AM39)/1000","v":0},{"$f":"(SUM(aem2csp2!$D56,aem2csp2!$E56) * Emissions!AN39)/1000","v":0},{"$f":"(SUM(aem2csp2!$D56,aem2csp2!$E56) * Emissions!AO39)/1000","v":0},{"$f":"(SUM(aem2csp2!$D56,aem2csp2!$E56) * Emissions!AP39)/1000","v":0},{"$f":"(SUM(aem2csp2!$D56,aem2csp2!$E56) * Emissions!AQ39)/1000","v":0},{"$f":"(SUM(aem2csp2!$D56,aem2csp2!$E56) * Emissions!AR39)/1000","v":0},{"$f":"(SUM(aem2csp2!$D56,aem2csp2!$E56) * Emissions!AS39)/1000","v":0}]
["737QN "," Arrival ",253.65465306160701,1044.0826821640001,854.51671011235601,293.28414655711202,291.75481637489003,293.28414655711202,213.19650422665401,574312.64586329705,225174.24498665601,9.1526355649625799,42.993077501128099,9.6181349342728293,61.763848000363602,null,"737QN "," Departure ",87.959886335140894,567.95897445397702,8483.3549378926691,101.70221552686,101.171889323995,101.70221552686,587.07411487531704,1581470.99763629,620056.93314614706,28.007484753396799,193.908685149072,63.204492497345598,285.12066239981499,null,341.61453939674789,1612.041656617977,9337.8716480050243,394.98636208397204,392.92670569888503,394.98636208397204,800.27061910197108,2155783.6434995872,845231.17813280306,37.160120318359375,236.90176265020011,72.822627431618429,346.88451040017861,null,0,0,0,0,0,0,0,0,0,0,0,0,0,null,{"$f":"(SUM(aem2csp2!$B57,aem2csp2!$C57) * Emissions!AG40)/1000","v":0},{"$f":"(SUM(aem2csp2!$B57,aem2csp2!$C57) * Emissions!AH40)/1000","v":0},{"$f":"(SUM(aem2csp2!$B57,aem2csp2!$C57) * Emissions!AI40)/1000","v":0},{"$f":"(SUM(aem2csp2!$B57,aem2csp2!$C57) * Emissions!AJ40)/1000","v":0},{"$f":"(SUM(aem2csp2!$B57,aem2csp2!$C57) * Emissions!AK40)/1000","v":0},{"$f":"(SUM(aem2csp2!$B57,aem2csp2!$C57) * Emissions!AL40)/1000","v":0},{"$f":"(SUM(aem2csp2!$B57,aem2csp2!$C57) * Emissions!AM40)/1000","v":0},{"$f":"(SUM(aem2csp2!$B57,aem2csp2!$C57) * Emissions!AN40)/1000","v":0},{"$f":"(SUM(aem2csp2!$B57,aem2csp2!$C57) * Emissions!AO40)/1000","v":0},{"$f":"(SUM(aem2csp2!$B57,aem2csp2!$C57) * Emissions!AP40)/1000","v":0},{"$f":"(SUM(aem2csp2!$B57,aem2csp2!$C57) * Emissions!AQ40)/1000","v":0},{"$f":"(SUM(aem2csp2!$B57,aem2csp2!$C57) * Emissions!AR40)/1000","v":0},{"$f":"(SUM(aem2csp2!$B57,aem2csp2!$C57) * Emissions!AS40)/1000","v":0},null,{"$f":"(SUM(aem2csp2!$D57,aem2csp2!$E57) * Emissions!AG40)/1000","v":0},{"$f":"(SUM(aem2csp2!$D57,aem2csp2!$E57) * Emissions!AH40)/1000","v":0},{"$f":"(SUM(aem2csp2!$D57,aem2csp2!$E57) * Emissions!AI40)/1000","v":0},{"$f":"(SUM(aem2csp2!$D57,aem2csp2!$E57) * Emissions!AJ40)/1000","v":0},{"$f":"(SUM(aem2csp2!$D57,aem2csp2!$E57) * Emissions!AK40)/1000","v":0},{"$f":"(SUM(aem2csp2!$D57,aem2csp2!$E57) * Emissions!AL40)/1000","v":0},{"$f":"(SUM(aem2csp2!$D57,aem2csp2!$E57) * Emissions!AM40)/1000","v":0},{"$f":"(SUM(aem2csp2!$D57,aem2csp2!$E57) * Emissions!AN40)/1000","v":0},{"$f":"(SUM(aem2csp2!$D57,aem2csp2!$E57) * Emissions!AO40)/1000","v":0},{"$f":"(SUM(aem2csp2!$D57,aem2csp2!$E57) * Emissions!AP40)/1000","v":0},{"$f":"(SUM(aem2csp2!$D57,aem2csp2!$E57) * Emissions!AQ40)/1000","v":0},{"$f":"(SUM(aem2csp2!$D57,aem2csp2!$E57) * Emissions!AR40)/1000","v":0},{"$f":"(SUM(aem2csp2!$D57,aem2csp2!$E57) * Emissions!AS40)/1000","v":0}]
["74710Q "," Arrival ",2068.45114760769,9491.9369985319609,5320.58291750432,2391.61364555713,2379.14257620238,2391.61364555713,928.61900192057703,2501530.8666832498,980790.39051891596,38.5630779818501,139.34424197801101,32.169684679661998,210.07700463952301,null,"74710Q "," Departure ",649.32146912837698,717.829850220136,79544.317912647093,750.76759135293196,746.85271374782201,750.76759135293196,3534.1975109484401,9520485.9520511702,3732754.7140054801,165.599422920808,1087.7422805160199,262.98267660084599,1516.3243800376699,null,2717.772616736067,10209.766848752097,84864.900830151411,3142.3812369100619,3125.9952899502023,3142.3812369100619,4462.8165128690171,12022016.81873442,4713545.1045243964,204.16250090265811,1227.086522494031,295.15236128050799,1726.4013846771929,null,0,0,0,0,0,0,0,0,0,0,0,0,0,null,{"$f":"(SUM(aem2csp2!$B58,aem2csp2!$C58) * Emissions!AG41)/1000","v":0},{"$f":"(SUM(aem2csp2!$B58,aem2csp2!$C58) * Emissions!AH41)/1000","v":0},{"$f":"(SUM(aem2csp2!$B58,aem2csp2!$C58) * Emissions!AI41)/1000","v":0},{"$f":"(SUM(aem2csp2!$B58,aem2csp2!$C58) * Emissions!AJ41)/1000","v":0},{"$f":"(SUM(aem2csp2!$B58,aem2csp2!$C58) * Emissions!AK41)/1000","v":0},{"$f":"(SUM(aem2csp2!$B58,aem2csp2!$C58) * Emissions!AL41)/1000","v":0},{"$f":"(SUM(aem2csp2!$B58,aem2csp2!$C58) * Emissions!AM41)/1000","v":0},{"$f":"(SUM(aem2csp2!$B58,aem2csp2!$C58) * Emissions!AN41)/1000","v":0},{"$f":"(SUM(aem2csp2!$B58,aem2csp2!$C58) * Emissions!AO41)/1000","v":0},{"$f":"(SUM(aem2csp2!$B58,aem2csp2!$C58) * Emissions!AP41)/1000","v":0},{"$f":"(SUM(aem2csp2!$B58,aem2csp2!$C58) * Emissions!AQ41)/1000","v":0},{"$f":"(SUM(aem2csp2!$B58,aem2csp2!$C58) * Emissions!AR41)/1000","v":0},{"$f":"(SUM(aem2csp2!$B58,aem2csp2!$C58) * Emissions!AS41)/1000","v":0},null,{"$f":"(SUM(aem2csp2!$D58,aem2csp2!$E58) * Emissions!AG41)/1000","v":0},{"$f":"(SUM(aem2csp2!$D58,aem2csp2!$E58) * Emissions!AH41)/1000","v":0},{"$f":"(SUM(aem2csp2!$D58,aem2csp2!$E58) * Emissions!AI41)/1000","v":0},{"$f":"(SUM(aem2csp2!$D58,aem2csp2!$E58) * Emissions!AJ41)/1000","v":0},{"$f":"(SUM(aem2csp2!$D58,aem2csp2!$E58) * Emissions!AK41)/1000","v":0},{"$f":"(SUM(aem2csp2!$D58,aem2csp2!$E58) * Emissions!AL41)/1000","v":0},{"$f":"(SUM(aem2csp2!$D58,aem2csp2!$E58) * Emissions!AM41)/1000","v":0},{"$f":"(SUM(aem2csp2!$D58,aem2csp2!$E58) * Emissions!AN41)/1000","v":0},{"$f":"(SUM(aem2csp2!$D58,aem2csp2!$E58) * Emissions!AO41)/1000","v":0},{"$f":"(SUM(aem2csp2!$D58,aem2csp2!$E58) * Emissions!AP41)/1000","v":0},{"$f":"(SUM(aem2csp2!$D58,aem2csp2!$E58) * Emissions!AQ41)/1000","v":0},{"$f":"(SUM(aem2csp2!$D58,aem2csp2!$E58) * Emissions!AR41)/1000","v":0},{"$f":"(SUM(aem2csp2!$D58,aem2csp2!$E58) * Emissions!AS41)/1000","v":0}]
["74720A "," Arrival ",5615.9016810557896,15183.868829896899,6265.6091516721499,6493.2967394730504,6459.43744362506,6493.2967394730504,948.643485220814,2555473.18636584,1001939.88321222,39.052322662219801,169.38288546550601,39.550247428848103,247.98545555657401,null,"74720A "," Departure ",347.71609891821299,0.34771609891821298,115120.38952900399,402.04119295469002,399.94474915402799,402.04119295469002,3878.2841260384698,10447392.774634,4096172.6980102402,179.75700533120201,1115.9130271945701,375.37363247535302,1671.04366500112,null,5963.6177799740026,15184.216545995818,121385.99868067614,6895.3379324277403,6859.3821927790877,6895.3379324277403,4826.9276112592834,13002865.960999839,5098112.5812224606,218.80932799342182,1285.2959126600761,414.9238799042011,1919.0291205576939,null,0,0,0,0,0,0,0,0,0,0,0,0,0,null,{"$f":"(SUM(aem2csp2!$B59,aem2csp2!$C59) * Emissions!AG42)/1000","v":0},{"$f":"(SUM(aem2csp2!$B59,aem2csp2!$C59) * Emissions!AH42)/1000","v":0},{"$f":"(SUM(aem2csp2!$B59,aem2csp2!$C59) * Emissions!AI42)/1000","v":0},{"$f":"(SUM(aem2csp2!$B59,aem2csp2!$C59) * Emissions!AJ42)/1000","v":0},{"$f":"(SUM(aem2csp2!$B59,aem2csp2!$C59) * Emissions!AK42)/1000","v":0},{"$f":"(SUM(aem2csp2!$B59,aem2csp2!$C59) * Emissions!AL42)/1000","v":0},{"$f":"(SUM(aem2csp2!$B59,aem2csp2!$C59) * Emissions!AM42)/1000","v":0},{"$f":"(SUM(aem2csp2!$B59,aem2csp2!$C59) * Emissions!AN42)/1000","v":0},{"$f":"(SUM(aem2csp2!$B59,aem2csp2!$C59) * Emissions!AO42)/1000","v":0},{"$f":"(SUM(aem2csp2!$B59,aem2csp2!$C59) * Emissions!AP42)/1000","v":0},{"$f":"(SUM(aem2csp2!$B59,aem2csp2!$C59) * Emissions!AQ42)/1000","v":0},{"$f":"(SUM(aem2csp2!$B59,aem2csp2!$C59) * Emissions!AR42)/1000","v":0},{"$f":"(SUM(aem2csp2!$B59,aem2csp2!$C59) * Emissions!AS42)/1000","v":0},null,{"$f":"(SUM(aem2csp2!$D59,aem2csp2!$E59) * Emissions!AG42)/1000","v":0},{"$f":"(SUM(aem2csp2!$D59,aem2csp2!$E59) * Emissions!AH42)/1000","v":0},{"$f":"(SUM(aem2csp2!$D59,aem2csp2!$E59) * Emissions!AI42)/1000","v":0},{"$f":"(SUM(aem2csp2!$D59,aem2csp2!$E59) * Emissions!AJ42)/1000","v":0},{"$f":"(SUM(aem2csp2!$D59,aem2csp2!$E59) * Emissions!AK42)/1000","v":0},{"$f":"(SUM(aem2csp2!$D59,aem2csp2!$E59) * Emissions!AL42)/1000","v":0},{"$f":"(SUM(aem2csp2!$D59,aem2csp2!$E59) * Emissions!AM42)/1000","v":0},{"$f":"(SUM(aem2csp2!$D59,aem2csp2!$E59) * Emissions!AN42)/1000","v":0},{"$f":"(SUM(aem2csp2!$D59,aem2csp2!$E59) * Emissions!AO42)/1000","v":0},{"$f":"(SUM(aem2csp2!$D59,aem2csp2!$E59) * Emissions!AP42)/1000","v":0},{"$f":"(SUM(aem2csp2!$D59,aem2csp2!$E59) * Emissions!AQ42)/1000","v":0},{"$f":"(SUM(aem2csp2!$D59,aem2csp2!$E59) * Emissions!AR42)/1000","v":0},{"$f":"(SUM(aem2csp2!$D59,aem2csp2!$E59) * Emissions!AS42)/1000","v":0}]
["74720B "," Arrival ",1810.6738954867899,8204.5409341041905,6868.6764607008799,2093.5628095972902,2082.6459263266402,2093.5628095972902,1014.75144853093,2733556.02810374,1071761.90388727,41.6886380413574,139.08165194547701,31.785681591411901,212.55597157824599,null,"74720B "," Departure ",709.51213826957303,709.51213826957303,98898.994187399003,820.36209244607596,816.08431431501594,820.36209244607596,3956.9369073071398,10659269.076634301,4179244.3257675301,182.23936655933699,1125.0171587232701,270.79683370179401,1578.0533589843999,null,2520.186033756363,8914.0530723737629,105767.67064809988,2913.9249020433663,2898.7302406416561,2913.9249020433663,4971.6883558380696,13392825.104738042,5251006.2296548001,223.92800460069438,1264.0988106687471,302.58251529320592,1790.6093305626459,null,0,0,0,0,0,0,0,0,0,0,0,0,0,null,{"$f":"(SUM(aem2csp2!$B60,aem2csp2!$C60) * Emissions!AG43)/1000","v":0},{"$f":"(SUM(aem2csp2!$B60,aem2csp2!$C60) * Emissions!AH43)/1000","v":0},{"$f":"(SUM(aem2csp2!$B60,aem2csp2!$C60) * Emissions!AI43)/1000","v":0},{"$f":"(SUM(aem2csp2!$B60,aem2csp2!$C60) * Emissions!AJ43)/1000","v":0},{"$f":"(SUM(aem2csp2!$B60,aem2csp2!$C60) * Emissions!AK43)/1000","v":0},{"$f":"(SUM(aem2csp2!$B60,aem2csp2!$C60) * Emissions!AL43)/1000","v":0},{"$f":"(SUM(aem2csp2!$B60,aem2csp2!$C60) * Emissions!AM43)/1000","v":0},{"$f":"(SUM(aem2csp2!$B60,aem2csp2!$C60) * Emissions!AN43)/1000","v":0},{"$f":"(SUM(aem2csp2!$B60,aem2csp2!$C60) * Emissions!AO43)/1000","v":0},{"$f":"(SUM(aem2csp2!$B60,aem2csp2!$C60) * Emissions!AP43)/1000","v":0},{"$f":"(SUM(aem2csp2!$B60,aem2csp2!$C60) * Emissions!AQ43)/1000","v":0},{"$f":"(SUM(aem2csp2!$B60,aem2csp2!$C60) * Emissions!AR43)/1000","v":0},{"$f":"(SUM(aem2csp2!$B60,aem2csp2!$C60) * Emissions!AS43)/1000","v":0},null,{"$f":"(SUM(aem2csp2!$D60,aem2csp2!$E60) * Emissions!AG43)/1000","v":0},{"$f":"(SUM(aem2csp2!$D60,aem2csp2!$E60) * Emissions!AH43)/1000","v":0},{"$f":"(SUM(aem2csp2!$D60,aem2csp2!$E60) * Emissions!AI43)/1000","v":0},{"$f":"(SUM(aem2csp2!$D60,aem2csp2!$E60) * Emissions!AJ43)/1000","v":0},{"$f":"(SUM(aem2csp2!$D60,aem2csp2!$E60) * Emissions!AK43)/1000","v":0},{"$f":"(SUM(aem2csp2!$D60,aem2csp2!$E60) * Emissions!AL43)/1000","v":0},{"$f":"(SUM(aem2csp2!$D60,aem2csp2!$E60) * Emissions!AM43)/1000","v":0},{"$f":"(SUM(aem2csp2!$D60,aem2csp2!$E60) * Emissions!AN43)/1000","v":0},{"$f":"(SUM(aem2csp2!$D60,aem2csp2!$E60) * Emissions!AO43)/1000","v":0},{"$f":"(SUM(aem2csp2!$D60,aem2csp2!$E60) * Emissions!AP43)/1000","v":0},{"$f":"(SUM(aem2csp2!$D60,aem2csp2!$E60) * Emissions!AQ43)/1000","v":0},{"$f":"(SUM(aem2csp2!$D60,aem2csp2!$E60) * Emissions!AR43)/1000","v":0},{"$f":"(SUM(aem2csp2!$D60,aem2csp2!$E60) * Emissions!AS43)/1000","v":0}]
["747SP "," Arrival ",4744.6401174815101,11778.772787121599,3104.34422156042,5485.9144540834895,5457.3081531626704,5485.9144540834895,693.40494871035298,1867906.9443145201,732361.61334930605,28.618060383024801,104.254754429881,22.698868212162999,155.57168302506901,null,"747SP "," Departure ",702.128521402366,1092.12711330557,71111.743086806295,811.82490321944101,807.59164226160397,811.82490321944101,2479.7581465869698,6680017.88975571,2619075.1599454298,115.895470927441,767.07066171384895,182.30583517900601,1065.2719678203,null,5446.7686388838756,12870.89990042717,74216.08730836671,6297.7393573029303,6264.8997954242741,6297.7393573029303,3173.1630952973228,8547924.8340702299,3351436.7732947357,144.51353131046579,871.32541614372997,205.00470339116902,1220.843650845369,null,0,0,0,0,0,0,0,0,0,0,0,0,0,null,{"$f":"(SUM(aem2csp2!$B61,aem2csp2!$C61) * Emissions!AG44)/1000","v":0},{"$f":"(SUM(aem2csp2!$B61,aem2csp2!$C61) * Emissions!AH44)/1000","v":0},{"$f":"(SUM(aem2csp2!$B61,aem2csp2!$C61) * Emissions!AI44)/1000","v":0},{"$f":"(SUM(aem2csp2!$B61,aem2csp2!$C61) * Emissions!AJ44)/1000","v":0},{"$f":"(SUM(aem2csp2!$B61,aem2csp2!$C61) * Emissions!AK44)/1000","v":0},{"$f":"(SUM(aem2csp2!$B61,aem2csp2!$C61) * Emissions!AL44)/1000","v":0},{"$f":"(SUM(aem2csp2!$B61,aem2csp2!$C61) * Emissions!AM44)/1000","v":0},{"$f":"(SUM(aem2csp2!$B61,aem2csp2!$C61) * Emissions!AN44)/1000","v":0},{"$f":"(SUM(aem2csp2!$B61,aem2csp2!$C61) * Emissions!AO44)/1000","v":0},{"$f":"(SUM(aem2csp2!$B61,aem2csp2!$C61) * Emissions!AP44)/1000","v":0},{"$f":"(SUM(aem2csp2!$B61,aem2csp2!$C61) * Emissions!AQ44)/1000","v":0},{"$f":"(SUM(aem2csp2!$B61,aem2csp2!$C61) * Emissions!AR44)/1000","v":0},{"$f":"(SUM(aem2csp2!$B61,aem2csp2!$C61) * Emissions!AS44)/1000","v":0},null,{"$f":"(SUM(aem2csp2!$D61,aem2csp2!$E61) * Emissions!AG44)/1000","v":0},{"$f":"(SUM(aem2csp2!$D61,aem2csp2!$E61) * Emissions!AH44)/1000","v":0},{"$f":"(SUM(aem2csp2!$D61,aem2csp2!$E61) * Emissions!AI44)/1000","v":0},{"$f":"(SUM(aem2csp2!$D61,aem2csp2!$E61) * Emissions!AJ44)/1000","v":0},{"$f":"(SUM(aem2csp2!$D61,aem2csp2!$E61) * Emissions!AK44)/1000","v":0},{"$f":"(SUM(aem2csp2!$D61,aem2csp2!$E61) * Emissions!AL44)/1000","v":0},{"$f":"(SUM(aem2csp2!$D61,aem2csp2!$E61) * Emissions!AM44)/1000","v":0},{"$f":"(SUM(aem2csp2!$D61,aem2csp2!$E61) * Emissions!AN44)/1000","v":0},{"$f":"(SUM(aem2csp2!$D61,aem2csp2!$E61) * Emissions!AO44)/1000","v":0},{"$f":"(SUM(aem2csp2!$D61,aem2csp2!$E61) * Emissions!AP44)/1000","v":0},{"$f":"(SUM(aem2csp2!$D61,aem2csp2!$E61) * Emissions!AQ44)/1000","v":0},{"$f":"(SUM(aem2csp2!$D61,aem2csp2!$E61) * Emissions!AR44)/1000","v":0},{"$f":"(SUM(aem2csp2!$D61,aem2csp2!$E61) * Emissions!AS44)/1000","v":0}]
["757PW "," Arrival ",148.17527343390401,1548.38796995246,2279.4300916535199,171.32529636416601,170.43192060627399,171.32529636416601,298.45937651519398,803995.33205723902,315227.32987473998,12.3363905632471,42.0561622779583,9.9077840957779202,64.300336936983399,null,"757PW "," Departure ",48.405690630040098,356.79193359701299,22083.220585418399,55.968307671812603,55.676460931458003,55.968307671812603,973.52614901965796,2622502.5616094801,1028220.49721424,46.533316860181301,319.394875463235,79.287801954591401,445.21599427800697,null,196.58096406394412,1905.179903549473,24362.650677071921,227.2936040359786,226.10838153773199,227.2936040359786,1271.9855255348521,3426497.8936667191,1343447.82708898,58.869707423428402,361.45103774119332,89.195586050369315,509.51633121499037,null,0,0,0,0,0,0,0,0,0,0,0,0,0,null,{"$f":"(SUM(aem2csp2!$B62,aem2csp2!$C62) * Emissions!AG45)/1000","v":0},{"$f":"(SUM(aem2csp2!$B62,aem2csp2!$C62) * Emissions!AH45)/1000","v":0},{"$f":"(SUM(aem2csp2!$B62,aem2csp2!$C62) * Emissions!AI45)/1000","v":0},{"$f":"(SUM(aem2csp2!$B62,aem2csp2!$C62) * Emissions!AJ45)/1000","v":0},{"$f":"(SUM(aem2csp2!$B62,aem2csp2!$C62) * Emissions!AK45)/1000","v":0},{"$f":"(SUM(aem2csp2!$B62,aem2csp2!$C62) * Emissions!AL45)/1000","v":0},{"$f":"(SUM(aem2csp2!$B62,aem2csp2!$C62) * Emissions!AM45)/1000","v":0},{"$f":"(SUM(aem2csp2!$B62,aem2csp2!$C62) * Emissions!AN45)/1000","v":0},{"$f":"(SUM(aem2csp2!$B62,aem2csp2!$C62) * Emissions!AO45)/1000","v":0},{"$f":"(SUM(aem2csp2!$B62,aem2csp2!$C62) * Emissions!AP45)/1000","v":0},{"$f":"(SUM(aem2csp2!$B62,aem2csp2!$C62) * Emissions!AQ45)/1000","v":0},{"$f":"(SUM(aem2csp2!$B62,aem2csp2!$C62) * Emissions!AR45)/1000","v":0},{"$f":"(SUM(aem2csp2!$B62,aem2csp2!$C62) * Emissions!AS45)/1000","v":0},null,{"$f":"(SUM(aem2csp2!$D62,aem2csp2!$E62) * Emissions!AG45)/1000","v":0},{"$f":"(SUM(aem2csp2!$D62,aem2csp2!$E62) * Emissions!AH45)/1000","v":0},{"$f":"(SUM(aem2csp2!$D62,aem2csp2!$E62) * Emissions!AI45)/1000","v":0},{"$f":"(SUM(aem2csp2!$D62,aem2csp2!$E62) * Emissions!AJ45)/1000","v":0},{"$f":"(SUM(aem2csp2!$D62,aem2csp2!$E62) * Emissions!AK45)/1000","v":0},{"$f":"(SUM(aem2csp2!$D62,aem2csp2!$E62) * Emissions!AL45)/1000","v":0},{"$f":"(SUM(aem2csp2!$D62,aem2csp2!$E62) * Emissions!AM45)/1000","v":0},{"$f":"(SUM(aem2csp2!$D62,aem2csp2!$E62) * Emissions!AN45)/1000","v":0},{"$f":"(SUM(aem2csp2!$D62,aem2csp2!$E62) * Emissions!AO45)/1000","v":0},{"$f":"(SUM(aem2csp2!$D62,aem2csp2!$E62) * Emissions!AP45)/1000","v":0},{"$f":"(SUM(aem2csp2!$D62,aem2csp2!$E62) * Emissions!AQ45)/1000","v":0},{"$f":"(SUM(aem2csp2!$D62,aem2csp2!$E62) * Emissions!AR45)/1000","v":0},{"$f":"(SUM(aem2csp2!$D62,aem2csp2!$E62) * Emissions!AS45)/1000","v":0}]
["757RR "," Arrival ",27.338437197913901,1088.0775630410301,1773.22323645696,31.609631934676202,31.444803508952901,31.609631934676202,343.60700735711202,925614.84649221995,362911.43109695002,14.0146637783378,40.429614088311801,15.293977491160099,69.738255357809706,null,"757RR "," Departure ",5.4062835823738196,706.48836996516502,28385.810632303601,6.2509291564903098,6.2183336864037901,6.2509291564903098,987.28324918037902,2659561.6898600501,1042750.49456637,47.082301569287303,318.655374287585,91.645512689807106,457.38318854668,null,32.744720780287722,1794.5659330061951,30159.033868760562,37.86056109116651,37.66313719535669,37.86056109116651,1330.890256537491,3585176.5363522703,1405661.9256633201,61.096965347625101,359.08498837589678,106.9394901809672,527.12144390448975,null,0,0,0,0,0,0,0,0,0,0,0,0,0,null,{"$f":"(SUM(aem2csp2!$B63,aem2csp2!$C63) * Emissions!AG46)/1000","v":0},{"$f":"(SUM(aem2csp2!$B63,aem2csp2!$C63) * Emissions!AH46)/1000","v":0},{"$f":"(SUM(aem2csp2!$B63,aem2csp2!$C63) * Emissions!AI46)/1000","v":0},{"$f":"(SUM(aem2csp2!$B63,aem2csp2!$C63) * Emissions!AJ46)/1000","v":0},{"$f":"(SUM(aem2csp2!$B63,aem2csp2!$C63) * Emissions!AK46)/1000","v":0},{"$f":"(SUM(aem2csp2!$B63,aem2csp2!$C63) * Emissions!AL46)/1000","v":0},{"$f":"(SUM(aem2csp2!$B63,aem2csp2!$C63) * Emissions!AM46)/1000","v":0},{"$f":"(SUM(aem2csp2!$B63,aem2csp2!$C63) * Emissions!AN46)/1000","v":0},{"$f":"(SUM(aem2csp2!$B63,aem2csp2!$C63) * Emissions!AO46)/1000","v":0},{"$f":"(SUM(aem2csp2!$B63,aem2csp2!$C63) * Emissions!AP46)/1000","v":0},{"$f":"(SUM(aem2csp2!$B63,aem2csp2!$C63) * Emissions!AQ46)/1000","v":0},{"$f":"(SUM(aem2csp2!$B63,aem2csp2!$C63) * Emissions!AR46)/1000","v":0},{"$f":"(SUM(aem2csp2!$B63,aem2csp2!$C63) * Emissions!AS46)/1000","v":0},null,{"$f":"(SUM(aem2csp2!$D63,aem2csp2!$E63) * Emissions!AG46)/1000","v":0},{"$f":"(SUM(aem2csp2!$D63,aem2csp2!$E63) * Emissions!AH46)/1000","v":0},{"$f":"(SUM(aem2csp2!$D63,aem2csp2!$E63) * Emissions!AI46)/1000","v":0},{"$f":"(SUM(aem2csp2!$D63,aem2csp2!$E63) * Emissions!AJ46)/1000","v":0},{"$f":"(SUM(aem2csp2!$D63,aem2csp2!$E63) * Emissions!AK46)/1000","v":0},{"$f":"(SUM(aem2csp2!$D63,aem2csp2!$E63) * Emissions!AL46)/1000","v":0},{"$f":"(SUM(aem2csp2!$D63,aem2csp2!$E63) * Emissions!AM46)/1000","v":0},{"$f":"(SUM(aem2csp2!$D63,aem2csp2!$E63) * Emissions!AN46)/1000","v":0},{"$f":"(SUM(aem2csp2!$D63,aem2csp2!$E63) * Emissions!AO46)/1000","v":0},{"$f":"(SUM(aem2csp2!$D63,aem2csp2!$E63) * Emissions!AP46)/1000","v":0},{"$f":"(SUM(aem2csp2!$D63,aem2csp2!$E63) * Emissions!AQ46)/1000","v":0},{"$f":"(SUM(aem2csp2!$D63,aem2csp2!$E63) * Emissions!AR46)/1000","v":0},{"$f":"(SUM(aem2csp2!$D63,aem2csp2!$E63) * Emissions!AS46)/1000","v":0}]
["767CF6 "," Arrival ",185.230383752786,2547.6706476429499,1972.1161689321,214.169676604307,213.05288882565401,214.169676604307,320.32101281722601,862886.608127004,338317.18993759301,13.8172498389995,60.995114040735402,14.941272490850499,89.753636370585397,null,"767CF6 "," Departure ",53.617888676854399,87.749002075784901,20708.325474252801,61.994828523670598,61.671556490333899,61.994828523670598,1186.4640883033001,3196118.68049599,1253121.6506413801,55.258451963369303,345.66875093748598,100.67532469171,501.60252759256502,null,238.84827242964039,2635.4196497187349,22680.441643184902,276.16450512797758,274.72444531598791,276.16450512797758,1506.7851011205262,4059005.288622994,1591438.8405789731,69.075701802368798,406.6638649782214,115.6165971825605,591.35616396315038,null,0,0,0,0,0,0,0,0,0,0,0,0,0,null,{"$f":"(SUM(aem2csp2!$B64,aem2csp2!$C64) * Emissions!AG47)/1000","v":0},{"$f":"(SUM(aem2csp2!$B64,aem2csp2!$C64) * Emissions!AH47)/1000","v":0},{"$f":"(SUM(aem2csp2!$B64,aem2csp2!$C64) * Emissions!AI47)/1000","v":0},{"$f":"(SUM(aem2csp2!$B64,aem2csp2!$C64) * Emissions!AJ47)/1000","v":0},{"$f":"(SUM(aem2csp2!$B64,aem2csp2!$C64) * Emissions!AK47)/1000","v":0},{"$f":"(SUM(aem2csp2!$B64,aem2csp2!$C64) * Emissions!AL47)/1000","v":0},{"$f":"(SUM(aem2csp2!$B64,aem2csp2!$C64) * Emissions!AM47)/1000","v":0},{"$f":"(SUM(aem2csp2!$B64,aem2csp2!$C64) * Emissions!AN47)/1000","v":0},{"$f":"(SUM(aem2csp2!$B64,aem2csp2!$C64) * Emissions!AO47)/1000","v":0},{"$f":"(SUM(aem2csp2!$B64,aem2csp2!$C64) * Emissions!AP47)/1000","v":0},{"$f":"(SUM(aem2csp2!$B64,aem2csp2!$C64) * Emissions!AQ47)/1000","v":0},{"$f":"(SUM(aem2csp2!$B64,aem2csp2!$C64) * Emissions!AR47)/1000","v":0},{"$f":"(SUM(aem2csp2!$B64,aem2csp2!$C64) * Emissions!AS47)/1000","v":0},null,{"$f":"(SUM(aem2csp2!$D64,aem2csp2!$E64) * Emissions!AG47)/1000","v":0},{"$f":"(SUM(aem2csp2!$D64,aem2csp2!$E64) * Emissions!AH47)/1000","v":0},{"$f":"(SUM(aem2csp2!$D64,aem2csp2!$E64) * Emissions!AI47)/1000","v":0},{"$f":"(SUM(aem2csp2!$D64,aem2csp2!$E64) * Emissions!AJ47)/1000","v":0},{"$f":"(SUM(aem2csp2!$D64,aem2csp2!$E64) * Emissions!AK47)/1000","v":0},{"$f":"(SUM(aem2csp2!$D64,aem2csp2!$E64) * Emissions!AL47)/1000","v":0},{"$f":"(SUM(aem2csp2!$D64,aem2csp2!$E64) * Emissions!AM47)/1000","v":0},{"$f":"(SUM(aem2csp2!$D64,aem2csp2!$E64) * Emissions!AN47)/1000","v":0},{"$f":"(SUM(aem2csp2!$D64,aem2csp2!$E64) * Emissions!AO47)/1000","v":0},{"$f":"(SUM(aem2csp2!$D64,aem2csp2!$E64) * Emissions!AP47)/1000","v":0},{"$f":"(SUM(aem2csp2!$D64,aem2csp2!$E64) * Emissions!AQ47)/1000","v":0},{"$f":"(SUM(aem2csp2!$D64,aem2csp2!$E64) * Emissions!AR47)/1000","v":0},{"$f":"(SUM(aem2csp2!$D64,aem2csp2!$E64) * Emissions!AS47)/1000","v":0}]
["767JT9 "," Arrival ",167.046601644746,1313.02862844027,1699.92364753063,193.14496859139501,192.13781415267499,193.14496859139501,326.47677639473,879469.11673956004,344818.794740677,14.044306692268099,61.2571888848356,14.941272490850499,90.242768067954202,null,"767JT9 "," Departure ",141.319359778109,518.17098585306803,33980.340159294901,163.39825555833099,162.54621535472199,163.39825555833099,1165.5470781307399,3139772.0555861299,1231029.4874041299,54.799227092149799,360.37514625391998,93.8379324856474,509.01230583171701,null,308.36596142285498,1831.1996142933381,35680.263806825533,356.54322414972603,354.68402950739699,356.54322414972603,1492.0238545254699,4019241.1723256898,1575848.2821448068,68.8435337844179,421.63233513875559,108.77920497649789,599.25507389967117,null,0,0,0,0,0,0,0,0,0,0,0,0,0,null,{"$f":"(SUM(aem2csp2!$B65,aem2csp2!$C65) * Emissions!AG48)/1000","v":0},{"$f":"(SUM(aem2csp2!$B65,aem2csp2!$C65) * Emissions!AH48)/1000","v":0},{"$f":"(SUM(aem2csp2!$B65,aem2csp2!$C65) * Emissions!AI48)/1000","v":0},{"$f":"(SUM(aem2csp2!$B65,aem2csp2!$C65) * Emissions!AJ48)/1000","v":0},{"$f":"(SUM(aem2csp2!$B65,aem2csp2!$C65) * Emissions!AK48)/1000","v":0},{"$f":"(SUM(aem2csp2!$B65,aem2csp2!$C65) * Emissions!AL48)/1000","v":0},{"$f":"(SUM(aem2csp2!$B65,aem2csp2!$C65) * Emissions!AM48)/1000","v":0},{"$f":"(SUM(aem2csp2!$B65,aem2csp2!$C65) * Emissions!AN48)/1000","v":0},{"$f":"(SUM(aem2csp2!$B65,aem2csp2!$C65) * Emissions!AO48)/1000","v":0},{"$f":"(SUM(aem2csp2!$B65,aem2csp2!$C65) * Emissions!AP48)/1000","v":0},{"$f":"(SUM(aem2csp2!$B65,aem2csp2!$C65) * Emissions!AQ48)/1000","v":0},{"$f":"(SUM(aem2csp2!$B65,aem2csp2!$C65) * Emissions!AR48)/1000","v":0},{"$f":"(SUM(aem2csp2!$B65,aem2csp2!$C65) * Emissions!AS48)/1000","v":0},null,{"$f":"(SUM(aem2csp2!$D65,aem2csp2!$E65) * Emissions!AG48)/1000","v":0},{"$f":"(SUM(aem2csp2!$D65,aem2csp2!$E65) * Emissions!AH48)/1000","v":0},{"$f":"(SUM(aem2csp2!$D65,aem2csp2!$E65) * Emissions!AI48)/1000","v":0},{"$f":"(SUM(aem2csp2!$D65,aem2csp2!$E65) * Emissions!AJ48)/1000","v":0},{"$f":"(SUM(aem2csp2!$D65,aem2csp2!$E65) * Emissions!AK48)/1000","v":0},{"$f":"(SUM(aem2csp2!$D65,aem2csp2!$E65) * Emissions!AL48)/1000","v":0},{"$f":"(SUM(aem2csp2!$D65,aem2csp2!$E65) * Emissions!AM48)/1000","v":0},{"$f":"(SUM(aem2csp2!$D65,aem2csp2!$E65) * Emissions!AN48)/1000","v":0},{"$f":"(SUM(aem2csp2!$D65,aem2csp2!$E65) * Emissions!AO48)/1000","v":0},{"$f":"(SUM(aem2csp2!$D65,aem2csp2!$E65) * Emissions!AP48)/1000","v":0},{"$f":"(SUM(aem2csp2!$D65,aem2csp2!$E65) * Emissions!AQ48)/1000","v":0},{"$f":"(SUM(aem2csp2!$D65,aem2csp2!$E65) * Emissions!AR48)/1000","v":0},{"$f":"(SUM(aem2csp2!$D65,aem2csp2!$E65) * Emissions!AS48)/1000","v":0}]
["7773ER "," Arrival ",812.19502977965203,8503.4665584041504,8075.4011188078002,939.08754785980295,934.19067584148797,939.08754785980295,776.90624696544899,2092844.27012977,820554.15599065903,30.7812777449927,65.401029145947703,20.043030727222199,116.225337618163,null,"7773ER "," Departure ",82.134493608582801,186.07049719212301,87256.224803039702,94.966698107616295,94.471494260334097,94.966698107616295,2584.2985552762402,6961630.7564007398,2729488.8258851701,123.09338336126,833.21523524082397,221.11576345717901,1177.4243820592601,null,894.32952338823486,8689.5370555962727,95331.625921847502,1034.0542459674193,1028.6621701018221,1034.0542459674193,3361.2048022416893,9054475.0265305098,3550042.9818758294,153.87466110625269,898.61626438677172,241.15879418440122,1293.649719677423,null,0,0,0,0,0,0,0,0,0,0,0,0,0,null,{"$f":"(SUM(aem2csp2!$B66,aem2csp2!$C66) * Emissions!AG49)/1000","v":0},{"$f":"(SUM(aem2csp2!$B66,aem2csp2!$C66) * Emissions!AH49)/1000","v":0},{"$f":"(SUM(aem2csp2!$B66,aem2csp2!$C66) * Emissions!AI49)/1000","v":0},{"$f":"(SUM(aem2csp2!$B66,aem2csp2!$C66) * Emissions!AJ49)/1000","v":0},{"$f":"(SUM(aem2csp2!$B66,aem2csp2!$C66) * Emissions!AK49)/1000","v":0},{"$f":"(SUM(aem2csp2!$B66,aem2csp2!$C66) * Emissions!AL49)/1000","v":0},{"$f":"(SUM(aem2csp2!$B66,aem2csp2!$C66) * Emissions!AM49)/1000","v":0},{"$f":"(SUM(aem2csp2!$B66,aem2csp2!$C66) * Emissions!AN49)/1000","v":0},{"$f":"(SUM(aem2csp2!$B66,aem2csp2!$C66) * Emissions!AO49)/1000","v":0},{"$f":"(SUM(aem2csp2!$B66,aem2csp2!$C66) * Emissions!AP49)/1000","v":0},{"$f":"(SUM(aem2csp2!$B66,aem2csp2!$C66) * Emissions!AQ49)/1000","v":0},{"$f":"(SUM(aem2csp2!$B66,aem2csp2!$C66) * Emissions!AR49)/1000","v":0},{"$f":"(SUM(aem2csp2!$B66,aem2csp2!$C66) * Emissions!AS49)/1000","v":0},null,{"$f":"(SUM(aem2csp2!$D66,aem2csp2!$E66) * Emissions!AG49)/1000","v":0},{"$f":"(SUM(aem2csp2!$D66,aem2csp2!$E66) * Emissions!AH49)/1000","v":0},{"$f":"(SUM(aem2csp2!$D66,aem2csp2!$E66) * Emissions!AI49)/1000","v":0},{"$f":"(SUM(aem2csp2!$D66,aem2csp2!$E66) * Emissions!AJ49)/1000","v":0},{"$f":"(SUM(aem2csp2!$D66,aem2csp2!$E66) * Emissions!AK49)/1000","v":0},{"$f":"(SUM(aem2csp2!$D66,aem2csp2!$E66) * Emissions!AL49)/1000","v":0},{"$f":"(SUM(aem2csp2!$D66,aem2csp2!$E66) * Emissions!AM49)/1000","v":0},{"$f":"(SUM(aem2csp2!$D66,aem2csp2!$E66) * Emissions!AN49)/1000","v":0},{"$f":"(SUM(aem2csp2!$D66,aem2csp2!$E66) * Emissions!AO49)/1000","v":0},{"$f":"(SUM(aem2csp2!$D66,aem2csp2!$E66) * Emissions!AP49)/1000","v":0},{"$f":"(SUM(aem2csp2!$D66,aem2csp2!$E66) * Emissions!AQ49)/1000","v":0},{"$f":"(SUM(aem2csp2!$D66,aem2csp2!$E66) * Emissions!AR49)/1000","v":0},{"$f":"(SUM(aem2csp2!$D66,aem2csp2!$E66) * Emissions!AS49)/1000","v":0}]
["7878R "," Arrival ",165.64206672399399,2314.2332563034402,2835.77002678394,191.520997493012,190.522311251584,191.520997493012,382.66588606398602,1030832.36896506,404164.703774889,15.097025051181999,31.1172305208312,7.3305951159941696,53.544850688007401,null,"7878R "," Departure ",71.019846282197094,63.917861653977397,32390.611526223602,82.115564426222306,81.687372815521798,82.115564426222306,1578.2674534570001,4251565.7579037296,1666937.1925600399,75.149363673963904,508.91024044580797,143.839328247921,727.89893236769296,null,236.66191300619107,2378.1511179574177,35226.381553007544,273.63656191923428,272.2096840671058,273.63656191923428,1960.933339520986,5282398.12686879,2071101.8963349289,90.246388725145906,540.02747096663916,151.16992336391516,781.44378305570035,null,0,0,0,0,0,0,0,0,0,0,0,0,0,null,{"$f":"(SUM(aem2csp2!$B67,aem2csp2!$C67) * Emissions!AG50)/1000","v":0},{"$f":"(SUM(aem2csp2!$B67,aem2csp2!$C67) * Emissions!AH50)/1000","v":0},{"$f":"(SUM(aem2csp2!$B67,aem2csp2!$C67) * Emissions!AI50)/1000","v":0},{"$f":"(SUM(aem2csp2!$B67,aem2csp2!$C67) * Emissions!AJ50)/1000","v":0},{"$f":"(SUM(aem2csp2!$B67,aem2csp2!$C67) * Emissions!AK50)/1000","v":0},{"$f":"(SUM(aem2csp2!$B67,aem2csp2!$C67) * Emissions!AL50)/1000","v":0},{"$f":"(SUM(aem2csp2!$B67,aem2csp2!$C67) * Emissions!AM50)/1000","v":0},{"$f":"(SUM(aem2csp2!$B67,aem2csp2!$C67) * Emissions!AN50)/1000","v":0},{"$f":"(SUM(aem2csp2!$B67,aem2csp2!$C67) * Emissions!AO50)/1000","v":0},{"$f":"(SUM(aem2csp2!$B67,aem2csp2!$C67) * Emissions!AP50)/1000","v":0},{"$f":"(SUM(aem2csp2!$B67,aem2csp2!$C67) * Emissions!AQ50)/1000","v":0},{"$f":"(SUM(aem2csp2!$B67,aem2csp2!$C67) * Emissions!AR50)/1000","v":0},{"$f":"(SUM(aem2csp2!$B67,aem2csp2!$C67) * Emissions!AS50)/1000","v":0},null,{"$f":"(SUM(aem2csp2!$D67,aem2csp2!$E67) * Emissions!AG50)/1000","v":0},{"$f":"(SUM(aem2csp2!$D67,aem2csp2!$E67) * Emissions!AH50)/1000","v":0},{"$f":"(SUM(aem2csp2!$D67,aem2csp2!$E67) * Emissions!AI50)/1000","v":0},{"$f":"(SUM(aem2csp2!$D67,aem2csp2!$E67) * Emissions!AJ50)/1000","v":0},{"$f":"(SUM(aem2csp2!$D67,aem2csp2!$E67) * Emissions!AK50)/1000","v":0},{"$f":"(SUM(aem2csp2!$D67,aem2csp2!$E67) * Emissions!AL50)/1000","v":0},{"$f":"(SUM(aem2csp2!$D67,aem2csp2!$E67) * Emissions!AM50)/1000","v":0},{"$f":"(SUM(aem2csp2!$D67,aem2csp2!$E67) * Emissions!AN50)/1000","v":0},{"$f":"(SUM(aem2csp2!$D67,aem2csp2!$E67) * Emissions!AO50)/1000","v":0},{"$f":"(SUM(aem2csp2!$D67,aem2csp2!$E67) * Emissions!AP50)/1000","v":0},{"$f":"(SUM(aem2csp2!$D67,aem2csp2!$E67) * Emissions!AQ50)/1000","v":0},{"$f":"(SUM(aem2csp2!$D67,aem2csp2!$E67) * Emissions!AR50)/1000","v":0},{"$f":"(SUM(aem2csp2!$D67,aem2csp2!$E67) * Emissions!AS50)/1000","v":0}]
["A10A "," Arrival ",174.64948746272,3006.5499016233298,438.05544285529299,201.93568404479601,200.88269042034401,201.93568404479601,128.51531859617899,346196.91783721501,135735.52689845799,6.4576413590491999,55.089426137302603,12.8158375410567,74.362905037408495,null,"A10A "," Departure ",126.691220144384,1233.73116759651,1798.1920297552399,146.48470244029201,145.720857959417,146.48470244029201,313.11721463158898,843480.88470172801,330708.670166731,17.542825226811999,180.69787391497999,44.727013202160101,242.967712343952,null,301.34070760710404,4240.28106921984,2236.2474726105329,348.42038648508799,346.60354837976104,348.42038648508799,441.63253322776796,1189677.802538943,466444.19706518902,24.000466585861197,235.7873000522826,57.542850743216803,317.33061738136053,null,0,0,0,0,0,0,0,0,0,0,0,0,0,null,{"$f":"(SUM(aem2csp2!$B68,aem2csp2!$C68) * Emissions!AG51)/1000","v":0},{"$f":"(SUM(aem2csp2!$B68,aem2csp2!$C68) * Emissions!AH51)/1000","v":0},{"$f":"(SUM(aem2csp2!$B68,aem2csp2!$C68) * Emissions!AI51)/1000","v":0},{"$f":"(SUM(aem2csp2!$B68,aem2csp2!$C68) * Emissions!AJ51)/1000","v":0},{"$f":"(SUM(aem2csp2!$B68,aem2csp2!$C68) * Emissions!AK51)/1000","v":0},{"$f":"(SUM(aem2csp2!$B68,aem2csp2!$C68) * Emissions!AL51)/1000","v":0},{"$f":"(SUM(aem2csp2!$B68,aem2csp2!$C68) * Emissions!AM51)/1000","v":0},{"$f":"(SUM(aem2csp2!$B68,aem2csp2!$C68) * Emissions!AN51)/1000","v":0},{"$f":"(SUM(aem2csp2!$B68,aem2csp2!$C68) * Emissions!AO51)/1000","v":0},{"$f":"(SUM(aem2csp2!$B68,aem2csp2!$C68) * Emissions!AP51)/1000","v":0},{"$f":"(SUM(aem2csp2!$B68,aem2csp2!$C68) * Emissions!AQ51)/1000","v":0},{"$f":"(SUM(aem2csp2!$B68,aem2csp2!$C68) * Emissions!AR51)/1000","v":0},{"$f":"(SUM(aem2csp2!$B68,aem2csp2!$C68) * Emissions!AS51)/1000","v":0},null,{"$f":"(SUM(aem2csp2!$D68,aem2csp2!$E68) * Emissions!AG51)/1000","v":0},{"$f":"(SUM(aem2csp2!$D68,aem2csp2!$E68) * Emissions!AH51)/1000","v":0},{"$f":"(SUM(aem2csp2!$D68,aem2csp2!$E68) * Emissions!AI51)/1000","v":0},{"$f":"(SUM(aem2csp2!$D68,aem2csp2!$E68) * Emissions!AJ51)/1000","v":0},{"$f":"(SUM(aem2csp2!$D68,aem2csp2!$E68) * Emissions!AK51)/1000","v":0},{"$f":"(SUM(aem2csp2!$D68,aem2csp2!$E68) * Emissions!AL51)/1000","v":0},{"$f":"(SUM(aem2csp2!$D68,aem2csp2!$E68) * Emissions!AM51)/1000","v":0},{"$f":"(SUM(aem2csp2!$D68,aem2csp2!$E68) * Emissions!AN51)/1000","v":0},{"$f":"(SUM(aem2csp2!$D68,aem2csp2!$E68) * Emissions!AO51)/1000","v":0},{"$f":"(SUM(aem2csp2!$D68,aem2csp2!$E68) * Emissions!AP51)/1000","v":0},{"$f":"(SUM(aem2csp2!$D68,aem2csp2!$E68) * Emissions!AQ51)/1000","v":0},{"$f":"(SUM(aem2csp2!$D68,aem2csp2!$E68) * Emissions!AR51)/1000","v":0},{"$f":"(SUM(aem2csp2!$D68,aem2csp2!$E68) * Emissions!AS51)/1000","v":0}]
["A3 "," Arrival ",825.19273587575503,3485.3535291594399,7446.5346325009295,954.11593820701205,949.14070064723103,954.11593820701205,1185.7164889194501,3194104.7835902199,1252332.04985772,61.335458833566797,540.57878586982895,131.34339231451099,733.25763701790697,null,"A3 "," Departure ",850.36346741706495,1780.29221359744,7830.7100421843998,983.219195053313,978.09219856070695,983.219195053313,1021.07305353428,2750585.2833851101,1078438.6673684299,46.547990999661302,306.95772788258,66.309405496356504,419.815124378598,null,1675.5562032928201,5265.6457427568803,15277.244674685329,1937.3351332603252,1927.2328992079379,1937.3351332603252,2206.7895424537301,5944690.06697533,2330770.71722615,107.8834498332281,847.53651375240895,197.6527978108675,1153.072761396505,null,0,0,0,0,0,0,0,0,0,0,0,0,0,null,{"$f":"(SUM(aem2csp2!$B69,aem2csp2!$C69) * Emissions!AG52)/1000","v":0},{"$f":"(SUM(aem2csp2!$B69,aem2csp2!$C69) * Emissions!AH52)/1000","v":0},{"$f":"(SUM(aem2csp2!$B69,aem2csp2!$C69) * Emissions!AI52)/1000","v":0},{"$f":"(SUM(aem2csp2!$B69,aem2csp2!$C69) * Emissions!AJ52)/1000","v":0},{"$f":"(SUM(aem2csp2!$B69,aem2csp2!$C69) * Emissions!AK52)/1000","v":0},{"$f":"(SUM(aem2csp2!$B69,aem2csp2!$C69) * Emissions!AL52)/1000","v":0},{"$f":"(SUM(aem2csp2!$B69,aem2csp2!$C69) * Emissions!AM52)/1000","v":0},{"$f":"(SUM(aem2csp2!$B69,aem2csp2!$C69) * Emissions!AN52)/1000","v":0},{"$f":"(SUM(aem2csp2!$B69,aem2csp2!$C69) * Emissions!AO52)/1000","v":0},{"$f":"(SUM(aem2csp2!$B69,aem2csp2!$C69) * Emissions!AP52)/1000","v":0},{"$f":"(SUM(aem2csp2!$B69,aem2csp2!$C69) * Emissions!AQ52)/1000","v":0},{"$f":"(SUM(aem2csp2!$B69,aem2csp2!$C69) * Emissions!AR52)/1000","v":0},{"$f":"(SUM(aem2csp2!$B69,aem2csp2!$C69) * Emissions!AS52)/1000","v":0},null,{"$f":"(SUM(aem2csp2!$D69,aem2csp2!$E69) * Emissions!AG52)/1000","v":0},{"$f":"(SUM(aem2csp2!$D69,aem2csp2!$E69) * Emissions!AH52)/1000","v":0},{"$f":"(SUM(aem2csp2!$D69,aem2csp2!$E69) * Emissions!AI52)/1000","v":0},{"$f":"(SUM(aem2csp2!$D69,aem2csp2!$E69) * Emissions!AJ52)/1000","v":0},{"$f":"(SUM(aem2csp2!$D69,aem2csp2!$E69) * Emissions!AK52)/1000","v":0},{"$f":"(SUM(aem2csp2!$D69,aem2csp2!$E69) * Emissions!AL52)/1000","v":0},{"$f":"(SUM(aem2csp2!$D69,aem2csp2!$E69) * Emissions!AM52)/1000","v":0},{"$f":"(SUM(aem2csp2!$D69,aem2csp2!$E69) * Emissions!AN52)/1000","v":0},{"$f":"(SUM(aem2csp2!$D69,aem2csp2!$E69) * Emissions!AO52)/1000","v":0},{"$f":"(SUM(aem2csp2!$D69,aem2csp2!$E69) * Emissions!AP52)/1000","v":0},{"$f":"(SUM(aem2csp2!$D69,aem2csp2!$E69) * Emissions!AQ52)/1000","v":0},{"$f":"(SUM(aem2csp2!$D69,aem2csp2!$E69) * Emissions!AR52)/1000","v":0},{"$f":"(SUM(aem2csp2!$D69,aem2csp2!$E69) * Emissions!AS52)/1000","v":0}]
["A300-622R "," Arrival ",457.75844711442699,3228.4559208573901,3141.30843149469,529.27590277106594,526.51599357606597,529.27590277106594,385.20767762484297,1037679.49360176,406849.29749140202,15.260078568617701,33.835021394039998,8.5464691322911399,57.6415690949488,null,"A300-622R "," Departure ",104.49835994622001,596.25534792842996,32846.302776415097,120.824561834477,120.194522156791,120.824561834477,1363.80517686599,3673843.3512740699,1440426.0619733799,66.949594213170798,501.50872417788798,143.15939850685001,711.61771689790896,null,562.25680706064702,3824.7112687858198,35987.611207909787,650.10046460554292,646.71051573285695,650.10046460554292,1749.012854490833,4711522.8448758302,1847275.3594647818,82.209672781788498,535.34374557192803,151.70586763914116,769.25928599285771,null,0,0,0,0,0,0,0,0,0,0,0,0,0,null,{"$f":"(SUM(aem2csp2!$B70,aem2csp2!$C70) * Emissions!AG53)/1000","v":0},{"$f":"(SUM(aem2csp2!$B70,aem2csp2!$C70) * Emissions!AH53)/1000","v":0},{"$f":"(SUM(aem2csp2!$B70,aem2csp2!$C70) * Emissions!AI53)/1000","v":0},{"$f":"(SUM(aem2csp2!$B70,aem2csp2!$C70) * Emissions!AJ53)/1000","v":0},{"$f":"(SUM(aem2csp2!$B70,aem2csp2!$C70) * Emissions!AK53)/1000","v":0},{"$f":"(SUM(aem2csp2!$B70,aem2csp2!$C70) * Emissions!AL53)/1000","v":0},{"$f":"(SUM(aem2csp2!$B70,aem2csp2!$C70) * Emissions!AM53)/1000","v":0},{"$f":"(SUM(aem2csp2!$B70,aem2csp2!$C70) * Emissions!AN53)/1000","v":0},{"$f":"(SUM(aem2csp2!$B70,aem2csp2!$C70) * Emissions!AO53)/1000","v":0},{"$f":"(SUM(aem2csp2!$B70,aem2csp2!$C70) * Emissions!AP53)/1000","v":0},{"$f":"(SUM(aem2csp2!$B70,aem2csp2!$C70) * Emissions!AQ53)/1000","v":0},{"$f":"(SUM(aem2csp2!$B70,aem2csp2!$C70) * Emissions!AR53)/1000","v":0},{"$f":"(SUM(aem2csp2!$B70,aem2csp2!$C70) * Emissions!AS53)/1000","v":0},null,{"$f":"(SUM(aem2csp2!$D70,aem2csp2!$E70) * Emissions!AG53)/1000","v":0},{"$f":"(SUM(aem2csp2!$D70,aem2csp2!$E70) * Emissions!AH53)/1000","v":0},{"$f":"(SUM(aem2csp2!$D70,aem2csp2!$E70) * Emissions!AI53)/1000","v":0},{"$f":"(SUM(aem2csp2!$D70,aem2csp2!$E70) * Emissions!AJ53)/1000","v":0},{"$f":"(SUM(aem2csp2!$D70,aem2csp2!$E70) * Emissions!AK53)/1000","v":0},{"$f":"(SUM(aem2csp2!$D70,aem2csp2!$E70) * Emissions!AL53)/1000","v":0},{"$f":"(SUM(aem2csp2!$D70,aem2csp2!$E70) * Emissions!AM53)/1000","v":0},{"$f":"(SUM(aem2csp2!$D70,aem2csp2!$E70) * Emissions!AN53)/1000","v":0},{"$f":"(SUM(aem2csp2!$D70,aem2csp2!$E70) * Emissions!AO53)/1000","v":0},{"$f":"(SUM(aem2csp2!$D70,aem2csp2!$E70) * Emissions!AP53)/1000","v":0},{"$f":"(SUM(aem2csp2!$D70,aem2csp2!$E70) * Emissions!AQ53)/1000","v":0},{"$f":"(SUM(aem2csp2!$D70,aem2csp2!$E70) * Emissions!AR53)/1000","v":0},{"$f":"(SUM(aem2csp2!$D70,aem2csp2!$E70) * Emissions!AS53)/1000","v":0}]
["A300B4-203 "," Arrival ",238.04930456835899,2634.6811875131998,2665.9968716885701,275.24071128270799,273.80546859372498,275.24071128270799,415.195761953648,1118461.9441288901,438522.16319728701,17.823875565310001,79.012592833755306,20.869567485152601,117.706035884218,null,"A300B4-203 "," Departure ",183.68209276960201,592.23641346851502,31092.673920811299,212.37948985179,211.27203700195801,212.37948985179,1382.84844521419,3725142.4561567199,1460539.2133964701,66.026258457861204,457.71192558502099,143.064542235018,666.802726277901,null,421.73139733796097,3226.9176009817147,33758.67079249987,487.62020113449796,485.07750559568296,487.62020113449796,1798.0442071678381,4843604.40028561,1899061.376593757,83.850134023171208,536.72451841877626,163.9341097201706,784.50876216211896,null,0,0,0,0,0,0,0,0,0,0,0,0,0,null,{"$f":"(SUM(aem2csp2!$B71,aem2csp2!$C71) * Emissions!AG54)/1000","v":0},{"$f":"(SUM(aem2csp2!$B71,aem2csp2!$C71) * Emissions!AH54)/1000","v":0},{"$f":"(SUM(aem2csp2!$B71,aem2csp2!$C71) * Emissions!AI54)/1000","v":0},{"$f":"(SUM(aem2csp2!$B71,aem2csp2!$C71) * Emissions!AJ54)/1000","v":0},{"$f":"(SUM(aem2csp2!$B71,aem2csp2!$C71) * Emissions!AK54)/1000","v":0},{"$f":"(SUM(aem2csp2!$B71,aem2csp2!$C71) * Emissions!AL54)/1000","v":0},{"$f":"(SUM(aem2csp2!$B71,aem2csp2!$C71) * Emissions!AM54)/1000","v":0},{"$f":"(SUM(aem2csp2!$B71,aem2csp2!$C71) * Emissions!AN54)/1000","v":0},{"$f":"(SUM(aem2csp2!$B71,aem2csp2!$C71) * Emissions!AO54)/1000","v":0},{"$f":"(SUM(aem2csp2!$B71,aem2csp2!$C71) * Emissions!AP54)/1000","v":0},{"$f":"(SUM(aem2csp2!$B71,aem2csp2!$C71) * Emissions!AQ54)/1000","v":0},{"$f":"(SUM(aem2csp2!$B71,aem2csp2!$C71) * Emissions!AR54)/1000","v":0},{"$f":"(SUM(aem2csp2!$B71,aem2csp2!$C71) * Emissions!AS54)/1000","v":0},null,{"$f":"(SUM(aem2csp2!$D71,aem2csp2!$E71) * Emissions!AG54)/1000","v":0},{"$f":"(SUM(aem2csp2!$D71,aem2csp2!$E71) * Emissions!AH54)/1000","v":0},{"$f":"(SUM(aem2csp2!$D71,aem2csp2!$E71) * Emissions!AI54)/1000","v":0},{"$f":"(SUM(aem2csp2!$D71,aem2csp2!$E71) * Emissions!AJ54)/1000","v":0},{"$f":"(SUM(aem2csp2!$D71,aem2csp2!$E71) * Emissions!AK54)/1000","v":0},{"$f":"(SUM(aem2csp2!$D71,aem2csp2!$E71) * Emissions!AL54)/1000","v":0},{"$f":"(SUM(aem2csp2!$D71,aem2csp2!$E71) * Emissions!AM54)/1000","v":0},{"$f":"(SUM(aem2csp2!$D71,aem2csp2!$E71) * Emissions!AN54)/1000","v":0},{"$f":"(SUM(aem2csp2!$D71,aem2csp2!$E71) * Emissions!AO54)/1000","v":0},{"$f":"(SUM(aem2csp2!$D71,aem2csp2!$E71) * Emissions!AP54)/1000","v":0},{"$f":"(SUM(aem2csp2!$D71,aem2csp2!$E71) * Emissions!AQ54)/1000","v":0},{"$f":"(SUM(aem2csp2!$D71,aem2csp2!$E71) * Emissions!AR54)/1000","v":0},{"$f":"(SUM(aem2csp2!$D71,aem2csp2!$E71) * Emissions!AS54)/1000","v":0}]
["A310-304 "," Arrival ",845.65155906259395,4122.6104604293596,3014.8853063316901,977.77112617810496,972.67253864065003,977.77112617810496,394.34855660471601,1062303.36073077,416503.72653691401,15.4161631264243,29.921541374004001,10.348861179571299,55.686565679999703,null,"A310-304 "," Departure ",91.287641371040394,568.01199075314105,25943.695867497201,105.549879206098,104.999489360978,105.549879206098,1126.33937356819,3034153.6232988699,1189619.0275818401,54.320102553689097,385.53085151478803,105.87780984679399,545.72876391527097,null,936.93920043363437,4690.6224511825003,28958.58117382889,1083.3210053842029,1077.672028001628,1083.3210053842029,1520.6879301729059,4096456.98402964,1606122.7541187541,69.736265680113391,415.45239288879202,116.2266710263653,601.41532959527069,null,0,0,0,0,0,0,0,0,0,0,0,0,0,null,{"$f":"(SUM(aem2csp2!$B72,aem2csp2!$C72) * Emissions!AG55)/1000","v":0},{"$f":"(SUM(aem2csp2!$B72,aem2csp2!$C72) * Emissions!AH55)/1000","v":0},{"$f":"(SUM(aem2csp2!$B72,aem2csp2!$C72) * Emissions!AI55)/1000","v":0},{"$f":"(SUM(aem2csp2!$B72,aem2csp2!$C72) * Emissions!AJ55)/1000","v":0},{"$f":"(SUM(aem2csp2!$B72,aem2csp2!$C72) * Emissions!AK55)/1000","v":0},{"$f":"(SUM(aem2csp2!$B72,aem2csp2!$C72) * Emissions!AL55)/1000","v":0},{"$f":"(SUM(aem2csp2!$B72,aem2csp2!$C72) * Emissions!AM55)/1000","v":0},{"$f":"(SUM(aem2csp2!$B72,aem2csp2!$C72) * Emissions!AN55)/1000","v":0},{"$f":"(SUM(aem2csp2!$B72,aem2csp2!$C72) * Emissions!AO55)/1000","v":0},{"$f":"(SUM(aem2csp2!$B72,aem2csp2!$C72) * Emissions!AP55)/1000","v":0},{"$f":"(SUM(aem2csp2!$B72,aem2csp2!$C72) * Emissions!AQ55)/1000","v":0},{"$f":"(SUM(aem2csp2!$B72,aem2csp2!$C72) * Emissions!AR55)/1000","v":0},{"$f":"(SUM(aem2csp2!$B72,aem2csp2!$C72) * Emissions!AS55)/1000","v":0},null,{"$f":"(SUM(aem2csp2!$D72,aem2csp2!$E72) * Emissions!AG55)/1000","v":0},{"$f":"(SUM(aem2csp2!$D72,aem2csp2!$E72) * Emissions!AH55)/1000","v":0},{"$f":"(SUM(aem2csp2!$D72,aem2csp2!$E72) * Emissions!AI55)/1000","v":0},{"$f":"(SUM(aem2csp2!$D72,aem2csp2!$E72) * Emissions!AJ55)/1000","v":0},{"$f":"(SUM(aem2csp2!$D72,aem2csp2!$E72) * Emissions!AK55)/1000","v":0},{"$f":"(SUM(aem2csp2!$D72,aem2csp2!$E72) * Emissions!AL55)/1000","v":0},{"$f":"(SUM(aem2csp2!$D72,aem2csp2!$E72) * Emissions!AM55)/1000","v":0},{"$f":"(SUM(aem2csp2!$D72,aem2csp2!$E72) * Emissions!AN55)/1000","v":0},{"$f":"(SUM(aem2csp2!$D72,aem2csp2!$E72) * Emissions!AO55)/1000","v":0},{"$f":"(SUM(aem2csp2!$D72,aem2csp2!$E72) * Emissions!AP55)/1000","v":0},{"$f":"(SUM(aem2csp2!$D72,aem2csp2!$E72) * Emissions!AQ55)/1000","v":0},{"$f":"(SUM(aem2csp2!$D72,aem2csp2!$E72) * Emissions!AR55)/1000","v":0},{"$f":"(SUM(aem2csp2!$D72,aem2csp2!$E72) * Emissions!AS55)/1000","v":0}]
["A319-131 "," Arrival ",13.8805815599775,988.83203950345603,1703.35220380428,16.049201019567501,15.965512460851,16.049201019567501,229.81400204506301,619077.16568662401,242725.341982363,9.0847019891021201,18.753147617585501,29.8307147057421,57.668564312429702,null,"A319-131 "," Departure ",23.818963777418201,360.18920834144501,13398.112300720801,27.5402969313485,27.396688052999998,27.5402969313485,646.59776762900003,1741816.9030648,682924.72554394801,30.668863736841502,204.831597787871,91.153646862203104,326.65410838691503,null,37.699545337395705,1349.0212478449012,15101.46450452508,43.589497950915998,43.362200513851,43.589497950915998,876.41176967406307,2360894.0687514241,925650.06752631103,39.753565725943623,223.58474540545652,120.9843615679452,384.32267269934471,null,0,0,0,0,0,0,0,0,0,0,0,0,0,null,{"$f":"(SUM(aem2csp2!$B73,aem2csp2!$C73) * Emissions!AG56)/1000","v":0},{"$f":"(SUM(aem2csp2!$B73,aem2csp2!$C73) * Emissions!AH56)/1000","v":0},{"$f":"(SUM(aem2csp2!$B73,aem2csp2!$C73) * Emissions!AI56)/1000","v":0},{"$f":"(SUM(aem2csp2!$B73,aem2csp2!$C73) * Emissions!AJ56)/1000","v":0},{"$f":"(SUM(aem2csp2!$B73,aem2csp2!$C73) * Emissions!AK56)/1000","v":0},{"$f":"(SUM(aem2csp2!$B73,aem2csp2!$C73) * Emissions!AL56)/1000","v":0},{"$f":"(SUM(aem2csp2!$B73,aem2csp2!$C73) * Emissions!AM56)/1000","v":0},{"$f":"(SUM(aem2csp2!$B73,aem2csp2!$C73) * Emissions!AN56)/1000","v":0},{"$f":"(SUM(aem2csp2!$B73,aem2csp2!$C73) * Emissions!AO56)/1000","v":0},{"$f":"(SUM(aem2csp2!$B73,aem2csp2!$C73) * Emissions!AP56)/1000","v":0},{"$f":"(SUM(aem2csp2!$B73,aem2csp2!$C73) * Emissions!AQ56)/1000","v":0},{"$f":"(SUM(aem2csp2!$B73,aem2csp2!$C73) * Emissions!AR56)/1000","v":0},{"$f":"(SUM(aem2csp2!$B73,aem2csp2!$C73) * Emissions!AS56)/1000","v":0},null,{"$f":"(SUM(aem2csp2!$D73,aem2csp2!$E73) * Emissions!AG56)/1000","v":0},{"$f":"(SUM(aem2csp2!$D73,aem2csp2!$E73) * Emissions!AH56)/1000","v":0},{"$f":"(SUM(aem2csp2!$D73,aem2csp2!$E73) * Emissions!AI56)/1000","v":0},{"$f":"(SUM(aem2csp2!$D73,aem2csp2!$E73) * Emissions!AJ56)/1000","v":0},{"$f":"(SUM(aem2csp2!$D73,aem2csp2!$E73) * Emissions!AK56)/1000","v":0},{"$f":"(SUM(aem2csp2!$D73,aem2csp2!$E73) * Emissions!AL56)/1000","v":0},{"$f":"(SUM(aem2csp2!$D73,aem2csp2!$E73) * Emissions!AM56)/1000","v":0},{"$f":"(SUM(aem2csp2!$D73,aem2csp2!$E73) * Emissions!AN56)/1000","v":0},{"$f":"(SUM(aem2csp2!$D73,aem2csp2!$E73) * Emissions!AO56)/1000","v":0},{"$f":"(SUM(aem2csp2!$D73,aem2csp2!$E73) * Emissions!AP56)/1000","v":0},{"$f":"(SUM(aem2csp2!$D73,aem2csp2!$E73) * Emissions!AQ56)/1000","v":0},{"$f":"(SUM(aem2csp2!$D73,aem2csp2!$E73) * Emissions!AR56)/1000","v":0},{"$f":"(SUM(aem2csp2!$D73,aem2csp2!$E73) * Emissions!AS56)/1000","v":0}]
["A320-211 "," Arrival ",109.290733430964,938.13879991015301,1637.19484317771,126.36566723306299,125.706733461276,126.36566723306299,218.54288549253201,588714.82558823202,230820.99500876199,8.4878883488661501,16.582748259635299,7.9979242373746402,33.0685608458761,null,"A320-211 "," Departure ",145.724055965118,570.22456682002598,14586.804153421999,168.49111526525101,167.61251834469999,168.49111526525101,704.53537240973696,1897890.28342958,744117.36310693703,33.424439236025499,229.804594761457,79.592767352333496,342.82180134981598,null,255.01478939608199,1508.363366730179,16223.998996599708,294.85678249831403,293.31925180597602,294.85678249831403,923.078257902269,2486605.1090178122,974938.35811569903,41.912327584891649,246.38734302109231,87.590691589708143,375.89036219569209,null,0,0,0,0,0,0,0,0,0,0,0,0,0,null,{"$f":"(SUM(aem2csp2!$B74,aem2csp2!$C74) * Emissions!AG57)/1000","v":0},{"$f":"(SUM(aem2csp2!$B74,aem2csp2!$C74) * Emissions!AH57)/1000","v":0},{"$f":"(SUM(aem2csp2!$B74,aem2csp2!$C74) * Emissions!AI57)/1000","v":0},{"$f":"(SUM(aem2csp2!$B74,aem2csp2!$C74) * Emissions!AJ57)/1000","v":0},{"$f":"(SUM(aem2csp2!$B74,aem2csp2!$C74) * Emissions!AK57)/1000","v":0},{"$f":"(SUM(aem2csp2!$B74,aem2csp2!$C74) * Emissions!AL57)/1000","v":0},{"$f":"(SUM(aem2csp2!$B74,aem2csp2!$C74) * Emissions!AM57)/1000","v":0},{"$f":"(SUM(aem2csp2!$B74,aem2csp2!$C74) * Emissions!AN57)/1000","v":0},{"$f":"(SUM(aem2csp2!$B74,aem2csp2!$C74) * Emissions!AO57)/1000","v":0},{"$f":"(SUM(aem2csp2!$B74,aem2csp2!$C74) * Emissions!AP57)/1000","v":0},{"$f":"(SUM(aem2csp2!$B74,aem2csp2!$C74) * Emissions!AQ57)/1000","v":0},{"$f":"(SUM(aem2csp2!$B74,aem2csp2!$C74) * Emissions!AR57)/1000","v":0},{"$f":"(SUM(aem2csp2!$B74,aem2csp2!$C74) * Emissions!AS57)/1000","v":0},null,{"$f":"(SUM(aem2csp2!$D74,aem2csp2!$E74) * Emissions!AG57)/1000","v":0},{"$f":"(SUM(aem2csp2!$D74,aem2csp2!$E74) * Emissions!AH57)/1000","v":0},{"$f":"(SUM(aem2csp2!$D74,aem2csp2!$E74) * Emissions!AI57)/1000","v":0},{"$f":"(SUM(aem2csp2!$D74,aem2csp2!$E74) * Emissions!AJ57)/1000","v":0},{"$f":"(SUM(aem2csp2!$D74,aem2csp2!$E74) * Emissions!AK57)/1000","v":0},{"$f":"(SUM(aem2csp2!$D74,aem2csp2!$E74) * Emissions!AL57)/1000","v":0},{"$f":"(SUM(aem2csp2!$D74,aem2csp2!$E74) * Emissions!AM57)/1000","v":0},{"$f":"(SUM(aem2csp2!$D74,aem2csp2!$E74) * Emissions!AN57)/1000","v":0},{"$f":"(SUM(aem2csp2!$D74,aem2csp2!$E74) * Emissions!AO57)/1000","v":0},{"$f":"(SUM(aem2csp2!$D74,aem2csp2!$E74) * Emissions!AP57)/1000","v":0},{"$f":"(SUM(aem2csp2!$D74,aem2csp2!$E74) * Emissions!AQ57)/1000","v":0},{"$f":"(SUM(aem2csp2!$D74,aem2csp2!$E74) * Emissions!AR57)/1000","v":0},{"$f":"(SUM(aem2csp2!$D74,aem2csp2!$E74) * Emissions!AS57)/1000","v":0}]
["A320-232 "," Arrival ",13.191971500577001,815.27875515457299,1920.92317890034,15.253006622404801,15.173469819372301,15.253006622404801,228.94304111224599,616730.95518198202,241805.44898894199,8.9781012348527902,16.5272310637231,30.882939003967401,56.388271302543302,null,"A320-232 "," Departure ",25.315588787374502,355.03569640830102,15091.4529990544,29.270745726445,29.118113422854499,29.270745726445,686.71041127130604,1849873.0768109399,725290.96545646002,32.548978653481498,216.86542890645299,94.610239678087098,344.024647238022,null,38.507560287951506,1170.314451562874,17012.376177954739,44.523752348849797,44.2915832422268,44.523752348849797,915.65345238355201,2466604.0319929221,967096.41444540198,41.527079888334285,233.39265997017608,125.49317868205449,400.41291854056533,null,0,0,0,0,0,0,0,0,0,0,0,0,0,null,{"$f":"(SUM(aem2csp2!$B75,aem2csp2!$C75) * Emissions!AG58)/1000","v":0},{"$f":"(SUM(aem2csp2!$B75,aem2csp2!$C75) * Emissions!AH58)/1000","v":0},{"$f":"(SUM(aem2csp2!$B75,aem2csp2!$C75) * Emissions!AI58)/1000","v":0},{"$f":"(SUM(aem2csp2!$B75,aem2csp2!$C75) * Emissions!AJ58)/1000","v":0},{"$f":"(SUM(aem2csp2!$B75,aem2csp2!$C75) * Emissions!AK58)/1000","v":0},{"$f":"(SUM(aem2csp2!$B75,aem2csp2!$C75) * Emissions!AL58)/1000","v":0},{"$f":"(SUM(aem2csp2!$B75,aem2csp2!$C75) * Emissions!AM58)/1000","v":0},{"$f":"(SUM(aem2csp2!$B75,aem2csp2!$C75) * Emissions!AN58)/1000","v":0},{"$f":"(SUM(aem2csp2!$B75,aem2csp2!$C75) * Emissions!AO58)/1000","v":0},{"$f":"(SUM(aem2csp2!$B75,aem2csp2!$C75) * Emissions!AP58)/1000","v":0},{"$f":"(SUM(aem2csp2!$B75,aem2csp2!$C75) * Emissions!AQ58)/1000","v":0},{"$f":"(SUM(aem2csp2!$B75,aem2csp2!$C75) * Emissions!AR58)/1000","v":0},{"$f":"(SUM(aem2csp2!$B75,aem2csp2!$C75) * Emissions!AS58)/1000","v":0},null,{"$f":"(SUM(aem2csp2!$D75,aem2csp2!$E75) * Emissions!AG58)/1000","v":0},{"$f":"(SUM(aem2csp2!$D75,aem2csp2!$E75) * Emissions!AH58)/1000","v":0},{"$f":"(SUM(aem2csp2!$D75,aem2csp2!$E75) * Emissions!AI58)/1000","v":0},{"$f":"(SUM(aem2csp2!$D75,aem2csp2!$E75) * Emissions!AJ58)/1000","v":0},{"$f":"(SUM(aem2csp2!$D75,aem2csp2!$E75) * Emissions!AK58)/1000","v":0},{"$f":"(SUM(aem2csp2!$D75,aem2csp2!$E75) * Emissions!AL58)/1000","v":0},{"$f":"(SUM(aem2csp2!$D75,aem2csp2!$E75) * Emissions!AM58)/1000","v":0},{"$f":"(SUM(aem2csp2!$D75,aem2csp2!$E75) * Emissions!AN58)/1000","v":0},{"$f":"(SUM(aem2csp2!$D75,aem2csp2!$E75) * Emissions!AO58)/1000","v":0},{"$f":"(SUM(aem2csp2!$D75,aem2csp2!$E75) * Emissions!AP58)/1000","v":0},{"$f":"(SUM(aem2csp2!$D75,aem2csp2!$E75) * Emissions!AQ58)/1000","v":0},{"$f":"(SUM(aem2csp2!$D75,aem2csp2!$E75) * Emissions!AR58)/1000","v":0},{"$f":"(SUM(aem2csp2!$D75,aem2csp2!$E75) * Emissions!AS58)/1000","v":0}]
["A321-232 "," Arrival ",15.126642318782601,909.07764938770504,2200.2735278257501,17.489938896020799,17.398737609647501,17.489938896020799,262.54596022883499,707251.11383365199,277296.23702447797,10.4332157438328,22.98056872031,37.612812537463398,71.026597001606106,null,"A321-232 "," Departure ",32.2539894881943,363.79499771567998,21803.2545661884,37.293160862338297,37.098695675021702,37.293160862338297,834.39718608798796,2247714.4143678299,881275.03346212604,39.586498037936998,264.76716309793699,107.616035013679,411.96969614955401,null,47.380631806976901,1272.8726471033851,24003.528094014149,54.7830997583591,54.497433284669199,54.7830997583591,1096.943146316823,2954965.5282014818,1158571.270486604,50.019713781769795,287.74773181824696,145.22884755114239,482.9962931511601,null,0,0,0,0,0,0,0,0,0,0,0,0,0,null,{"$f":"(SUM(aem2csp2!$B76,aem2csp2!$C76) * Emissions!AG59)/1000","v":0},{"$f":"(SUM(aem2csp2!$B76,aem2csp2!$C76) * Emissions!AH59)/1000","v":0},{"$f":"(SUM(aem2csp2!$B76,aem2csp2!$C76) * Emissions!AI59)/1000","v":0},{"$f":"(SUM(aem2csp2!$B76,aem2csp2!$C76) * Emissions!AJ59)/1000","v":0},{"$f":"(SUM(aem2csp2!$B76,aem2csp2!$C76) * Emissions!AK59)/1000","v":0},{"$f":"(SUM(aem2csp2!$B76,aem2csp2!$C76) * Emissions!AL59)/1000","v":0},{"$f":"(SUM(aem2csp2!$B76,aem2csp2!$C76) * Emissions!AM59)/1000","v":0},{"$f":"(SUM(aem2csp2!$B76,aem2csp2!$C76) * Emissions!AN59)/1000","v":0},{"$f":"(SUM(aem2csp2!$B76,aem2csp2!$C76) * Emissions!AO59)/1000","v":0},{"$f":"(SUM(aem2csp2!$B76,aem2csp2!$C76) * Emissions!AP59)/1000","v":0},{"$f":"(SUM(aem2csp2!$B76,aem2csp2!$C76) * Emissions!AQ59)/1000","v":0},{"$f":"(SUM(aem2csp2!$B76,aem2csp2!$C76) * Emissions!AR59)/1000","v":0},{"$f":"(SUM(aem2csp2!$B76,aem2csp2!$C76) * Emissions!AS59)/1000","v":0},null,{"$f":"(SUM(aem2csp2!$D76,aem2csp2!$E76) * Emissions!AG59)/1000","v":0},{"$f":"(SUM(aem2csp2!$D76,aem2csp2!$E76) * Emissions!AH59)/1000","v":0},{"$f":"(SUM(aem2csp2!$D76,aem2csp2!$E76) * Emissions!AI59)/1000","v":0},{"$f":"(SUM(aem2csp2!$D76,aem2csp2!$E76) * Emissions!AJ59)/1000","v":0},{"$f":"(SUM(aem2csp2!$D76,aem2csp2!$E76) * Emissions!AK59)/1000","v":0},{"$f":"(SUM(aem2csp2!$D76,aem2csp2!$E76) * Emissions!AL59)/1000","v":0},{"$f":"(SUM(aem2csp2!$D76,aem2csp2!$E76) * Emissions!AM59)/1000","v":0},{"$f":"(SUM(aem2csp2!$D76,aem2csp2!$E76) * Emissions!AN59)/1000","v":0},{"$f":"(SUM(aem2csp2!$D76,aem2csp2!$E76) * Emissions!AO59)/1000","v":0},{"$f":"(SUM(aem2csp2!$D76,aem2csp2!$E76) * Emissions!AP59)/1000","v":0},{"$f":"(SUM(aem2csp2!$D76,aem2csp2!$E76) * Emissions!AQ59)/1000","v":0},{"$f":"(SUM(aem2csp2!$D76,aem2csp2!$E76) * Emissions!AR59)/1000","v":0},{"$f":"(SUM(aem2csp2!$D76,aem2csp2!$E76) * Emissions!AS59)/1000","v":0}]
["A330-301 "," Arrival ",967.29166334418699,4708.5812034910396,3497.2372331913798,1118.4155564724001,1112.5835785531699,1118.4155564724001,471.55753240636102,1270290.3131335999,498050.43339025701,18.536362063705202,36.949696777332299,8.5287054039273809,64.014764244964795,null,"A330-301 "," Departure ",92.700648710164998,556.20389226098996,50310.595505076701,107.183646403081,106.62473727891199,107.183646403081,1714.5994430762801,4618819.3672350198,1810928.54430102,82.257418736368805,571.82181163980897,171.34117496341401,825.42040533959198,null,1059.9923120543519,5264.7850957520295,53807.83273826808,1225.5992028754811,1219.208315832082,1225.5992028754811,2186.156975482641,5889109.68036862,2308978.9776912769,100.793780800074,608.77150841714126,179.86988036734138,889.43516958455677,null,0,0,0,0,0,0,0,0,0,0,0,0,0,null,{"$f":"(SUM(aem2csp2!$B77,aem2csp2!$C77) * Emissions!AG60)/1000","v":0},{"$f":"(SUM(aem2csp2!$B77,aem2csp2!$C77) * Emissions!AH60)/1000","v":0},{"$f":"(SUM(aem2csp2!$B77,aem2csp2!$C77) * Emissions!AI60)/1000","v":0},{"$f":"(SUM(aem2csp2!$B77,aem2csp2!$C77) * Emissions!AJ60)/1000","v":0},{"$f":"(SUM(aem2csp2!$B77,aem2csp2!$C77) * Emissions!AK60)/1000","v":0},{"$f":"(SUM(aem2csp2!$B77,aem2csp2!$C77) * Emissions!AL60)/1000","v":0},{"$f":"(SUM(aem2csp2!$B77,aem2csp2!$C77) * Emissions!AM60)/1000","v":0},{"$f":"(SUM(aem2csp2!$B77,aem2csp2!$C77) * Emissions!AN60)/1000","v":0},{"$f":"(SUM(aem2csp2!$B77,aem2csp2!$C77) * Emissions!AO60)/1000","v":0},{"$f":"(SUM(aem2csp2!$B77,aem2csp2!$C77) * Emissions!AP60)/1000","v":0},{"$f":"(SUM(aem2csp2!$B77,aem2csp2!$C77) * Emissions!AQ60)/1000","v":0},{"$f":"(SUM(aem2csp2!$B77,aem2csp2!$C77) * Emissions!AR60)/1000","v":0},{"$f":"(SUM(aem2csp2!$B77,aem2csp2!$C77) * Emissions!AS60)/1000","v":0},null,{"$f":"(SUM(aem2csp2!$D77,aem2csp2!$E77) * Emissions!AG60)/1000","v":0},{"$f":"(SUM(aem2csp2!$D77,aem2csp2!$E77) * Emissions!AH60)/1000","v":0},{"$f":"(SUM(aem2csp2!$D77,aem2csp2!$E77) * Emissions!AI60)/1000","v":0},{"$f":"(SUM(aem2csp2!$D77,aem2csp2!$E77) * Emissions!AJ60)/1000","v":0},{"$f":"(SUM(aem2csp2!$D77,aem2csp2!$E77) * Emissions!AK60)/1000","v":0},{"$f":"(SUM(aem2csp2!$D77,aem2csp2!$E77) * Emissions!AL60)/1000","v":0},{"$f":"(SUM(aem2csp2!$D77,aem2csp2!$E77) * Emissions!AM60)/1000","v":0},{"$f":"(SUM(aem2csp2!$D77,aem2csp2!$E77) * Emissions!AN60)/1000","v":0},{"$f":"(SUM(aem2csp2!$D77,aem2csp2!$E77) * Emissions!AO60)/1000","v":0},{"$f":"(SUM(aem2csp2!$D77,aem2csp2!$E77) * Emissions!AP60)/1000","v":0},{"$f":"(SUM(aem2csp2!$D77,aem2csp2!$E77) * Emissions!AQ60)/1000","v":0},{"$f":"(SUM(aem2csp2!$D77,aem2csp2!$E77) * Emissions!AR60)/1000","v":0},{"$f":"(SUM(aem2csp2!$D77,aem2csp2!$E77) * Emissions!AS60)/1000","v":0}]
["A330-343 "," Arrival ",212.504893538944,3100.4552847248601,1735.26871707703,245.70539348884799,244.4241627145,245.70539348884799,348.09282803489498,937698.83235151402,367649.27277934202,14.3153777644354,44.192568073823097,15.2263358704226,73.734281708681095,null,"A330-343 "," Departure ",0.19217743665995099,288.54884955375599,37908.922558543898,0.22220209571577601,0.22104342288766601,0.22220209571577601,1629.15815900199,4388656.0721066203,1720687.02415084,77.553214269310899,521.24101999222603,155.583594770524,754.37782903206096,null,212.69707097560396,3389.0041342786162,39644.191275620928,245.92759558456376,244.64520613738767,245.92759558456376,1977.2509870368849,5326354.9044581344,2088336.296930182,91.868592033746296,565.43358806604908,170.80993064094659,828.11211074074208,null,0,0,0,0,0,0,0,0,0,0,0,0,0,null,{"$f":"(SUM(aem2csp2!$B78,aem2csp2!$C78) * Emissions!AG61)/1000","v":0},{"$f":"(SUM(aem2csp2!$B78,aem2csp2!$C78) * Emissions!AH61)/1000","v":0},{"$f":"(SUM(aem2csp2!$B78,aem2csp2!$C78) * Emissions!AI61)/1000","v":0},{"$f":"(SUM(aem2csp2!$B78,aem2csp2!$C78) * Emissions!AJ61)/1000","v":0},{"$f":"(SUM(aem2csp2!$B78,aem2csp2!$C78) * Emissions!AK61)/1000","v":0},{"$f":"(SUM(aem2csp2!$B78,aem2csp2!$C78) * Emissions!AL61)/1000","v":0},{"$f":"(SUM(aem2csp2!$B78,aem2csp2!$C78) * Emissions!AM61)/1000","v":0},{"$f":"(SUM(aem2csp2!$B78,aem2csp2!$C78) * Emissions!AN61)/1000","v":0},{"$f":"(SUM(aem2csp2!$B78,aem2csp2!$C78) * Emissions!AO61)/1000","v":0},{"$f":"(SUM(aem2csp2!$B78,aem2csp2!$C78) * Emissions!AP61)/1000","v":0},{"$f":"(SUM(aem2csp2!$B78,aem2csp2!$C78) * Emissions!AQ61)/1000","v":0},{"$f":"(SUM(aem2csp2!$B78,aem2csp2!$C78) * Emissions!AR61)/1000","v":0},{"$f":"(SUM(aem2csp2!$B78,aem2csp2!$C78) * Emissions!AS61)/1000","v":0},null,{"$f":"(SUM(aem2csp2!$D78,aem2csp2!$E78) * Emissions!AG61)/1000","v":0},{"$f":"(SUM(aem2csp2!$D78,aem2csp2!$E78) * Emissions!AH61)/1000","v":0},{"$f":"(SUM(aem2csp2!$D78,aem2csp2!$E78) * Emissions!AI61)/1000","v":0},{"$f":"(SUM(aem2csp2!$D78,aem2csp2!$E78) * Emissions!AJ61)/1000","v":0},{"$f":"(SUM(aem2csp2!$D78,aem2csp2!$E78) * Emissions!AK61)/1000","v":0},{"$f":"(SUM(aem2csp2!$D78,aem2csp2!$E78) * Emissions!AL61)/1000","v":0},{"$f":"(SUM(aem2csp2!$D78,aem2csp2!$E78) * Emissions!AM61)/1000","v":0},{"$f":"(SUM(aem2csp2!$D78,aem2csp2!$E78) * Emissions!AN61)/1000","v":0},{"$f":"(SUM(aem2csp2!$D78,aem2csp2!$E78) * Emissions!AO61)/1000","v":0},{"$f":"(SUM(aem2csp2!$D78,aem2csp2!$E78) * Emissions!AP61)/1000","v":0},{"$f":"(SUM(aem2csp2!$D78,aem2csp2!$E78) * Emissions!AQ61)/1000","v":0},{"$f":"(SUM(aem2csp2!$D78,aem2csp2!$E78) * Emissions!AR61)/1000","v":0},{"$f":"(SUM(aem2csp2!$D78,aem2csp2!$E78) * Emissions!AS61)/1000","v":0}]
["A340-211 "," Arrival ",698.04482432545501,4820.8067188003097,3163.12083144906,807.10319361331403,802.89455401021701,807.10319361331403,479.51452298918798,1291725.0000263699,506454.46118308202,19.285596205778401,49.332285857817503,13.514483146874801,82.132365210470695,null,"A340-211 "," Departure ",13.7173851438945,1483.1922686836001,49228.207578216301,15.8605077666176,15.7778031488686,15.8605077666176,1905.2236993633901,5132326.47839096,2012262.3942217501,90.683260547771795,609.94264605862998,192.29803267468699,892.92393928108902,null,711.7622094693495,6303.9989874839102,52391.328409665359,822.96370137993165,818.67235715908555,822.96370137993165,2384.7382223525783,6424051.4784173295,2518716.8554048319,109.9688567535502,659.27493191644749,205.81251582156179,975.05630449155967,null,0,0,0,0,0,0,0,0,0,0,0,0,0,null,{"$f":"(SUM(aem2csp2!$B79,aem2csp2!$C79) * Emissions!AG62)/1000","v":0},{"$f":"(SUM(aem2csp2!$B79,aem2csp2!$C79) * Emissions!AH62)/1000","v":0},{"$f":"(SUM(aem2csp2!$B79,aem2csp2!$C79) * Emissions!AI62)/1000","v":0},{"$f":"(SUM(aem2csp2!$B79,aem2csp2!$C79) * Emissions!AJ62)/1000","v":0},{"$f":"(SUM(aem2csp2!$B79,aem2csp2!$C79) * Emissions!AK62)/1000","v":0},{"$f":"(SUM(aem2csp2!$B79,aem2csp2!$C79) * Emissions!AL62)/1000","v":0},{"$f":"(SUM(aem2csp2!$B79,aem2csp2!$C79) * Emissions!AM62)/1000","v":0},{"$f":"(SUM(aem2csp2!$B79,aem2csp2!$C79) * Emissions!AN62)/1000","v":0},{"$f":"(SUM(aem2csp2!$B79,aem2csp2!$C79) * Emissions!AO62)/1000","v":0},{"$f":"(SUM(aem2csp2!$B79,aem2csp2!$C79) * Emissions!AP62)/1000","v":0},{"$f":"(SUM(aem2csp2!$B79,aem2csp2!$C79) * Emissions!AQ62)/1000","v":0},{"$f":"(SUM(aem2csp2!$B79,aem2csp2!$C79) * Emissions!AR62)/1000","v":0},{"$f":"(SUM(aem2csp2!$B79,aem2csp2!$C79) * Emissions!AS62)/1000","v":0},null,{"$f":"(SUM(aem2csp2!$D79,aem2csp2!$E79) * Emissions!AG62)/1000","v":0},{"$f":"(SUM(aem2csp2!$D79,aem2csp2!$E79) * Emissions!AH62)/1000","v":0},{"$f":"(SUM(aem2csp2!$D79,aem2csp2!$E79) * Emissions!AI62)/1000","v":0},{"$f":"(SUM(aem2csp2!$D79,aem2csp2!$E79) * Emissions!AJ62)/1000","v":0},{"$f":"(SUM(aem2csp2!$D79,aem2csp2!$E79) * Emissions!AK62)/1000","v":0},{"$f":"(SUM(aem2csp2!$D79,aem2csp2!$E79) * Emissions!AL62)/1000","v":0},{"$f":"(SUM(aem2csp2!$D79,aem2csp2!$E79) * Emissions!AM62)/1000","v":0},{"$f":"(SUM(aem2csp2!$D79,aem2csp2!$E79) * Emissions!AN62)/1000","v":0},{"$f":"(SUM(aem2csp2!$D79,aem2csp2!$E79) * Emissions!AO62)/1000","v":0},{"$f":"(SUM(aem2csp2!$D79,aem2csp2!$E79) * Emissions!AP62)/1000","v":0},{"$f":"(SUM(aem2csp2!$D79,aem2csp2!$E79) * Emissions!AQ62)/1000","v":0},{"$f":"(SUM(aem2csp2!$D79,aem2csp2!$E79) * Emissions!AR62)/1000","v":0},{"$f":"(SUM(aem2csp2!$D79,aem2csp2!$E79) * Emissions!AS62)/1000","v":0}]
["A340-642 "," Arrival ",42.546622907807098,2367.9027392775702,3895.9704800659301,49.193854075970002,48.937332723890798,49.193854075970002,561.41558739818299,1512351.58661311,592956.86613008298,22.729609993533199,61.256810396656199,19.524801993934901,103.511222384124,null,"A340-642 "," Departure ",32.528730685321001,594.027948290577,76170.884281770501,37.610825989119299,37.414704336999002,37.610825989119299,2380.65632777471,6413055.5960802604,2514405.6330748899,113.73026884257099,775.84901390038306,209.85411391218199,1099.4333966551401,null,75.075353593128099,2961.9306875681473,80066.854761836425,86.8046800650893,86.352037060889799,86.8046800650893,2942.0719151728931,7925407.1826933706,3107362.4992049728,136.4598788361042,837.10582429703925,229.3789159061169,1202.9446190392641,null,0,0,0,0,0,0,0,0,0,0,0,0,0,null,{"$f":"(SUM(aem2csp2!$B80,aem2csp2!$C80) * Emissions!AG63)/1000","v":0},{"$f":"(SUM(aem2csp2!$B80,aem2csp2!$C80) * Emissions!AH63)/1000","v":0},{"$f":"(SUM(aem2csp2!$B80,aem2csp2!$C80) * Emissions!AI63)/1000","v":0},{"$f":"(SUM(aem2csp2!$B80,aem2csp2!$C80) * Emissions!AJ63)/1000","v":0},{"$f":"(SUM(aem2csp2!$B80,aem2csp2!$C80) * Emissions!AK63)/1000","v":0},{"$f":"(SUM(aem2csp2!$B80,aem2csp2!$C80) * Emissions!AL63)/1000","v":0},{"$f":"(SUM(aem2csp2!$B80,aem2csp2!$C80) * Emissions!AM63)/1000","v":0},{"$f":"(SUM(aem2csp2!$B80,aem2csp2!$C80) * Emissions!AN63)/1000","v":0},{"$f":"(SUM(aem2csp2!$B80,aem2csp2!$C80) * Emissions!AO63)/1000","v":0},{"$f":"(SUM(aem2csp2!$B80,aem2csp2!$C80) * Emissions!AP63)/1000","v":0},{"$f":"(SUM(aem2csp2!$B80,aem2csp2!$C80) * Emissions!AQ63)/1000","v":0},{"$f":"(SUM(aem2csp2!$B80,aem2csp2!$C80) * Emissions!AR63)/1000","v":0},{"$f":"(SUM(aem2csp2!$B80,aem2csp2!$C80) * Emissions!AS63)/1000","v":0},null,{"$f":"(SUM(aem2csp2!$D80,aem2csp2!$E80) * Emissions!AG63)/1000","v":0},{"$f":"(SUM(aem2csp2!$D80,aem2csp2!$E80) * Emissions!AH63)/1000","v":0},{"$f":"(SUM(aem2csp2!$D80,aem2csp2!$E80) * Emissions!AI63)/1000","v":0},{"$f":"(SUM(aem2csp2!$D80,aem2csp2!$E80) * Emissions!AJ63)/1000","v":0},{"$f":"(SUM(aem2csp2!$D80,aem2csp2!$E80) * Emissions!AK63)/1000","v":0},{"$f":"(SUM(aem2csp2!$D80,aem2csp2!$E80) * Emissions!AL63)/1000","v":0},{"$f":"(SUM(aem2csp2!$D80,aem2csp2!$E80) * Emissions!AM63)/1000","v":0},{"$f":"(SUM(aem2csp2!$D80,aem2csp2!$E80) * Emissions!AN63)/1000","v":0},{"$f":"(SUM(aem2csp2!$D80,aem2csp2!$E80) * Emissions!AO63)/1000","v":0},{"$f":"(SUM(aem2csp2!$D80,aem2csp2!$E80) * Emissions!AP63)/1000","v":0},{"$f":"(SUM(aem2csp2!$D80,aem2csp2!$E80) * Emissions!AQ63)/1000","v":0},{"$f":"(SUM(aem2csp2!$D80,aem2csp2!$E80) * Emissions!AR63)/1000","v":0},{"$f":"(SUM(aem2csp2!$D80,aem2csp2!$E80) * Emissions!AS63)/1000","v":0}]
["A37 "," Arrival ",13.1113617885394,7164.4226915947602,508.77277996246301,15.1598029286667,15.0807521362952,15.1598029286667,205.433257055007,553399.86851822597,216974.845438049,10.402122617523499,84.594049371056997,21.079600109514399,116.075772098095,null,"A37 "," Departure ",25.689937250369798,4222.0776814192604,526.92913392709295,29.703580165550999,29.548690846777699,29.703580165550999,137.149882890181,369456.86519682303,144855.19564135399,7.5989059403616999,76.203882471756003,18.955961078927999,102.758749491046,null,38.8012990389092,11386.50037301402,1035.701913889556,44.863383094217696,44.629442983072899,44.863383094217696,342.58313994518801,922856.73371504899,361830.04107940302,18.001028557885199,160.797931842813,40.035561188442401,218.83452158914099,null,0,0,0,0,0,0,0,0,0,0,0,0,0,null,{"$f":"(SUM(aem2csp2!$B81,aem2csp2!$C81) * Emissions!AG64)/1000","v":0},{"$f":"(SUM(aem2csp2!$B81,aem2csp2!$C81) * Emissions!AH64)/1000","v":0},{"$f":"(SUM(aem2csp2!$B81,aem2csp2!$C81) * Emissions!AI64)/1000","v":0},{"$f":"(SUM(aem2csp2!$B81,aem2csp2!$C81) * Emissions!AJ64)/1000","v":0},{"$f":"(SUM(aem2csp2!$B81,aem2csp2!$C81) * Emissions!AK64)/1000","v":0},{"$f":"(SUM(aem2csp2!$B81,aem2csp2!$C81) * Emissions!AL64)/1000","v":0},{"$f":"(SUM(aem2csp2!$B81,aem2csp2!$C81) * Emissions!AM64)/1000","v":0},{"$f":"(SUM(aem2csp2!$B81,aem2csp2!$C81) * Emissions!AN64)/1000","v":0},{"$f":"(SUM(aem2csp2!$B81,aem2csp2!$C81) * Emissions!AO64)/1000","v":0},{"$f":"(SUM(aem2csp2!$B81,aem2csp2!$C81) * Emissions!AP64)/1000","v":0},{"$f":"(SUM(aem2csp2!$B81,aem2csp2!$C81) * Emissions!AQ64)/1000","v":0},{"$f":"(SUM(aem2csp2!$B81,aem2csp2!$C81) * Emissions!AR64)/1000","v":0},{"$f":"(SUM(aem2csp2!$B81,aem2csp2!$C81) * Emissions!AS64)/1000","v":0},null,{"$f":"(SUM(aem2csp2!$D81,aem2csp2!$E81) * Emissions!AG64)/1000","v":0},{"$f":"(SUM(aem2csp2!$D81,aem2csp2!$E81) * Emissions!AH64)/1000","v":0},{"$f":"(SUM(aem2csp2!$D81,aem2csp2!$E81) * Emissions!AI64)/1000","v":0},{"$f":"(SUM(aem2csp2!$D81,aem2csp2!$E81) * Emissions!AJ64)/1000","v":0},{"$f":"(SUM(aem2csp2!$D81,aem2csp2!$E81) * Emissions!AK64)/1000","v":0},{"$f":"(SUM(aem2csp2!$D81,aem2csp2!$E81) * Emissions!AL64)/1000","v":0},{"$f":"(SUM(aem2csp2!$D81,aem2csp2!$E81) * Emissions!AM64)/1000","v":0},{"$f":"(SUM(aem2csp2!$D81,aem2csp2!$E81) * Emissions!AN64)/1000","v":0},{"$f":"(SUM(aem2csp2!$D81,aem2csp2!$E81) * Emissions!AO64)/1000","v":0},{"$f":"(SUM(aem2csp2!$D81,aem2csp2!$E81) * Emissions!AP64)/1000","v":0},{"$f":"(SUM(aem2csp2!$D81,aem2csp2!$E81) * Emissions!AQ64)/1000","v":0},{"$f":"(SUM(aem2csp2!$D81,aem2csp2!$E81) * Emissions!AR64)/1000","v":0},{"$f":"(SUM(aem2csp2!$D81,aem2csp2!$E81) * Emissions!AS64)/1000","v":0}]
["A380-841 "," Arrival ",58.896857584061998,5794.3203796635598,8626.6208732900504,68.098552117796302,67.743452217778099,68.098552117796302,1129.3178408583201,3042177.0730088898,1192764.8302098301,45.1803622306455,105.23441438540399,38.574479165827903,188.98925578187701,null,"A380-841 "," Departure ",0.33224896707685397,996.74690123056098,116292.786420976,0.38415756847933802,0.38215437883850301,0.38415756847933802,3696.2858408722,9957122.4623905402,3903949.4408802199,175.38945465737299,1165.72097820919,317.11736433909601,1658.22779720566,null,59.229106551138848,6791.0672808941208,124919.40729426606,68.482709686275641,68.125606596616606,68.482709686275641,4825.6036817305203,12999299.53539943,5096714.2710900502,220.56981688801849,1270.9553925945941,355.6918435049239,1847.217052987537,null,0,0,0,0,0,0,0,0,0,0,0,0,0,null,{"$f":"(SUM(aem2csp2!$B82,aem2csp2!$C82) * Emissions!AG65)/1000","v":0},{"$f":"(SUM(aem2csp2!$B82,aem2csp2!$C82) * Emissions!AH65)/1000","v":0},{"$f":"(SUM(aem2csp2!$B82,aem2csp2!$C82) * Emissions!AI65)/1000","v":0},{"$f":"(SUM(aem2csp2!$B82,aem2csp2!$C82) * Emissions!AJ65)/1000","v":0},{"$f":"(SUM(aem2csp2!$B82,aem2csp2!$C82) * Emissions!AK65)/1000","v":0},{"$f":"(SUM(aem2csp2!$B82,aem2csp2!$C82) * Emissions!AL65)/1000","v":0},{"$f":"(SUM(aem2csp2!$B82,aem2csp2!$C82) * Emissions!AM65)/1000","v":0},{"$f":"(SUM(aem2csp2!$B82,aem2csp2!$C82) * Emissions!AN65)/1000","v":0},{"$f":"(SUM(aem2csp2!$B82,aem2csp2!$C82) * Emissions!AO65)/1000","v":0},{"$f":"(SUM(aem2csp2!$B82,aem2csp2!$C82) * Emissions!AP65)/1000","v":0},{"$f":"(SUM(aem2csp2!$B82,aem2csp2!$C82) * Emissions!AQ65)/1000","v":0},{"$f":"(SUM(aem2csp2!$B82,aem2csp2!$C82) * Emissions!AR65)/1000","v":0},{"$f":"(SUM(aem2csp2!$B82,aem2csp2!$C82) * Emissions!AS65)/1000","v":0},null,{"$f":"(SUM(aem2csp2!$D82,aem2csp2!$E82) * Emissions!AG65)/1000","v":0},{"$f":"(SUM(aem2csp2!$D82,aem2csp2!$E82) * Emissions!AH65)/1000","v":0},{"$f":"(SUM(aem2csp2!$D82,aem2csp2!$E82) * Emissions!AI65)/1000","v":0},{"$f":"(SUM(aem2csp2!$D82,aem2csp2!$E82) * Emissions!AJ65)/1000","v":0},{"$f":"(SUM(aem2csp2!$D82,aem2csp2!$E82) * Emissions!AK65)/1000","v":0},{"$f":"(SUM(aem2csp2!$D82,aem2csp2!$E82) * Emissions!AL65)/1000","v":0},{"$f":"(SUM(aem2csp2!$D82,aem2csp2!$E82) * Emissions!AM65)/1000","v":0},{"$f":"(SUM(aem2csp2!$D82,aem2csp2!$E82) * Emissions!AN65)/1000","v":0},{"$f":"(SUM(aem2csp2!$D82,aem2csp2!$E82) * Emissions!AO65)/1000","v":0},{"$f":"(SUM(aem2csp2!$D82,aem2csp2!$E82) * Emissions!AP65)/1000","v":0},{"$f":"(SUM(aem2csp2!$D82,aem2csp2!$E82) * Emissions!AQ65)/1000","v":0},{"$f":"(SUM(aem2csp2!$D82,aem2csp2!$E82) * Emissions!AR65)/1000","v":0},{"$f":"(SUM(aem2csp2!$D82,aem2csp2!$E82) * Emissions!AS65)/1000","v":0}]
["A380-861 "," Arrival ",1036.3351012906201,9678.0211261902496,9911.0614210459607,1198.24593028608,1191.9976768826,1198.24593028608,1163.1988769075799,3133446.42814499,1228549.36025843,46.821420928166603,120.24694638438,39.3815556938128,206.44992300636,null,"A380-861 "," Departure ",99.673071209248704,332.24357069749601,130463.419680002,115.24539870053501,114.644451569011,115.24539870053501,3696.5478011712098,9957828.1358394604,3904226.1185525898,175.39312330041801,1170.9910198104201,315.479461038983,1661.86360414982,null,1136.0081724998688,10010.264696887745,140374.48110104795,1313.4913289866149,1306.6421284516109,1313.4913289866149,4859.74667807879,13091274.56398445,5132775.47881102,222.2145442285846,1291.2379661948,354.8610167327958,1868.31352715618,null,0,0,0,0,0,0,0,0,0,0,0,0,0,null,{"$f":"(SUM(aem2csp2!$B83,aem2csp2!$C83) * Emissions!AG66)/1000","v":0},{"$f":"(SUM(aem2csp2!$B83,aem2csp2!$C83) * Emissions!AH66)/1000","v":0},{"$f":"(SUM(aem2csp2!$B83,aem2csp2!$C83) * Emissions!AI66)/1000","v":0},{"$f":"(SUM(aem2csp2!$B83,aem2csp2!$C83) * Emissions!AJ66)/1000","v":0},{"$f":"(SUM(aem2csp2!$B83,aem2csp2!$C83) * Emissions!AK66)/1000","v":0},{"$f":"(SUM(aem2csp2!$B83,aem2csp2!$C83) * Emissions!AL66)/1000","v":0},{"$f":"(SUM(aem2csp2!$B83,aem2csp2!$C83) * Emissions!AM66)/1000","v":0},{"$f":"(SUM(aem2csp2!$B83,aem2csp2!$C83) * Emissions!AN66)/1000","v":0},{"$f":"(SUM(aem2csp2!$B83,aem2csp2!$C83) * Emissions!AO66)/1000","v":0},{"$f":"(SUM(aem2csp2!$B83,aem2csp2!$C83) * Emissions!AP66)/1000","v":0},{"$f":"(SUM(aem2csp2!$B83,aem2csp2!$C83) * Emissions!AQ66)/1000","v":0},{"$f":"(SUM(aem2csp2!$B83,aem2csp2!$C83) * Emissions!AR66)/1000","v":0},{"$f":"(SUM(aem2csp2!$B83,aem2csp2!$C83) * Emissions!AS66)/1000","v":0},null,{"$f":"(SUM(aem2csp2!$D83,aem2csp2!$E83) * Emissions!AG66)/1000","v":0},{"$f":"(SUM(aem2csp2!$D83,aem2csp2!$E83) * Emissions!AH66)/1000","v":0},{"$f":"(SUM(aem2csp2!$D83,aem2csp2!$E83) * Emissions!AI66)/1000","v":0},{"$f":"(SUM(aem2csp2!$D83,aem2csp2!$E83) * Emissions!AJ66)/1000","v":0},{"$f":"(SUM(aem2csp2!$D83,aem2csp2!$E83) * Emissions!AK66)/1000","v":0},{"$f":"(SUM(aem2csp2!$D83,aem2csp2!$E83) * Emissions!AL66)/1000","v":0},{"$f":"(SUM(aem2csp2!$D83,aem2csp2!$E83) * Emissions!AM66)/1000","v":0},{"$f":"(SUM(aem2csp2!$D83,aem2csp2!$E83) * Emissions!AN66)/1000","v":0},{"$f":"(SUM(aem2csp2!$D83,aem2csp2!$E83) * Emissions!AO66)/1000","v":0},{"$f":"(SUM(aem2csp2!$D83,aem2csp2!$E83) * Emissions!AP66)/1000","v":0},{"$f":"(SUM(aem2csp2!$D83,aem2csp2!$E83) * Emissions!AQ66)/1000","v":0},{"$f":"(SUM(aem2csp2!$D83,aem2csp2!$E83) * Emissions!AR66)/1000","v":0},{"$f":"(SUM(aem2csp2!$D83,aem2csp2!$E83) * Emissions!AS66)/1000","v":0}]
["A4C "," Arrival ",322.50314328313198,1976.26926174663,1109.8303078511699,372.88911517348299,370.94468488241102,372.88911517348299,206.50290218990199,556281.29816354299,218104.58504859,10.2723704356252,86.739762195911396,19.816866484690099,116.828999116227,null,"A4C "," Departure ",310.11825149184602,322.35976141915597,4388.0241367524504,358.56928159121799,356.69952207236003,358.56928159121799,423.807219589993,1141659.64635112,447617.42711135698,22.784519797439501,219.72628860470499,53.375270805765297,295.88607920790997,null,632.62139477497794,2298.6290231657858,5497.8544446036203,731.45839676470098,727.64420695477111,731.45839676470098,630.31012177989498,1697940.944514663,665722.01215994696,33.056890233064699,306.46605080061636,73.192137290455392,412.71507832413698,null,0,0,0,0,0,0,0,0,0,0,0,0,0,null,{"$f":"(SUM(aem2csp2!$B84,aem2csp2!$C84) * Emissions!AG67)/1000","v":0},{"$f":"(SUM(aem2csp2!$B84,aem2csp2!$C84) * Emissions!AH67)/1000","v":0},{"$f":"(SUM(aem2csp2!$B84,aem2csp2!$C84) * Emissions!AI67)/1000","v":0},{"$f":"(SUM(aem2csp2!$B84,aem2csp2!$C84) * Emissions!AJ67)/1000","v":0},{"$f":"(SUM(aem2csp2!$B84,aem2csp2!$C84) * Emissions!AK67)/1000","v":0},{"$f":"(SUM(aem2csp2!$B84,aem2csp2!$C84) * Emissions!AL67)/1000","v":0},{"$f":"(SUM(aem2csp2!$B84,aem2csp2!$C84) * Emissions!AM67)/1000","v":0},{"$f":"(SUM(aem2csp2!$B84,aem2csp2!$C84) * Emissions!AN67)/1000","v":0},{"$f":"(SUM(aem2csp2!$B84,aem2csp2!$C84) * Emissions!AO67)/1000","v":0},{"$f":"(SUM(aem2csp2!$B84,aem2csp2!$C84) * Emissions!AP67)/1000","v":0},{"$f":"(SUM(aem2csp2!$B84,aem2csp2!$C84) * Emissions!AQ67)/1000","v":0},{"$f":"(SUM(aem2csp2!$B84,aem2csp2!$C84) * Emissions!AR67)/1000","v":0},{"$f":"(SUM(aem2csp2!$B84,aem2csp2!$C84) * Emissions!AS67)/1000","v":0},null,{"$f":"(SUM(aem2csp2!$D84,aem2csp2!$E84) * Emissions!AG67)/1000","v":0},{"$f":"(SUM(aem2csp2!$D84,aem2csp2!$E84) * Emissions!AH67)/1000","v":0},{"$f":"(SUM(aem2csp2!$D84,aem2csp2!$E84) * Emissions!AI67)/1000","v":0},{"$f":"(SUM(aem2csp2!$D84,aem2csp2!$E84) * Emissions!AJ67)/1000","v":0},{"$f":"(SUM(aem2csp2!$D84,aem2csp2!$E84) * Emissions!AK67)/1000","v":0},{"$f":"(SUM(aem2csp2!$D84,aem2csp2!$E84) * Emissions!AL67)/1000","v":0},{"$f":"(SUM(aem2csp2!$D84,aem2csp2!$E84) * Emissions!AM67)/1000","v":0},{"$f":"(SUM(aem2csp2!$D84,aem2csp2!$E84) * Emissions!AN67)/1000","v":0},{"$f":"(SUM(aem2csp2!$D84,aem2csp2!$E84) * Emissions!AO67)/1000","v":0},{"$f":"(SUM(aem2csp2!$D84,aem2csp2!$E84) * Emissions!AP67)/1000","v":0},{"$f":"(SUM(aem2csp2!$D84,aem2csp2!$E84) * Emissions!AQ67)/1000","v":0},{"$f":"(SUM(aem2csp2!$D84,aem2csp2!$E84) * Emissions!AR67)/1000","v":0},{"$f":"(SUM(aem2csp2!$D84,aem2csp2!$E84) * Emissions!AS67)/1000","v":0}]
["A6A "," Arrival ",215.027215013611,4345.1231131408804,956.73409421985798,248.621787460381,247.325349149668,248.621787460381,288.67030865907202,777625.36186763505,304888.295603887,14.299694500718299,114.098684815499,27.253874487509702,155.65225380372701,null,"A6A "," Departure ",315.99670991745302,3274.2286268944399,4764.34741907219,365.36615537853601,363.460953561314,365.36615537853601,740.16905733813996,1993880.9562003301,781753.00881768996,39.548113586589999,372.812525787006,91.393999237970903,503.75463861156697,null,{"$f":"SUM(C68,S68)","v":531.02392493106402},7619.3517400353203,{"$f":"SUM(E68,U68)","v":5721.0815132920479},{"$f":"SUM(F68,V68)","v":613.98794283891698},{"$f":"SUM(G68,W68)","v":610.786302710982},{"$f":"SUM(H68,X68)","v":613.98794283891698},{"$f":"SUM(I68,Y68)","v":1028.8393659972121},{"$f":"SUM(J68,Z68)","v":2771506.3180679651},{"$f":"SUM(K68,AA68)","v":1086641.3044215769},{"$f":"SUM(L68,AB68)","v":53.847808087308294},{"$f":"SUM(M68,AC68)","v":486.91121060250498},{"$f":"SUM(N68,AD68)","v":118.64787372548061},{"$f":"SUM(O68,AE68)","v":659.40689241529401},null,{"$f":"IFERROR((BW68-BI68)/BI68, 0)","v":0},{"$f":"IFERROR((BX68-BJ68)/BJ68, 0)","v":0},{"$f":"IFERROR((BY68-BK68)/BK68, 0)","v":0},{"$f":"IFERROR((BZ68-BL68)/BL68, 0)","v":0},{"$f":"IFERROR((CA68-BM68)/BM68, 0)","v":0},{"$f":"IFERROR((CB68-BN68)/BN68, 0)","v":0},{"$f":"IFERROR((CC68-BO68)/BO68, 0)","v":0},{"$f":"IFERROR((CD68-BP68)/BP68, 0)","v":0},{"$f":"IFERROR((CE68-BQ68)/BQ68, 0)","v":0},{"$f":"IFERROR((CF68-BR68)/BR68, 0)","v":0},{"$f":"IFERROR((CG68-BS68)/BS68, 0)","v":0},{"$f":"IFERROR((CH68-BT68)/BT68, 0)","v":0},{"$f":"IFERROR((CI68-BU68)/BU68, 0)","v":0},null,{"$f":"(SUM(aem2csp2!$B85,aem2csp2!$C85) * Emissions!AG68)/1000","v":0},{"$f":"(SUM(aem2csp2!$B85,aem2csp2!$C85) * Emissions!AH68)/1000","v":0},{"$f":"(SUM(aem2csp2!$B85,aem2csp2!$C85) * Emissions!AI68)/1000","v":0},{"$f":"(SUM(aem2csp2!$B85,aem2csp2!$C85) * Emissions!AJ68)/1000","v":0},{"$f":"(SUM(aem2csp2!$B85,aem2csp2!$C85) * Emissions!AK68)/1000","v":0},{"$f":"(SUM(aem2csp2!$B85,aem2csp2!$C85) * Emissions!AL68)/1000","v":0},{"$f":"(SUM(aem2csp2!$B85,aem2csp2!$C85) * Emissions!AM68)/1000","v":0},{"$f":"(SUM(aem2csp2!$B85,aem2csp2!$C85) * Emissions!AN68)/1000","v":0},{"$f":"(SUM(aem2csp2!$B85,aem2csp2!$C85) * Emissions!AO68)/1000","v":0},{"$f":"(SUM(aem2csp2!$B85,aem2csp2!$C85) * Emissions!AP68)/1000","v":0},{"$f":"(SUM(aem2csp2!$B85,aem2csp2!$C85) * Emissions!AQ68)/1000","v":0},{"$f":"(SUM(aem2csp2!$B85,aem2csp2!$C85) * Emissions!AR68)/1000","v":0},{"$f":"(SUM(aem2csp2!$B85,aem2csp2!$C85) * Emissions!AS68)/1000","v":0},null,{"$f":"(SUM(aem2csp2!$D85,aem2csp2!$E85) * Emissions!AG68)/1000","v":0},{"$f":"(SUM(aem2csp2!$D85,aem2csp2!$E85) * Emissions!AH68)/1000","v":0},{"$f":"(SUM(aem2csp2!$D85,aem2csp2!$E85) * Emissions!AI68)/1000","v":0},{"$f":"(SUM(aem2csp2!$D85,aem2csp2!$E85) * Emissions!AJ68)/1000","v":0},{"$f":"(SUM(aem2csp2!$D85,aem2csp2!$E85) * Emissions!AK68)/1000","v":0},{"$f":"(SUM(aem2csp2!$D85,aem2csp2!$E85) * Emissions!AL68)/1000","v":0},{"$f":"(SUM(aem2csp2!$D85,aem2csp2!$E85) * Emissions!AM68)/1000","v":0},{"$f":"(SUM(aem2csp2!$D85,aem2csp2!$E85) * Emissions!AN68)/1000","v":0},{"$f":"(SUM(aem2csp2!$D85,aem2csp2!$E85) * Emissions!AO68)/1000","v":0},{"$f":"(SUM(aem2csp2!$D85,aem2csp2!$E85) * Emissions!AP68)/1000","v":0},{"$f":"(SUM(aem2csp2!$D85,aem2csp2!$E85) * Emissions!AQ68)/1000","v":0},{"$f":"(SUM(aem2csp2!$D85,aem2csp2!$E85) * Emissions!AR68)/1000","v":0},{"$f":"(SUM(aem2csp2!$D85,aem2csp2!$E85) * Emissions!AS68)/1000","v":0}]
["A7D "," Arrival ",2492.5502230781399,4752.2488063573001,126.967701449388,2881.9714367654901,2866.9433967084701,2881.9714367654901,73.449131226820398,197858.614259408,77575.627841168694,3.3197736229992501,19.866012668147199,4.5565996748970701,27.7423859660435,null,"A7D "," Departure ",120.223097452099,306.08151132582998,2598.3214582621299,139.00603875036199,138.281191761299,139.00603875036199,153.825199182809,414377.137484429,162467.35945110599,7.2333577731065803,51.935433195370997,11.637891607313501,70.8066825757911,null,2612.7733205302388,5058.3303176831305,2725.2891597115181,3020.9774755158523,3005.2245884697691,3020.9774755158523,227.27433040962939,612235.75174383703,240042.98729227469,10.55313139610583,71.801445863518197,16.194491282210571,98.5490685418346,null,0,0,0,0,0,0,0,0,0,0,0,0,0,null,{"$f":"(SUM(aem2csp2!$B86,aem2csp2!$C86) * Emissions!AG69)/1000","v":0},{"$f":"(SUM(aem2csp2!$B86,aem2csp2!$C86) * Emissions!AH69)/1000","v":0},{"$f":"(SUM(aem2csp2!$B86,aem2csp2!$C86) * Emissions!AI69)/1000","v":0},{"$f":"(SUM(aem2csp2!$B86,aem2csp2!$C86) * Emissions!AJ69)/1000","v":0},{"$f":"(SUM(aem2csp2!$B86,aem2csp2!$C86) * Emissions!AK69)/1000","v":0},{"$f":"(SUM(aem2csp2!$B86,aem2csp2!$C86) * Emissions!AL69)/1000","v":0},{"$f":"(SUM(aem2csp2!$B86,aem2csp2!$C86) * Emissions!AM69)/1000","v":0},{"$f":"(SUM(aem2csp2!$B86,aem2csp2!$C86) * Emissions!AN69)/1000","v":0},{"$f":"(SUM(aem2csp2!$B86,aem2csp2!$C86) * Emissions!AO69)/1000","v":0},{"$f":"(SUM(aem2csp2!$B86,aem2csp2!$C86) * Emissions!AP69)/1000","v":0},{"$f":"(SUM(aem2csp2!$B86,aem2csp2!$C86) * Emissions!AQ69)/1000","v":0},{"$f":"(SUM(aem2csp2!$B86,aem2csp2!$C86) * Emissions!AR69)/1000","v":0},{"$f":"(SUM(aem2csp2!$B86,aem2csp2!$C86) * Emissions!AS69)/1000","v":0},null,{"$f":"(SUM(aem2csp2!$D86,aem2csp2!$E86) * Emissions!AG69)/1000","v":0},{"$f":"(SUM(aem2csp2!$D86,aem2csp2!$E86) * Emissions!AH69)/1000","v":0},{"$f":"(SUM(aem2csp2!$D86,aem2csp2!$E86) * Emissions!AI69)/1000","v":0},{"$f":"(SUM(aem2csp2!$D86,aem2csp2!$E86) * Emissions!AJ69)/1000","v":0},{"$f":"(SUM(aem2csp2!$D86,aem2csp2!$E86) * Emissions!AK69)/1000","v":0},{"$f":"(SUM(aem2csp2!$D86,aem2csp2!$E86) * Emissions!AL69)/1000","v":0},{"$f":"(SUM(aem2csp2!$D86,aem2csp2!$E86) * Emissions!AM69)/1000","v":0},{"$f":"(SUM(aem2csp2!$D86,aem2csp2!$E86) * Emissions!AN69)/1000","v":0},{"$f":"(SUM(aem2csp2!$D86,aem2csp2!$E86) * Emissions!AO69)/1000","v":0},{"$f":"(SUM(aem2csp2!$D86,aem2csp2!$E86) * Emissions!AP69)/1000","v":0},{"$f":"(SUM(aem2csp2!$D86,aem2csp2!$E86) * Emissions!AQ69)/1000","v":0},{"$f":"(SUM(aem2csp2!$D86,aem2csp2!$E86) * Emissions!AR69)/1000","v":0},{"$f":"(SUM(aem2csp2!$D86,aem2csp2!$E86) * Emissions!AS69)/1000","v":0}]
["A7E "," Arrival ",317.33640171979698,943.31505716706704,6829.8679148062502,366.915152655572,365.00187359204898,366.915152655572,478.06562195118801,1287821.92388661,504924.15843034501,23.953173988181099,195.723236173126,47.161238547696897,266.83764870900399,null,"A7E "," Departure ",271.63991461714301,696.03185227714403,8372.1285040305902,314.07931834779401,312.44155174226898,314.07931834779401,439.773139754017,1184668.9343612699,464480.339716291,23.640242685373501,226.95836811565201,55.366434959780101,305.96504576080503,null,588.97631633694004,1639.3469094442112,15201.996418836839,680.99447100336602,677.44342533431791,680.99447100336602,917.838761705205,2472490.8582478799,969404.49814663595,47.5934166735546,422.68160428877798,102.527673507477,572.80269446980901,null,0,0,0,0,0,0,0,0,0,0,0,0,0,null,{"$f":"(SUM(aem2csp2!$B87,aem2csp2!$C87) * Emissions!AG70)/1000","v":0},{"$f":"(SUM(aem2csp2!$B87,aem2csp2!$C87) * Emissions!AH70)/1000","v":0},{"$f":"(SUM(aem2csp2!$B87,aem2csp2!$C87) * Emissions!AI70)/1000","v":0},{"$f":"(SUM(aem2csp2!$B87,aem2csp2!$C87) * Emissions!AJ70)/1000","v":0},{"$f":"(SUM(aem2csp2!$B87,aem2csp2!$C87) * Emissions!AK70)/1000","v":0},{"$f":"(SUM(aem2csp2!$B87,aem2csp2!$C87) * Emissions!AL70)/1000","v":0},{"$f":"(SUM(aem2csp2!$B87,aem2csp2!$C87) * Emissions!AM70)/1000","v":0},{"$f":"(SUM(aem2csp2!$B87,aem2csp2!$C87) * Emissions!AN70)/1000","v":0},{"$f":"(SUM(aem2csp2!$B87,aem2csp2!$C87) * Emissions!AO70)/1000","v":0},{"$f":"(SUM(aem2csp2!$B87,aem2csp2!$C87) * Emissions!AP70)/1000","v":0},{"$f":"(SUM(aem2csp2!$B87,aem2csp2!$C87) * Emissions!AQ70)/1000","v":0},{"$f":"(SUM(aem2csp2!$B87,aem2csp2!$C87) * Emissions!AR70)/1000","v":0},{"$f":"(SUM(aem2csp2!$B87,aem2csp2!$C87) * Emissions!AS70)/1000","v":0},null,{"$f":"(SUM(aem2csp2!$D87,aem2csp2!$E87) * Emissions!AG70)/1000","v":0},{"$f":"(SUM(aem2csp2!$D87,aem2csp2!$E87) * Emissions!AH70)/1000","v":0},{"$f":"(SUM(aem2csp2!$D87,aem2csp2!$E87) * Emissions!AI70)/1000","v":0},{"$f":"(SUM(aem2csp2!$D87,aem2csp2!$E87) * Emissions!AJ70)/1000","v":0},{"$f":"(SUM(aem2csp2!$D87,aem2csp2!$E87) * Emissions!AK70)/1000","v":0},{"$f":"(SUM(aem2csp2!$D87,aem2csp2!$E87) * Emissions!AL70)/1000","v":0},{"$f":"(SUM(aem2csp2!$D87,aem2csp2!$E87) * Emissions!AM70)/1000","v":0},{"$f":"(SUM(aem2csp2!$D87,aem2csp2!$E87) * Emissions!AN70)/1000","v":0},{"$f":"(SUM(aem2csp2!$D87,aem2csp2!$E87) * Emissions!AO70)/1000","v":0},{"$f":"(SUM(aem2csp2!$D87,aem2csp2!$E87) * Emissions!AP70)/1000","v":0},{"$f":"(SUM(aem2csp2!$D87,aem2csp2!$E87) * Emissions!AQ70)/1000","v":0},{"$f":"(SUM(aem2csp2!$D87,aem2csp2!$E87) * Emissions!AR70)/1000","v":0},{"$f":"(SUM(aem2csp2!$D87,aem2csp2!$E87) * Emissions!AS70)/1000","v":0}]
["B1 "," Arrival ",180.883933714058,1330.7889408962899,10541.8793559695,209.14416307725301,208.053580838887,209.14416307725301,1359.7898462885901,3663026.7802599799,1436185.1433222201,70.816435516804304,619.796137741091,154.18099001415999,844.79356327205505,null,"B1 "," Departure ",42578.981617075398,30461.670141546099,17351.270287811902,49231.268317407601,48974.551868766503,49231.268317407601,1466.0905898138301,3949381.66911085,1548458.042691,73.128659951114997,2615.35150803737,142.175731580243,2830.6558995687301,null,42759.865550789458,31792.45908244239,27893.149643781402,49440.412480484854,49182.605449605391,49440.412480484854,2825.8804361024204,7612408.4493708294,2984643.1860132199,143.94509546791932,3235.1476457784611,296.35672159440298,3675.4494628407851,null,0,0,0,0,0,0,0,0,0,0,0,0,0,null,{"$f":"(SUM(aem2csp2!$B88,aem2csp2!$C88) * Emissions!AG71)/1000","v":0},{"$f":"(SUM(aem2csp2!$B88,aem2csp2!$C88) * Emissions!AH71)/1000","v":0},{"$f":"(SUM(aem2csp2!$B88,aem2csp2!$C88) * Emissions!AI71)/1000","v":0},{"$f":"(SUM(aem2csp2!$B88,aem2csp2!$C88) * Emissions!AJ71)/1000","v":0},{"$f":"(SUM(aem2csp2!$B88,aem2csp2!$C88) * Emissions!AK71)/1000","v":0},{"$f":"(SUM(aem2csp2!$B88,aem2csp2!$C88) * Emissions!AL71)/1000","v":0},{"$f":"(SUM(aem2csp2!$B88,aem2csp2!$C88) * Emissions!AM71)/1000","v":0},{"$f":"(SUM(aem2csp2!$B88,aem2csp2!$C88) * Emissions!AN71)/1000","v":0},{"$f":"(SUM(aem2csp2!$B88,aem2csp2!$C88) * Emissions!AO71)/1000","v":0},{"$f":"(SUM(aem2csp2!$B88,aem2csp2!$C88) * Emissions!AP71)/1000","v":0},{"$f":"(SUM(aem2csp2!$B88,aem2csp2!$C88) * Emissions!AQ71)/1000","v":0},{"$f":"(SUM(aem2csp2!$B88,aem2csp2!$C88) * Emissions!AR71)/1000","v":0},{"$f":"(SUM(aem2csp2!$B88,aem2csp2!$C88) * Emissions!AS71)/1000","v":0},null,{"$f":"(SUM(aem2csp2!$D88,aem2csp2!$E88) * Emissions!AG71)/1000","v":0},{"$f":"(SUM(aem2csp2!$D88,aem2csp2!$E88) * Emissions!AH71)/1000","v":0},{"$f":"(SUM(aem2csp2!$D88,aem2csp2!$E88) * Emissions!AI71)/1000","v":0},{"$f":"(SUM(aem2csp2!$D88,aem2csp2!$E88) * Emissions!AJ71)/1000","v":0},{"$f":"(SUM(aem2csp2!$D88,aem2csp2!$E88) * Emissions!AK71)/1000","v":0},{"$f":"(SUM(aem2csp2!$D88,aem2csp2!$E88) * Emissions!AL71)/1000","v":0},{"$f":"(SUM(aem2csp2!$D88,aem2csp2!$E88) * Emissions!AM71)/1000","v":0},{"$f":"(SUM(aem2csp2!$D88,aem2csp2!$E88) * Emissions!AN71)/1000","v":0},{"$f":"(SUM(aem2csp2!$D88,aem2csp2!$E88) * Emissions!AO71)/1000","v":0},{"$f":"(SUM(aem2csp2!$D88,aem2csp2!$E88) * Emissions!AP71)/1000","v":0},{"$f":"(SUM(aem2csp2!$D88,aem2csp2!$E88) * Emissions!AQ71)/1000","v":0},{"$f":"(SUM(aem2csp2!$D88,aem2csp2!$E88) * Emissions!AR71)/1000","v":0},{"$f":"(SUM(aem2csp2!$D88,aem2csp2!$E88) * Emissions!AS71)/1000","v":0}]
["B2A "," Arrival ",1025.04854619568,2379.9977739255901,12248.102272452899,1185.19603098939,1179.0158262857999,1185.19603098939,1302.05969214634,3507512.2342227502,1375211.61132601,66.218336164187804,564.21828665575401,135.75779284147299,766.19441566141495,null,"B2A "," Departure ",0.17237601100414701,1284.2012819808899,33114.723700077499,0.19930701315379301,0.19826772673370299,0.19930701315379301,1907.05758279714,5137266.6271558804,2014199.3083333799,97.494988851170604,810.53411825467401,202.632096724718,1110.66120383056,null,1025.2209222066842,3664.1990559064798,45362.825972530394,1185.3953380025439,1179.2140940125337,1185.3953380025439,3209.11727494348,8644778.8613786306,3389410.9196593901,163.71332501535841,1374.7524049104281,338.38988956619096,1876.8556194919749,null,0,0,0,0,0,0,0,0,0,0,0,0,0,null,{"$f":"(SUM(aem2csp2!$B89,aem2csp2!$C89) * Emissions!AG72)/1000","v":0},{"$f":"(SUM(aem2csp2!$B89,aem2csp2!$C89) * Emissions!AH72)/1000","v":0},{"$f":"(SUM(aem2csp2!$B89,aem2csp2!$C89) * Emissions!AI72)/1000","v":0},{"$f":"(SUM(aem2csp2!$B89,aem2csp2!$C89) * Emissions!AJ72)/1000","v":0},{"$f":"(SUM(aem2csp2!$B89,aem2csp2!$C89) * Emissions!AK72)/1000","v":0},{"$f":"(SUM(aem2csp2!$B89,aem2csp2!$C89) * Emissions!AL72)/1000","v":0},{"$f":"(SUM(aem2csp2!$B89,aem2csp2!$C89) * Emissions!AM72)/1000","v":0},{"$f":"(SUM(aem2csp2!$B89,aem2csp2!$C89) * Emissions!AN72)/1000","v":0},{"$f":"(SUM(aem2csp2!$B89,aem2csp2!$C89) * Emissions!AO72)/1000","v":0},{"$f":"(SUM(aem2csp2!$B89,aem2csp2!$C89) * Emissions!AP72)/1000","v":0},{"$f":"(SUM(aem2csp2!$B89,aem2csp2!$C89) * Emissions!AQ72)/1000","v":0},{"$f":"(SUM(aem2csp2!$B89,aem2csp2!$C89) * Emissions!AR72)/1000","v":0},{"$f":"(SUM(aem2csp2!$B89,aem2csp2!$C89) * Emissions!AS72)/1000","v":0},null,{"$f":"(SUM(aem2csp2!$D89,aem2csp2!$E89) * Emissions!AG72)/1000","v":0},{"$f":"(SUM(aem2csp2!$D89,aem2csp2!$E89) * Emissions!AH72)/1000","v":0},{"$f":"(SUM(aem2csp2!$D89,aem2csp2!$E89) * Emissions!AI72)/1000","v":0},{"$f":"(SUM(aem2csp2!$D89,aem2csp2!$E89) * Emissions!AJ72)/1000","v":0},{"$f":"(SUM(aem2csp2!$D89,aem2csp2!$E89) * Emissions!AK72)/1000","v":0},{"$f":"(SUM(aem2csp2!$D89,aem2csp2!$E89) * Emissions!AL72)/1000","v":0},{"$f":"(SUM(aem2csp2!$D89,aem2csp2!$E89) * Emissions!AM72)/1000","v":0},{"$f":"(SUM(aem2csp2!$D89,aem2csp2!$E89) * Emissions!AN72)/1000","v":0},{"$f":"(SUM(aem2csp2!$D89,aem2csp2!$E89) * Emissions!AO72)/1000","v":0},{"$f":"(SUM(aem2csp2!$D89,aem2csp2!$E89) * Emissions!AP72)/1000","v":0},{"$f":"(SUM(aem2csp2!$D89,aem2csp2!$E89) * Emissions!AQ72)/1000","v":0},{"$f":"(SUM(aem2csp2!$D89,aem2csp2!$E89) * Emissions!AR72)/1000","v":0},{"$f":"(SUM(aem2csp2!$D89,aem2csp2!$E89) * Emissions!AS72)/1000","v":0}]
["B52BDE "," Arrival ",13351.4701854615,25304.202826433499,2950.1463584288499,15437.4244326389,15356.925982934899,15437.4244326389,1177.3591484046201,3171591.6267217998,1243505.1797955199,60.487644962470199,766.50131053700795,127.316889992695,954.30584549217303,null,"B52BDE "," Departure ",3424.31412778295,9448.5184446148596,55691.151488603798,3959.3085890143798,3938.66277437697,3959.3085890143798,5888.8009257182803,15863359.734154001,6219643.7372895498,274.34385494513498,1861.2041497186001,426.37302040459002,2561.92102506833,null,16775.78431324445,34752.721271048358,58641.297847032649,19396.733021653279,19295.588757311871,19396.733021653279,7066.1600741229004,19034951.3608758,7463148.9170850702,334.83149990760518,2627.7054602556082,553.68991039728508,3516.2268705605029,null,0,0,0,0,0,0,0,0,0,0,0,0,0,null,{"$f":"(SUM(aem2csp2!$B90,aem2csp2!$C90) * Emissions!AG73)/1000","v":0},{"$f":"(SUM(aem2csp2!$B90,aem2csp2!$C90) * Emissions!AH73)/1000","v":0},{"$f":"(SUM(aem2csp2!$B90,aem2csp2!$C90) * Emissions!AI73)/1000","v":0},{"$f":"(SUM(aem2csp2!$B90,aem2csp2!$C90) * Emissions!AJ73)/1000","v":0},{"$f":"(SUM(aem2csp2!$B90,aem2csp2!$C90) * Emissions!AK73)/1000","v":0},{"$f":"(SUM(aem2csp2!$B90,aem2csp2!$C90) * Emissions!AL73)/1000","v":0},{"$f":"(SUM(aem2csp2!$B90,aem2csp2!$C90) * Emissions!AM73)/1000","v":0},{"$f":"(SUM(aem2csp2!$B90,aem2csp2!$C90) * Emissions!AN73)/1000","v":0},{"$f":"(SUM(aem2csp2!$B90,aem2csp2!$C90) * Emissions!AO73)/1000","v":0},{"$f":"(SUM(aem2csp2!$B90,aem2csp2!$C90) * Emissions!AP73)/1000","v":0},{"$f":"(SUM(aem2csp2!$B90,aem2csp2!$C90) * Emissions!AQ73)/1000","v":0},{"$f":"(SUM(aem2csp2!$B90,aem2csp2!$C90) * Emissions!AR73)/1000","v":0},{"$f":"(SUM(aem2csp2!$B90,aem2csp2!$C90) * Emissions!AS73)/1000","v":0},null,{"$f":"(SUM(aem2csp2!$D90,aem2csp2!$E90) * Emissions!AG73)/1000","v":0},{"$f":"(SUM(aem2csp2!$D90,aem2csp2!$E90) * Emissions!AH73)/1000","v":0},{"$f":"(SUM(aem2csp2!$D90,aem2csp2!$E90) * Emissions!AI73)/1000","v":0},{"$f":"(SUM(aem2csp2!$D90,aem2csp2!$E90) * Emissions!AJ73)/1000","v":0},{"$f":"(SUM(aem2csp2!$D90,aem2csp2!$E90) * Emissions!AK73)/1000","v":0},{"$f":"(SUM(aem2csp2!$D90,aem2csp2!$E90) * Emissions!AL73)/1000","v":0},{"$f":"(SUM(aem2csp2!$D90,aem2csp2!$E90) * Emissions!AM73)/1000","v":0},{"$f":"(SUM(aem2csp2!$D90,aem2csp2!$E90) * Emissions!AN73)/1000","v":0},{"$f":"(SUM(aem2csp2!$D90,aem2csp2!$E90) * Emissions!AO73)/1000","v":0},{"$f":"(SUM(aem2csp2!$D90,aem2csp2!$E90) * Emissions!AP73)/1000","v":0},{"$f":"(SUM(aem2csp2!$D90,aem2csp2!$E90) * Emissions!AQ73)/1000","v":0},{"$f":"(SUM(aem2csp2!$D90,aem2csp2!$E90) * Emissions!AR73)/1000","v":0},{"$f":"(SUM(aem2csp2!$D90,aem2csp2!$E90) * Emissions!AS73)/1000","v":0}]
["B52G "," Arrival ",11381.746173153701,37178.699503936099,10456.325455877701,13159.9624624758,13091.339838215201,13159.9624624758,2769.4509442461899,7460397.6512096301,2925043.38971357,141.89293673625201,1411.4775291579699,296.57505705376502,1849.94552294798,null,"B52G "," Departure ",2583.9727441489399,3380.6976735948601,32568.3482914626,2987.6772684729699,2972.0980253565099,2987.6772684729699,4099.8440549032903,11044234.966888599,4330180.23899878,197.93938703875699,1490.5421627916301,348.62411130802201,2037.1056611383999,null,13965.71891730264,40559.397177530962,43024.673747340305,16147.639730948769,16063.437863571711,16147.639730948769,6869.2949991494806,18504632.618098229,7255223.6287123505,339.832323775009,2902.0196919496002,645.19916836178709,3887.0511840863801,null,0,0,0,0,0,0,0,0,0,0,0,0,0,null,{"$f":"(SUM(aem2csp2!$B91,aem2csp2!$C91) * Emissions!AG74)/1000","v":0},{"$f":"(SUM(aem2csp2!$B91,aem2csp2!$C91) * Emissions!AH74)/1000","v":0},{"$f":"(SUM(aem2csp2!$B91,aem2csp2!$C91) * Emissions!AI74)/1000","v":0},{"$f":"(SUM(aem2csp2!$B91,aem2csp2!$C91) * Emissions!AJ74)/1000","v":0},{"$f":"(SUM(aem2csp2!$B91,aem2csp2!$C91) * Emissions!AK74)/1000","v":0},{"$f":"(SUM(aem2csp2!$B91,aem2csp2!$C91) * Emissions!AL74)/1000","v":0},{"$f":"(SUM(aem2csp2!$B91,aem2csp2!$C91) * Emissions!AM74)/1000","v":0},{"$f":"(SUM(aem2csp2!$B91,aem2csp2!$C91) * Emissions!AN74)/1000","v":0},{"$f":"(SUM(aem2csp2!$B91,aem2csp2!$C91) * Emissions!AO74)/1000","v":0},{"$f":"(SUM(aem2csp2!$B91,aem2csp2!$C91) * Emissions!AP74)/1000","v":0},{"$f":"(SUM(aem2csp2!$B91,aem2csp2!$C91) * Emissions!AQ74)/1000","v":0},{"$f":"(SUM(aem2csp2!$B91,aem2csp2!$C91) * Emissions!AR74)/1000","v":0},{"$f":"(SUM(aem2csp2!$B91,aem2csp2!$C91) * Emissions!AS74)/1000","v":0},null,{"$f":"(SUM(aem2csp2!$D91,aem2csp2!$E91) * Emissions!AG74)/1000","v":0},{"$f":"(SUM(aem2csp2!$D91,aem2csp2!$E91) * Emissions!AH74)/1000","v":0},{"$f":"(SUM(aem2csp2!$D91,aem2csp2!$E91) * Emissions!AI74)/1000","v":0},{"$f":"(SUM(aem2csp2!$D91,aem2csp2!$E91) * Emissions!AJ74)/1000","v":0},{"$f":"(SUM(aem2csp2!$D91,aem2csp2!$E91) * Emissions!AK74)/1000","v":0},{"$f":"(SUM(aem2csp2!$D91,aem2csp2!$E91) * Emissions!AL74)/1000","v":0},{"$f":"(SUM(aem2csp2!$D91,aem2csp2!$E91) * Emissions!AM74)/1000","v":0},{"$f":"(SUM(aem2csp2!$D91,aem2csp2!$E91) * Emissions!AN74)/1000","v":0},{"$f":"(SUM(aem2csp2!$D91,aem2csp2!$E91) * Emissions!AO74)/1000","v":0},{"$f":"(SUM(aem2csp2!$D91,aem2csp2!$E91) * Emissions!AP74)/1000","v":0},{"$f":"(SUM(aem2csp2!$D91,aem2csp2!$E91) * Emissions!AQ74)/1000","v":0},{"$f":"(SUM(aem2csp2!$D91,aem2csp2!$E91) * Emissions!AR74)/1000","v":0},{"$f":"(SUM(aem2csp2!$D91,aem2csp2!$E91) * Emissions!AS74)/1000","v":0}]
["B52H "," Arrival ",10596.677493582099,42737.981051463597,17063.219262315601,12252.2393243516,12188.350022394799,12252.2393243516,3233.1394452939599,8709490.2236188892,3414782.6962334602,165.90462608150699,1600.1956246719999,348.13046722052002,2114.2307179740201,null,"B52H "," Departure ",1263.39753066247,17710.714392724502,32560.794944319801,1460.7832423744601,1453.1659881570999,1460.7832423744601,4340.8615566181397,11693492.325076999,4584738.5122409798,211.76779337778899,1594.2155069514599,385.47796594743397,2191.4612662766799,null,11860.07502424457,60448.695444188095,49624.014206635402,13713.02256672606,13641.516010551899,13713.02256672606,7574.0010019121,20402982.548695888,7999521.2084744405,377.67241945929595,3194.4111316234598,733.60843316795399,4305.6919842506995,null,0,0,0,0,0,0,0,0,0,0,0,0,0,null,{"$f":"(SUM(aem2csp2!$B92,aem2csp2!$C92) * Emissions!AG75)/1000","v":0},{"$f":"(SUM(aem2csp2!$B92,aem2csp2!$C92) * Emissions!AH75)/1000","v":0},{"$f":"(SUM(aem2csp2!$B92,aem2csp2!$C92) * Emissions!AI75)/1000","v":0},{"$f":"(SUM(aem2csp2!$B92,aem2csp2!$C92) * Emissions!AJ75)/1000","v":0},{"$f":"(SUM(aem2csp2!$B92,aem2csp2!$C92) * Emissions!AK75)/1000","v":0},{"$f":"(SUM(aem2csp2!$B92,aem2csp2!$C92) * Emissions!AL75)/1000","v":0},{"$f":"(SUM(aem2csp2!$B92,aem2csp2!$C92) * Emissions!AM75)/1000","v":0},{"$f":"(SUM(aem2csp2!$B92,aem2csp2!$C92) * Emissions!AN75)/1000","v":0},{"$f":"(SUM(aem2csp2!$B92,aem2csp2!$C92) * Emissions!AO75)/1000","v":0},{"$f":"(SUM(aem2csp2!$B92,aem2csp2!$C92) * Emissions!AP75)/1000","v":0},{"$f":"(SUM(aem2csp2!$B92,aem2csp2!$C92) * Emissions!AQ75)/1000","v":0},{"$f":"(SUM(aem2csp2!$B92,aem2csp2!$C92) * Emissions!AR75)/1000","v":0},{"$f":"(SUM(aem2csp2!$B92,aem2csp2!$C92) * Emissions!AS75)/1000","v":0},null,{"$f":"(SUM(aem2csp2!$D92,aem2csp2!$E92) * Emissions!AG75)/1000","v":0},{"$f":"(SUM(aem2csp2!$D92,aem2csp2!$E92) * Emissions!AH75)/1000","v":0},{"$f":"(SUM(aem2csp2!$D92,aem2csp2!$E92) * Emissions!AI75)/1000","v":0},{"$f":"(SUM(aem2csp2!$D92,aem2csp2!$E92) * Emissions!AJ75)/1000","v":0},{"$f":"(SUM(aem2csp2!$D92,aem2csp2!$E92) * Emissions!AK75)/1000","v":0},{"$f":"(SUM(aem2csp2!$D92,aem2csp2!$E92) * Emissions!AL75)/1000","v":0},{"$f":"(SUM(aem2csp2!$D92,aem2csp2!$E92) * Emissions!AM75)/1000","v":0},{"$f":"(SUM(aem2csp2!$D92,aem2csp2!$E92) * Emissions!AN75)/1000","v":0},{"$f":"(SUM(aem2csp2!$D92,aem2csp2!$E92) * Emissions!AO75)/1000","v":0},{"$f":"(SUM(aem2csp2!$D92,aem2csp2!$E92) * Emissions!AP75)/1000","v":0},{"$f":"(SUM(aem2csp2!$D92,aem2csp2!$E92) * Emissions!AQ75)/1000","v":0},{"$f":"(SUM(aem2csp2!$D92,aem2csp2!$E92) * Emissions!AR75)/1000","v":0},{"$f":"(SUM(aem2csp2!$D92,aem2csp2!$E92) * Emissions!AS75)/1000","v":0}]
["B57E "," Arrival ",2977.1585877747498,7070.7467396002703,5278.80343972221,3442.2921284579202,3424.34229615408,3442.2921284579202,851.97658229494505,2295070.1136787501,899842.06992729404,45.147238977924601,455.56482040182999,102.40203908609899,603.114098465854,null,"B57E "," Departure ",413.40879195252899,3680.1123777880798,9354.2562005675209,477.99732141147098,475.50480437897102,477.99732141147098,1212.7690534045601,3266979.4770247499,1280904.4732423499,64.6429131906105,603.45816035786697,148.57931667078199,816.68039021925995,null,3390.5673797272789,10750.859117388351,14633.059640289732,3920.2894498693913,3899.8471005330512,3920.2894498693913,2064.7456356995053,5562049.5907035004,2180746.5431696437,109.7901521685351,1059.022980759697,250.98135575688099,1419.7944886851139,null,0,0,0,0,0,0,0,0,0,0,0,0,0,null,{"$f":"(SUM(aem2csp2!$B93,aem2csp2!$C93) * Emissions!AG76)/1000","v":0},{"$f":"(SUM(aem2csp2!$B93,aem2csp2!$C93) * Emissions!AH76)/1000","v":0},{"$f":"(SUM(aem2csp2!$B93,aem2csp2!$C93) * Emissions!AI76)/1000","v":0},{"$f":"(SUM(aem2csp2!$B93,aem2csp2!$C93) * Emissions!AJ76)/1000","v":0},{"$f":"(SUM(aem2csp2!$B93,aem2csp2!$C93) * Emissions!AK76)/1000","v":0},{"$f":"(SUM(aem2csp2!$B93,aem2csp2!$C93) * Emissions!AL76)/1000","v":0},{"$f":"(SUM(aem2csp2!$B93,aem2csp2!$C93) * Emissions!AM76)/1000","v":0},{"$f":"(SUM(aem2csp2!$B93,aem2csp2!$C93) * Emissions!AN76)/1000","v":0},{"$f":"(SUM(aem2csp2!$B93,aem2csp2!$C93) * Emissions!AO76)/1000","v":0},{"$f":"(SUM(aem2csp2!$B93,aem2csp2!$C93) * Emissions!AP76)/1000","v":0},{"$f":"(SUM(aem2csp2!$B93,aem2csp2!$C93) * Emissions!AQ76)/1000","v":0},{"$f":"(SUM(aem2csp2!$B93,aem2csp2!$C93) * Emissions!AR76)/1000","v":0},{"$f":"(SUM(aem2csp2!$B93,aem2csp2!$C93) * Emissions!AS76)/1000","v":0},null,{"$f":"(SUM(aem2csp2!$D93,aem2csp2!$E93) * Emissions!AG76)/1000","v":0},{"$f":"(SUM(aem2csp2!$D93,aem2csp2!$E93) * Emissions!AH76)/1000","v":0},{"$f":"(SUM(aem2csp2!$D93,aem2csp2!$E93) * Emissions!AI76)/1000","v":0},{"$f":"(SUM(aem2csp2!$D93,aem2csp2!$E93) * Emissions!AJ76)/1000","v":0},{"$f":"(SUM(aem2csp2!$D93,aem2csp2!$E93) * Emissions!AK76)/1000","v":0},{"$f":"(SUM(aem2csp2!$D93,aem2csp2!$E93) * Emissions!AL76)/1000","v":0},{"$f":"(SUM(aem2csp2!$D93,aem2csp2!$E93) * Emissions!AM76)/1000","v":0},{"$f":"(SUM(aem2csp2!$D93,aem2csp2!$E93) * Emissions!AN76)/1000","v":0},{"$f":"(SUM(aem2csp2!$D93,aem2csp2!$E93) * Emissions!AO76)/1000","v":0},{"$f":"(SUM(aem2csp2!$D93,aem2csp2!$E93) * Emissions!AP76)/1000","v":0},{"$f":"(SUM(aem2csp2!$D93,aem2csp2!$E93) * Emissions!AQ76)/1000","v":0},{"$f":"(SUM(aem2csp2!$D93,aem2csp2!$E93) * Emissions!AR76)/1000","v":0},{"$f":"(SUM(aem2csp2!$D93,aem2csp2!$E93) * Emissions!AS76)/1000","v":0}]
["BAC111 "," Arrival ",4166.5780825342399,7802.2964652738201,371.23282157270199,4817.5394468432196,4792.4183873976499,4817.5394468432196,138.157846925809,372172.13716780097,145919.788803984,5.8614699803532897,59.208049951976399,5.7125658451773802,70.782085777507007,null,"BAC111 "," Departure ",457.86815899061997,1678.03724877115,5806.3161188785598,529.40275537790001,526.64218470998196,529.40275537790001,420.97775065421899,1134037.5711356399,444628.99381768203,20.326968038696801,162.85192993853701,337.47714390473197,520.65604188196596,null,4624.4462415248599,9480.3337140449694,6177.5489404512618,5346.9422022211193,5319.0605721076317,5346.9422022211193,559.13559758002793,1506209.7083034408,590548.78262166609,26.188438019050089,222.0599798905134,343.18970974990935,591.43812765947291,null,0,0,0,0,0,0,0,0,0,0,0,0,0,null,{"$f":"(SUM(aem2csp2!$B94,aem2csp2!$C94) * Emissions!AG77)/1000","v":0},{"$f":"(SUM(aem2csp2!$B94,aem2csp2!$C94) * Emissions!AH77)/1000","v":0},{"$f":"(SUM(aem2csp2!$B94,aem2csp2!$C94) * Emissions!AI77)/1000","v":0},{"$f":"(SUM(aem2csp2!$B94,aem2csp2!$C94) * Emissions!AJ77)/1000","v":0},{"$f":"(SUM(aem2csp2!$B94,aem2csp2!$C94) * Emissions!AK77)/1000","v":0},{"$f":"(SUM(aem2csp2!$B94,aem2csp2!$C94) * Emissions!AL77)/1000","v":0},{"$f":"(SUM(aem2csp2!$B94,aem2csp2!$C94) * Emissions!AM77)/1000","v":0},{"$f":"(SUM(aem2csp2!$B94,aem2csp2!$C94) * Emissions!AN77)/1000","v":0},{"$f":"(SUM(aem2csp2!$B94,aem2csp2!$C94) * Emissions!AO77)/1000","v":0},{"$f":"(SUM(aem2csp2!$B94,aem2csp2!$C94) * Emissions!AP77)/1000","v":0},{"$f":"(SUM(aem2csp2!$B94,aem2csp2!$C94) * Emissions!AQ77)/1000","v":0},{"$f":"(SUM(aem2csp2!$B94,aem2csp2!$C94) * Emissions!AR77)/1000","v":0},{"$f":"(SUM(aem2csp2!$B94,aem2csp2!$C94) * Emissions!AS77)/1000","v":0},null,{"$f":"(SUM(aem2csp2!$D94,aem2csp2!$E94) * Emissions!AG77)/1000","v":0},{"$f":"(SUM(aem2csp2!$D94,aem2csp2!$E94) * Emissions!AH77)/1000","v":0},{"$f":"(SUM(aem2csp2!$D94,aem2csp2!$E94) * Emissions!AI77)/1000","v":0},{"$f":"(SUM(aem2csp2!$D94,aem2csp2!$E94) * Emissions!AJ77)/1000","v":0},{"$f":"(SUM(aem2csp2!$D94,aem2csp2!$E94) * Emissions!AK77)/1000","v":0},{"$f":"(SUM(aem2csp2!$D94,aem2csp2!$E94) * Emissions!AL77)/1000","v":0},{"$f":"(SUM(aem2csp2!$D94,aem2csp2!$E94) * Emissions!AM77)/1000","v":0},{"$f":"(SUM(aem2csp2!$D94,aem2csp2!$E94) * Emissions!AN77)/1000","v":0},{"$f":"(SUM(aem2csp2!$D94,aem2csp2!$E94) * Emissions!AO77)/1000","v":0},{"$f":"(SUM(aem2csp2!$D94,aem2csp2!$E94) * Emissions!AP77)/1000","v":0},{"$f":"(SUM(aem2csp2!$D94,aem2csp2!$E94) * Emissions!AQ77)/1000","v":0},{"$f":"(SUM(aem2csp2!$D94,aem2csp2!$E94) * Emissions!AR77)/1000","v":0},{"$f":"(SUM(aem2csp2!$D94,aem2csp2!$E94) * Emissions!AS77)/1000","v":0}]
["BAE146 "," Arrival ",34.081236652199301,642.37924668606604,1753.59164509125,39.405886249299598,39.200404255452597,39.405886249299598,270.41520599322303,728449.43212826096,285607.590346326,11.973844914674499,61.5945470123783,20.986618845432901,94.555010772485701,null,"BAE146 "," Departure ",31.036036669705599,156.371860433378,5815.1778013967396,35.884922343526199,35.697800415965901,35.884922343526199,593.10965285752798,1597729.6403393999,626431.55787633394,29.450491780534801,227.42507295486999,70.520166248748296,327.39573098415298,null,65.117273321904904,798.75110711944399,7568.7694464879896,75.290808592825798,74.898204671418497,75.290808592825798,863.524858850751,2326179.072467661,912039.14822265995,41.424336695209298,289.01961996724827,91.506785094181197,421.95074175663865,null,0,0,0,0,0,0,0,0,0,0,0,0,0,null,{"$f":"(SUM(aem2csp2!$B95,aem2csp2!$C95) * Emissions!AG78)/1000","v":0},{"$f":"(SUM(aem2csp2!$B95,aem2csp2!$C95) * Emissions!AH78)/1000","v":0},{"$f":"(SUM(aem2csp2!$B95,aem2csp2!$C95) * Emissions!AI78)/1000","v":0},{"$f":"(SUM(aem2csp2!$B95,aem2csp2!$C95) * Emissions!AJ78)/1000","v":0},{"$f":"(SUM(aem2csp2!$B95,aem2csp2!$C95) * Emissions!AK78)/1000","v":0},{"$f":"(SUM(aem2csp2!$B95,aem2csp2!$C95) * Emissions!AL78)/1000","v":0},{"$f":"(SUM(aem2csp2!$B95,aem2csp2!$C95) * Emissions!AM78)/1000","v":0},{"$f":"(SUM(aem2csp2!$B95,aem2csp2!$C95) * Emissions!AN78)/1000","v":0},{"$f":"(SUM(aem2csp2!$B95,aem2csp2!$C95) * Emissions!AO78)/1000","v":0},{"$f":"(SUM(aem2csp2!$B95,aem2csp2!$C95) * Emissions!AP78)/1000","v":0},{"$f":"(SUM(aem2csp2!$B95,aem2csp2!$C95) * Emissions!AQ78)/1000","v":0},{"$f":"(SUM(aem2csp2!$B95,aem2csp2!$C95) * Emissions!AR78)/1000","v":0},{"$f":"(SUM(aem2csp2!$B95,aem2csp2!$C95) * Emissions!AS78)/1000","v":0},null,{"$f":"(SUM(aem2csp2!$D95,aem2csp2!$E95) * Emissions!AG78)/1000","v":0},{"$f":"(SUM(aem2csp2!$D95,aem2csp2!$E95) * Emissions!AH78)/1000","v":0},{"$f":"(SUM(aem2csp2!$D95,aem2csp2!$E95) * Emissions!AI78)/1000","v":0},{"$f":"(SUM(aem2csp2!$D95,aem2csp2!$E95) * Emissions!AJ78)/1000","v":0},{"$f":"(SUM(aem2csp2!$D95,aem2csp2!$E95) * Emissions!AK78)/1000","v":0},{"$f":"(SUM(aem2csp2!$D95,aem2csp2!$E95) * Emissions!AL78)/1000","v":0},{"$f":"(SUM(aem2csp2!$D95,aem2csp2!$E95) * Emissions!AM78)/1000","v":0},{"$f":"(SUM(aem2csp2!$D95,aem2csp2!$E95) * Emissions!AN78)/1000","v":0},{"$f":"(SUM(aem2csp2!$D95,aem2csp2!$E95) * Emissions!AO78)/1000","v":0},{"$f":"(SUM(aem2csp2!$D95,aem2csp2!$E95) * Emissions!AP78)/1000","v":0},{"$f":"(SUM(aem2csp2!$D95,aem2csp2!$E95) * Emissions!AQ78)/1000","v":0},{"$f":"(SUM(aem2csp2!$D95,aem2csp2!$E95) * Emissions!AR78)/1000","v":0},{"$f":"(SUM(aem2csp2!$D95,aem2csp2!$E95) * Emissions!AS78)/1000","v":0}]
["BAE300 "," Arrival ",34.062619829203101,644.47979570159998,1748.45966993908,39.384360844667199,39.178991095042598,39.384360844667199,269.762071816505,726690.00732673495,284917.76198515698,11.9414554891175,61.343805859553697,20.915065212732301,94.2003265614035,null,"BAE300 "," Departure ",33.280893804342703,167.81846883326,6215.0735292866902,38.480502597734201,38.279846016938301,38.480502597734201,635.17422929306201,1711043.9663760299,670859.39347294904,31.1871836022586,233.09763221349701,73.746017186756802,338.030833002512,null,67.343513633545797,812.29826453485998,7963.5331992257707,77.864863442401401,77.458837111980898,77.864863442401401,904.93630110956701,2437733.9737027651,955777.15545810596,43.128639091376101,294.44143807305068,94.661082399489104,432.23115956391553,null,0,0,0,0,0,0,0,0,0,0,0,0,0,null,{"$f":"(SUM(aem2csp2!$B96,aem2csp2!$C96) * Emissions!AG79)/1000","v":0},{"$f":"(SUM(aem2csp2!$B96,aem2csp2!$C96) * Emissions!AH79)/1000","v":0},{"$f":"(SUM(aem2csp2!$B96,aem2csp2!$C96) * Emissions!AI79)/1000","v":0},{"$f":"(SUM(aem2csp2!$B96,aem2csp2!$C96) * Emissions!AJ79)/1000","v":0},{"$f":"(SUM(aem2csp2!$B96,aem2csp2!$C96) * Emissions!AK79)/1000","v":0},{"$f":"(SUM(aem2csp2!$B96,aem2csp2!$C96) * Emissions!AL79)/1000","v":0},{"$f":"(SUM(aem2csp2!$B96,aem2csp2!$C96) * Emissions!AM79)/1000","v":0},{"$f":"(SUM(aem2csp2!$B96,aem2csp2!$C96) * Emissions!AN79)/1000","v":0},{"$f":"(SUM(aem2csp2!$B96,aem2csp2!$C96) * Emissions!AO79)/1000","v":0},{"$f":"(SUM(aem2csp2!$B96,aem2csp2!$C96) * Emissions!AP79)/1000","v":0},{"$f":"(SUM(aem2csp2!$B96,aem2csp2!$C96) * Emissions!AQ79)/1000","v":0},{"$f":"(SUM(aem2csp2!$B96,aem2csp2!$C96) * Emissions!AR79)/1000","v":0},{"$f":"(SUM(aem2csp2!$B96,aem2csp2!$C96) * Emissions!AS79)/1000","v":0},null,{"$f":"(SUM(aem2csp2!$D96,aem2csp2!$E96) * Emissions!AG79)/1000","v":0},{"$f":"(SUM(aem2csp2!$D96,aem2csp2!$E96) * Emissions!AH79)/1000","v":0},{"$f":"(SUM(aem2csp2!$D96,aem2csp2!$E96) * Emissions!AI79)/1000","v":0},{"$f":"(SUM(aem2csp2!$D96,aem2csp2!$E96) * Emissions!AJ79)/1000","v":0},{"$f":"(SUM(aem2csp2!$D96,aem2csp2!$E96) * Emissions!AK79)/1000","v":0},{"$f":"(SUM(aem2csp2!$D96,aem2csp2!$E96) * Emissions!AL79)/1000","v":0},{"$f":"(SUM(aem2csp2!$D96,aem2csp2!$E96) * Emissions!AM79)/1000","v":0},{"$f":"(SUM(aem2csp2!$D96,aem2csp2!$E96) * Emissions!AN79)/1000","v":0},{"$f":"(SUM(aem2csp2!$D96,aem2csp2!$E96) * Emissions!AO79)/1000","v":0},{"$f":"(SUM(aem2csp2!$D96,aem2csp2!$E96) * Emissions!AP79)/1000","v":0},{"$f":"(SUM(aem2csp2!$D96,aem2csp2!$E96) * Emissions!AQ79)/1000","v":0},{"$f":"(SUM(aem2csp2!$D96,aem2csp2!$E96) * Emissions!AR79)/1000","v":0},{"$f":"(SUM(aem2csp2!$D96,aem2csp2!$E96) * Emissions!AS79)/1000","v":0}]
["BEC58P "," Arrival ",399.89450753130598,39628.672522447399,9.3092725315613798,391.77963787995901,333.79594438145602,348.87976753210302,31.620184220956499,85179.031093850499,33396.659734736299,1.4800604627638501,20.8743015217545,2.3413596441696298,24.695721628687998,null,"BEC58P "," Departure ",410.69895209240298,40801.125718506803,8.6468761528323199,402.36483296996499,342.81452230104998,358.30588375975401,31.2364473864302,84145.313784312995,32991.3639148004,1.6619116646498699,25.3160091876445,3.8040867291624898,30.782007581456899,null,810.5934596237089,80429.798240954202,17.9561486843937,794.14447084992401,676.61046668250606,707.18565129185708,62.856631607386703,169324.34487816348,66388.023649536699,3.14197212741372,46.190310709399,6.1454463733321196,55.477729210144901,null,0,0,0,0,0,0,0,0,0,0,0,0,0,null,{"$f":"(SUM(aem2csp2!$B97,aem2csp2!$C97) * Emissions!AG80)/1000","v":0},{"$f":"(SUM(aem2csp2!$B97,aem2csp2!$C97) * Emissions!AH80)/1000","v":0},{"$f":"(SUM(aem2csp2!$B97,aem2csp2!$C97) * Emissions!AI80)/1000","v":0},{"$f":"(SUM(aem2csp2!$B97,aem2csp2!$C97) * Emissions!AJ80)/1000","v":0},{"$f":"(SUM(aem2csp2!$B97,aem2csp2!$C97) * Emissions!AK80)/1000","v":0},{"$f":"(SUM(aem2csp2!$B97,aem2csp2!$C97) * Emissions!AL80)/1000","v":0},{"$f":"(SUM(aem2csp2!$B97,aem2csp2!$C97) * Emissions!AM80)/1000","v":0},{"$f":"(SUM(aem2csp2!$B97,aem2csp2!$C97) * Emissions!AN80)/1000","v":0},{"$f":"(SUM(aem2csp2!$B97,aem2csp2!$C97) * Emissions!AO80)/1000","v":0},{"$f":"(SUM(aem2csp2!$B97,aem2csp2!$C97) * Emissions!AP80)/1000","v":0},{"$f":"(SUM(aem2csp2!$B97,aem2csp2!$C97) * Emissions!AQ80)/1000","v":0},{"$f":"(SUM(aem2csp2!$B97,aem2csp2!$C97) * Emissions!AR80)/1000","v":0},{"$f":"(SUM(aem2csp2!$B97,aem2csp2!$C97) * Emissions!AS80)/1000","v":0},null,{"$f":"(SUM(aem2csp2!$D97,aem2csp2!$E97) * Emissions!AG80)/1000","v":0},{"$f":"(SUM(aem2csp2!$D97,aem2csp2!$E97) * Emissions!AH80)/1000","v":0},{"$f":"(SUM(aem2csp2!$D97,aem2csp2!$E97) * Emissions!AI80)/1000","v":0},{"$f":"(SUM(aem2csp2!$D97,aem2csp2!$E97) * Emissions!AJ80)/1000","v":0},{"$f":"(SUM(aem2csp2!$D97,aem2csp2!$E97) * Emissions!AK80)/1000","v":0},{"$f":"(SUM(aem2csp2!$D97,aem2csp2!$E97) * Emissions!AL80)/1000","v":0},{"$f":"(SUM(aem2csp2!$D97,aem2csp2!$E97) * Emissions!AM80)/1000","v":0},{"$f":"(SUM(aem2csp2!$D97,aem2csp2!$E97) * Emissions!AN80)/1000","v":0},{"$f":"(SUM(aem2csp2!$D97,aem2csp2!$E97) * Emissions!AO80)/1000","v":0},{"$f":"(SUM(aem2csp2!$D97,aem2csp2!$E97) * Emissions!AP80)/1000","v":0},{"$f":"(SUM(aem2csp2!$D97,aem2csp2!$E97) * Emissions!AQ80)/1000","v":0},{"$f":"(SUM(aem2csp2!$D97,aem2csp2!$E97) * Emissions!AR80)/1000","v":0},{"$f":"(SUM(aem2csp2!$D97,aem2csp2!$E97) * Emissions!AS80)/1000","v":0}]
["C118 "," Arrival ",932.86450126209104,64451.390667987398,322.645000463987,913.93432420904003,778.67132784848002,813.85851570814998,181.76474041017801,489641.18510426098,191976.59143390501,9.6320497501898892,101.790019049663,21.847855253081001,133.26992405293399,null,"C118 "," Departure ",27717.192037163801,187161.224934333,761.41993238043597,27154.740199874301,23135.817365341001,24181.296147988101,435.839818921252,1174073.28269856,460326.03825613798,20.825767119483199,1049.42417145125,35.445583767513597,1105.6955223382499,null,28650.056538425892,251612.61560232041,1084.0649328444229,28068.674524083341,23914.48869318948,24995.154663696252,617.60455933142998,1663714.467802821,652302.62969004293,30.457816869673088,1151.214190500913,57.293439020594597,1238.9654463911838,null,0,0,0,0,0,0,0,0,0,0,0,0,0,null,{"$f":"(SUM(aem2csp2!$B98,aem2csp2!$C98) * Emissions!AG81)/1000","v":0},{"$f":"(SUM(aem2csp2!$B98,aem2csp2!$C98) * Emissions!AH81)/1000","v":0},{"$f":"(SUM(aem2csp2!$B98,aem2csp2!$C98) * Emissions!AI81)/1000","v":0},{"$f":"(SUM(aem2csp2!$B98,aem2csp2!$C98) * Emissions!AJ81)/1000","v":0},{"$f":"(SUM(aem2csp2!$B98,aem2csp2!$C98) * Emissions!AK81)/1000","v":0},{"$f":"(SUM(aem2csp2!$B98,aem2csp2!$C98) * Emissions!AL81)/1000","v":0},{"$f":"(SUM(aem2csp2!$B98,aem2csp2!$C98) * Emissions!AM81)/1000","v":0},{"$f":"(SUM(aem2csp2!$B98,aem2csp2!$C98) * Emissions!AN81)/1000","v":0},{"$f":"(SUM(aem2csp2!$B98,aem2csp2!$C98) * Emissions!AO81)/1000","v":0},{"$f":"(SUM(aem2csp2!$B98,aem2csp2!$C98) * Emissions!AP81)/1000","v":0},{"$f":"(SUM(aem2csp2!$B98,aem2csp2!$C98) * Emissions!AQ81)/1000","v":0},{"$f":"(SUM(aem2csp2!$B98,aem2csp2!$C98) * Emissions!AR81)/1000","v":0},{"$f":"(SUM(aem2csp2!$B98,aem2csp2!$C98) * Emissions!AS81)/1000","v":0},null,{"$f":"(SUM(aem2csp2!$D98,aem2csp2!$E98) * Emissions!AG81)/1000","v":0},{"$f":"(SUM(aem2csp2!$D98,aem2csp2!$E98) * Emissions!AH81)/1000","v":0},{"$f":"(SUM(aem2csp2!$D98,aem2csp2!$E98) * Emissions!AI81)/1000","v":0},{"$f":"(SUM(aem2csp2!$D98,aem2csp2!$E98) * Emissions!AJ81)/1000","v":0},{"$f":"(SUM(aem2csp2!$D98,aem2csp2!$E98) * Emissions!AK81)/1000","v":0},{"$f":"(SUM(aem2csp2!$D98,aem2csp2!$E98) * Emissions!AL81)/1000","v":0},{"$f":"(SUM(aem2csp2!$D98,aem2csp2!$E98) * Emissions!AM81)/1000","v":0},{"$f":"(SUM(aem2csp2!$D98,aem2csp2!$E98) * Emissions!AN81)/1000","v":0},{"$f":"(SUM(aem2csp2!$D98,aem2csp2!$E98) * Emissions!AO81)/1000","v":0},{"$f":"(SUM(aem2csp2!$D98,aem2csp2!$E98) * Emissions!AP81)/1000","v":0},{"$f":"(SUM(aem2csp2!$D98,aem2csp2!$E98) * Emissions!AQ81)/1000","v":0},{"$f":"(SUM(aem2csp2!$D98,aem2csp2!$E98) * Emissions!AR81)/1000","v":0},{"$f":"(SUM(aem2csp2!$D98,aem2csp2!$E98) * Emissions!AS81)/1000","v":0}]
["C12 "," Arrival ",5.5120114599358601E-3,341.74471051600898,258.50192583178199,6.3731753284560402E-3,6.3399424057058104E-3,6.3731753284560402E-3,60.946301637352299,164178.263034364,64370.368105707697,3.1239298991253199,26.146693238904501,9.9628701969278808,39.2334933349577,null,"C12 "," Departure ",9.6386202970187903E-3,192.77240594037599,625.75209555342997,1.1144500972795599E-2,1.1086387972472999E-2,1.1144500972795599E-2,104.99947414526,282849.50557402102,110898.522470702,5.3045720901032496,42.735833038920603,19.645494800022899,67.685899929046798,null,1.5150631756954649E-2,534.517116456385,884.2540213852119,1.7517676301251638E-2,1.7426330378178811E-2,1.7517676301251638E-2,165.94577578261229,447027.768608385,175268.8905764097,8.42850198922857,68.882526277825107,29.60836499695078,106.9193932640045,null,0,0,0,0,0,0,0,0,0,0,0,0,0,null,{"$f":"(SUM(aem2csp2!$B99,aem2csp2!$C99) * Emissions!AG82)/1000","v":0},{"$f":"(SUM(aem2csp2!$B99,aem2csp2!$C99) * Emissions!AH82)/1000","v":0},{"$f":"(SUM(aem2csp2!$B99,aem2csp2!$C99) * Emissions!AI82)/1000","v":0},{"$f":"(SUM(aem2csp2!$B99,aem2csp2!$C99) * Emissions!AJ82)/1000","v":0},{"$f":"(SUM(aem2csp2!$B99,aem2csp2!$C99) * Emissions!AK82)/1000","v":0},{"$f":"(SUM(aem2csp2!$B99,aem2csp2!$C99) * Emissions!AL82)/1000","v":0},{"$f":"(SUM(aem2csp2!$B99,aem2csp2!$C99) * Emissions!AM82)/1000","v":0},{"$f":"(SUM(aem2csp2!$B99,aem2csp2!$C99) * Emissions!AN82)/1000","v":0},{"$f":"(SUM(aem2csp2!$B99,aem2csp2!$C99) * Emissions!AO82)/1000","v":0},{"$f":"(SUM(aem2csp2!$B99,aem2csp2!$C99) * Emissions!AP82)/1000","v":0},{"$f":"(SUM(aem2csp2!$B99,aem2csp2!$C99) * Emissions!AQ82)/1000","v":0},{"$f":"(SUM(aem2csp2!$B99,aem2csp2!$C99) * Emissions!AR82)/1000","v":0},{"$f":"(SUM(aem2csp2!$B99,aem2csp2!$C99) * Emissions!AS82)/1000","v":0},null,{"$f":"(SUM(aem2csp2!$D99,aem2csp2!$E99) * Emissions!AG82)/1000","v":0},{"$f":"(SUM(aem2csp2!$D99,aem2csp2!$E99) * Emissions!AH82)/1000","v":0},{"$f":"(SUM(aem2csp2!$D99,aem2csp2!$E99) * Emissions!AI82)/1000","v":0},{"$f":"(SUM(aem2csp2!$D99,aem2csp2!$E99) * Emissions!AJ82)/1000","v":0},{"$f":"(SUM(aem2csp2!$D99,aem2csp2!$E99) * Emissions!AK82)/1000","v":0},{"$f":"(SUM(aem2csp2!$D99,aem2csp2!$E99) * Emissions!AL82)/1000","v":0},{"$f":"(SUM(aem2csp2!$D99,aem2csp2!$E99) * Emissions!AM82)/1000","v":0},{"$f":"(SUM(aem2csp2!$D99,aem2csp2!$E99) * Emissions!AN82)/1000","v":0},{"$f":"(SUM(aem2csp2!$D99,aem2csp2!$E99) * Emissions!AO82)/1000","v":0},{"$f":"(SUM(aem2csp2!$D99,aem2csp2!$E99) * Emissions!AP82)/1000","v":0},{"$f":"(SUM(aem2csp2!$D99,aem2csp2!$E99) * Emissions!AQ82)/1000","v":0},{"$f":"(SUM(aem2csp2!$D99,aem2csp2!$E99) * Emissions!AR82)/1000","v":0},{"$f":"(SUM(aem2csp2!$D99,aem2csp2!$E99) * Emissions!AS82)/1000","v":0}]
["C130 "," Arrival ",384.28469103668402,1066.1122092871101,666.09285444126601,444.32304428605897,442.00612177162998,444.32304428605897,146.77324918046401,395380.465475037,155019.218951702,6.7228081494433702,43.2183383887796,38.8275921548382,88.768738693061195,null,"C130 "," Departure ",30.5539801185726,454.28163610977703,4910.3660225587701,35.327552145562699,35.143336624899703,35.327552145562699,483.78252492180297,1303222.2217625401,510962.24669422,24.555011300508699,200.962873332556,86.805216465929604,312.32310109899402,null,414.83867115525663,1520.3938453968872,5576.4588770000364,479.65059643162169,477.14945839652967,479.65059643162169,630.55577410226692,1698602.687237577,665981.465645922,31.277819449952069,244.18121172133561,125.6328086207678,401.09183979205523,null,0,0,0,0,0,0,0,0,0,0,0,0,0,null,{"$f":"(SUM(aem2csp2!$B100,aem2csp2!$C100) * Emissions!AG83)/1000","v":0},{"$f":"(SUM(aem2csp2!$B100,aem2csp2!$C100) * Emissions!AH83)/1000","v":0},{"$f":"(SUM(aem2csp2!$B100,aem2csp2!$C100) * Emissions!AI83)/1000","v":0},{"$f":"(SUM(aem2csp2!$B100,aem2csp2!$C100) * Emissions!AJ83)/1000","v":0},{"$f":"(SUM(aem2csp2!$B100,aem2csp2!$C100) * Emissions!AK83)/1000","v":0},{"$f":"(SUM(aem2csp2!$B100,aem2csp2!$C100) * Emissions!AL83)/1000","v":0},{"$f":"(SUM(aem2csp2!$B100,aem2csp2!$C100) * Emissions!AM83)/1000","v":0},{"$f":"(SUM(aem2csp2!$B100,aem2csp2!$C100) * Emissions!AN83)/1000","v":0},{"$f":"(SUM(aem2csp2!$B100,aem2csp2!$C100) * Emissions!AO83)/1000","v":0},{"$f":"(SUM(aem2csp2!$B100,aem2csp2!$C100) * Emissions!AP83)/1000","v":0},{"$f":"(SUM(aem2csp2!$B100,aem2csp2!$C100) * Emissions!AQ83)/1000","v":0},{"$f":"(SUM(aem2csp2!$B100,aem2csp2!$C100) * Emissions!AR83)/1000","v":0},{"$f":"(SUM(aem2csp2!$B100,aem2csp2!$C100) * Emissions!AS83)/1000","v":0},null,{"$f":"(SUM(aem2csp2!$D100,aem2csp2!$E100) * Emissions!AG83)/1000","v":0},{"$f":"(SUM(aem2csp2!$D100,aem2csp2!$E100) * Emissions!AH83)/1000","v":0},{"$f":"(SUM(aem2csp2!$D100,aem2csp2!$E100) * Emissions!AI83)/1000","v":0},{"$f":"(SUM(aem2csp2!$D100,aem2csp2!$E100) * Emissions!AJ83)/1000","v":0},{"$f":"(SUM(aem2csp2!$D100,aem2csp2!$E100) * Emissions!AK83)/1000","v":0},{"$f":"(SUM(aem2csp2!$D100,aem2csp2!$E100) * Emissions!AL83)/1000","v":0},{"$f":"(SUM(aem2csp2!$D100,aem2csp2!$E100) * Emissions!AM83)/1000","v":0},{"$f":"(SUM(aem2csp2!$D100,aem2csp2!$E100) * Emissions!AN83)/1000","v":0},{"$f":"(SUM(aem2csp2!$D100,aem2csp2!$E100) * Emissions!AO83)/1000","v":0},{"$f":"(SUM(aem2csp2!$D100,aem2csp2!$E100) * Emissions!AP83)/1000","v":0},{"$f":"(SUM(aem2csp2!$D100,aem2csp2!$E100) * Emissions!AQ83)/1000","v":0},{"$f":"(SUM(aem2csp2!$D100,aem2csp2!$E100) * Emissions!AR83)/1000","v":0},{"$f":"(SUM(aem2csp2!$D100,aem2csp2!$E100) * Emissions!AS83)/1000","v":0}]
["C130AD "," Arrival ",329.309298566915,1196.86660953707,2152.9556998573398,380.75862365537398,378.77315781232301,380.75862365537398,373.08642085641401,1005027.03022711,394047.04798444698,19.3133908985766,171.76518605858999,83.757513616521194,274.83609057368699,null,"C130AD "," Departure ",23.9520794618875,588.209741141677,5314.3052160021998,27.6942098181879,27.5497983610909,27.6942098181879,595.68718442005002,1604673.0420468401,629153.899528348,30.880650401291302,266.63491918357101,107.848169175913,405.36373876077602,null,353.26137802880248,1785.0763506787471,7467.2609158595396,408.4528334735619,406.3229561734139,408.4528334735619,968.77360527646397,2609700.0722739501,1023200.947512795,50.194041299867905,438.40010524216098,191.60568279243421,680.19982933446295,null,0,0,0,0,0,0,0,0,0,0,0,0,0,null,{"$f":"(SUM(aem2csp2!$B101,aem2csp2!$C101) * Emissions!AG84)/1000","v":0},{"$f":"(SUM(aem2csp2!$B101,aem2csp2!$C101) * Emissions!AH84)/1000","v":0},{"$f":"(SUM(aem2csp2!$B101,aem2csp2!$C101) * Emissions!AI84)/1000","v":0},{"$f":"(SUM(aem2csp2!$B101,aem2csp2!$C101) * Emissions!AJ84)/1000","v":0},{"$f":"(SUM(aem2csp2!$B101,aem2csp2!$C101) * Emissions!AK84)/1000","v":0},{"$f":"(SUM(aem2csp2!$B101,aem2csp2!$C101) * Emissions!AL84)/1000","v":0},{"$f":"(SUM(aem2csp2!$B101,aem2csp2!$C101) * Emissions!AM84)/1000","v":0},{"$f":"(SUM(aem2csp2!$B101,aem2csp2!$C101) * Emissions!AN84)/1000","v":0},{"$f":"(SUM(aem2csp2!$B101,aem2csp2!$C101) * Emissions!AO84)/1000","v":0},{"$f":"(SUM(aem2csp2!$B101,aem2csp2!$C101) * Emissions!AP84)/1000","v":0},{"$f":"(SUM(aem2csp2!$B101,aem2csp2!$C101) * Emissions!AQ84)/1000","v":0},{"$f":"(SUM(aem2csp2!$B101,aem2csp2!$C101) * Emissions!AR84)/1000","v":0},{"$f":"(SUM(aem2csp2!$B101,aem2csp2!$C101) * Emissions!AS84)/1000","v":0},null,{"$f":"(SUM(aem2csp2!$D101,aem2csp2!$E101) * Emissions!AG84)/1000","v":0},{"$f":"(SUM(aem2csp2!$D101,aem2csp2!$E101) * Emissions!AH84)/1000","v":0},{"$f":"(SUM(aem2csp2!$D101,aem2csp2!$E101) * Emissions!AI84)/1000","v":0},{"$f":"(SUM(aem2csp2!$D101,aem2csp2!$E101) * Emissions!AJ84)/1000","v":0},{"$f":"(SUM(aem2csp2!$D101,aem2csp2!$E101) * Emissions!AK84)/1000","v":0},{"$f":"(SUM(aem2csp2!$D101,aem2csp2!$E101) * Emissions!AL84)/1000","v":0},{"$f":"(SUM(aem2csp2!$D101,aem2csp2!$E101) * Emissions!AM84)/1000","v":0},{"$f":"(SUM(aem2csp2!$D101,aem2csp2!$E101) * Emissions!AN84)/1000","v":0},{"$f":"(SUM(aem2csp2!$D101,aem2csp2!$E101) * Emissions!AO84)/1000","v":0},{"$f":"(SUM(aem2csp2!$D101,aem2csp2!$E101) * Emissions!AP84)/1000","v":0},{"$f":"(SUM(aem2csp2!$D101,aem2csp2!$E101) * Emissions!AQ84)/1000","v":0},{"$f":"(SUM(aem2csp2!$D101,aem2csp2!$E101) * Emissions!AR84)/1000","v":0},{"$f":"(SUM(aem2csp2!$D101,aem2csp2!$E101) * Emissions!AS84)/1000","v":0}]
["C130E "," Arrival ",1445.0639563966399,2647.5355063207198,637.22364958193998,1670.83214936845,1662.11959512557,1670.83214936845,148.09286419815601,398935.268566582,156412.972176501,6.7807395515938298,42.828657954785697,38.083336617280601,87.692734123660202,null,"C130E "," Departure ",196.83259152945601,1314.0200506449901,4323.6754181017704,227.584544279266,226.39780467312201,227.584544279266,558.15947703008101,1503580.21689712,589517.821965685,28.544406747064102,242.04228401158099,113.995837227577,384.58252798622198,null,1641.896547926096,3961.5555569657099,4960.8990676837102,1898.4166936477161,1888.5173997986919,1898.4166936477161,706.25234122823701,1902515.4854637021,745930.79414218594,35.325146298657934,284.87094196636667,152.07917384485759,472.27526210988219,null,0,0,0,0,0,0,0,0,0,0,0,0,0,null,{"$f":"(SUM(aem2csp2!$B102,aem2csp2!$C102) * Emissions!AG85)/1000","v":0},{"$f":"(SUM(aem2csp2!$B102,aem2csp2!$C102) * Emissions!AH85)/1000","v":0},{"$f":"(SUM(aem2csp2!$B102,aem2csp2!$C102) * Emissions!AI85)/1000","v":0},{"$f":"(SUM(aem2csp2!$B102,aem2csp2!$C102) * Emissions!AJ85)/1000","v":0},{"$f":"(SUM(aem2csp2!$B102,aem2csp2!$C102) * Emissions!AK85)/1000","v":0},{"$f":"(SUM(aem2csp2!$B102,aem2csp2!$C102) * Emissions!AL85)/1000","v":0},{"$f":"(SUM(aem2csp2!$B102,aem2csp2!$C102) * Emissions!AM85)/1000","v":0},{"$f":"(SUM(aem2csp2!$B102,aem2csp2!$C102) * Emissions!AN85)/1000","v":0},{"$f":"(SUM(aem2csp2!$B102,aem2csp2!$C102) * Emissions!AO85)/1000","v":0},{"$f":"(SUM(aem2csp2!$B102,aem2csp2!$C102) * Emissions!AP85)/1000","v":0},{"$f":"(SUM(aem2csp2!$B102,aem2csp2!$C102) * Emissions!AQ85)/1000","v":0},{"$f":"(SUM(aem2csp2!$B102,aem2csp2!$C102) * Emissions!AR85)/1000","v":0},{"$f":"(SUM(aem2csp2!$B102,aem2csp2!$C102) * Emissions!AS85)/1000","v":0},null,{"$f":"(SUM(aem2csp2!$D102,aem2csp2!$E102) * Emissions!AG85)/1000","v":0},{"$f":"(SUM(aem2csp2!$D102,aem2csp2!$E102) * Emissions!AH85)/1000","v":0},{"$f":"(SUM(aem2csp2!$D102,aem2csp2!$E102) * Emissions!AI85)/1000","v":0},{"$f":"(SUM(aem2csp2!$D102,aem2csp2!$E102) * Emissions!AJ85)/1000","v":0},{"$f":"(SUM(aem2csp2!$D102,aem2csp2!$E102) * Emissions!AK85)/1000","v":0},{"$f":"(SUM(aem2csp2!$D102,aem2csp2!$E102) * Emissions!AL85)/1000","v":0},{"$f":"(SUM(aem2csp2!$D102,aem2csp2!$E102) * Emissions!AM85)/1000","v":0},{"$f":"(SUM(aem2csp2!$D102,aem2csp2!$E102) * Emissions!AN85)/1000","v":0},{"$f":"(SUM(aem2csp2!$D102,aem2csp2!$E102) * Emissions!AO85)/1000","v":0},{"$f":"(SUM(aem2csp2!$D102,aem2csp2!$E102) * Emissions!AP85)/1000","v":0},{"$f":"(SUM(aem2csp2!$D102,aem2csp2!$E102) * Emissions!AQ85)/1000","v":0},{"$f":"(SUM(aem2csp2!$D102,aem2csp2!$E102) * Emissions!AR85)/1000","v":0},{"$f":"(SUM(aem2csp2!$D102,aem2csp2!$E102) * Emissions!AS85)/1000","v":0}]
["C-130E "," Arrival ",327.09941054438298,1188.8348254468799,2137.9224855382299,378.20347587924601,376.23133385427298,378.20347587924601,370.468022557398,997973.54095678998,391281.54363345401,19.216810633449001,171.644083460519,82.908007233007197,273.76890132697599,null,"C-130E "," Departure ",23.961301022596601,588.43885257920897,5309.6478652621399,27.704872100664801,27.560405045095798,27.704872100664801,595.24222201917905,1603474.39418589,628683.93838603504,30.834130740975102,265.73935234867901,107.842626645533,404.41610973518698,null,351.06071156697959,1777.2736780260889,7447.5703508003699,405.90834797991079,403.7917388993688,405.90834797991079,965.710244576577,2601447.9351426801,1019965.482019489,50.050941374424099,437.38343580919798,190.75063387854021,678.18501106216297,null,0,0,0,0,0,0,0,0,0,0,0,0,0,null,{"$f":"(SUM(aem2csp2!$B103,aem2csp2!$C103) * Emissions!AG86)/1000","v":0},{"$f":"(SUM(aem2csp2!$B103,aem2csp2!$C103) * Emissions!AH86)/1000","v":0},{"$f":"(SUM(aem2csp2!$B103,aem2csp2!$C103) * Emissions!AI86)/1000","v":0},{"$f":"(SUM(aem2csp2!$B103,aem2csp2!$C103) * Emissions!AJ86)/1000","v":0},{"$f":"(SUM(aem2csp2!$B103,aem2csp2!$C103) * Emissions!AK86)/1000","v":0},{"$f":"(SUM(aem2csp2!$B103,aem2csp2!$C103) * Emissions!AL86)/1000","v":0},{"$f":"(SUM(aem2csp2!$B103,aem2csp2!$C103) * Emissions!AM86)/1000","v":0},{"$f":"(SUM(aem2csp2!$B103,aem2csp2!$C103) * Emissions!AN86)/1000","v":0},{"$f":"(SUM(aem2csp2!$B103,aem2csp2!$C103) * Emissions!AO86)/1000","v":0},{"$f":"(SUM(aem2csp2!$B103,aem2csp2!$C103) * Emissions!AP86)/1000","v":0},{"$f":"(SUM(aem2csp2!$B103,aem2csp2!$C103) * Emissions!AQ86)/1000","v":0},{"$f":"(SUM(aem2csp2!$B103,aem2csp2!$C103) * Emissions!AR86)/1000","v":0},{"$f":"(SUM(aem2csp2!$B103,aem2csp2!$C103) * Emissions!AS86)/1000","v":0},null,{"$f":"(SUM(aem2csp2!$D103,aem2csp2!$E103) * Emissions!AG86)/1000","v":0},{"$f":"(SUM(aem2csp2!$D103,aem2csp2!$E103) * Emissions!AH86)/1000","v":0},{"$f":"(SUM(aem2csp2!$D103,aem2csp2!$E103) * Emissions!AI86)/1000","v":0},{"$f":"(SUM(aem2csp2!$D103,aem2csp2!$E103) * Emissions!AJ86)/1000","v":0},{"$f":"(SUM(aem2csp2!$D103,aem2csp2!$E103) * Emissions!AK86)/1000","v":0},{"$f":"(SUM(aem2csp2!$D103,aem2csp2!$E103) * Emissions!AL86)/1000","v":0},{"$f":"(SUM(aem2csp2!$D103,aem2csp2!$E103) * Emissions!AM86)/1000","v":0},{"$f":"(SUM(aem2csp2!$D103,aem2csp2!$E103) * Emissions!AN86)/1000","v":0},{"$f":"(SUM(aem2csp2!$D103,aem2csp2!$E103) * Emissions!AO86)/1000","v":0},{"$f":"(SUM(aem2csp2!$D103,aem2csp2!$E103) * Emissions!AP86)/1000","v":0},{"$f":"(SUM(aem2csp2!$D103,aem2csp2!$E103) * Emissions!AQ86)/1000","v":0},{"$f":"(SUM(aem2csp2!$D103,aem2csp2!$E103) * Emissions!AR86)/1000","v":0},{"$f":"(SUM(aem2csp2!$D103,aem2csp2!$E103) * Emissions!AS86)/1000","v":0}]
["C130HP "," Arrival ",274.75886982442398,998.60440746156405,1831.0308169335501,317.685560555758,316.02898920024001,317.685560555758,317.90028496864397,856365.60713462404,335760.461497791,15.1526055260889,110.068619268316,80.125508491868601,205.34673328627301,null,"C130HP "," Departure ",18.058894379064,443.77435980597301,3907.3001952025102,20.880308568368498,20.7714281993387,20.880308568368498,438.50869351259303,1181262.7459291599,463144.85474306502,23.049935924689301,205.70810746038401,78.521897201090695,307.27994058616503,null,292.81776420348797,1442.3787672675371,5738.3310121360601,338.56586912412649,336.80041739957869,338.56586912412649,756.408978481237,2037628.3530637841,798905.31624085596,38.202541450778199,315.7767267287,158.6474056929593,512.626673872438,null,0,0,0,0,0,0,0,0,0,0,0,0,0,null,{"$f":"(SUM(aem2csp2!$B104,aem2csp2!$C104) * Emissions!AG87)/1000","v":0},{"$f":"(SUM(aem2csp2!$B104,aem2csp2!$C104) * Emissions!AH87)/1000","v":0},{"$f":"(SUM(aem2csp2!$B104,aem2csp2!$C104) * Emissions!AI87)/1000","v":0},{"$f":"(SUM(aem2csp2!$B104,aem2csp2!$C104) * Emissions!AJ87)/1000","v":0},{"$f":"(SUM(aem2csp2!$B104,aem2csp2!$C104) * Emissions!AK87)/1000","v":0},{"$f":"(SUM(aem2csp2!$B104,aem2csp2!$C104) * Emissions!AL87)/1000","v":0},{"$f":"(SUM(aem2csp2!$B104,aem2csp2!$C104) * Emissions!AM87)/1000","v":0},{"$f":"(SUM(aem2csp2!$B104,aem2csp2!$C104) * Emissions!AN87)/1000","v":0},{"$f":"(SUM(aem2csp2!$B104,aem2csp2!$C104) * Emissions!AO87)/1000","v":0},{"$f":"(SUM(aem2csp2!$B104,aem2csp2!$C104) * Emissions!AP87)/1000","v":0},{"$f":"(SUM(aem2csp2!$B104,aem2csp2!$C104) * Emissions!AQ87)/1000","v":0},{"$f":"(SUM(aem2csp2!$B104,aem2csp2!$C104) * Emissions!AR87)/1000","v":0},{"$f":"(SUM(aem2csp2!$B104,aem2csp2!$C104) * Emissions!AS87)/1000","v":0},null,{"$f":"(SUM(aem2csp2!$D104,aem2csp2!$E104) * Emissions!AG87)/1000","v":0},{"$f":"(SUM(aem2csp2!$D104,aem2csp2!$E104) * Emissions!AH87)/1000","v":0},{"$f":"(SUM(aem2csp2!$D104,aem2csp2!$E104) * Emissions!AI87)/1000","v":0},{"$f":"(SUM(aem2csp2!$D104,aem2csp2!$E104) * Emissions!AJ87)/1000","v":0},{"$f":"(SUM(aem2csp2!$D104,aem2csp2!$E104) * Emissions!AK87)/1000","v":0},{"$f":"(SUM(aem2csp2!$D104,aem2csp2!$E104) * Emissions!AL87)/1000","v":0},{"$f":"(SUM(aem2csp2!$D104,aem2csp2!$E104) * Emissions!AM87)/1000","v":0},{"$f":"(SUM(aem2csp2!$D104,aem2csp2!$E104) * Emissions!AN87)/1000","v":0},{"$f":"(SUM(aem2csp2!$D104,aem2csp2!$E104) * Emissions!AO87)/1000","v":0},{"$f":"(SUM(aem2csp2!$D104,aem2csp2!$E104) * Emissions!AP87)/1000","v":0},{"$f":"(SUM(aem2csp2!$D104,aem2csp2!$E104) * Emissions!AQ87)/1000","v":0},{"$f":"(SUM(aem2csp2!$D104,aem2csp2!$E104) * Emissions!AR87)/1000","v":0},{"$f":"(SUM(aem2csp2!$D104,aem2csp2!$E104) * Emissions!AS87)/1000","v":0}]
["C131B "," Arrival ",435.60711925248199,30095.994201424099,150.998436761118,426.76755050282702,363.60561851123902,380.03650372276701,85.093155202334898,229225.49920027901,89873.832808477004,4.4660226507124099,46.868100103887997,9.9055275860293008,61.239650340629701,null,"C131B "," Departure ",13939.6566850823,94127.977208005701,373.10735244987501,13656.785840763199,11635.5708316051,12161.3677911996,211.642694700921,570126.96531882195,223533.13980963,10.959723643600601,379.11791618418101,23.531573181131101,413.609213008913,null,14375.263804334782,124223.9714094298,524.10578921099295,14083.553391266027,11999.17645011634,12541.404294922368,296.73584990325588,799352.46451910096,313406.97261810699,15.425746294313011,425.98601628806898,33.437100767160402,474.84886334954268,null,0,0,0,0,0,0,0,0,0,0,0,0,0,null,{"$f":"(SUM(aem2csp2!$B105,aem2csp2!$C105) * Emissions!AG88)/1000","v":0},{"$f":"(SUM(aem2csp2!$B105,aem2csp2!$C105) * Emissions!AH88)/1000","v":0},{"$f":"(SUM(aem2csp2!$B105,aem2csp2!$C105) * Emissions!AI88)/1000","v":0},{"$f":"(SUM(aem2csp2!$B105,aem2csp2!$C105) * Emissions!AJ88)/1000","v":0},{"$f":"(SUM(aem2csp2!$B105,aem2csp2!$C105) * Emissions!AK88)/1000","v":0},{"$f":"(SUM(aem2csp2!$B105,aem2csp2!$C105) * Emissions!AL88)/1000","v":0},{"$f":"(SUM(aem2csp2!$B105,aem2csp2!$C105) * Emissions!AM88)/1000","v":0},{"$f":"(SUM(aem2csp2!$B105,aem2csp2!$C105) * Emissions!AN88)/1000","v":0},{"$f":"(SUM(aem2csp2!$B105,aem2csp2!$C105) * Emissions!AO88)/1000","v":0},{"$f":"(SUM(aem2csp2!$B105,aem2csp2!$C105) * Emissions!AP88)/1000","v":0},{"$f":"(SUM(aem2csp2!$B105,aem2csp2!$C105) * Emissions!AQ88)/1000","v":0},{"$f":"(SUM(aem2csp2!$B105,aem2csp2!$C105) * Emissions!AR88)/1000","v":0},{"$f":"(SUM(aem2csp2!$B105,aem2csp2!$C105) * Emissions!AS88)/1000","v":0},null,{"$f":"(SUM(aem2csp2!$D105,aem2csp2!$E105) * Emissions!AG88)/1000","v":0},{"$f":"(SUM(aem2csp2!$D105,aem2csp2!$E105) * Emissions!AH88)/1000","v":0},{"$f":"(SUM(aem2csp2!$D105,aem2csp2!$E105) * Emissions!AI88)/1000","v":0},{"$f":"(SUM(aem2csp2!$D105,aem2csp2!$E105) * Emissions!AJ88)/1000","v":0},{"$f":"(SUM(aem2csp2!$D105,aem2csp2!$E105) * Emissions!AK88)/1000","v":0},{"$f":"(SUM(aem2csp2!$D105,aem2csp2!$E105) * Emissions!AL88)/1000","v":0},{"$f":"(SUM(aem2csp2!$D105,aem2csp2!$E105) * Emissions!AM88)/1000","v":0},{"$f":"(SUM(aem2csp2!$D105,aem2csp2!$E105) * Emissions!AN88)/1000","v":0},{"$f":"(SUM(aem2csp2!$D105,aem2csp2!$E105) * Emissions!AO88)/1000","v":0},{"$f":"(SUM(aem2csp2!$D105,aem2csp2!$E105) * Emissions!AP88)/1000","v":0},{"$f":"(SUM(aem2csp2!$D105,aem2csp2!$E105) * Emissions!AQ88)/1000","v":0},{"$f":"(SUM(aem2csp2!$D105,aem2csp2!$E105) * Emissions!AR88)/1000","v":0},{"$f":"(SUM(aem2csp2!$D105,aem2csp2!$E105) * Emissions!AS88)/1000","v":0}]
["C135A "," Arrival ",5736.19592012055,18737.397686208798,5214.7196487105903,6632.3850345782703,6597.8004628154604,6632.3850345782703,1381.08909012105,3720403.0732000498,1458681.01475387,71.249670451142606,713.83323154581296,151.55119216385501,936.63409416081095,null,"C135A "," Departure ",1193.8445487285501,1561.94661791986,17797.651945497,1380.36371645299,1373.1658098535499,1380.36371645299,2158.60376707775,5814886.34317818,2279877.78336336,109.960851045807,944.68311054969001,226.419554424924,1281.0635160204199,null,6930.0404688490999,20299.344304128659,23012.371594207591,8012.7487510312603,7970.9662726690103,8012.7487510312603,3539.6928571988001,9535289.4163782299,3738558.7981172297,181.21052149694961,1658.516342095503,377.97074658877898,2217.6976101812306,null,0,0,0,0,0,0,0,0,0,0,0,0,0,null,{"$f":"(SUM(aem2csp2!$B106,aem2csp2!$C106) * Emissions!AG89)/1000","v":0},{"$f":"(SUM(aem2csp2!$B106,aem2csp2!$C106) * Emissions!AH89)/1000","v":0},{"$f":"(SUM(aem2csp2!$B106,aem2csp2!$C106) * Emissions!AI89)/1000","v":0},{"$f":"(SUM(aem2csp2!$B106,aem2csp2!$C106) * Emissions!AJ89)/1000","v":0},{"$f":"(SUM(aem2csp2!$B106,aem2csp2!$C106) * Emissions!AK89)/1000","v":0},{"$f":"(SUM(aem2csp2!$B106,aem2csp2!$C106) * Emissions!AL89)/1000","v":0},{"$f":"(SUM(aem2csp2!$B106,aem2csp2!$C106) * Emissions!AM89)/1000","v":0},{"$f":"(SUM(aem2csp2!$B106,aem2csp2!$C106) * Emissions!AN89)/1000","v":0},{"$f":"(SUM(aem2csp2!$B106,aem2csp2!$C106) * Emissions!AO89)/1000","v":0},{"$f":"(SUM(aem2csp2!$B106,aem2csp2!$C106) * Emissions!AP89)/1000","v":0},{"$f":"(SUM(aem2csp2!$B106,aem2csp2!$C106) * Emissions!AQ89)/1000","v":0},{"$f":"(SUM(aem2csp2!$B106,aem2csp2!$C106) * Emissions!AR89)/1000","v":0},{"$f":"(SUM(aem2csp2!$B106,aem2csp2!$C106) * Emissions!AS89)/1000","v":0},null,{"$f":"(SUM(aem2csp2!$D106,aem2csp2!$E106) * Emissions!AG89)/1000","v":0},{"$f":"(SUM(aem2csp2!$D106,aem2csp2!$E106) * Emissions!AH89)/1000","v":0},{"$f":"(SUM(aem2csp2!$D106,aem2csp2!$E106) * Emissions!AI89)/1000","v":0},{"$f":"(SUM(aem2csp2!$D106,aem2csp2!$E106) * Emissions!AJ89)/1000","v":0},{"$f":"(SUM(aem2csp2!$D106,aem2csp2!$E106) * Emissions!AK89)/1000","v":0},{"$f":"(SUM(aem2csp2!$D106,aem2csp2!$E106) * Emissions!AL89)/1000","v":0},{"$f":"(SUM(aem2csp2!$D106,aem2csp2!$E106) * Emissions!AM89)/1000","v":0},{"$f":"(SUM(aem2csp2!$D106,aem2csp2!$E106) * Emissions!AN89)/1000","v":0},{"$f":"(SUM(aem2csp2!$D106,aem2csp2!$E106) * Emissions!AO89)/1000","v":0},{"$f":"(SUM(aem2csp2!$D106,aem2csp2!$E106) * Emissions!AP89)/1000","v":0},{"$f":"(SUM(aem2csp2!$D106,aem2csp2!$E106) * Emissions!AQ89)/1000","v":0},{"$f":"(SUM(aem2csp2!$D106,aem2csp2!$E106) * Emissions!AR89)/1000","v":0},{"$f":"(SUM(aem2csp2!$D106,aem2csp2!$E106) * Emissions!AS89)/1000","v":0}]
["C135B "," Arrival ",5373.2960366022198,17551.978022645599,4898.8138554893403,6212.7878328762299,6180.3912507217001,6212.7878328762299,1298.03278872994,3496664.48808312,1370958.4696541401,65.717906856625802,645.56460061842495,133.13170340247399,844.41421087752497,null,"C135B "," Departure ",1308.91363028254,1712.4953329529901,19050.188982857901,1513.4105065328699,1505.51882744656,1513.4105065328699,2335.6049976522099,6291695.4982861402,2466823.2429096499,119.03658833279,1023.6631667269299,245.42704227829,1388.12679733801,null,6682.2096668847598,19264.473355598588,23949.002838347242,7726.1983394091003,7685.91007816826,7726.1983394091003,3633.6377863821499,9788359.9863692597,3837781.7125637899,184.75449518941582,1669.227767345355,378.55874568076399,2232.5410082155349,null,0,0,0,0,0,0,0,0,0,0,0,0,0,null,{"$f":"(SUM(aem2csp2!$B107,aem2csp2!$C107) * Emissions!AG90)/1000","v":0},{"$f":"(SUM(aem2csp2!$B107,aem2csp2!$C107) * Emissions!AH90)/1000","v":0},{"$f":"(SUM(aem2csp2!$B107,aem2csp2!$C107) * Emissions!AI90)/1000","v":0},{"$f":"(SUM(aem2csp2!$B107,aem2csp2!$C107) * Emissions!AJ90)/1000","v":0},{"$f":"(SUM(aem2csp2!$B107,aem2csp2!$C107) * Emissions!AK90)/1000","v":0},{"$f":"(SUM(aem2csp2!$B107,aem2csp2!$C107) * Emissions!AL90)/1000","v":0},{"$f":"(SUM(aem2csp2!$B107,aem2csp2!$C107) * Emissions!AM90)/1000","v":0},{"$f":"(SUM(aem2csp2!$B107,aem2csp2!$C107) * Emissions!AN90)/1000","v":0},{"$f":"(SUM(aem2csp2!$B107,aem2csp2!$C107) * Emissions!AO90)/1000","v":0},{"$f":"(SUM(aem2csp2!$B107,aem2csp2!$C107) * Emissions!AP90)/1000","v":0},{"$f":"(SUM(aem2csp2!$B107,aem2csp2!$C107) * Emissions!AQ90)/1000","v":0},{"$f":"(SUM(aem2csp2!$B107,aem2csp2!$C107) * Emissions!AR90)/1000","v":0},{"$f":"(SUM(aem2csp2!$B107,aem2csp2!$C107) * Emissions!AS90)/1000","v":0},null,{"$f":"(SUM(aem2csp2!$D107,aem2csp2!$E107) * Emissions!AG90)/1000","v":0},{"$f":"(SUM(aem2csp2!$D107,aem2csp2!$E107) * Emissions!AH90)/1000","v":0},{"$f":"(SUM(aem2csp2!$D107,aem2csp2!$E107) * Emissions!AI90)/1000","v":0},{"$f":"(SUM(aem2csp2!$D107,aem2csp2!$E107) * Emissions!AJ90)/1000","v":0},{"$f":"(SUM(aem2csp2!$D107,aem2csp2!$E107) * Emissions!AK90)/1000","v":0},{"$f":"(SUM(aem2csp2!$D107,aem2csp2!$E107) * Emissions!AL90)/1000","v":0},{"$f":"(SUM(aem2csp2!$D107,aem2csp2!$E107) * Emissions!AM90)/1000","v":0},{"$f":"(SUM(aem2csp2!$D107,aem2csp2!$E107) * Emissions!AN90)/1000","v":0},{"$f":"(SUM(aem2csp2!$D107,aem2csp2!$E107) * Emissions!AO90)/1000","v":0},{"$f":"(SUM(aem2csp2!$D107,aem2csp2!$E107) * Emissions!AP90)/1000","v":0},{"$f":"(SUM(aem2csp2!$D107,aem2csp2!$E107) * Emissions!AQ90)/1000","v":0},{"$f":"(SUM(aem2csp2!$D107,aem2csp2!$E107) * Emissions!AR90)/1000","v":0},{"$f":"(SUM(aem2csp2!$D107,aem2csp2!$E107) * Emissions!AS90)/1000","v":0}]
["C137 "," Arrival ",1884.50005003194,7207.8688045017198,8259.6332038921701,2178.9231231891299,2167.5611285632599,2178.9231231891299,1529.22213131222,4119446.57128591,1615136.4211349201,77.574764545855501,671.66011790391406,157.97783726996499,907.21271971973397,null,"C137 "," Departure ",2574.98731717087,2650.4784087620801,19407.953707404398,2977.2880118561202,2961.7629435182998,2977.2880118561202,2750.6011235369701,7409619.6591181196,2905134.5541455201,142.10032749979899,1295.4949535332501,303.311408065764,1740.9066890988199,null,4459.4873672028098,9858.3472132637999,27667.586911296567,5156.2111350452506,5129.3240720815593,5156.2111350452506,4279.8232548491906,11529066.230404031,4520270.9752804404,219.67509204565448,1967.1550714371642,461.28924533572899,2648.1194088185539,null,0,0,0,0,0,0,0,0,0,0,0,0,0,null,{"$f":"(SUM(aem2csp2!$B108,aem2csp2!$C108) * Emissions!AG91)/1000","v":0},{"$f":"(SUM(aem2csp2!$B108,aem2csp2!$C108) * Emissions!AH91)/1000","v":0},{"$f":"(SUM(aem2csp2!$B108,aem2csp2!$C108) * Emissions!AI91)/1000","v":0},{"$f":"(SUM(aem2csp2!$B108,aem2csp2!$C108) * Emissions!AJ91)/1000","v":0},{"$f":"(SUM(aem2csp2!$B108,aem2csp2!$C108) * Emissions!AK91)/1000","v":0},{"$f":"(SUM(aem2csp2!$B108,aem2csp2!$C108) * Emissions!AL91)/1000","v":0},{"$f":"(SUM(aem2csp2!$B108,aem2csp2!$C108) * Emissions!AM91)/1000","v":0},{"$f":"(SUM(aem2csp2!$B108,aem2csp2!$C108) * Emissions!AN91)/1000","v":0},{"$f":"(SUM(aem2csp2!$B108,aem2csp2!$C108) * Emissions!AO91)/1000","v":0},{"$f":"(SUM(aem2csp2!$B108,aem2csp2!$C108) * Emissions!AP91)/1000","v":0},{"$f":"(SUM(aem2csp2!$B108,aem2csp2!$C108) * Emissions!AQ91)/1000","v":0},{"$f":"(SUM(aem2csp2!$B108,aem2csp2!$C108) * Emissions!AR91)/1000","v":0},{"$f":"(SUM(aem2csp2!$B108,aem2csp2!$C108) * Emissions!AS91)/1000","v":0},null,{"$f":"(SUM(aem2csp2!$D108,aem2csp2!$E108) * Emissions!AG91)/1000","v":0},{"$f":"(SUM(aem2csp2!$D108,aem2csp2!$E108) * Emissions!AH91)/1000","v":0},{"$f":"(SUM(aem2csp2!$D108,aem2csp2!$E108) * Emissions!AI91)/1000","v":0},{"$f":"(SUM(aem2csp2!$D108,aem2csp2!$E108) * Emissions!AJ91)/1000","v":0},{"$f":"(SUM(aem2csp2!$D108,aem2csp2!$E108) * Emissions!AK91)/1000","v":0},{"$f":"(SUM(aem2csp2!$D108,aem2csp2!$E108) * Emissions!AL91)/1000","v":0},{"$f":"(SUM(aem2csp2!$D108,aem2csp2!$E108) * Emissions!AM91)/1000","v":0},{"$f":"(SUM(aem2csp2!$D108,aem2csp2!$E108) * Emissions!AN91)/1000","v":0},{"$f":"(SUM(aem2csp2!$D108,aem2csp2!$E108) * Emissions!AO91)/1000","v":0},{"$f":"(SUM(aem2csp2!$D108,aem2csp2!$E108) * Emissions!AP91)/1000","v":0},{"$f":"(SUM(aem2csp2!$D108,aem2csp2!$E108) * Emissions!AQ91)/1000","v":0},{"$f":"(SUM(aem2csp2!$D108,aem2csp2!$E108) * Emissions!AR91)/1000","v":0},{"$f":"(SUM(aem2csp2!$D108,aem2csp2!$E108) * Emissions!AS91)/1000","v":0}]
["C140 "," Arrival ",238.457168280709,2631.4847790410099,1089.0638277974199,275.71229719427799,274.27459542055902,275.71229719427799,185.650058099527,500107.52502049803,196080.19285272801,9.2788085665830504,77.946475108466601,18.142242700958001,105.367526376008,null,"C140 "," Departure ",25.288180144457201,1895.3595422020901,5628.6546194979301,29.239054920267101,29.086587868385401,29.239054920267101,408.674157196203,1100893.9258487199,431634.163637041,21.3138920222524,186.935976295572,46.566009256905097,254.815877574729,null,263.74534842516618,4526.8443212431002,6717.7184472953504,304.9513521145451,303.3611832889444,304.9513521145451,594.32421529573003,1601001.450869218,627714.35648976895,30.592700588835449,264.88245140403859,64.708251957863098,360.18340395073699,null,0,0,0,0,0,0,0,0,0,0,0,0,0,null,{"$f":"(SUM(aem2csp2!$B109,aem2csp2!$C109) * Emissions!AG92)/1000","v":0},{"$f":"(SUM(aem2csp2!$B109,aem2csp2!$C109) * Emissions!AH92)/1000","v":0},{"$f":"(SUM(aem2csp2!$B109,aem2csp2!$C109) * Emissions!AI92)/1000","v":0},{"$f":"(SUM(aem2csp2!$B109,aem2csp2!$C109) * Emissions!AJ92)/1000","v":0},{"$f":"(SUM(aem2csp2!$B109,aem2csp2!$C109) * Emissions!AK92)/1000","v":0},{"$f":"(SUM(aem2csp2!$B109,aem2csp2!$C109) * Emissions!AL92)/1000","v":0},{"$f":"(SUM(aem2csp2!$B109,aem2csp2!$C109) * Emissions!AM92)/1000","v":0},{"$f":"(SUM(aem2csp2!$B109,aem2csp2!$C109) * Emissions!AN92)/1000","v":0},{"$f":"(SUM(aem2csp2!$B109,aem2csp2!$C109) * Emissions!AO92)/1000","v":0},{"$f":"(SUM(aem2csp2!$B109,aem2csp2!$C109) * Emissions!AP92)/1000","v":0},{"$f":"(SUM(aem2csp2!$B109,aem2csp2!$C109) * Emissions!AQ92)/1000","v":0},{"$f":"(SUM(aem2csp2!$B109,aem2csp2!$C109) * Emissions!AR92)/1000","v":0},{"$f":"(SUM(aem2csp2!$B109,aem2csp2!$C109) * Emissions!AS92)/1000","v":0},null,{"$f":"(SUM(aem2csp2!$D109,aem2csp2!$E109) * Emissions!AG92)/1000","v":0},{"$f":"(SUM(aem2csp2!$D109,aem2csp2!$E109) * Emissions!AH92)/1000","v":0},{"$f":"(SUM(aem2csp2!$D109,aem2csp2!$E109) * Emissions!AI92)/1000","v":0},{"$f":"(SUM(aem2csp2!$D109,aem2csp2!$E109) * Emissions!AJ92)/1000","v":0},{"$f":"(SUM(aem2csp2!$D109,aem2csp2!$E109) * Emissions!AK92)/1000","v":0},{"$f":"(SUM(aem2csp2!$D109,aem2csp2!$E109) * Emissions!AL92)/1000","v":0},{"$f":"(SUM(aem2csp2!$D109,aem2csp2!$E109) * Emissions!AM92)/1000","v":0},{"$f":"(SUM(aem2csp2!$D109,aem2csp2!$E109) * Emissions!AN92)/1000","v":0},{"$f":"(SUM(aem2csp2!$D109,aem2csp2!$E109) * Emissions!AO92)/1000","v":0},{"$f":"(SUM(aem2csp2!$D109,aem2csp2!$E109) * Emissions!AP92)/1000","v":0},{"$f":"(SUM(aem2csp2!$D109,aem2csp2!$E109) * Emissions!AQ92)/1000","v":0},{"$f":"(SUM(aem2csp2!$D109,aem2csp2!$E109) * Emissions!AR92)/1000","v":0},{"$f":"(SUM(aem2csp2!$D109,aem2csp2!$E109) * Emissions!AS92)/1000","v":0}]
["C141A "," Arrival ",4834.1712435781301,11481.1487367718,8663.8590197789908,5589.4333905216999,5560.2872901068304,5589.4333905216999,1400.4237811805399,3772487.2179171899,1479101.9615098501,71.2892445576895,684.88799953513001,146.52439568911601,902.70163978193705,null,"C141A "," Departure ",718.87352885123096,6263.4314480013099,17732.277229361101,831.18605098257797,826.85183131972894,831.18605098257797,2261.5582143695301,6092226.9179780204,2388616.3859076998,114.78909225353701,960.40770301004397,234.11165220629999,1309.3084474698801,null,5553.0447724293608,17744.580184773109,26396.136249140094,6420.6194415042783,6387.1391214265595,6420.6194415042783,3661.9819955500698,9864714.1358952112,3867718.3474175502,186.07833681122651,1645.295702545174,380.63604789541603,2212.0100872518169,null,0,0,0,0,0,0,0,0,0,0,0,0,0,null,{"$f":"(SUM(aem2csp2!$B110,aem2csp2!$C110) * Emissions!AG93)/1000","v":0},{"$f":"(SUM(aem2csp2!$B110,aem2csp2!$C110) * Emissions!AH93)/1000","v":0},{"$f":"(SUM(aem2csp2!$B110,aem2csp2!$C110) * Emissions!AI93)/1000","v":0},{"$f":"(SUM(aem2csp2!$B110,aem2csp2!$C110) * Emissions!AJ93)/1000","v":0},{"$f":"(SUM(aem2csp2!$B110,aem2csp2!$C110) * Emissions!AK93)/1000","v":0},{"$f":"(SUM(aem2csp2!$B110,aem2csp2!$C110) * Emissions!AL93)/1000","v":0},{"$f":"(SUM(aem2csp2!$B110,aem2csp2!$C110) * Emissions!AM93)/1000","v":0},{"$f":"(SUM(aem2csp2!$B110,aem2csp2!$C110) * Emissions!AN93)/1000","v":0},{"$f":"(SUM(aem2csp2!$B110,aem2csp2!$C110) * Emissions!AO93)/1000","v":0},{"$f":"(SUM(aem2csp2!$B110,aem2csp2!$C110) * Emissions!AP93)/1000","v":0},{"$f":"(SUM(aem2csp2!$B110,aem2csp2!$C110) * Emissions!AQ93)/1000","v":0},{"$f":"(SUM(aem2csp2!$B110,aem2csp2!$C110) * Emissions!AR93)/1000","v":0},{"$f":"(SUM(aem2csp2!$B110,aem2csp2!$C110) * Emissions!AS93)/1000","v":0},null,{"$f":"(SUM(aem2csp2!$D110,aem2csp2!$E110) * Emissions!AG93)/1000","v":0},{"$f":"(SUM(aem2csp2!$D110,aem2csp2!$E110) * Emissions!AH93)/1000","v":0},{"$f":"(SUM(aem2csp2!$D110,aem2csp2!$E110) * Emissions!AI93)/1000","v":0},{"$f":"(SUM(aem2csp2!$D110,aem2csp2!$E110) * Emissions!AJ93)/1000","v":0},{"$f":"(SUM(aem2csp2!$D110,aem2csp2!$E110) * Emissions!AK93)/1000","v":0},{"$f":"(SUM(aem2csp2!$D110,aem2csp2!$E110) * Emissions!AL93)/1000","v":0},{"$f":"(SUM(aem2csp2!$D110,aem2csp2!$E110) * Emissions!AM93)/1000","v":0},{"$f":"(SUM(aem2csp2!$D110,aem2csp2!$E110) * Emissions!AN93)/1000","v":0},{"$f":"(SUM(aem2csp2!$D110,aem2csp2!$E110) * Emissions!AO93)/1000","v":0},{"$f":"(SUM(aem2csp2!$D110,aem2csp2!$E110) * Emissions!AP93)/1000","v":0},{"$f":"(SUM(aem2csp2!$D110,aem2csp2!$E110) * Emissions!AQ93)/1000","v":0},{"$f":"(SUM(aem2csp2!$D110,aem2csp2!$E110) * Emissions!AR93)/1000","v":0},{"$f":"(SUM(aem2csp2!$D110,aem2csp2!$E110) * Emissions!AS93)/1000","v":0}]
["C17 "," Arrival ",426.19000918645798,1775.79170494358,17238.673468901801,492.77539996500599,490.20582264188801,492.77539996500599,1560.37180299494,4203358.1270910399,1648036.1341399699,78.077878012632397,622.19184184281903,153.15806239686401,853.42778225231496,null,"C17 "," Departure ",358.48692972756101,1135.20861080394,84151.4902205166,414.49479427247701,412.33341116774301,414.49479427247701,3266.6322379779299,8799713.7216703892,3450157.1707468401,162.968588120855,1284.2256296241001,317.00040860310901,1764.19462634806,null,784.67693891401905,2911.0003157475203,101390.1636894184,907.270194237483,902.53923380963101,907.270194237483,4827.0040409728699,13003071.848761428,5098193.3048868105,241.0464661334874,1906.4174714669191,470.15847099997302,2617.6224086003749,null,0,0,0,0,0,0,0,0,0,0,0,0,0,null,{"$f":"(SUM(aem2csp2!$B111,aem2csp2!$C111) * Emissions!AG94)/1000","v":0},{"$f":"(SUM(aem2csp2!$B111,aem2csp2!$C111) * Emissions!AH94)/1000","v":0},{"$f":"(SUM(aem2csp2!$B111,aem2csp2!$C111) * Emissions!AI94)/1000","v":0},{"$f":"(SUM(aem2csp2!$B111,aem2csp2!$C111) * Emissions!AJ94)/1000","v":0},{"$f":"(SUM(aem2csp2!$B111,aem2csp2!$C111) * Emissions!AK94)/1000","v":0},{"$f":"(SUM(aem2csp2!$B111,aem2csp2!$C111) * Emissions!AL94)/1000","v":0},{"$f":"(SUM(aem2csp2!$B111,aem2csp2!$C111) * Emissions!AM94)/1000","v":0},{"$f":"(SUM(aem2csp2!$B111,aem2csp2!$C111) * Emissions!AN94)/1000","v":0},{"$f":"(SUM(aem2csp2!$B111,aem2csp2!$C111) * Emissions!AO94)/1000","v":0},{"$f":"(SUM(aem2csp2!$B111,aem2csp2!$C111) * Emissions!AP94)/1000","v":0},{"$f":"(SUM(aem2csp2!$B111,aem2csp2!$C111) * Emissions!AQ94)/1000","v":0},{"$f":"(SUM(aem2csp2!$B111,aem2csp2!$C111) * Emissions!AR94)/1000","v":0},{"$f":"(SUM(aem2csp2!$B111,aem2csp2!$C111) * Emissions!AS94)/1000","v":0},null,{"$f":"(SUM(aem2csp2!$D111,aem2csp2!$E111) * Emissions!AG94)/1000","v":0},{"$f":"(SUM(aem2csp2!$D111,aem2csp2!$E111) * Emissions!AH94)/1000","v":0},{"$f":"(SUM(aem2csp2!$D111,aem2csp2!$E111) * Emissions!AI94)/1000","v":0},{"$f":"(SUM(aem2csp2!$D111,aem2csp2!$E111) * Emissions!AJ94)/1000","v":0},{"$f":"(SUM(aem2csp2!$D111,aem2csp2!$E111) * Emissions!AK94)/1000","v":0},{"$f":"(SUM(aem2csp2!$D111,aem2csp2!$E111) * Emissions!AL94)/1000","v":0},{"$f":"(SUM(aem2csp2!$D111,aem2csp2!$E111) * Emissions!AM94)/1000","v":0},{"$f":"(SUM(aem2csp2!$D111,aem2csp2!$E111) * Emissions!AN94)/1000","v":0},{"$f":"(SUM(aem2csp2!$D111,aem2csp2!$E111) * Emissions!AO94)/1000","v":0},{"$f":"(SUM(aem2csp2!$D111,aem2csp2!$E111) * Emissions!AP94)/1000","v":0},{"$f":"(SUM(aem2csp2!$D111,aem2csp2!$E111) * Emissions!AQ94)/1000","v":0},{"$f":"(SUM(aem2csp2!$D111,aem2csp2!$E111) * Emissions!AR94)/1000","v":0},{"$f":"(SUM(aem2csp2!$D111,aem2csp2!$E111) * Emissions!AS94)/1000","v":0}]
["C18A "," Arrival ",2002.4459863166501,7658.9904878096704,8662.08410971382,2315.2962306627001,2303.2231184679099,2315.2962306627001,1603.11694906664,4318505.7840720899,1693182.77492779,81.398827633964203,706.15282147463995,166.175110138474,953.72675924707801,null,"C18A "," Departure ",2530.6903726721198,2604.8828075002202,17917.061144213199,2926.07037636001,2910.8123823824799,2926.07037636001,2569.7812944606098,6922523.8934624596,2714155.9607648398,134.570791200972,1258.6737843528399,296.89385254745901,1690.1384281012699,null,4533.1363589887696,10263.873295309892,26579.145253927018,5241.36660702271,5214.0355008503902,5241.36660702271,4172.8982435272501,11241029.67753455,4407338.7356926296,215.9696188349362,1964.8266058274799,463.068962685933,2643.8651873483477,null,0,0,0,0,0,0,0,0,0,0,0,0,0,null,{"$f":"(SUM(aem2csp2!$B112,aem2csp2!$C112) * Emissions!AG95)/1000","v":0},{"$f":"(SUM(aem2csp2!$B112,aem2csp2!$C112) * Emissions!AH95)/1000","v":0},{"$f":"(SUM(aem2csp2!$B112,aem2csp2!$C112) * Emissions!AI95)/1000","v":0},{"$f":"(SUM(aem2csp2!$B112,aem2csp2!$C112) * Emissions!AJ95)/1000","v":0},{"$f":"(SUM(aem2csp2!$B112,aem2csp2!$C112) * Emissions!AK95)/1000","v":0},{"$f":"(SUM(aem2csp2!$B112,aem2csp2!$C112) * Emissions!AL95)/1000","v":0},{"$f":"(SUM(aem2csp2!$B112,aem2csp2!$C112) * Emissions!AM95)/1000","v":0},{"$f":"(SUM(aem2csp2!$B112,aem2csp2!$C112) * Emissions!AN95)/1000","v":0},{"$f":"(SUM(aem2csp2!$B112,aem2csp2!$C112) * Emissions!AO95)/1000","v":0},{"$f":"(SUM(aem2csp2!$B112,aem2csp2!$C112) * Emissions!AP95)/1000","v":0},{"$f":"(SUM(aem2csp2!$B112,aem2csp2!$C112) * Emissions!AQ95)/1000","v":0},{"$f":"(SUM(aem2csp2!$B112,aem2csp2!$C112) * Emissions!AR95)/1000","v":0},{"$f":"(SUM(aem2csp2!$B112,aem2csp2!$C112) * Emissions!AS95)/1000","v":0},null,{"$f":"(SUM(aem2csp2!$D112,aem2csp2!$E112) * Emissions!AG95)/1000","v":0},{"$f":"(SUM(aem2csp2!$D112,aem2csp2!$E112) * Emissions!AH95)/1000","v":0},{"$f":"(SUM(aem2csp2!$D112,aem2csp2!$E112) * Emissions!AI95)/1000","v":0},{"$f":"(SUM(aem2csp2!$D112,aem2csp2!$E112) * Emissions!AJ95)/1000","v":0},{"$f":"(SUM(aem2csp2!$D112,aem2csp2!$E112) * Emissions!AK95)/1000","v":0},{"$f":"(SUM(aem2csp2!$D112,aem2csp2!$E112) * Emissions!AL95)/1000","v":0},{"$f":"(SUM(aem2csp2!$D112,aem2csp2!$E112) * Emissions!AM95)/1000","v":0},{"$f":"(SUM(aem2csp2!$D112,aem2csp2!$E112) * Emissions!AN95)/1000","v":0},{"$f":"(SUM(aem2csp2!$D112,aem2csp2!$E112) * Emissions!AO95)/1000","v":0},{"$f":"(SUM(aem2csp2!$D112,aem2csp2!$E112) * Emissions!AP95)/1000","v":0},{"$f":"(SUM(aem2csp2!$D112,aem2csp2!$E112) * Emissions!AQ95)/1000","v":0},{"$f":"(SUM(aem2csp2!$D112,aem2csp2!$E112) * Emissions!AR95)/1000","v":0},{"$f":"(SUM(aem2csp2!$D112,aem2csp2!$E112) * Emissions!AS95)/1000","v":0}]
["C-20 "," Arrival ",228.57312723484,2552.5509736581598,1295.52124149364,264.28403239533202,262.90592330840599,264.28403239533202,299.89113625589101,807852.23265653697,316739.52830305399,15.4496903444678,131.92373911020999,32.747254029457203,180.12068348413499,null,"C-20 "," Departure ",79.713012428066406,275.95295316261701,11272.9182814821,92.166899117690605,91.686294822241393,92.166899117690605,805.25198232621005,2169202.5309419301,850492.40278135403,42.190625641409198,375.09028130993102,93.199315377047498,510.48022232838798,null,308.28613966290641,2828.503926820777,12568.439522975739,356.45093151302262,354.59221813064738,356.45093151302262,1105.1431185821011,2977054.7635984672,1167231.931084408,57.640315985876995,507.01402042014104,125.94656940650469,690.60090581252302,null,0,0,0,0,0,0,0,0,0,0,0,0,0,null,{"$f":"(SUM(aem2csp2!$B113,aem2csp2!$C113) * Emissions!AG96)/1000","v":0},{"$f":"(SUM(aem2csp2!$B113,aem2csp2!$C113) * Emissions!AH96)/1000","v":0},{"$f":"(SUM(aem2csp2!$B113,aem2csp2!$C113) * Emissions!AI96)/1000","v":0},{"$f":"(SUM(aem2csp2!$B113,aem2csp2!$C113) * Emissions!AJ96)/1000","v":0},{"$f":"(SUM(aem2csp2!$B113,aem2csp2!$C113) * Emissions!AK96)/1000","v":0},{"$f":"(SUM(aem2csp2!$B113,aem2csp2!$C113) * Emissions!AL96)/1000","v":0},{"$f":"(SUM(aem2csp2!$B113,aem2csp2!$C113) * Emissions!AM96)/1000","v":0},{"$f":"(SUM(aem2csp2!$B113,aem2csp2!$C113) * Emissions!AN96)/1000","v":0},{"$f":"(SUM(aem2csp2!$B113,aem2csp2!$C113) * Emissions!AO96)/1000","v":0},{"$f":"(SUM(aem2csp2!$B113,aem2csp2!$C113) * Emissions!AP96)/1000","v":0},{"$f":"(SUM(aem2csp2!$B113,aem2csp2!$C113) * Emissions!AQ96)/1000","v":0},{"$f":"(SUM(aem2csp2!$B113,aem2csp2!$C113) * Emissions!AR96)/1000","v":0},{"$f":"(SUM(aem2csp2!$B113,aem2csp2!$C113) * Emissions!AS96)/1000","v":0},null,{"$f":"(SUM(aem2csp2!$D113,aem2csp2!$E113) * Emissions!AG96)/1000","v":0},{"$f":"(SUM(aem2csp2!$D113,aem2csp2!$E113) * Emissions!AH96)/1000","v":0},{"$f":"(SUM(aem2csp2!$D113,aem2csp2!$E113) * Emissions!AI96)/1000","v":0},{"$f":"(SUM(aem2csp2!$D113,aem2csp2!$E113) * Emissions!AJ96)/1000","v":0},{"$f":"(SUM(aem2csp2!$D113,aem2csp2!$E113) * Emissions!AK96)/1000","v":0},{"$f":"(SUM(aem2csp2!$D113,aem2csp2!$E113) * Emissions!AL96)/1000","v":0},{"$f":"(SUM(aem2csp2!$D113,aem2csp2!$E113) * Emissions!AM96)/1000","v":0},{"$f":"(SUM(aem2csp2!$D113,aem2csp2!$E113) * Emissions!AN96)/1000","v":0},{"$f":"(SUM(aem2csp2!$D113,aem2csp2!$E113) * Emissions!AO96)/1000","v":0},{"$f":"(SUM(aem2csp2!$D113,aem2csp2!$E113) * Emissions!AP96)/1000","v":0},{"$f":"(SUM(aem2csp2!$D113,aem2csp2!$E113) * Emissions!AQ96)/1000","v":0},{"$f":"(SUM(aem2csp2!$D113,aem2csp2!$E113) * Emissions!AR96)/1000","v":0},{"$f":"(SUM(aem2csp2!$D113,aem2csp2!$E113) * Emissions!AS96)/1000","v":0}]
["C21A "," Arrival ",396.91659480880998,2085.2097163899498,512.21564910769496,458.92848153108201,456.53539896413798,458.92848153108201,102.450160356892,275982.11742315098,108205.983915194,4.9693596905078197,45.853030475855903,8.88403233642887,59.706422502792599,null,"C21A "," Departure ",22.064488643190501,1562.5795745124501,2136.5758091183202,25.5117130430306,25.3786822153678,25.5117130430306,191.182106968412,515009.859533248,201923.04159829699,9.8658063346046099,84.594333563830205,21.000054530456801,115.460194428892,null,418.98108345200046,3647.7892909023999,2648.791458226015,484.44019457411264,481.91408117950579,484.44019457411264,293.63226732530399,790991.97695639892,310129.02551349101,14.835166025112429,130.44736403968611,29.884086866885671,175.16661693168459,null,0,0,0,0,0,0,0,0,0,0,0,0,0,null,{"$f":"(SUM(aem2csp2!$B114,aem2csp2!$C114) * Emissions!AG97)/1000","v":0},{"$f":"(SUM(aem2csp2!$B114,aem2csp2!$C114) * Emissions!AH97)/1000","v":0},{"$f":"(SUM(aem2csp2!$B114,aem2csp2!$C114) * Emissions!AI97)/1000","v":0},{"$f":"(SUM(aem2csp2!$B114,aem2csp2!$C114) * Emissions!AJ97)/1000","v":0},{"$f":"(SUM(aem2csp2!$B114,aem2csp2!$C114) * Emissions!AK97)/1000","v":0},{"$f":"(SUM(aem2csp2!$B114,aem2csp2!$C114) * Emissions!AL97)/1000","v":0},{"$f":"(SUM(aem2csp2!$B114,aem2csp2!$C114) * Emissions!AM97)/1000","v":0},{"$f":"(SUM(aem2csp2!$B114,aem2csp2!$C114) * Emissions!AN97)/1000","v":0},{"$f":"(SUM(aem2csp2!$B114,aem2csp2!$C114) * Emissions!AO97)/1000","v":0},{"$f":"(SUM(aem2csp2!$B114,aem2csp2!$C114) * Emissions!AP97)/1000","v":0},{"$f":"(SUM(aem2csp2!$B114,aem2csp2!$C114) * Emissions!AQ97)/1000","v":0},{"$f":"(SUM(aem2csp2!$B114,aem2csp2!$C114) * Emissions!AR97)/1000","v":0},{"$f":"(SUM(aem2csp2!$B114,aem2csp2!$C114) * Emissions!AS97)/1000","v":0},null,{"$f":"(SUM(aem2csp2!$D114,aem2csp2!$E114) * Emissions!AG97)/1000","v":0},{"$f":"(SUM(aem2csp2!$D114,aem2csp2!$E114) * Emissions!AH97)/1000","v":0},{"$f":"(SUM(aem2csp2!$D114,aem2csp2!$E114) * Emissions!AI97)/1000","v":0},{"$f":"(SUM(aem2csp2!$D114,aem2csp2!$E114) * Emissions!AJ97)/1000","v":0},{"$f":"(SUM(aem2csp2!$D114,aem2csp2!$E114) * Emissions!AK97)/1000","v":0},{"$f":"(SUM(aem2csp2!$D114,aem2csp2!$E114) * Emissions!AL97)/1000","v":0},{"$f":"(SUM(aem2csp2!$D114,aem2csp2!$E114) * Emissions!AM97)/1000","v":0},{"$f":"(SUM(aem2csp2!$D114,aem2csp2!$E114) * Emissions!AN97)/1000","v":0},{"$f":"(SUM(aem2csp2!$D114,aem2csp2!$E114) * Emissions!AO97)/1000","v":0},{"$f":"(SUM(aem2csp2!$D114,aem2csp2!$E114) * Emissions!AP97)/1000","v":0},{"$f":"(SUM(aem2csp2!$D114,aem2csp2!$E114) * Emissions!AQ97)/1000","v":0},{"$f":"(SUM(aem2csp2!$D114,aem2csp2!$E114) * Emissions!AR97)/1000","v":0},{"$f":"(SUM(aem2csp2!$D114,aem2csp2!$E114) * Emissions!AS97)/1000","v":0}]
["C22 "," Arrival ",211.64714868901899,1164.0593177896001,3126.7962405717799,244.71363968800901,243.43758041385601,244.71363968800901,585.32874519236998,1576769.28883361,618213.50563777494,29.3188557365897,235.468276076526,57.6780674393369,322.46519925245201,null,"C22 "," Departure ",346.30214940222203,1385.2085976088899,18334.200046747101,400.40633638073399,398.31841753967598,400.40633638073399,1511.0694959874099,4070546.6699455902,1595963.94000719,77.747202171135797,667.150071445496,174.18252258729001,919.079796203922,null,557.94929809124096,2549.26791539849,21460.996287318882,645.11997606874297,641.75599795353196,645.11997606874297,2096.3982411797797,5647315.9587792,2214177.4456449649,107.06605790772549,902.61834752202196,231.86059002662691,1241.544995456374,null,0,0,0,0,0,0,0,0,0,0,0,0,0,null,{"$f":"(SUM(aem2csp2!$B115,aem2csp2!$C115) * Emissions!AG98)/1000","v":0},{"$f":"(SUM(aem2csp2!$B115,aem2csp2!$C115) * Emissions!AH98)/1000","v":0},{"$f":"(SUM(aem2csp2!$B115,aem2csp2!$C115) * Emissions!AI98)/1000","v":0},{"$f":"(SUM(aem2csp2!$B115,aem2csp2!$C115) * Emissions!AJ98)/1000","v":0},{"$f":"(SUM(aem2csp2!$B115,aem2csp2!$C115) * Emissions!AK98)/1000","v":0},{"$f":"(SUM(aem2csp2!$B115,aem2csp2!$C115) * Emissions!AL98)/1000","v":0},{"$f":"(SUM(aem2csp2!$B115,aem2csp2!$C115) * Emissions!AM98)/1000","v":0},{"$f":"(SUM(aem2csp2!$B115,aem2csp2!$C115) * Emissions!AN98)/1000","v":0},{"$f":"(SUM(aem2csp2!$B115,aem2csp2!$C115) * Emissions!AO98)/1000","v":0},{"$f":"(SUM(aem2csp2!$B115,aem2csp2!$C115) * Emissions!AP98)/1000","v":0},{"$f":"(SUM(aem2csp2!$B115,aem2csp2!$C115) * Emissions!AQ98)/1000","v":0},{"$f":"(SUM(aem2csp2!$B115,aem2csp2!$C115) * Emissions!AR98)/1000","v":0},{"$f":"(SUM(aem2csp2!$B115,aem2csp2!$C115) * Emissions!AS98)/1000","v":0},null,{"$f":"(SUM(aem2csp2!$D115,aem2csp2!$E115) * Emissions!AG98)/1000","v":0},{"$f":"(SUM(aem2csp2!$D115,aem2csp2!$E115) * Emissions!AH98)/1000","v":0},{"$f":"(SUM(aem2csp2!$D115,aem2csp2!$E115) * Emissions!AI98)/1000","v":0},{"$f":"(SUM(aem2csp2!$D115,aem2csp2!$E115) * Emissions!AJ98)/1000","v":0},{"$f":"(SUM(aem2csp2!$D115,aem2csp2!$E115) * Emissions!AK98)/1000","v":0},{"$f":"(SUM(aem2csp2!$D115,aem2csp2!$E115) * Emissions!AL98)/1000","v":0},{"$f":"(SUM(aem2csp2!$D115,aem2csp2!$E115) * Emissions!AM98)/1000","v":0},{"$f":"(SUM(aem2csp2!$D115,aem2csp2!$E115) * Emissions!AN98)/1000","v":0},{"$f":"(SUM(aem2csp2!$D115,aem2csp2!$E115) * Emissions!AO98)/1000","v":0},{"$f":"(SUM(aem2csp2!$D115,aem2csp2!$E115) * Emissions!AP98)/1000","v":0},{"$f":"(SUM(aem2csp2!$D115,aem2csp2!$E115) * Emissions!AQ98)/1000","v":0},{"$f":"(SUM(aem2csp2!$D115,aem2csp2!$E115) * Emissions!AR98)/1000","v":0},{"$f":"(SUM(aem2csp2!$D115,aem2csp2!$E115) * Emissions!AS98)/1000","v":0}]
["C23 "," Arrival ",184.177009195496,1356.2125222577299,388.19779348908799,212.95172907481799,211.841292283558,212.95172907481799,91.493885293068402,246467.903090532,96634.166758474705,4.7171257846031303,43.539154192130603,16.173263775916499,64.429543752650204,null,"C23 "," Departure ",1.24482253731357E-2,558.23205490743499,829.31380914801503,1.4393062026045201E-2,1.4318009404110399E-2,1.4393062026045201E-2,129.79542172484599,349645.28307879798,137087.548389373,7.1825238042046502,71.4923531319657,24.737816943794801,103.412693879965,null,184.18945742086913,1914.4445771651649,1217.5116026371029,212.96612213684404,211.85561029296213,212.96612213684404,221.28930701791438,596113.18616933003,233721.71514784772,11.89964958880778,115.03150732409631,40.9110807197113,167.84223763261519,null,0,0,0,0,0,0,0,0,0,0,0,0,0,null,{"$f":"(SUM(aem2csp2!$B116,aem2csp2!$C116) * Emissions!AG99)/1000","v":0},{"$f":"(SUM(aem2csp2!$B116,aem2csp2!$C116) * Emissions!AH99)/1000","v":0},{"$f":"(SUM(aem2csp2!$B116,aem2csp2!$C116) * Emissions!AI99)/1000","v":0},{"$f":"(SUM(aem2csp2!$B116,aem2csp2!$C116) * Emissions!AJ99)/1000","v":0},{"$f":"(SUM(aem2csp2!$B116,aem2csp2!$C116) * Emissions!AK99)/1000","v":0},{"$f":"(SUM(aem2csp2!$B116,aem2csp2!$C116) * Emissions!AL99)/1000","v":0},{"$f":"(SUM(aem2csp2!$B116,aem2csp2!$C116) * Emissions!AM99)/1000","v":0},{"$f":"(SUM(aem2csp2!$B116,aem2csp2!$C116) * Emissions!AN99)/1000","v":0},{"$f":"(SUM(aem2csp2!$B116,aem2csp2!$C116) * Emissions!AO99)/1000","v":0},{"$f":"(SUM(aem2csp2!$B116,aem2csp2!$C116) * Emissions!AP99)/1000","v":0},{"$f":"(SUM(aem2csp2!$B116,aem2csp2!$C116) * Emissions!AQ99)/1000","v":0},{"$f":"(SUM(aem2csp2!$B116,aem2csp2!$C116) * Emissions!AR99)/1000","v":0},{"$f":"(SUM(aem2csp2!$B116,aem2csp2!$C116) * Emissions!AS99)/1000","v":0},null,{"$f":"(SUM(aem2csp2!$D116,aem2csp2!$E116) * Emissions!AG99)/1000","v":0},{"$f":"(SUM(aem2csp2!$D116,aem2csp2!$E116) * Emissions!AH99)/1000","v":0},{"$f":"(SUM(aem2csp2!$D116,aem2csp2!$E116) * Emissions!AI99)/1000","v":0},{"$f":"(SUM(aem2csp2!$D116,aem2csp2!$E116) * Emissions!AJ99)/1000","v":0},{"$f":"(SUM(aem2csp2!$D116,aem2csp2!$E116) * Emissions!AK99)/1000","v":0},{"$f":"(SUM(aem2csp2!$D116,aem2csp2!$E116) * Emissions!AL99)/1000","v":0},{"$f":"(SUM(aem2csp2!$D116,aem2csp2!$E116) * Emissions!AM99)/1000","v":0},{"$f":"(SUM(aem2csp2!$D116,aem2csp2!$E116) * Emissions!AN99)/1000","v":0},{"$f":"(SUM(aem2csp2!$D116,aem2csp2!$E116) * Emissions!AO99)/1000","v":0},{"$f":"(SUM(aem2csp2!$D116,aem2csp2!$E116) * Emissions!AP99)/1000","v":0},{"$f":"(SUM(aem2csp2!$D116,aem2csp2!$E116) * Emissions!AQ99)/1000","v":0},{"$f":"(SUM(aem2csp2!$D116,aem2csp2!$E116) * Emissions!AR99)/1000","v":0},{"$f":"(SUM(aem2csp2!$D116,aem2csp2!$E116) * Emissions!AS99)/1000","v":0}]
["C5A "," Arrival ",378.29569528771299,1359.0147289183999,51161.942222490397,437.39836348178301,435.11754971540699,437.39836348178301,2154.9089491108298,5804933.1749015301,2275975.3842640901,109.00989773151601,889.317520022699,220.33993468596699,1218.6673524401799,null,"C5A "," Departure ",338.97033490648499,1227.2752580783599,44144.710685816397,391.929042819811,389.88532882602698,391.929042819811,1880.0208874361199,5064434.6822583303,1985643.64562712,89.851989789526797,626.70548097620599,153.03699295691999,869.59446372265302,null,717.26603019419804,2586.2899869967596,95306.652908306802,829.32740630159401,825.00287854143403,829.32740630159401,4034.9298365469494,10869367.85715986,4261619.0298912097,198.8618875210428,1516.023000998905,373.37692764288698,2088.2618161628329,null,0,0,0,0,0,0,0,0,0,0,0,0,0,null,{"$f":"(SUM(aem2csp2!$B117,aem2csp2!$C117) * Emissions!AG100)/1000","v":0},{"$f":"(SUM(aem2csp2!$B117,aem2csp2!$C117) * Emissions!AH100)/1000","v":0},{"$f":"(SUM(aem2csp2!$B117,aem2csp2!$C117) * Emissions!AI100)/1000","v":0},{"$f":"(SUM(aem2csp2!$B117,aem2csp2!$C117) * Emissions!AJ100)/1000","v":0},{"$f":"(SUM(aem2csp2!$B117,aem2csp2!$C117) * Emissions!AK100)/1000","v":0},{"$f":"(SUM(aem2csp2!$B117,aem2csp2!$C117) * Emissions!AL100)/1000","v":0},{"$f":"(SUM(aem2csp2!$B117,aem2csp2!$C117) * Emissions!AM100)/1000","v":0},{"$f":"(SUM(aem2csp2!$B117,aem2csp2!$C117) * Emissions!AN100)/1000","v":0},{"$f":"(SUM(aem2csp2!$B117,aem2csp2!$C117) * Emissions!AO100)/1000","v":0},{"$f":"(SUM(aem2csp2!$B117,aem2csp2!$C117) * Emissions!AP100)/1000","v":0},{"$f":"(SUM(aem2csp2!$B117,aem2csp2!$C117) * Emissions!AQ100)/1000","v":0},{"$f":"(SUM(aem2csp2!$B117,aem2csp2!$C117) * Emissions!AR100)/1000","v":0},{"$f":"(SUM(aem2csp2!$B117,aem2csp2!$C117) * Emissions!AS100)/1000","v":0},null,{"$f":"(SUM(aem2csp2!$D117,aem2csp2!$E117) * Emissions!AG100)/1000","v":0},{"$f":"(SUM(aem2csp2!$D117,aem2csp2!$E117) * Emissions!AH100)/1000","v":0},{"$f":"(SUM(aem2csp2!$D117,aem2csp2!$E117) * Emissions!AI100)/1000","v":0},{"$f":"(SUM(aem2csp2!$D117,aem2csp2!$E117) * Emissions!AJ100)/1000","v":0},{"$f":"(SUM(aem2csp2!$D117,aem2csp2!$E117) * Emissions!AK100)/1000","v":0},{"$f":"(SUM(aem2csp2!$D117,aem2csp2!$E117) * Emissions!AL100)/1000","v":0},{"$f":"(SUM(aem2csp2!$D117,aem2csp2!$E117) * Emissions!AM100)/1000","v":0},{"$f":"(SUM(aem2csp2!$D117,aem2csp2!$E117) * Emissions!AN100)/1000","v":0},{"$f":"(SUM(aem2csp2!$D117,aem2csp2!$E117) * Emissions!AO100)/1000","v":0},{"$f":"(SUM(aem2csp2!$D117,aem2csp2!$E117) * Emissions!AP100)/1000","v":0},{"$f":"(SUM(aem2csp2!$D117,aem2csp2!$E117) * Emissions!AQ100)/1000","v":0},{"$f":"(SUM(aem2csp2!$D117,aem2csp2!$E117) * Emissions!AR100)/1000","v":0},{"$f":"(SUM(aem2csp2!$D117,aem2csp2!$E117) * Emissions!AS100)/1000","v":0}]
["C7A "," Arrival ",49.902850040003798,1906.2888715281499,405.849705114578,57.699374358393399,57.3985009708015,57.699374358393399,108.63619135819999,292646.16097602597,114739.556617225,5.70313125217461,51.457474505926797,18.326629230500998,75.487234988602495,null,"C7A "," Departure ",1.1934380831851599E-2,693.27936117565503,662.46059900926696,1.37989374715198E-2,1.37269829120745E-2,1.37989374715198E-2,129.501002478852,348852.171124299,136776.58817139699,6.9676741868685204,65.403156180476202,24.270247065749398,96.641077433094097,null,49.914784420835652,2599.5682327038048,1068.3103041238451,57.71317329586492,57.412227953713575,57.71317329586492,238.137193837052,641498.33210032503,251516.14478862198,12.67080543904313,116.860630686403,42.5968762962504,172.12831242169659,null,0,0,0,0,0,0,0,0,0,0,0,0,0,null,{"$f":"(SUM(aem2csp2!$B118,aem2csp2!$C118) * Emissions!AG101)/1000","v":0},{"$f":"(SUM(aem2csp2!$B118,aem2csp2!$C118) * Emissions!AH101)/1000","v":0},{"$f":"(SUM(aem2csp2!$B118,aem2csp2!$C118) * Emissions!AI101)/1000","v":0},{"$f":"(SUM(aem2csp2!$B118,aem2csp2!$C118) * Emissions!AJ101)/1000","v":0},{"$f":"(SUM(aem2csp2!$B118,aem2csp2!$C118) * Emissions!AK101)/1000","v":0},{"$f":"(SUM(aem2csp2!$B118,aem2csp2!$C118) * Emissions!AL101)/1000","v":0},{"$f":"(SUM(aem2csp2!$B118,aem2csp2!$C118) * Emissions!AM101)/1000","v":0},{"$f":"(SUM(aem2csp2!$B118,aem2csp2!$C118) * Emissions!AN101)/1000","v":0},{"$f":"(SUM(aem2csp2!$B118,aem2csp2!$C118) * Emissions!AO101)/1000","v":0},{"$f":"(SUM(aem2csp2!$B118,aem2csp2!$C118) * Emissions!AP101)/1000","v":0},{"$f":"(SUM(aem2csp2!$B118,aem2csp2!$C118) * Emissions!AQ101)/1000","v":0},{"$f":"(SUM(aem2csp2!$B118,aem2csp2!$C118) * Emissions!AR101)/1000","v":0},{"$f":"(SUM(aem2csp2!$B118,aem2csp2!$C118) * Emissions!AS101)/1000","v":0},null,{"$f":"(SUM(aem2csp2!$D118,aem2csp2!$E118) * Emissions!AG101)/1000","v":0},{"$f":"(SUM(aem2csp2!$D118,aem2csp2!$E118) * Emissions!AH101)/1000","v":0},{"$f":"(SUM(aem2csp2!$D118,aem2csp2!$E118) * Emissions!AI101)/1000","v":0},{"$f":"(SUM(aem2csp2!$D118,aem2csp2!$E118) * Emissions!AJ101)/1000","v":0},{"$f":"(SUM(aem2csp2!$D118,aem2csp2!$E118) * Emissions!AK101)/1000","v":0},{"$f":"(SUM(aem2csp2!$D118,aem2csp2!$E118) * Emissions!AL101)/1000","v":0},{"$f":"(SUM(aem2csp2!$D118,aem2csp2!$E118) * Emissions!AM101)/1000","v":0},{"$f":"(SUM(aem2csp2!$D118,aem2csp2!$E118) * Emissions!AN101)/1000","v":0},{"$f":"(SUM(aem2csp2!$D118,aem2csp2!$E118) * Emissions!AO101)/1000","v":0},{"$f":"(SUM(aem2csp2!$D118,aem2csp2!$E118) * Emissions!AP101)/1000","v":0},{"$f":"(SUM(aem2csp2!$D118,aem2csp2!$E118) * Emissions!AQ101)/1000","v":0},{"$f":"(SUM(aem2csp2!$D118,aem2csp2!$E118) * Emissions!AR101)/1000","v":0},{"$f":"(SUM(aem2csp2!$D118,aem2csp2!$E118) * Emissions!AS101)/1000","v":0}]
["C9A "," Arrival ",229.98945089719899,820.29570820001004,2142.9129131582899,265.92163403815499,264.53498567746402,265.92163403815499,421.21132987204902,1134666.79110853,444875.69591165002,21.172780515791999,173.287601767447,42.061918185857401,236.522300469096,null,"C9A "," Departure ",151.107759281901,984.48994683663,12244.4965861036,174.71593634983,173.80488009973399,174.71593634983,966.86240705478804,2604551.6515179798,1021182.37493748,50.998039783724501,461.49908262440601,121.006673714952,633.503796123082,null,381.09721017909999,1804.78565503664,14387.40949926189,440.63757038798497,438.33986577719804,440.63757038798497,1388.073736926837,3739218.4426265098,1466058.0708491299,72.170820299516492,634.78668439185299,163.06859190080939,870.02609659217796,null,0,0,0,0,0,0,0,0,0,0,0,0,0,null,{"$f":"(SUM(aem2csp2!$B119,aem2csp2!$C119) * Emissions!AG102)/1000","v":0},{"$f":"(SUM(aem2csp2!$B119,aem2csp2!$C119) * Emissions!AH102)/1000","v":0},{"$f":"(SUM(aem2csp2!$B119,aem2csp2!$C119) * Emissions!AI102)/1000","v":0},{"$f":"(SUM(aem2csp2!$B119,aem2csp2!$C119) * Emissions!AJ102)/1000","v":0},{"$f":"(SUM(aem2csp2!$B119,aem2csp2!$C119) * Emissions!AK102)/1000","v":0},{"$f":"(SUM(aem2csp2!$B119,aem2csp2!$C119) * Emissions!AL102)/1000","v":0},{"$f":"(SUM(aem2csp2!$B119,aem2csp2!$C119) * Emissions!AM102)/1000","v":0},{"$f":"(SUM(aem2csp2!$B119,aem2csp2!$C119) * Emissions!AN102)/1000","v":0},{"$f":"(SUM(aem2csp2!$B119,aem2csp2!$C119) * Emissions!AO102)/1000","v":0},{"$f":"(SUM(aem2csp2!$B119,aem2csp2!$C119) * Emissions!AP102)/1000","v":0},{"$f":"(SUM(aem2csp2!$B119,aem2csp2!$C119) * Emissions!AQ102)/1000","v":0},{"$f":"(SUM(aem2csp2!$B119,aem2csp2!$C119) * Emissions!AR102)/1000","v":0},{"$f":"(SUM(aem2csp2!$B119,aem2csp2!$C119) * Emissions!AS102)/1000","v":0},null,{"$f":"(SUM(aem2csp2!$D119,aem2csp2!$E119) * Emissions!AG102)/1000","v":0},{"$f":"(SUM(aem2csp2!$D119,aem2csp2!$E119) * Emissions!AH102)/1000","v":0},{"$f":"(SUM(aem2csp2!$D119,aem2csp2!$E119) * Emissions!AI102)/1000","v":0},{"$f":"(SUM(aem2csp2!$D119,aem2csp2!$E119) * Emissions!AJ102)/1000","v":0},{"$f":"(SUM(aem2csp2!$D119,aem2csp2!$E119) * Emissions!AK102)/1000","v":0},{"$f":"(SUM(aem2csp2!$D119,aem2csp2!$E119) * Emissions!AL102)/1000","v":0},{"$f":"(SUM(aem2csp2!$D119,aem2csp2!$E119) * Emissions!AM102)/1000","v":0},{"$f":"(SUM(aem2csp2!$D119,aem2csp2!$E119) * Emissions!AN102)/1000","v":0},{"$f":"(SUM(aem2csp2!$D119,aem2csp2!$E119) * Emissions!AO102)/1000","v":0},{"$f":"(SUM(aem2csp2!$D119,aem2csp2!$E119) * Emissions!AP102)/1000","v":0},{"$f":"(SUM(aem2csp2!$D119,aem2csp2!$E119) * Emissions!AQ102)/1000","v":0},{"$f":"(SUM(aem2csp2!$D119,aem2csp2!$E119) * Emissions!AR102)/1000","v":0},{"$f":"(SUM(aem2csp2!$D119,aem2csp2!$E119) * Emissions!AS102)/1000","v":0}]
["CIT3 "," Arrival ",65.348327513402296,1016.01101970467,612.70358407618801,75.557961316199197,75.163964326915902,75.557961316199197,90.144292071306197,242832.34416407999,95208.7511033177,4.0684758412197901,26.097683205283801,5.5483691159736397,35.714528162477301,null,"CIT3 "," Departure ",7.8201962906514702,513.88949023405996,1961.18782980318,9.0419772211147293,8.9948278308952307,9.0419772211147293,129.53206190932201,348935.83958667202,136809.392573285,6.2653544322892403,44.771835836496301,11.100988631474101,62.138178900259703,null,73.168523804053763,1529.90050993873,2573.891413879368,84.599938537313932,84.158792157811135,84.599938537313932,219.67635398062822,591768.18375075201,232018.14367660269,10.333830273509029,70.869519041780109,16.649357747447741,97.852707062737011,null,0,0,0,0,0,0,0,0,0,0,0,0,0,null,{"$f":"(SUM(aem2csp2!$B120,aem2csp2!$C120) * Emissions!AG103)/1000","v":0},{"$f":"(SUM(aem2csp2!$B120,aem2csp2!$C120) * Emissions!AH103)/1000","v":0},{"$f":"(SUM(aem2csp2!$B120,aem2csp2!$C120) * Emissions!AI103)/1000","v":0},{"$f":"(SUM(aem2csp2!$B120,aem2csp2!$C120) * Emissions!AJ103)/1000","v":0},{"$f":"(SUM(aem2csp2!$B120,aem2csp2!$C120) * Emissions!AK103)/1000","v":0},{"$f":"(SUM(aem2csp2!$B120,aem2csp2!$C120) * Emissions!AL103)/1000","v":0},{"$f":"(SUM(aem2csp2!$B120,aem2csp2!$C120) * Emissions!AM103)/1000","v":0},{"$f":"(SUM(aem2csp2!$B120,aem2csp2!$C120) * Emissions!AN103)/1000","v":0},{"$f":"(SUM(aem2csp2!$B120,aem2csp2!$C120) * Emissions!AO103)/1000","v":0},{"$f":"(SUM(aem2csp2!$B120,aem2csp2!$C120) * Emissions!AP103)/1000","v":0},{"$f":"(SUM(aem2csp2!$B120,aem2csp2!$C120) * Emissions!AQ103)/1000","v":0},{"$f":"(SUM(aem2csp2!$B120,aem2csp2!$C120) * Emissions!AR103)/1000","v":0},{"$f":"(SUM(aem2csp2!$B120,aem2csp2!$C120) * Emissions!AS103)/1000","v":0},null,{"$f":"(SUM(aem2csp2!$D120,aem2csp2!$E120) * Emissions!AG103)/1000","v":0},{"$f":"(SUM(aem2csp2!$D120,aem2csp2!$E120) * Emissions!AH103)/1000","v":0},{"$f":"(SUM(aem2csp2!$D120,aem2csp2!$E120) * Emissions!AI103)/1000","v":0},{"$f":"(SUM(aem2csp2!$D120,aem2csp2!$E120) * Emissions!AJ103)/1000","v":0},{"$f":"(SUM(aem2csp2!$D120,aem2csp2!$E120) * Emissions!AK103)/1000","v":0},{"$f":"(SUM(aem2csp2!$D120,aem2csp2!$E120) * Emissions!AL103)/1000","v":0},{"$f":"(SUM(aem2csp2!$D120,aem2csp2!$E120) * Emissions!AM103)/1000","v":0},{"$f":"(SUM(aem2csp2!$D120,aem2csp2!$E120) * Emissions!AN103)/1000","v":0},{"$f":"(SUM(aem2csp2!$D120,aem2csp2!$E120) * Emissions!AO103)/1000","v":0},{"$f":"(SUM(aem2csp2!$D120,aem2csp2!$E120) * Emissions!AP103)/1000","v":0},{"$f":"(SUM(aem2csp2!$D120,aem2csp2!$E120) * Emissions!AQ103)/1000","v":0},{"$f":"(SUM(aem2csp2!$D120,aem2csp2!$E120) * Emissions!AR103)/1000","v":0},{"$f":"(SUM(aem2csp2!$D120,aem2csp2!$E120) * Emissions!AS103)/1000","v":0}]
["CL600 "," Arrival ",198.62138069892299,1594.0575369983001,192.49719148976001,229.65280322348599,228.455278681077,229.65280322348599,59.158921797412603,159363.38650173901,62482.570238558197,2.65009441589747,14.310433708332299,5.6537470977522899,22.614275221982101,null,"CL600 "," Departure ",5.1320398918738297,65.729032066423301,965.75212695001699,5.9338392638107997,5.9028972589696602,5.9338392638107997,118.96984826463,320483.15511860402,125653.77587375999,5.8315877710872099,43.187977953100201,12.778008560124899,61.797574284312297,null,203.75342059079682,1659.7865690647234,1158.249318439777,235.58664248729679,234.35817594004666,235.58664248729679,178.12877006204261,479846.54162034299,188136.34611231819,8.4816821869846795,57.498411661432499,18.43175565787719,84.411849506294402,null,0,0,0,0,0,0,0,0,0,0,0,0,0,null,{"$f":"(SUM(aem2csp2!$B121,aem2csp2!$C121) * Emissions!AG104)/1000","v":0},{"$f":"(SUM(aem2csp2!$B121,aem2csp2!$C121) * Emissions!AH104)/1000","v":0},{"$f":"(SUM(aem2csp2!$B121,aem2csp2!$C121) * Emissions!AI104)/1000","v":0},{"$f":"(SUM(aem2csp2!$B121,aem2csp2!$C121) * Emissions!AJ104)/1000","v":0},{"$f":"(SUM(aem2csp2!$B121,aem2csp2!$C121) * Emissions!AK104)/1000","v":0},{"$f":"(SUM(aem2csp2!$B121,aem2csp2!$C121) * Emissions!AL104)/1000","v":0},{"$f":"(SUM(aem2csp2!$B121,aem2csp2!$C121) * Emissions!AM104)/1000","v":0},{"$f":"(SUM(aem2csp2!$B121,aem2csp2!$C121) * Emissions!AN104)/1000","v":0},{"$f":"(SUM(aem2csp2!$B121,aem2csp2!$C121) * Emissions!AO104)/1000","v":0},{"$f":"(SUM(aem2csp2!$B121,aem2csp2!$C121) * Emissions!AP104)/1000","v":0},{"$f":"(SUM(aem2csp2!$B121,aem2csp2!$C121) * Emissions!AQ104)/1000","v":0},{"$f":"(SUM(aem2csp2!$B121,aem2csp2!$C121) * Emissions!AR104)/1000","v":0},{"$f":"(SUM(aem2csp2!$B121,aem2csp2!$C121) * Emissions!AS104)/1000","v":0},null,{"$f":"(SUM(aem2csp2!$D121,aem2csp2!$E121) * Emissions!AG104)/1000","v":0},{"$f":"(SUM(aem2csp2!$D121,aem2csp2!$E121) * Emissions!AH104)/1000","v":0},{"$f":"(SUM(aem2csp2!$D121,aem2csp2!$E121) * Emissions!AI104)/1000","v":0},{"$f":"(SUM(aem2csp2!$D121,aem2csp2!$E121) * Emissions!AJ104)/1000","v":0},{"$f":"(SUM(aem2csp2!$D121,aem2csp2!$E121) * Emissions!AK104)/1000","v":0},{"$f":"(SUM(aem2csp2!$D121,aem2csp2!$E121) * Emissions!AL104)/1000","v":0},{"$f":"(SUM(aem2csp2!$D121,aem2csp2!$E121) * Emissions!AM104)/1000","v":0},{"$f":"(SUM(aem2csp2!$D121,aem2csp2!$E121) * Emissions!AN104)/1000","v":0},{"$f":"(SUM(aem2csp2!$D121,aem2csp2!$E121) * Emissions!AO104)/1000","v":0},{"$f":"(SUM(aem2csp2!$D121,aem2csp2!$E121) * Emissions!AP104)/1000","v":0},{"$f":"(SUM(aem2csp2!$D121,aem2csp2!$E121) * Emissions!AQ104)/1000","v":0},{"$f":"(SUM(aem2csp2!$D121,aem2csp2!$E121) * Emissions!AR104)/1000","v":0},{"$f":"(SUM(aem2csp2!$D121,aem2csp2!$E121) * Emissions!AS104)/1000","v":0}]
["CL601 "," Arrival ",130.94236002909301,1452.4508850964301,215.24920967832901,151.40001512205501,150.610539743201,151.40001512205501,59.017244120169899,158981.73258123,62332.932869407603,2.6374616990513502,13.991942554413299,4.0450044232474802,20.674408676712201,null,"CL601 "," Departure ",9.3986527493360192,0.19982593863870499,1127.8890304520401,10.8670423235098,10.8103761313138,10.8670423235098,144.04685102235101,388036.044207239,152139.647126578,7.0590840756853597,52.476054716201801,18.367962830986599,77.903101622873706,null,140.34101277842902,1452.6507110350688,1343.138240130369,162.2670574455648,161.4209158745148,162.2670574455648,203.0640951425209,547017.77678846894,214472.57999598561,9.696545774736709,66.467997270615101,22.412967254234079,98.57751029958591,null,0,0,0,0,0,0,0,0,0,0,0,0,0,null,{"$f":"(SUM(aem2csp2!$B122,aem2csp2!$C122) * Emissions!AG105)/1000","v":0},{"$f":"(SUM(aem2csp2!$B122,aem2csp2!$C122) * Emissions!AH105)/1000","v":0},{"$f":"(SUM(aem2csp2!$B122,aem2csp2!$C122) * Emissions!AI105)/1000","v":0},{"$f":"(SUM(aem2csp2!$B122,aem2csp2!$C122) * Emissions!AJ105)/1000","v":0},{"$f":"(SUM(aem2csp2!$B122,aem2csp2!$C122) * Emissions!AK105)/1000","v":0},{"$f":"(SUM(aem2csp2!$B122,aem2csp2!$C122) * Emissions!AL105)/1000","v":0},{"$f":"(SUM(aem2csp2!$B122,aem2csp2!$C122) * Emissions!AM105)/1000","v":0},{"$f":"(SUM(aem2csp2!$B122,aem2csp2!$C122) * Emissions!AN105)/1000","v":0},{"$f":"(SUM(aem2csp2!$B122,aem2csp2!$C122) * Emissions!AO105)/1000","v":0},{"$f":"(SUM(aem2csp2!$B122,aem2csp2!$C122) * Emissions!AP105)/1000","v":0},{"$f":"(SUM(aem2csp2!$B122,aem2csp2!$C122) * Emissions!AQ105)/1000","v":0},{"$f":"(SUM(aem2csp2!$B122,aem2csp2!$C122) * Emissions!AR105)/1000","v":0},{"$f":"(SUM(aem2csp2!$B122,aem2csp2!$C122) * Emissions!AS105)/1000","v":0},null,{"$f":"(SUM(aem2csp2!$D122,aem2csp2!$E122) * Emissions!AG105)/1000","v":0},{"$f":"(SUM(aem2csp2!$D122,aem2csp2!$E122) * Emissions!AH105)/1000","v":0},{"$f":"(SUM(aem2csp2!$D122,aem2csp2!$E122) * Emissions!AI105)/1000","v":0},{"$f":"(SUM(aem2csp2!$D122,aem2csp2!$E122) * Emissions!AJ105)/1000","v":0},{"$f":"(SUM(aem2csp2!$D122,aem2csp2!$E122) * Emissions!AK105)/1000","v":0},{"$f":"(SUM(aem2csp2!$D122,aem2csp2!$E122) * Emissions!AL105)/1000","v":0},{"$f":"(SUM(aem2csp2!$D122,aem2csp2!$E122) * Emissions!AM105)/1000","v":0},{"$f":"(SUM(aem2csp2!$D122,aem2csp2!$E122) * Emissions!AN105)/1000","v":0},{"$f":"(SUM(aem2csp2!$D122,aem2csp2!$E122) * Emissions!AO105)/1000","v":0},{"$f":"(SUM(aem2csp2!$D122,aem2csp2!$E122) * Emissions!AP105)/1000","v":0},{"$f":"(SUM(aem2csp2!$D122,aem2csp2!$E122) * Emissions!AQ105)/1000","v":0},{"$f":"(SUM(aem2csp2!$D122,aem2csp2!$E122) * Emissions!AR105)/1000","v":0},{"$f":"(SUM(aem2csp2!$D122,aem2csp2!$E122) * Emissions!AS105)/1000","v":0}]
["CNA172 "," Arrival ",72.363367796483104,7749.58242797813,28.920968122720598,70.894932281261703,60.4024267334024,63.131937196463603,8.7029296188262002,23444.111123118699,9191.8749474795204,0.40518664422303702,5.2422502512054896,0.62818615796994204,6.27562305339847,null,"CNA172 "," Departure ",79.500900172612504,8521.08416313001,31.3684732572077,77.887626096786406,66.360196383081401,69.358931039188306,9.3789202931392008,25265.1071762758,9905.8439229962296,0.45462853452511398,6.4565193180224201,0.81108024791641498,7.7222281004639504,null,151.86426796909561,16270.66659110814,60.289441379928299,148.78255837804812,126.76262311648381,132.4908682356519,18.081849911965399,48709.218299394503,19097.71887047575,0.85981517874815094,11.69876956922791,1.4392664058863569,13.99785115386242,null,0,0,0,0,0,0,0,0,0,0,0,0,0,null,{"$f":"(SUM(aem2csp2!$B123,aem2csp2!$C123) * Emissions!AG106)/1000","v":0},{"$f":"(SUM(aem2csp2!$B123,aem2csp2!$C123) * Emissions!AH106)/1000","v":0},{"$f":"(SUM(aem2csp2!$B123,aem2csp2!$C123) * Emissions!AI106)/1000","v":0},{"$f":"(SUM(aem2csp2!$B123,aem2csp2!$C123) * Emissions!AJ106)/1000","v":0},{"$f":"(SUM(aem2csp2!$B123,aem2csp2!$C123) * Emissions!AK106)/1000","v":0},{"$f":"(SUM(aem2csp2!$B123,aem2csp2!$C123) * Emissions!AL106)/1000","v":0},{"$f":"(SUM(aem2csp2!$B123,aem2csp2!$C123) * Emissions!AM106)/1000","v":0},{"$f":"(SUM(aem2csp2!$B123,aem2csp2!$C123) * Emissions!AN106)/1000","v":0},{"$f":"(SUM(aem2csp2!$B123,aem2csp2!$C123) * Emissions!AO106)/1000","v":0},{"$f":"(SUM(aem2csp2!$B123,aem2csp2!$C123) * Emissions!AP106)/1000","v":0},{"$f":"(SUM(aem2csp2!$B123,aem2csp2!$C123) * Emissions!AQ106)/1000","v":0},{"$f":"(SUM(aem2csp2!$B123,aem2csp2!$C123) * Emissions!AR106)/1000","v":0},{"$f":"(SUM(aem2csp2!$B123,aem2csp2!$C123) * Emissions!AS106)/1000","v":0},null,{"$f":"(SUM(aem2csp2!$D123,aem2csp2!$E123) * Emissions!AG106)/1000","v":0},{"$f":"(SUM(aem2csp2!$D123,aem2csp2!$E123) * Emissions!AH106)/1000","v":0},{"$f":"(SUM(aem2csp2!$D123,aem2csp2!$E123) * Emissions!AI106)/1000","v":0},{"$f":"(SUM(aem2csp2!$D123,aem2csp2!$E123) * Emissions!AJ106)/1000","v":0},{"$f":"(SUM(aem2csp2!$D123,aem2csp2!$E123) * Emissions!AK106)/1000","v":0},{"$f":"(SUM(aem2csp2!$D123,aem2csp2!$E123) * Emissions!AL106)/1000","v":0},{"$f":"(SUM(aem2csp2!$D123,aem2csp2!$E123) * Emissions!AM106)/1000","v":0},{"$f":"(SUM(aem2csp2!$D123,aem2csp2!$E123) * Emissions!AN106)/1000","v":0},{"$f":"(SUM(aem2csp2!$D123,aem2csp2!$E123) * Emissions!AO106)/1000","v":0},{"$f":"(SUM(aem2csp2!$D123,aem2csp2!$E123) * Emissions!AP106)/1000","v":0},{"$f":"(SUM(aem2csp2!$D123,aem2csp2!$E123) * Emissions!AQ106)/1000","v":0},{"$f":"(SUM(aem2csp2!$D123,aem2csp2!$E123) * Emissions!AR106)/1000","v":0},{"$f":"(SUM(aem2csp2!$D123,aem2csp2!$E123) * Emissions!AS106)/1000","v":0}]
["CNA182 "," Arrival ",155.90843049023599,18736.5953193762,14.067324011935,152.74465462648499,130.138326014505,136.01911494488499,19.360436687697799,52153.4987616859,20448.138817180799,0.89277005127584297,10.7148374659286,1.3332506215447,12.940858138749199,null,"CNA182 "," Departure ",206.88733192321101,24863.082790083099,16.924262201316399,202.689065381777,172.69092482962299,180.494612722472,24.703780969499501,66547.497403322195,26091.681232301002,1.27104559766597,16.409999250043601,2.6853773276548099,20.366422175364399,null,362.79576241344699,43599.678109459303,30.991586213251399,355.43372000826196,302.82925084412796,316.51372766735699,44.064217657197304,118700.99616500809,46539.820049481801,2.1638156489418128,27.124836715972201,4.0186279491995096,33.307280314113598,null,0,0,0,0,0,0,0,0,0,0,0,0,0,null,{"$f":"(SUM(aem2csp2!$B124,aem2csp2!$C124) * Emissions!AG107)/1000","v":0},{"$f":"(SUM(aem2csp2!$B124,aem2csp2!$C124) * Emissions!AH107)/1000","v":0},{"$f":"(SUM(aem2csp2!$B124,aem2csp2!$C124) * Emissions!AI107)/1000","v":0},{"$f":"(SUM(aem2csp2!$B124,aem2csp2!$C124) * Emissions!AJ107)/1000","v":0},{"$f":"(SUM(aem2csp2!$B124,aem2csp2!$C124) * Emissions!AK107)/1000","v":0},{"$f":"(SUM(aem2csp2!$B124,aem2csp2!$C124) * Emissions!AL107)/1000","v":0},{"$f":"(SUM(aem2csp2!$B124,aem2csp2!$C124) * Emissions!AM107)/1000","v":0},{"$f":"(SUM(aem2csp2!$B124,aem2csp2!$C124) * Emissions!AN107)/1000","v":0},{"$f":"(SUM(aem2csp2!$B124,aem2csp2!$C124) * Emissions!AO107)/1000","v":0},{"$f":"(SUM(aem2csp2!$B124,aem2csp2!$C124) * Emissions!AP107)/1000","v":0},{"$f":"(SUM(aem2csp2!$B124,aem2csp2!$C124) * Emissions!AQ107)/1000","v":0},{"$f":"(SUM(aem2csp2!$B124,aem2csp2!$C124) * Emissions!AR107)/1000","v":0},{"$f":"(SUM(aem2csp2!$B124,aem2csp2!$C124) * Emissions!AS107)/1000","v":0},null,{"$f":"(SUM(aem2csp2!$D124,aem2csp2!$E124) * Emissions!AG107)/1000","v":0},{"$f":"(SUM(aem2csp2!$D124,aem2csp2!$E124) * Emissions!AH107)/1000","v":0},{"$f":"(SUM(aem2csp2!$D124,aem2csp2!$E124) * Emissions!AI107)/1000","v":0},{"$f":"(SUM(aem2csp2!$D124,aem2csp2!$E124) * Emissions!AJ107)/1000","v":0},{"$f":"(SUM(aem2csp2!$D124,aem2csp2!$E124) * Emissions!AK107)/1000","v":0},{"$f":"(SUM(aem2csp2!$D124,aem2csp2!$E124) * Emissions!AL107)/1000","v":0},{"$f":"(SUM(aem2csp2!$D124,aem2csp2!$E124) * Emissions!AM107)/1000","v":0},{"$f":"(SUM(aem2csp2!$D124,aem2csp2!$E124) * Emissions!AN107)/1000","v":0},{"$f":"(SUM(aem2csp2!$D124,aem2csp2!$E124) * Emissions!AO107)/1000","v":0},{"$f":"(SUM(aem2csp2!$D124,aem2csp2!$E124) * Emissions!AP107)/1000","v":0},{"$f":"(SUM(aem2csp2!$D124,aem2csp2!$E124) * Emissions!AQ107)/1000","v":0},{"$f":"(SUM(aem2csp2!$D124,aem2csp2!$E124) * Emissions!AR107)/1000","v":0},{"$f":"(SUM(aem2csp2!$D124,aem2csp2!$E124) * Emissions!AS107)/1000","v":0}]
["CNA182FLT "," Arrival ",145.12902698399299,15836.1646763274,33.491778898844998,142.18399244507799,121.14065011380799,126.614845272342,17.4496832447239,47006.276158729299,18430.0360089852,0.82147340606098995,10.566247023458599,1.32714588562414,12.7148663151437,null,"CNA182FLT "," Departure ",660.46980264819899,72069.032472959094,138.72649503110799,647.06720207179296,551.30074896847805,576.21334344493096,75.800916073108496,204193.89533013801,80059.539944019198,4.03956179166628,51.024539123983999,9.2807937517921406,64.344894667442404,null,805.59882963219195,87905.197149286498,172.218273929953,789.25119451687101,672.44139908228601,702.82818871727295,93.250599317832396,251200.17148886732,98489.575953004402,4.8610351977272703,61.5907861474426,10.60793963741628,77.059760982586099,null,0,0,0,0,0,0,0,0,0,0,0,0,0,null,{"$f":"(SUM(aem2csp2!$B125,aem2csp2!$C125) * Emissions!AG108)/1000","v":0},{"$f":"(SUM(aem2csp2!$B125,aem2csp2!$C125) * Emissions!AH108)/1000","v":0},{"$f":"(SUM(aem2csp2!$B125,aem2csp2!$C125) * Emissions!AI108)/1000","v":0},{"$f":"(SUM(aem2csp2!$B125,aem2csp2!$C125) * Emissions!AJ108)/1000","v":0},{"$f":"(SUM(aem2csp2!$B125,aem2csp2!$C125) * Emissions!AK108)/1000","v":0},{"$f":"(SUM(aem2csp2!$B125,aem2csp2!$C125) * Emissions!AL108)/1000","v":0},{"$f":"(SUM(aem2csp2!$B125,aem2csp2!$C125) * Emissions!AM108)/1000","v":0},{"$f":"(SUM(aem2csp2!$B125,aem2csp2!$C125) * Emissions!AN108)/1000","v":0},{"$f":"(SUM(aem2csp2!$B125,aem2csp2!$C125) * Emissions!AO108)/1000","v":0},{"$f":"(SUM(aem2csp2!$B125,aem2csp2!$C125) * Emissions!AP108)/1000","v":0},{"$f":"(SUM(aem2csp2!$B125,aem2csp2!$C125) * Emissions!AQ108)/1000","v":0},{"$f":"(SUM(aem2csp2!$B125,aem2csp2!$C125) * Emissions!AR108)/1000","v":0},{"$f":"(SUM(aem2csp2!$B125,aem2csp2!$C125) * Emissions!AS108)/1000","v":0},null,{"$f":"(SUM(aem2csp2!$D125,aem2csp2!$E125) * Emissions!AG108)/1000","v":0},{"$f":"(SUM(aem2csp2!$D125,aem2csp2!$E125) * Emissions!AH108)/1000","v":0},{"$f":"(SUM(aem2csp2!$D125,aem2csp2!$E125) * Emissions!AI108)/1000","v":0},{"$f":"(SUM(aem2csp2!$D125,aem2csp2!$E125) * Emissions!AJ108)/1000","v":0},{"$f":"(SUM(aem2csp2!$D125,aem2csp2!$E125) * Emissions!AK108)/1000","v":0},{"$f":"(SUM(aem2csp2!$D125,aem2csp2!$E125) * Emissions!AL108)/1000","v":0},{"$f":"(SUM(aem2csp2!$D125,aem2csp2!$E125) * Emissions!AM108)/1000","v":0},{"$f":"(SUM(aem2csp2!$D125,aem2csp2!$E125) * Emissions!AN108)/1000","v":0},{"$f":"(SUM(aem2csp2!$D125,aem2csp2!$E125) * Emissions!AO108)/1000","v":0},{"$f":"(SUM(aem2csp2!$D125,aem2csp2!$E125) * Emissions!AP108)/1000","v":0},{"$f":"(SUM(aem2csp2!$D125,aem2csp2!$E125) * Emissions!AQ108)/1000","v":0},{"$f":"(SUM(aem2csp2!$D125,aem2csp2!$E125) * Emissions!AR108)/1000","v":0},{"$f":"(SUM(aem2csp2!$D125,aem2csp2!$E125) * Emissions!AS108)/1000","v":0}]
["CNA206 "," Arrival ",112.56773297451301,10613.530479135899,3.1050680451169099,110.283449337623,93.961412391155406,98.207411635153306,9.4848510117471108,25550.465285230701,10017.726008821001,0.438413715478501,6.2516912896195498,0.66091532514772999,7.3510203302457899,null,"CNA206 "," Departure ",343.93290240408197,34563.192121712302,5.2127172005862104,336.953635074185,287.08423296571198,300.057212033562,25.784698526469001,69459.292905575203,27233.3265686835,1.3166896019533401,21.572920050876501,2.72846758436487,25.618077237194701,null,456.50063537859501,45176.722600848203,8.3177852457031207,447.23708441180798,381.0456453568674,398.26462366871533,35.269549538216111,95009.758190805907,37251.052577504503,1.7551033174318411,27.824611340496052,3.3893829095125998,32.969097567440492,null,0,0,0,0,0,0,0,0,0,0,0,0,0,null,{"$f":"(SUM(aem2csp2!$B126,aem2csp2!$C126) * Emissions!AG109)/1000","v":0},{"$f":"(SUM(aem2csp2!$B126,aem2csp2!$C126) * Emissions!AH109)/1000","v":0},{"$f":"(SUM(aem2csp2!$B126,aem2csp2!$C126) * Emissions!AI109)/1000","v":0},{"$f":"(SUM(aem2csp2!$B126,aem2csp2!$C126) * Emissions!AJ109)/1000","v":0},{"$f":"(SUM(aem2csp2!$B126,aem2csp2!$C126) * Emissions!AK109)/1000","v":0},{"$f":"(SUM(aem2csp2!$B126,aem2csp2!$C126) * Emissions!AL109)/1000","v":0},{"$f":"(SUM(aem2csp2!$B126,aem2csp2!$C126) * Emissions!AM109)/1000","v":0},{"$f":"(SUM(aem2csp2!$B126,aem2csp2!$C126) * Emissions!AN109)/1000","v":0},{"$f":"(SUM(aem2csp2!$B126,aem2csp2!$C126) * Emissions!AO109)/1000","v":0},{"$f":"(SUM(aem2csp2!$B126,aem2csp2!$C126) * Emissions!AP109)/1000","v":0},{"$f":"(SUM(aem2csp2!$B126,aem2csp2!$C126) * Emissions!AQ109)/1000","v":0},{"$f":"(SUM(aem2csp2!$B126,aem2csp2!$C126) * Emissions!AR109)/1000","v":0},{"$f":"(SUM(aem2csp2!$B126,aem2csp2!$C126) * Emissions!AS109)/1000","v":0},null,{"$f":"(SUM(aem2csp2!$D126,aem2csp2!$E126) * Emissions!AG109)/1000","v":0},{"$f":"(SUM(aem2csp2!$D126,aem2csp2!$E126) * Emissions!AH109)/1000","v":0},{"$f":"(SUM(aem2csp2!$D126,aem2csp2!$E126) * Emissions!AI109)/1000","v":0},{"$f":"(SUM(aem2csp2!$D126,aem2csp2!$E126) * Emissions!AJ109)/1000","v":0},{"$f":"(SUM(aem2csp2!$D126,aem2csp2!$E126) * Emissions!AK109)/1000","v":0},{"$f":"(SUM(aem2csp2!$D126,aem2csp2!$E126) * Emissions!AL109)/1000","v":0},{"$f":"(SUM(aem2csp2!$D126,aem2csp2!$E126) * Emissions!AM109)/1000","v":0},{"$f":"(SUM(aem2csp2!$D126,aem2csp2!$E126) * Emissions!AN109)/1000","v":0},{"$f":"(SUM(aem2csp2!$D126,aem2csp2!$E126) * Emissions!AO109)/1000","v":0},{"$f":"(SUM(aem2csp2!$D126,aem2csp2!$E126) * Emissions!AP109)/1000","v":0},{"$f":"(SUM(aem2csp2!$D126,aem2csp2!$E126) * Emissions!AQ109)/1000","v":0},{"$f":"(SUM(aem2csp2!$D126,aem2csp2!$E126) * Emissions!AR109)/1000","v":0},{"$f":"(SUM(aem2csp2!$D126,aem2csp2!$E126) * Emissions!AS109)/1000","v":0}]
["CNA208 "," Arrival ",1.0115331403772699E-2,40.522217070254598,169.686440653929,1.1695690585961E-2,1.16347034074005E-2,1.1695690585961E-2,30.012665370327699,80848.667386769099,31698.8277519599,1.3879259009503,8.6406731206348208,4.4748029155882501,14.5034019371734,null,"CNA208 "," Departure ",4.0175053653671196E-3,38.090022403465198,253.66879885850301,4.6451764954776502E-3,4.6209542226419899E-3,4.6451764954776502E-3,41.011689151979603,110478.038998032,43315.795321890997,2.0830121689203098,17.0235826376341,7.2153495481934504,26.321944354747799,null,1.4132836769139819E-2,78.612239473719796,423.35523951243204,1.6340867081438649E-2,1.625565763004249E-2,1.6340867081438649E-2,71.024354522307306,191326.7063848011,75014.623073850904,3.47093806987061,25.664255758268922,11.6901524637817,40.8253462919212,null,0,0,0,0,0,0,0,0,0,0,0,0,0,null,{"$f":"(SUM(aem2csp2!$B127,aem2csp2!$C127) * Emissions!AG110)/1000","v":0},{"$f":"(SUM(aem2csp2!$B127,aem2csp2!$C127) * Emissions!AH110)/1000","v":0},{"$f":"(SUM(aem2csp2!$B127,aem2csp2!$C127) * Emissions!AI110)/1000","v":0},{"$f":"(SUM(aem2csp2!$B127,aem2csp2!$C127) * Emissions!AJ110)/1000","v":0},{"$f":"(SUM(aem2csp2!$B127,aem2csp2!$C127) * Emissions!AK110)/1000","v":0},{"$f":"(SUM(aem2csp2!$B127,aem2csp2!$C127) * Emissions!AL110)/1000","v":0},{"$f":"(SUM(aem2csp2!$B127,aem2csp2!$C127) * Emissions!AM110)/1000","v":0},{"$f":"(SUM(aem2csp2!$B127,aem2csp2!$C127) * Emissions!AN110)/1000","v":0},{"$f":"(SUM(aem2csp2!$B127,aem2csp2!$C127) * Emissions!AO110)/1000","v":0},{"$f":"(SUM(aem2csp2!$B127,aem2csp2!$C127) * Emissions!AP110)/1000","v":0},{"$f":"(SUM(aem2csp2!$B127,aem2csp2!$C127) * Emissions!AQ110)/1000","v":0},{"$f":"(SUM(aem2csp2!$B127,aem2csp2!$C127) * Emissions!AR110)/1000","v":0},{"$f":"(SUM(aem2csp2!$B127,aem2csp2!$C127) * Emissions!AS110)/1000","v":0},null,{"$f":"(SUM(aem2csp2!$D127,aem2csp2!$E127) * Emissions!AG110)/1000","v":0},{"$f":"(SUM(aem2csp2!$D127,aem2csp2!$E127) * Emissions!AH110)/1000","v":0},{"$f":"(SUM(aem2csp2!$D127,aem2csp2!$E127) * Emissions!AI110)/1000","v":0},{"$f":"(SUM(aem2csp2!$D127,aem2csp2!$E127) * Emissions!AJ110)/1000","v":0},{"$f":"(SUM(aem2csp2!$D127,aem2csp2!$E127) * Emissions!AK110)/1000","v":0},{"$f":"(SUM(aem2csp2!$D127,aem2csp2!$E127) * Emissions!AL110)/1000","v":0},{"$f":"(SUM(aem2csp2!$D127,aem2csp2!$E127) * Emissions!AM110)/1000","v":0},{"$f":"(SUM(aem2csp2!$D127,aem2csp2!$E127) * Emissions!AN110)/1000","v":0},{"$f":"(SUM(aem2csp2!$D127,aem2csp2!$E127) * Emissions!AO110)/1000","v":0},{"$f":"(SUM(aem2csp2!$D127,aem2csp2!$E127) * Emissions!AP110)/1000","v":0},{"$f":"(SUM(aem2csp2!$D127,aem2csp2!$E127) * Emissions!AQ110)/1000","v":0},{"$f":"(SUM(aem2csp2!$D127,aem2csp2!$E127) * Emissions!AR110)/1000","v":0},{"$f":"(SUM(aem2csp2!$D127,aem2csp2!$E127) * Emissions!AS110)/1000","v":0}]
["CNA20T "," Arrival ",112.491257877414,10606.319969050101,3.1029037514747699,110.208526113413,93.897577862856593,98.1406925039946,9.4781739900099797,25532.478601845502,10010.673860691901,0.43816743188983598,6.2474004779323904,0.66091532514772999,7.34648323496996,null,"CNA20T "," Departure ",391.39644176541498,39332.992912084999,5.9179469616259999,383.45401933372301,326.70252390601001,341.46580421668,29.2895069169303,78900.609906860496,30935.041031627999,1.5081055716115499,24.283760990394001,3.1922007958418401,28.984067357847401,null,503.88769964282898,49939.312881135098,9.0208507131007707,493.66254544713604,420.60010176886658,439.60649672067461,38.767680906940278,104433.088508706,40945.714892319898,1.946273003501386,30.531161468326392,3.8531161209895703,36.33055059281736,null,0,0,0,0,0,0,0,0,0,0,0,0,0,null,{"$f":"(SUM(aem2csp2!$B128,aem2csp2!$C128) * Emissions!AG111)/1000","v":0},{"$f":"(SUM(aem2csp2!$B128,aem2csp2!$C128) * Emissions!AH111)/1000","v":0},{"$f":"(SUM(aem2csp2!$B128,aem2csp2!$C128) * Emissions!AI111)/1000","v":0},{"$f":"(SUM(aem2csp2!$B128,aem2csp2!$C128) * Emissions!AJ111)/1000","v":0},{"$f":"(SUM(aem2csp2!$B128,aem2csp2!$C128) * Emissions!AK111)/1000","v":0},{"$f":"(SUM(aem2csp2!$B128,aem2csp2!$C128) * Emissions!AL111)/1000","v":0},{"$f":"(SUM(aem2csp2!$B128,aem2csp2!$C128) * Emissions!AM111)/1000","v":0},{"$f":"(SUM(aem2csp2!$B128,aem2csp2!$C128) * Emissions!AN111)/1000","v":0},{"$f":"(SUM(aem2csp2!$B128,aem2csp2!$C128) * Emissions!AO111)/1000","v":0},{"$f":"(SUM(aem2csp2!$B128,aem2csp2!$C128) * Emissions!AP111)/1000","v":0},{"$f":"(SUM(aem2csp2!$B128,aem2csp2!$C128) * Emissions!AQ111)/1000","v":0},{"$f":"(SUM(aem2csp2!$B128,aem2csp2!$C128) * Emissions!AR111)/1000","v":0},{"$f":"(SUM(aem2csp2!$B128,aem2csp2!$C128) * Emissions!AS111)/1000","v":0},null,{"$f":"(SUM(aem2csp2!$D128,aem2csp2!$E128) * Emissions!AG111)/1000","v":0},{"$f":"(SUM(aem2csp2!$D128,aem2csp2!$E128) * Emissions!AH111)/1000","v":0},{"$f":"(SUM(aem2csp2!$D128,aem2csp2!$E128) * Emissions!AI111)/1000","v":0},{"$f":"(SUM(aem2csp2!$D128,aem2csp2!$E128) * Emissions!AJ111)/1000","v":0},{"$f":"(SUM(aem2csp2!$D128,aem2csp2!$E128) * Emissions!AK111)/1000","v":0},{"$f":"(SUM(aem2csp2!$D128,aem2csp2!$E128) * Emissions!AL111)/1000","v":0},{"$f":"(SUM(aem2csp2!$D128,aem2csp2!$E128) * Emissions!AM111)/1000","v":0},{"$f":"(SUM(aem2csp2!$D128,aem2csp2!$E128) * Emissions!AN111)/1000","v":0},{"$f":"(SUM(aem2csp2!$D128,aem2csp2!$E128) * Emissions!AO111)/1000","v":0},{"$f":"(SUM(aem2csp2!$D128,aem2csp2!$E128) * Emissions!AP111)/1000","v":0},{"$f":"(SUM(aem2csp2!$D128,aem2csp2!$E128) * Emissions!AQ111)/1000","v":0},{"$f":"(SUM(aem2csp2!$D128,aem2csp2!$E128) * Emissions!AR111)/1000","v":0},{"$f":"(SUM(aem2csp2!$D128,aem2csp2!$E128) * Emissions!AS111)/1000","v":0}]
["CNA441 "," Arrival ",5.4636971505675298,188.35154976345399,502.77224252960002,6.3173126789104597,6.2843710519462803,6.3173126789104597,59.780451818063199,161037.675449103,63139.018868633997,2.7369966845921998,16.213365625103702,9.15885050612086,28.1092128158168,null,"CNA441 "," Departure ",1.5412768001241799,72.664207247985502,424.50336536618101,1.78207671523734,1.7727840762057401,1.78207671523734,45.2813370502666,121979.69466665899,47825.319271840599,2.3295062023178099,19.7286706145075,8.4252109723001798,30.483387789125501,null,7.0049739506917099,261.01575701143952,927.27560789578104,8.0993893941477992,8.0571551281520204,8.0993893941477992,105.0617888683298,283017.37011576199,110964.3381404746,5.0665028869100102,35.942036239611198,17.584061478421042,58.592600604942305,null,0,0,0,0,0,0,0,0,0,0,0,0,0,null,{"$f":"(SUM(aem2csp2!$B129,aem2csp2!$C129) * Emissions!AG112)/1000","v":0},{"$f":"(SUM(aem2csp2!$B129,aem2csp2!$C129) * Emissions!AH112)/1000","v":0},{"$f":"(SUM(aem2csp2!$B129,aem2csp2!$C129) * Emissions!AI112)/1000","v":0},{"$f":"(SUM(aem2csp2!$B129,aem2csp2!$C129) * Emissions!AJ112)/1000","v":0},{"$f":"(SUM(aem2csp2!$B129,aem2csp2!$C129) * Emissions!AK112)/1000","v":0},{"$f":"(SUM(aem2csp2!$B129,aem2csp2!$C129) * Emissions!AL112)/1000","v":0},{"$f":"(SUM(aem2csp2!$B129,aem2csp2!$C129) * Emissions!AM112)/1000","v":0},{"$f":"(SUM(aem2csp2!$B129,aem2csp2!$C129) * Emissions!AN112)/1000","v":0},{"$f":"(SUM(aem2csp2!$B129,aem2csp2!$C129) * Emissions!AO112)/1000","v":0},{"$f":"(SUM(aem2csp2!$B129,aem2csp2!$C129) * Emissions!AP112)/1000","v":0},{"$f":"(SUM(aem2csp2!$B129,aem2csp2!$C129) * Emissions!AQ112)/1000","v":0},{"$f":"(SUM(aem2csp2!$B129,aem2csp2!$C129) * Emissions!AR112)/1000","v":0},{"$f":"(SUM(aem2csp2!$B129,aem2csp2!$C129) * Emissions!AS112)/1000","v":0},null,{"$f":"(SUM(aem2csp2!$D129,aem2csp2!$E129) * Emissions!AG112)/1000","v":0},{"$f":"(SUM(aem2csp2!$D129,aem2csp2!$E129) * Emissions!AH112)/1000","v":0},{"$f":"(SUM(aem2csp2!$D129,aem2csp2!$E129) * Emissions!AI112)/1000","v":0},{"$f":"(SUM(aem2csp2!$D129,aem2csp2!$E129) * Emissions!AJ112)/1000","v":0},{"$f":"(SUM(aem2csp2!$D129,aem2csp2!$E129) * Emissions!AK112)/1000","v":0},{"$f":"(SUM(aem2csp2!$D129,aem2csp2!$E129) * Emissions!AL112)/1000","v":0},{"$f":"(SUM(aem2csp2!$D129,aem2csp2!$E129) * Emissions!AM112)/1000","v":0},{"$f":"(SUM(aem2csp2!$D129,aem2csp2!$E129) * Emissions!AN112)/1000","v":0},{"$f":"(SUM(aem2csp2!$D129,aem2csp2!$E129) * Emissions!AO112)/1000","v":0},{"$f":"(SUM(aem2csp2!$D129,aem2csp2!$E129) * Emissions!AP112)/1000","v":0},{"$f":"(SUM(aem2csp2!$D129,aem2csp2!$E129) * Emissions!AQ112)/1000","v":0},{"$f":"(SUM(aem2csp2!$D129,aem2csp2!$E129) * Emissions!AR112)/1000","v":0},{"$f":"(SUM(aem2csp2!$D129,aem2csp2!$E129) * Emissions!AS112)/1000","v":0}]
["CNA500 "," Arrival ",630.042499358908,2298.8918798575201,137.53344284031601,728.47659007583002,724.67794889688003,728.47659007583002,44.405675610818101,119620.82185120499,46900.461689363001,1.9704864986077699,17.316087376598102,2.48188234533069,21.7684562205365,null,"CNA500 "," Departure ",17.840196167905301,800.229534954771,612.38951149013405,20.627442250171399,20.519880452557899,20.627442250171399,88.990922548057696,239725.37622875799,93990.583326457796,4.1813662273229797,27.305296302283299,8.9483715256503906,40.4350340552567,null,647.88269552681334,3099.1214148122908,749.92295433045001,749.1040323260014,745.19782934943794,749.1040323260014,133.3965981588758,359346.19807996298,140891.0450158208,6.1518527259307501,44.621383678881401,11.43025387098108,62.2034902757932,null,0,0,0,0,0,0,0,0,0,0,0,0,0,null,{"$f":"(SUM(aem2csp2!$B130,aem2csp2!$C130) * Emissions!AG113)/1000","v":0},{"$f":"(SUM(aem2csp2!$B130,aem2csp2!$C130) * Emissions!AH113)/1000","v":0},{"$f":"(SUM(aem2csp2!$B130,aem2csp2!$C130) * Emissions!AI113)/1000","v":0},{"$f":"(SUM(aem2csp2!$B130,aem2csp2!$C130) * Emissions!AJ113)/1000","v":0},{"$f":"(SUM(aem2csp2!$B130,aem2csp2!$C130) * Emissions!AK113)/1000","v":0},{"$f":"(SUM(aem2csp2!$B130,aem2csp2!$C130) * Emissions!AL113)/1000","v":0},{"$f":"(SUM(aem2csp2!$B130,aem2csp2!$C130) * Emissions!AM113)/1000","v":0},{"$f":"(SUM(aem2csp2!$B130,aem2csp2!$C130) * Emissions!AN113)/1000","v":0},{"$f":"(SUM(aem2csp2!$B130,aem2csp2!$C130) * Emissions!AO113)/1000","v":0},{"$f":"(SUM(aem2csp2!$B130,aem2csp2!$C130) * Emissions!AP113)/1000","v":0},{"$f":"(SUM(aem2csp2!$B130,aem2csp2!$C130) * Emissions!AQ113)/1000","v":0},{"$f":"(SUM(aem2csp2!$B130,aem2csp2!$C130) * Emissions!AR113)/1000","v":0},{"$f":"(SUM(aem2csp2!$B130,aem2csp2!$C130) * Emissions!AS113)/1000","v":0},null,{"$f":"(SUM(aem2csp2!$D130,aem2csp2!$E130) * Emissions!AG113)/1000","v":0},{"$f":"(SUM(aem2csp2!$D130,aem2csp2!$E130) * Emissions!AH113)/1000","v":0},{"$f":"(SUM(aem2csp2!$D130,aem2csp2!$E130) * Emissions!AI113)/1000","v":0},{"$f":"(SUM(aem2csp2!$D130,aem2csp2!$E130) * Emissions!AJ113)/1000","v":0},{"$f":"(SUM(aem2csp2!$D130,aem2csp2!$E130) * Emissions!AK113)/1000","v":0},{"$f":"(SUM(aem2csp2!$D130,aem2csp2!$E130) * Emissions!AL113)/1000","v":0},{"$f":"(SUM(aem2csp2!$D130,aem2csp2!$E130) * Emissions!AM113)/1000","v":0},{"$f":"(SUM(aem2csp2!$D130,aem2csp2!$E130) * Emissions!AN113)/1000","v":0},{"$f":"(SUM(aem2csp2!$D130,aem2csp2!$E130) * Emissions!AO113)/1000","v":0},{"$f":"(SUM(aem2csp2!$D130,aem2csp2!$E130) * Emissions!AP113)/1000","v":0},{"$f":"(SUM(aem2csp2!$D130,aem2csp2!$E130) * Emissions!AQ113)/1000","v":0},{"$f":"(SUM(aem2csp2!$D130,aem2csp2!$E130) * Emissions!AR113)/1000","v":0},{"$f":"(SUM(aem2csp2!$D130,aem2csp2!$E130) * Emissions!AS113)/1000","v":0}]
["CNA510 "," Arrival ",4.1173959917941401E-3,4.1173959917941401E-3,3.94767088655375E-3,4.7606734389285098E-3,4.7358489072812197E-3,4.7606734389285098E-3,46.757356094443097,125955.821787882,49384.2635662791,2.0339768847814002,9.2336016577611595,2.30836050393546,13.575939046478,null,"CNA510 "," Departure ",6.5093116504520302E-3,6.5093116504520302E-3,6.0993955974392297E-3,7.5262877658050301E-3,7.4870419382502404E-3,7.5262877658050301E-3,72.029085991862402,194033.270410114,76075.8020593697,3.5418925427722701,26.420641769456299,6.60508950665744,36.567623818885998,null,1.062670764224617E-2,1.062670764224617E-2,1.004706648399298E-2,1.228696120473354E-2,1.2222890845531461E-2,1.228696120473354E-2,118.7864420863055,319989.09219799598,125460.0656256488,5.5758694275536698,35.654243427217459,8.9134500105929,50.143562865363997,null,0,0,0,0,0,0,0,0,0,0,0,0,0,null,{"$f":"(SUM(aem2csp2!$B131,aem2csp2!$C131) * Emissions!AG114)/1000","v":0},{"$f":"(SUM(aem2csp2!$B131,aem2csp2!$C131) * Emissions!AH114)/1000","v":0},{"$f":"(SUM(aem2csp2!$B131,aem2csp2!$C131) * Emissions!AI114)/1000","v":0},{"$f":"(SUM(aem2csp2!$B131,aem2csp2!$C131) * Emissions!AJ114)/1000","v":0},{"$f":"(SUM(aem2csp2!$B131,aem2csp2!$C131) * Emissions!AK114)/1000","v":0},{"$f":"(SUM(aem2csp2!$B131,aem2csp2!$C131) * Emissions!AL114)/1000","v":0},{"$f":"(SUM(aem2csp2!$B131,aem2csp2!$C131) * Emissions!AM114)/1000","v":0},{"$f":"(SUM(aem2csp2!$B131,aem2csp2!$C131) * Emissions!AN114)/1000","v":0},{"$f":"(SUM(aem2csp2!$B131,aem2csp2!$C131) * Emissions!AO114)/1000","v":0},{"$f":"(SUM(aem2csp2!$B131,aem2csp2!$C131) * Emissions!AP114)/1000","v":0},{"$f":"(SUM(aem2csp2!$B131,aem2csp2!$C131) * Emissions!AQ114)/1000","v":0},{"$f":"(SUM(aem2csp2!$B131,aem2csp2!$C131) * Emissions!AR114)/1000","v":0},{"$f":"(SUM(aem2csp2!$B131,aem2csp2!$C131) * Emissions!AS114)/1000","v":0},null,{"$f":"(SUM(aem2csp2!$D131,aem2csp2!$E131) * Emissions!AG114)/1000","v":0},{"$f":"(SUM(aem2csp2!$D131,aem2csp2!$E131) * Emissions!AH114)/1000","v":0},{"$f":"(SUM(aem2csp2!$D131,aem2csp2!$E131) * Emissions!AI114)/1000","v":0},{"$f":"(SUM(aem2csp2!$D131,aem2csp2!$E131) * Emissions!AJ114)/1000","v":0},{"$f":"(SUM(aem2csp2!$D131,aem2csp2!$E131) * Emissions!AK114)/1000","v":0},{"$f":"(SUM(aem2csp2!$D131,aem2csp2!$E131) * Emissions!AL114)/1000","v":0},{"$f":"(SUM(aem2csp2!$D131,aem2csp2!$E131) * Emissions!AM114)/1000","v":0},{"$f":"(SUM(aem2csp2!$D131,aem2csp2!$E131) * Emissions!AN114)/1000","v":0},{"$f":"(SUM(aem2csp2!$D131,aem2csp2!$E131) * Emissions!AO114)/1000","v":0},{"$f":"(SUM(aem2csp2!$D131,aem2csp2!$E131) * Emissions!AP114)/1000","v":0},{"$f":"(SUM(aem2csp2!$D131,aem2csp2!$E131) * Emissions!AQ114)/1000","v":0},{"$f":"(SUM(aem2csp2!$D131,aem2csp2!$E131) * Emissions!AR114)/1000","v":0},{"$f":"(SUM(aem2csp2!$D131,aem2csp2!$E131) * Emissions!AS114)/1000","v":0}]
["CNA525C "," Arrival ",34.377042471933301,594.87230016649801,214.24070849141501,39.747907009968401,39.540641548864897,39.747907009968401,56.661290950425098,152635.22280446699,59844.618259627598,2.4398383089336,10.5234387139839,2.7140505104125099,15.677327533330001,null,"CNA525C "," Departure ",68.134285950265195,1179.01938296546,413.067132446313,78.779181319998898,78.368387279005802,78.779181319998898,108.80632988912301,293104.48326518299,114919.253819027,5.4961359374261898,44.335947807425498,12.301979668843201,62.134063413694903,null,102.51132842219849,1773.891683131958,627.30784093772797,118.5270883299673,117.9090288278707,118.5270883299673,165.46762083954809,445739.70606965001,174763.87207865459,7.9359742463597893,54.859386521409398,15.016030179255711,77.811390947024904,null,0,0,0,0,0,0,0,0,0,0,0,0,0,null,{"$f":"(SUM(aem2csp2!$B132,aem2csp2!$C132) * Emissions!AG115)/1000","v":0},{"$f":"(SUM(aem2csp2!$B132,aem2csp2!$C132) * Emissions!AH115)/1000","v":0},{"$f":"(SUM(aem2csp2!$B132,aem2csp2!$C132) * Emissions!AI115)/1000","v":0},{"$f":"(SUM(aem2csp2!$B132,aem2csp2!$C132) * Emissions!AJ115)/1000","v":0},{"$f":"(SUM(aem2csp2!$B132,aem2csp2!$C132) * Emissions!AK115)/1000","v":0},{"$f":"(SUM(aem2csp2!$B132,aem2csp2!$C132) * Emissions!AL115)/1000","v":0},{"$f":"(SUM(aem2csp2!$B132,aem2csp2!$C132) * Emissions!AM115)/1000","v":0},{"$f":"(SUM(aem2csp2!$B132,aem2csp2!$C132) * Emissions!AN115)/1000","v":0},{"$f":"(SUM(aem2csp2!$B132,aem2csp2!$C132) * Emissions!AO115)/1000","v":0},{"$f":"(SUM(aem2csp2!$B132,aem2csp2!$C132) * Emissions!AP115)/1000","v":0},{"$f":"(SUM(aem2csp2!$B132,aem2csp2!$C132) * Emissions!AQ115)/1000","v":0},{"$f":"(SUM(aem2csp2!$B132,aem2csp2!$C132) * Emissions!AR115)/1000","v":0},{"$f":"(SUM(aem2csp2!$B132,aem2csp2!$C132) * Emissions!AS115)/1000","v":0},null,{"$f":"(SUM(aem2csp2!$D132,aem2csp2!$E132) * Emissions!AG115)/1000","v":0},{"$f":"(SUM(aem2csp2!$D132,aem2csp2!$E132) * Emissions!AH115)/1000","v":0},{"$f":"(SUM(aem2csp2!$D132,aem2csp2!$E132) * Emissions!AI115)/1000","v":0},{"$f":"(SUM(aem2csp2!$D132,aem2csp2!$E132) * Emissions!AJ115)/1000","v":0},{"$f":"(SUM(aem2csp2!$D132,aem2csp2!$E132) * Emissions!AK115)/1000","v":0},{"$f":"(SUM(aem2csp2!$D132,aem2csp2!$E132) * Emissions!AL115)/1000","v":0},{"$f":"(SUM(aem2csp2!$D132,aem2csp2!$E132) * Emissions!AM115)/1000","v":0},{"$f":"(SUM(aem2csp2!$D132,aem2csp2!$E132) * Emissions!AN115)/1000","v":0},{"$f":"(SUM(aem2csp2!$D132,aem2csp2!$E132) * Emissions!AO115)/1000","v":0},{"$f":"(SUM(aem2csp2!$D132,aem2csp2!$E132) * Emissions!AP115)/1000","v":0},{"$f":"(SUM(aem2csp2!$D132,aem2csp2!$E132) * Emissions!AQ115)/1000","v":0},{"$f":"(SUM(aem2csp2!$D132,aem2csp2!$E132) * Emissions!AR115)/1000","v":0},{"$f":"(SUM(aem2csp2!$D132,aem2csp2!$E132) * Emissions!AS115)/1000","v":0}]
["CNA55B "," Arrival ",1058.7037289590701,2580.2365909084101,121.729261409839,1224.10929922574,1217.7261812849299,1224.10929922574,51.551202794948303,138869.57378591399,54447.4366951427,2.2106077300556599,18.527460387679898,2.3069323764082901,23.045000494143899,null,"CNA55B "," Departure ",63.197690869490003,847.14799549211796,740.68355324325898,73.071322001480695,72.690291592904003,73.071322001480695,115.08780066846499,310025.624239247,121553.62826749599,5.8511385832754597,50.431387163762302,11.985796681643899,68.2683224286816,null,1121.9014198285602,3427.384586400528,862.41281465309794,1297.1806212272206,1290.4164728778339,1297.1806212272206,166.6390034634133,448895.19802516099,176001.06496263869,8.0617463133311205,68.958847551442204,14.292729058052188,91.313322922825506,null,0,0,0,0,0,0,0,0,0,0,0,0,0,null,{"$f":"(SUM(aem2csp2!$B133,aem2csp2!$C133) * Emissions!AG116)/1000","v":0},{"$f":"(SUM(aem2csp2!$B133,aem2csp2!$C133) * Emissions!AH116)/1000","v":0},{"$f":"(SUM(aem2csp2!$B133,aem2csp2!$C133) * Emissions!AI116)/1000","v":0},{"$f":"(SUM(aem2csp2!$B133,aem2csp2!$C133) * Emissions!AJ116)/1000","v":0},{"$f":"(SUM(aem2csp2!$B133,aem2csp2!$C133) * Emissions!AK116)/1000","v":0},{"$f":"(SUM(aem2csp2!$B133,aem2csp2!$C133) * Emissions!AL116)/1000","v":0},{"$f":"(SUM(aem2csp2!$B133,aem2csp2!$C133) * Emissions!AM116)/1000","v":0},{"$f":"(SUM(aem2csp2!$B133,aem2csp2!$C133) * Emissions!AN116)/1000","v":0},{"$f":"(SUM(aem2csp2!$B133,aem2csp2!$C133) * Emissions!AO116)/1000","v":0},{"$f":"(SUM(aem2csp2!$B133,aem2csp2!$C133) * Emissions!AP116)/1000","v":0},{"$f":"(SUM(aem2csp2!$B133,aem2csp2!$C133) * Emissions!AQ116)/1000","v":0},{"$f":"(SUM(aem2csp2!$B133,aem2csp2!$C133) * Emissions!AR116)/1000","v":0},{"$f":"(SUM(aem2csp2!$B133,aem2csp2!$C133) * Emissions!AS116)/1000","v":0},null,{"$f":"(SUM(aem2csp2!$D133,aem2csp2!$E133) * Emissions!AG116)/1000","v":0},{"$f":"(SUM(aem2csp2!$D133,aem2csp2!$E133) * Emissions!AH116)/1000","v":0},{"$f":"(SUM(aem2csp2!$D133,aem2csp2!$E133) * Emissions!AI116)/1000","v":0},{"$f":"(SUM(aem2csp2!$D133,aem2csp2!$E133) * Emissions!AJ116)/1000","v":0},{"$f":"(SUM(aem2csp2!$D133,aem2csp2!$E133) * Emissions!AK116)/1000","v":0},{"$f":"(SUM(aem2csp2!$D133,aem2csp2!$E133) * Emissions!AL116)/1000","v":0},{"$f":"(SUM(aem2csp2!$D133,aem2csp2!$E133) * Emissions!AM116)/1000","v":0},{"$f":"(SUM(aem2csp2!$D133,aem2csp2!$E133) * Emissions!AN116)/1000","v":0},{"$f":"(SUM(aem2csp2!$D133,aem2csp2!$E133) * Emissions!AO116)/1000","v":0},{"$f":"(SUM(aem2csp2!$D133,aem2csp2!$E133) * Emissions!AP116)/1000","v":0},{"$f":"(SUM(aem2csp2!$D133,aem2csp2!$E133) * Emissions!AQ116)/1000","v":0},{"$f":"(SUM(aem2csp2!$D133,aem2csp2!$E133) * Emissions!AR116)/1000","v":0},{"$f":"(SUM(aem2csp2!$D133,aem2csp2!$E133) * Emissions!AS116)/1000","v":0}]
["CNA560E "," Arrival ",1446.80099288111,3240.4124844888702,88.473092995536803,1672.84057009615,1664.1175429433799,1672.84057009615,50.368535954057897,135683.68420001099,53198.325627706297,2.2629533503157901,20.077817032446699,3.0231157906328301,25.363886173395301,null,"CNA560E "," Departure ",63.9548733731718,718.47200807645402,1078.44625166896,73.946802193544698,73.561206593506398,73.946802193544698,116.372731797803,313486.99523742299,122910.74900434,5.88104780885645,49.938903639199502,11.8553058227533,67.675257270809198,null,1510.7558662542817,3958.8844925653243,1166.9193446644967,1746.7873722896948,1737.6787495368862,1746.7873722896948,166.7412677518609,449170.67943743395,176109.07463204631,8.144001159172241,70.016720671646198,14.878421613386131,93.039143444204498,null,0,0,0,0,0,0,0,0,0,0,0,0,0,null,{"$f":"(SUM(aem2csp2!$B134,aem2csp2!$C134) * Emissions!AG117)/1000","v":0},{"$f":"(SUM(aem2csp2!$B134,aem2csp2!$C134) * Emissions!AH117)/1000","v":0},{"$f":"(SUM(aem2csp2!$B134,aem2csp2!$C134) * Emissions!AI117)/1000","v":0},{"$f":"(SUM(aem2csp2!$B134,aem2csp2!$C134) * Emissions!AJ117)/1000","v":0},{"$f":"(SUM(aem2csp2!$B134,aem2csp2!$C134) * Emissions!AK117)/1000","v":0},{"$f":"(SUM(aem2csp2!$B134,aem2csp2!$C134) * Emissions!AL117)/1000","v":0},{"$f":"(SUM(aem2csp2!$B134,aem2csp2!$C134) * Emissions!AM117)/1000","v":0},{"$f":"(SUM(aem2csp2!$B134,aem2csp2!$C134) * Emissions!AN117)/1000","v":0},{"$f":"(SUM(aem2csp2!$B134,aem2csp2!$C134) * Emissions!AO117)/1000","v":0},{"$f":"(SUM(aem2csp2!$B134,aem2csp2!$C134) * Emissions!AP117)/1000","v":0},{"$f":"(SUM(aem2csp2!$B134,aem2csp2!$C134) * Emissions!AQ117)/1000","v":0},{"$f":"(SUM(aem2csp2!$B134,aem2csp2!$C134) * Emissions!AR117)/1000","v":0},{"$f":"(SUM(aem2csp2!$B134,aem2csp2!$C134) * Emissions!AS117)/1000","v":0},null,{"$f":"(SUM(aem2csp2!$D134,aem2csp2!$E134) * Emissions!AG117)/1000","v":0},{"$f":"(SUM(aem2csp2!$D134,aem2csp2!$E134) * Emissions!AH117)/1000","v":0},{"$f":"(SUM(aem2csp2!$D134,aem2csp2!$E134) * Emissions!AI117)/1000","v":0},{"$f":"(SUM(aem2csp2!$D134,aem2csp2!$E134) * Emissions!AJ117)/1000","v":0},{"$f":"(SUM(aem2csp2!$D134,aem2csp2!$E134) * Emissions!AK117)/1000","v":0},{"$f":"(SUM(aem2csp2!$D134,aem2csp2!$E134) * Emissions!AL117)/1000","v":0},{"$f":"(SUM(aem2csp2!$D134,aem2csp2!$E134) * Emissions!AM117)/1000","v":0},{"$f":"(SUM(aem2csp2!$D134,aem2csp2!$E134) * Emissions!AN117)/1000","v":0},{"$f":"(SUM(aem2csp2!$D134,aem2csp2!$E134) * Emissions!AO117)/1000","v":0},{"$f":"(SUM(aem2csp2!$D134,aem2csp2!$E134) * Emissions!AP117)/1000","v":0},{"$f":"(SUM(aem2csp2!$D134,aem2csp2!$E134) * Emissions!AQ117)/1000","v":0},{"$f":"(SUM(aem2csp2!$D134,aem2csp2!$E134) * Emissions!AR117)/1000","v":0},{"$f":"(SUM(aem2csp2!$D134,aem2csp2!$E134) * Emissions!AS117)/1000","v":0}]
["CNA560U "," Arrival ",2270.63741338211,3856.55831791642,76.326462360383204,2625.3882902856899,2611.6982030459899,2625.3882902856899,47.600195034839501,128226.276754541,50274.454626106897,2.1151873969325301,35.236815374399001,2.6824067022871598,40.034409473618702,null,"CNA560U "," Departure ",148.55006699328899,1360.23910931564,816.47135374368895,171.75864543887101,170.86300998223001,171.75864543887101,98.374683913591497,265003.52437447198,103901.540301496,4.9349035331162696,39.5522699759209,12.630994765700899,57.118168274738103,null,2419.187480375399,5216.7974272320598,892.79781610407213,2797.146935724561,2782.5612130282198,2797.146935724561,145.97487894843101,393229.80112901295,154175.99492760291,7.0500909300487997,74.789085350319908,15.31340146798806,97.152577748356805,null,0,0,0,0,0,0,0,0,0,0,0,0,0,null,{"$f":"(SUM(aem2csp2!$B135,aem2csp2!$C135) * Emissions!AG118)/1000","v":0},{"$f":"(SUM(aem2csp2!$B135,aem2csp2!$C135) * Emissions!AH118)/1000","v":0},{"$f":"(SUM(aem2csp2!$B135,aem2csp2!$C135) * Emissions!AI118)/1000","v":0},{"$f":"(SUM(aem2csp2!$B135,aem2csp2!$C135) * Emissions!AJ118)/1000","v":0},{"$f":"(SUM(aem2csp2!$B135,aem2csp2!$C135) * Emissions!AK118)/1000","v":0},{"$f":"(SUM(aem2csp2!$B135,aem2csp2!$C135) * Emissions!AL118)/1000","v":0},{"$f":"(SUM(aem2csp2!$B135,aem2csp2!$C135) * Emissions!AM118)/1000","v":0},{"$f":"(SUM(aem2csp2!$B135,aem2csp2!$C135) * Emissions!AN118)/1000","v":0},{"$f":"(SUM(aem2csp2!$B135,aem2csp2!$C135) * Emissions!AO118)/1000","v":0},{"$f":"(SUM(aem2csp2!$B135,aem2csp2!$C135) * Emissions!AP118)/1000","v":0},{"$f":"(SUM(aem2csp2!$B135,aem2csp2!$C135) * Emissions!AQ118)/1000","v":0},{"$f":"(SUM(aem2csp2!$B135,aem2csp2!$C135) * Emissions!AR118)/1000","v":0},{"$f":"(SUM(aem2csp2!$B135,aem2csp2!$C135) * Emissions!AS118)/1000","v":0},null,{"$f":"(SUM(aem2csp2!$D135,aem2csp2!$E135) * Emissions!AG118)/1000","v":0},{"$f":"(SUM(aem2csp2!$D135,aem2csp2!$E135) * Emissions!AH118)/1000","v":0},{"$f":"(SUM(aem2csp2!$D135,aem2csp2!$E135) * Emissions!AI118)/1000","v":0},{"$f":"(SUM(aem2csp2!$D135,aem2csp2!$E135) * Emissions!AJ118)/1000","v":0},{"$f":"(SUM(aem2csp2!$D135,aem2csp2!$E135) * Emissions!AK118)/1000","v":0},{"$f":"(SUM(aem2csp2!$D135,aem2csp2!$E135) * Emissions!AL118)/1000","v":0},{"$f":"(SUM(aem2csp2!$D135,aem2csp2!$E135) * Emissions!AM118)/1000","v":0},{"$f":"(SUM(aem2csp2!$D135,aem2csp2!$E135) * Emissions!AN118)/1000","v":0},{"$f":"(SUM(aem2csp2!$D135,aem2csp2!$E135) * Emissions!AO118)/1000","v":0},{"$f":"(SUM(aem2csp2!$D135,aem2csp2!$E135) * Emissions!AP118)/1000","v":0},{"$f":"(SUM(aem2csp2!$D135,aem2csp2!$E135) * Emissions!AQ118)/1000","v":0},{"$f":"(SUM(aem2csp2!$D135,aem2csp2!$E135) * Emissions!AR118)/1000","v":0},{"$f":"(SUM(aem2csp2!$D135,aem2csp2!$E135) * Emissions!AS118)/1000","v":0}]
["CNA560XL "," Arrival ",6.8112571683162596E-3,6.8112571683162596E-3,363.68232104805998,7.8754074545025806E-3,7.8343411423310808E-3,7.8754074545025806E-3,77.152276961531896,207834.21602940001,81486.822576344799,3.4404496054687401,17.751556114678301,6.5189399222492801,27.7109456423963,null,"CNA560XL "," Departure ",9.9978059270371192E-3,9.9978059270371192E-3,1086.3422857083799,1.15598036281343E-2,1.1499525032115401E-2,1.15598036281343E-2,110.16840844711599,296773.675418931,116357.856257755,5.6241918552046304,46.585525883911899,15.7350875857432,67.944805324859701,null,1.6809063095353377E-2,1.6809063095353377E-2,1450.0246067564399,1.9435211082636881E-2,1.9333866174446483E-2,1.9435211082636881E-2,187.32068540864788,504607.89144833101,197844.67883409979,9.0646414606733714,64.337081998590207,22.254027507992479,95.655750967255997,null,0,0,0,0,0,0,0,0,0,0,0,0,0,null,{"$f":"(SUM(aem2csp2!$B136,aem2csp2!$C136) * Emissions!AG119)/1000","v":0},{"$f":"(SUM(aem2csp2!$B136,aem2csp2!$C136) * Emissions!AH119)/1000","v":0},{"$f":"(SUM(aem2csp2!$B136,aem2csp2!$C136) * Emissions!AI119)/1000","v":0},{"$f":"(SUM(aem2csp2!$B136,aem2csp2!$C136) * Emissions!AJ119)/1000","v":0},{"$f":"(SUM(aem2csp2!$B136,aem2csp2!$C136) * Emissions!AK119)/1000","v":0},{"$f":"(SUM(aem2csp2!$B136,aem2csp2!$C136) * Emissions!AL119)/1000","v":0},{"$f":"(SUM(aem2csp2!$B136,aem2csp2!$C136) * Emissions!AM119)/1000","v":0},{"$f":"(SUM(aem2csp2!$B136,aem2csp2!$C136) * Emissions!AN119)/1000","v":0},{"$f":"(SUM(aem2csp2!$B136,aem2csp2!$C136) * Emissions!AO119)/1000","v":0},{"$f":"(SUM(aem2csp2!$B136,aem2csp2!$C136) * Emissions!AP119)/1000","v":0},{"$f":"(SUM(aem2csp2!$B136,aem2csp2!$C136) * Emissions!AQ119)/1000","v":0},{"$f":"(SUM(aem2csp2!$B136,aem2csp2!$C136) * Emissions!AR119)/1000","v":0},{"$f":"(SUM(aem2csp2!$B136,aem2csp2!$C136) * Emissions!AS119)/1000","v":0},null,{"$f":"(SUM(aem2csp2!$D136,aem2csp2!$E136) * Emissions!AG119)/1000","v":0},{"$f":"(SUM(aem2csp2!$D136,aem2csp2!$E136) * Emissions!AH119)/1000","v":0},{"$f":"(SUM(aem2csp2!$D136,aem2csp2!$E136) * Emissions!AI119)/1000","v":0},{"$f":"(SUM(aem2csp2!$D136,aem2csp2!$E136) * Emissions!AJ119)/1000","v":0},{"$f":"(SUM(aem2csp2!$D136,aem2csp2!$E136) * Emissions!AK119)/1000","v":0},{"$f":"(SUM(aem2csp2!$D136,aem2csp2!$E136) * Emissions!AL119)/1000","v":0},{"$f":"(SUM(aem2csp2!$D136,aem2csp2!$E136) * Emissions!AM119)/1000","v":0},{"$f":"(SUM(aem2csp2!$D136,aem2csp2!$E136) * Emissions!AN119)/1000","v":0},{"$f":"(SUM(aem2csp2!$D136,aem2csp2!$E136) * Emissions!AO119)/1000","v":0},{"$f":"(SUM(aem2csp2!$D136,aem2csp2!$E136) * Emissions!AP119)/1000","v":0},{"$f":"(SUM(aem2csp2!$D136,aem2csp2!$E136) * Emissions!AQ119)/1000","v":0},{"$f":"(SUM(aem2csp2!$D136,aem2csp2!$E136) * Emissions!AR119)/1000","v":0},{"$f":"(SUM(aem2csp2!$D136,aem2csp2!$E136) * Emissions!AS119)/1000","v":0}]
["CNA680 "," Arrival ",7.0378602070120602E-3,7.0378602070120602E-3,449.476021817201,8.1374136034495295E-3,8.0949810602143502E-3,8.1374136034495295E-3,80.295608647516801,216301.78046697,84806.7519612178,3.3912726675012501,12.8226655648297,5.7080697991562497,21.922008031487199,null,"CNA680 "," Departure ",1.40714609301721E-2,1.40714609301721E-2,2118.5932640862102,1.6269902246638199E-2,1.61850628413731E-2,1.6269902246638199E-2,155.45350116414701,418763.48716947,164187.142196081,7.7334973676837402,59.688871685638503,21.5577810896594,88.9801501429816,null,2.110932113718416E-2,2.110932113718416E-2,2568.0692859034111,2.4407315850087728E-2,2.4280043901587452E-2,2.4407315850087728E-2,235.7491098116638,635065.26763644,248993.89415729878,11.124770035184991,72.511537250468209,27.265850888815649,110.90215817446879,null,0,0,0,0,0,0,0,0,0,0,0,0,0,null,{"$f":"(SUM(aem2csp2!$B137,aem2csp2!$C137) * Emissions!AG120)/1000","v":0},{"$f":"(SUM(aem2csp2!$B137,aem2csp2!$C137) * Emissions!AH120)/1000","v":0},{"$f":"(SUM(aem2csp2!$B137,aem2csp2!$C137) * Emissions!AI120)/1000","v":0},{"$f":"(SUM(aem2csp2!$B137,aem2csp2!$C137) * Emissions!AJ120)/1000","v":0},{"$f":"(SUM(aem2csp2!$B137,aem2csp2!$C137) * Emissions!AK120)/1000","v":0},{"$f":"(SUM(aem2csp2!$B137,aem2csp2!$C137) * Emissions!AL120)/1000","v":0},{"$f":"(SUM(aem2csp2!$B137,aem2csp2!$C137) * Emissions!AM120)/1000","v":0},{"$f":"(SUM(aem2csp2!$B137,aem2csp2!$C137) * Emissions!AN120)/1000","v":0},{"$f":"(SUM(aem2csp2!$B137,aem2csp2!$C137) * Emissions!AO120)/1000","v":0},{"$f":"(SUM(aem2csp2!$B137,aem2csp2!$C137) * Emissions!AP120)/1000","v":0},{"$f":"(SUM(aem2csp2!$B137,aem2csp2!$C137) * Emissions!AQ120)/1000","v":0},{"$f":"(SUM(aem2csp2!$B137,aem2csp2!$C137) * Emissions!AR120)/1000","v":0},{"$f":"(SUM(aem2csp2!$B137,aem2csp2!$C137) * Emissions!AS120)/1000","v":0},null,{"$f":"(SUM(aem2csp2!$D137,aem2csp2!$E137) * Emissions!AG120)/1000","v":0},{"$f":"(SUM(aem2csp2!$D137,aem2csp2!$E137) * Emissions!AH120)/1000","v":0},{"$f":"(SUM(aem2csp2!$D137,aem2csp2!$E137) * Emissions!AI120)/1000","v":0},{"$f":"(SUM(aem2csp2!$D137,aem2csp2!$E137) * Emissions!AJ120)/1000","v":0},{"$f":"(SUM(aem2csp2!$D137,aem2csp2!$E137) * Emissions!AK120)/1000","v":0},{"$f":"(SUM(aem2csp2!$D137,aem2csp2!$E137) * Emissions!AL120)/1000","v":0},{"$f":"(SUM(aem2csp2!$D137,aem2csp2!$E137) * Emissions!AM120)/1000","v":0},{"$f":"(SUM(aem2csp2!$D137,aem2csp2!$E137) * Emissions!AN120)/1000","v":0},{"$f":"(SUM(aem2csp2!$D137,aem2csp2!$E137) * Emissions!AO120)/1000","v":0},{"$f":"(SUM(aem2csp2!$D137,aem2csp2!$E137) * Emissions!AP120)/1000","v":0},{"$f":"(SUM(aem2csp2!$D137,aem2csp2!$E137) * Emissions!AQ120)/1000","v":0},{"$f":"(SUM(aem2csp2!$D137,aem2csp2!$E137) * Emissions!AR120)/1000","v":0},{"$f":"(SUM(aem2csp2!$D137,aem2csp2!$E137) * Emissions!AS120)/1000","v":0}]
["CNA750 "," Arrival ",18.966754616170999,113.777551175995,986.96057919928705,21.9300074862449,21.815653462207798,21.9300074862449,133.224906142251,358883.69098258403,140709.70705085801,5.6593322674856896,23.262906117445201,5.5699263046593099,34.492164689590197,null,"CNA750 "," Departure ",1.0698340165537401,2.2365832022930202E-2,3812.5874733045498,1.23697851671786,1.2305282922424301,1.23697851671786,229.28813295553999,617660.56990670005,242169.92867657301,11.4598646719112,89.655018743725606,22.411302976590999,123.526186392228,null,20.03658863272474,113.79991700801793,4799.5480525038365,23.166986002962759,23.046181754450227,23.166986002962759,362.51303909779097,976544.26088928408,382879.63572743104,17.11919693939689,112.9179248611708,27.981229281250307,158.0183510818182,null,0,0,0,0,0,0,0,0,0,0,0,0,0,null,{"$f":"(SUM(aem2csp2!$B138,aem2csp2!$C138) * Emissions!AG121)/1000","v":0},{"$f":"(SUM(aem2csp2!$B138,aem2csp2!$C138) * Emissions!AH121)/1000","v":0},{"$f":"(SUM(aem2csp2!$B138,aem2csp2!$C138) * Emissions!AI121)/1000","v":0},{"$f":"(SUM(aem2csp2!$B138,aem2csp2!$C138) * Emissions!AJ121)/1000","v":0},{"$f":"(SUM(aem2csp2!$B138,aem2csp2!$C138) * Emissions!AK121)/1000","v":0},{"$f":"(SUM(aem2csp2!$B138,aem2csp2!$C138) * Emissions!AL121)/1000","v":0},{"$f":"(SUM(aem2csp2!$B138,aem2csp2!$C138) * Emissions!AM121)/1000","v":0},{"$f":"(SUM(aem2csp2!$B138,aem2csp2!$C138) * Emissions!AN121)/1000","v":0},{"$f":"(SUM(aem2csp2!$B138,aem2csp2!$C138) * Emissions!AO121)/1000","v":0},{"$f":"(SUM(aem2csp2!$B138,aem2csp2!$C138) * Emissions!AP121)/1000","v":0},{"$f":"(SUM(aem2csp2!$B138,aem2csp2!$C138) * Emissions!AQ121)/1000","v":0},{"$f":"(SUM(aem2csp2!$B138,aem2csp2!$C138) * Emissions!AR121)/1000","v":0},{"$f":"(SUM(aem2csp2!$B138,aem2csp2!$C138) * Emissions!AS121)/1000","v":0},null,{"$f":"(SUM(aem2csp2!$D138,aem2csp2!$E138) * Emissions!AG121)/1000","v":0},{"$f":"(SUM(aem2csp2!$D138,aem2csp2!$E138) * Emissions!AH121)/1000","v":0},{"$f":"(SUM(aem2csp2!$D138,aem2csp2!$E138) * Emissions!AI121)/1000","v":0},{"$f":"(SUM(aem2csp2!$D138,aem2csp2!$E138) * Emissions!AJ121)/1000","v":0},{"$f":"(SUM(aem2csp2!$D138,aem2csp2!$E138) * Emissions!AK121)/1000","v":0},{"$f":"(SUM(aem2csp2!$D138,aem2csp2!$E138) * Emissions!AL121)/1000","v":0},{"$f":"(SUM(aem2csp2!$D138,aem2csp2!$E138) * Emissions!AM121)/1000","v":0},{"$f":"(SUM(aem2csp2!$D138,aem2csp2!$E138) * Emissions!AN121)/1000","v":0},{"$f":"(SUM(aem2csp2!$D138,aem2csp2!$E138) * Emissions!AO121)/1000","v":0},{"$f":"(SUM(aem2csp2!$D138,aem2csp2!$E138) * Emissions!AP121)/1000","v":0},{"$f":"(SUM(aem2csp2!$D138,aem2csp2!$E138) * Emissions!AQ121)/1000","v":0},{"$f":"(SUM(aem2csp2!$D138,aem2csp2!$E138) * Emissions!AR121)/1000","v":0},{"$f":"(SUM(aem2csp2!$D138,aem2csp2!$E138) * Emissions!AS121)/1000","v":0}]
["COMJET "," Arrival ",142.680741698144,1110.31983445745,207.40753099770299,164.97233168796799,164.11208346438099,164.97233168796799,47.506946883528798,127975.083177539,50175.967635694302,2.1533569115363398,14.0019291372666,2.9929215947855399,19.148207643588499,null,"COMJET "," Departure ",9.2743084749342906,486.56758604037799,1009.54541387448,10.7232712396483,10.667354741769101,10.7232712396483,86.399211521313902,232743.77762102601,91253.265583901404,4.1760577917303197,29.773663034573701,7.3821017093948296,41.331822535698798,null,151.95505017307829,1596.8874204978281,1216.952944872183,175.69560292761631,174.77943820615008,175.69560292761631,133.9061584048427,360718.86079856497,141429.23321959571,6.329414703266659,43.775592171840302,10.37502330418037,60.480030179287297,null,0,0,0,0,0,0,0,0,0,0,0,0,0,null,{"$f":"(SUM(aem2csp2!$B139,aem2csp2!$C139) * Emissions!AG122)/1000","v":0},{"$f":"(SUM(aem2csp2!$B139,aem2csp2!$C139) * Emissions!AH122)/1000","v":0},{"$f":"(SUM(aem2csp2!$B139,aem2csp2!$C139) * Emissions!AI122)/1000","v":0},{"$f":"(SUM(aem2csp2!$B139,aem2csp2!$C139) * Emissions!AJ122)/1000","v":0},{"$f":"(SUM(aem2csp2!$B139,aem2csp2!$C139) * Emissions!AK122)/1000","v":0},{"$f":"(SUM(aem2csp2!$B139,aem2csp2!$C139) * Emissions!AL122)/1000","v":0},{"$f":"(SUM(aem2csp2!$B139,aem2csp2!$C139) * Emissions!AM122)/1000","v":0},{"$f":"(SUM(aem2csp2!$B139,aem2csp2!$C139) * Emissions!AN122)/1000","v":0},{"$f":"(SUM(aem2csp2!$B139,aem2csp2!$C139) * Emissions!AO122)/1000","v":0},{"$f":"(SUM(aem2csp2!$B139,aem2csp2!$C139) * Emissions!AP122)/1000","v":0},{"$f":"(SUM(aem2csp2!$B139,aem2csp2!$C139) * Emissions!AQ122)/1000","v":0},{"$f":"(SUM(aem2csp2!$B139,aem2csp2!$C139) * Emissions!AR122)/1000","v":0},{"$f":"(SUM(aem2csp2!$B139,aem2csp2!$C139) * Emissions!AS122)/1000","v":0},null,{"$f":"(SUM(aem2csp2!$D139,aem2csp2!$E139) * Emissions!AG122)/1000","v":0},{"$f":"(SUM(aem2csp2!$D139,aem2csp2!$E139) * Emissions!AH122)/1000","v":0},{"$f":"(SUM(aem2csp2!$D139,aem2csp2!$E139) * Emissions!AI122)/1000","v":0},{"$f":"(SUM(aem2csp2!$D139,aem2csp2!$E139) * Emissions!AJ122)/1000","v":0},{"$f":"(SUM(aem2csp2!$D139,aem2csp2!$E139) * Emissions!AK122)/1000","v":0},{"$f":"(SUM(aem2csp2!$D139,aem2csp2!$E139) * Emissions!AL122)/1000","v":0},{"$f":"(SUM(aem2csp2!$D139,aem2csp2!$E139) * Emissions!AM122)/1000","v":0},{"$f":"(SUM(aem2csp2!$D139,aem2csp2!$E139) * Emissions!AN122)/1000","v":0},{"$f":"(SUM(aem2csp2!$D139,aem2csp2!$E139) * Emissions!AO122)/1000","v":0},{"$f":"(SUM(aem2csp2!$D139,aem2csp2!$E139) * Emissions!AP122)/1000","v":0},{"$f":"(SUM(aem2csp2!$D139,aem2csp2!$E139) * Emissions!AQ122)/1000","v":0},{"$f":"(SUM(aem2csp2!$D139,aem2csp2!$E139) * Emissions!AR122)/1000","v":0},{"$f":"(SUM(aem2csp2!$D139,aem2csp2!$E139) * Emissions!AS122)/1000","v":0}]
["COMSEP "," Arrival ",291.04734578274702,28584.230920521899,7.6358958526622702,285.14125998032398,242.940129998316,253.91829201247799,23.328893646944501,62843.800765121203,24639.550410920801,1.0630912351446,15.3497178926588,1.51193474898402,17.924743876787399,null,"COMSEP "," Departure ",345.73477406172202,34043.5434519919,8.6771528360487498,338.71894220454402,288.58827325706,301.629218033146,26.563107546248801,71556.185372622,28055.467925810899,1.3589953287121599,22.4366740054727,2.82991473848567,26.625584072670598,null,636.78211984446898,62627.774372513799,16.313048688711021,623.86020218486806,531.52840325537602,555.54751004562399,49.892001193193302,134399.9861377432,52695.0183367317,2.4220865638567597,37.786391898131498,4.3418494874696902,44.550327949457994,null,0,0,0,0,0,0,0,0,0,0,0,0,0,null,{"$f":"(SUM(aem2csp2!$B140,aem2csp2!$C140) * Emissions!AG123)/1000","v":0},{"$f":"(SUM(aem2csp2!$B140,aem2csp2!$C140) * Emissions!AH123)/1000","v":0},{"$f":"(SUM(aem2csp2!$B140,aem2csp2!$C140) * Emissions!AI123)/1000","v":0},{"$f":"(SUM(aem2csp2!$B140,aem2csp2!$C140) * Emissions!AJ123)/1000","v":0},{"$f":"(SUM(aem2csp2!$B140,aem2csp2!$C140) * Emissions!AK123)/1000","v":0},{"$f":"(SUM(aem2csp2!$B140,aem2csp2!$C140) * Emissions!AL123)/1000","v":0},{"$f":"(SUM(aem2csp2!$B140,aem2csp2!$C140) * Emissions!AM123)/1000","v":0},{"$f":"(SUM(aem2csp2!$B140,aem2csp2!$C140) * Emissions!AN123)/1000","v":0},{"$f":"(SUM(aem2csp2!$B140,aem2csp2!$C140) * Emissions!AO123)/1000","v":0},{"$f":"(SUM(aem2csp2!$B140,aem2csp2!$C140) * Emissions!AP123)/1000","v":0},{"$f":"(SUM(aem2csp2!$B140,aem2csp2!$C140) * Emissions!AQ123)/1000","v":0},{"$f":"(SUM(aem2csp2!$B140,aem2csp2!$C140) * Emissions!AR123)/1000","v":0},{"$f":"(SUM(aem2csp2!$B140,aem2csp2!$C140) * Emissions!AS123)/1000","v":0},null,{"$f":"(SUM(aem2csp2!$D140,aem2csp2!$E140) * Emissions!AG123)/1000","v":0},{"$f":"(SUM(aem2csp2!$D140,aem2csp2!$E140) * Emissions!AH123)/1000","v":0},{"$f":"(SUM(aem2csp2!$D140,aem2csp2!$E140) * Emissions!AI123)/1000","v":0},{"$f":"(SUM(aem2csp2!$D140,aem2csp2!$E140) * Emissions!AJ123)/1000","v":0},{"$f":"(SUM(aem2csp2!$D140,aem2csp2!$E140) * Emissions!AK123)/1000","v":0},{"$f":"(SUM(aem2csp2!$D140,aem2csp2!$E140) * Emissions!AL123)/1000","v":0},{"$f":"(SUM(aem2csp2!$D140,aem2csp2!$E140) * Emissions!AM123)/1000","v":0},{"$f":"(SUM(aem2csp2!$D140,aem2csp2!$E140) * Emissions!AN123)/1000","v":0},{"$f":"(SUM(aem2csp2!$D140,aem2csp2!$E140) * Emissions!AO123)/1000","v":0},{"$f":"(SUM(aem2csp2!$D140,aem2csp2!$E140) * Emissions!AP123)/1000","v":0},{"$f":"(SUM(aem2csp2!$D140,aem2csp2!$E140) * Emissions!AQ123)/1000","v":0},{"$f":"(SUM(aem2csp2!$D140,aem2csp2!$E140) * Emissions!AR123)/1000","v":0},{"$f":"(SUM(aem2csp2!$D140,aem2csp2!$E140) * Emissions!AS123)/1000","v":0}]
["CONCRD "," Arrival ",22493.5444700027,74276.695904940803,1809.5647697903901,26007.801998912801,25872.184315389499,26007.801998912801,999.82032497462103,2693334.2941384302,1055991.9245164001,42.743713733321997,582.15892913711696,43.7693670834039,668.67200995384303,null,"CONCRD "," Departure ",7916.4536318462397,92052.187864995198,20934.1842912922,9153.2732364703297,9105.5434931787604,9153.2732364703297,2996.6296597322198,8072375.8337219497,3164985.39027387,146.109856782653,1468.4063608476099,265.51070826331801,1880.02692589358,null,30409.998101848942,166328.88376993599,22743.749061082592,35161.075235383134,34977.727808568263,35161.075235383134,3996.449984706841,10765710.12786038,4220977.3147902703,188.85357051597498,2050.5652899847269,309.2800753467219,2548.6989358474229,null,0,0,0,0,0,0,0,0,0,0,0,0,0,null,{"$f":"(SUM(aem2csp2!$B141,aem2csp2!$C141) * Emissions!AG124)/1000","v":0},{"$f":"(SUM(aem2csp2!$B141,aem2csp2!$C141) * Emissions!AH124)/1000","v":0},{"$f":"(SUM(aem2csp2!$B141,aem2csp2!$C141) * Emissions!AI124)/1000","v":0},{"$f":"(SUM(aem2csp2!$B141,aem2csp2!$C141) * Emissions!AJ124)/1000","v":0},{"$f":"(SUM(aem2csp2!$B141,aem2csp2!$C141) * Emissions!AK124)/1000","v":0},{"$f":"(SUM(aem2csp2!$B141,aem2csp2!$C141) * Emissions!AL124)/1000","v":0},{"$f":"(SUM(aem2csp2!$B141,aem2csp2!$C141) * Emissions!AM124)/1000","v":0},{"$f":"(SUM(aem2csp2!$B141,aem2csp2!$C141) * Emissions!AN124)/1000","v":0},{"$f":"(SUM(aem2csp2!$B141,aem2csp2!$C141) * Emissions!AO124)/1000","v":0},{"$f":"(SUM(aem2csp2!$B141,aem2csp2!$C141) * Emissions!AP124)/1000","v":0},{"$f":"(SUM(aem2csp2!$B141,aem2csp2!$C141) * Emissions!AQ124)/1000","v":0},{"$f":"(SUM(aem2csp2!$B141,aem2csp2!$C141) * Emissions!AR124)/1000","v":0},{"$f":"(SUM(aem2csp2!$B141,aem2csp2!$C141) * Emissions!AS124)/1000","v":0},null,{"$f":"(SUM(aem2csp2!$D141,aem2csp2!$E141) * Emissions!AG124)/1000","v":0},{"$f":"(SUM(aem2csp2!$D141,aem2csp2!$E141) * Emissions!AH124)/1000","v":0},{"$f":"(SUM(aem2csp2!$D141,aem2csp2!$E141) * Emissions!AI124)/1000","v":0},{"$f":"(SUM(aem2csp2!$D141,aem2csp2!$E141) * Emissions!AJ124)/1000","v":0},{"$f":"(SUM(aem2csp2!$D141,aem2csp2!$E141) * Emissions!AK124)/1000","v":0},{"$f":"(SUM(aem2csp2!$D141,aem2csp2!$E141) * Emissions!AL124)/1000","v":0},{"$f":"(SUM(aem2csp2!$D141,aem2csp2!$E141) * Emissions!AM124)/1000","v":0},{"$f":"(SUM(aem2csp2!$D141,aem2csp2!$E141) * Emissions!AN124)/1000","v":0},{"$f":"(SUM(aem2csp2!$D141,aem2csp2!$E141) * Emissions!AO124)/1000","v":0},{"$f":"(SUM(aem2csp2!$D141,aem2csp2!$E141) * Emissions!AP124)/1000","v":0},{"$f":"(SUM(aem2csp2!$D141,aem2csp2!$E141) * Emissions!AQ124)/1000","v":0},{"$f":"(SUM(aem2csp2!$D141,aem2csp2!$E141) * Emissions!AR124)/1000","v":0},{"$f":"(SUM(aem2csp2!$D141,aem2csp2!$E141) * Emissions!AS124)/1000","v":0}]
["CRJ9-ER "," Arrival ",8.8848904510342503,588.02236172824098,1790.9350208697699,10.273012861120799,10.2194442355564,10.273012861120799,196.738093599255,529976.67802736606,207791.17296984201,8.5074815199024005,37.745199838360797,9.3339444721949896,55.586625830458203,null,"CRJ9-ER "," Departure ",6.4264281123654996,200.81339860345699,3914.8334059082799,7.4304549969677902,7.3917088893861003,7.4304549969677902,349.080937412948,940360.61948245403,368692.8958161,16.978460459309499,122.745380112402,34.582008832803297,174.30584940451499,null,15.31131856339975,788.835760331698,5705.7684267780496,17.70346785808859,17.611153124942501,17.70346785808859,545.81903101220303,1470337.2975098202,576484.06878594204,25.485941979211901,160.49057995076279,43.915953304998283,229.89247523497318,null,0,0,0,0,0,0,0,0,0,0,0,0,0,null,{"$f":"(SUM(aem2csp2!$B142,aem2csp2!$C142) * Emissions!AG125)/1000","v":0},{"$f":"(SUM(aem2csp2!$B142,aem2csp2!$C142) * Emissions!AH125)/1000","v":0},{"$f":"(SUM(aem2csp2!$B142,aem2csp2!$C142) * Emissions!AI125)/1000","v":0},{"$f":"(SUM(aem2csp2!$B142,aem2csp2!$C142) * Emissions!AJ125)/1000","v":0},{"$f":"(SUM(aem2csp2!$B142,aem2csp2!$C142) * Emissions!AK125)/1000","v":0},{"$f":"(SUM(aem2csp2!$B142,aem2csp2!$C142) * Emissions!AL125)/1000","v":0},{"$f":"(SUM(aem2csp2!$B142,aem2csp2!$C142) * Emissions!AM125)/1000","v":0},{"$f":"(SUM(aem2csp2!$B142,aem2csp2!$C142) * Emissions!AN125)/1000","v":0},{"$f":"(SUM(aem2csp2!$B142,aem2csp2!$C142) * Emissions!AO125)/1000","v":0},{"$f":"(SUM(aem2csp2!$B142,aem2csp2!$C142) * Emissions!AP125)/1000","v":0},{"$f":"(SUM(aem2csp2!$B142,aem2csp2!$C142) * Emissions!AQ125)/1000","v":0},{"$f":"(SUM(aem2csp2!$B142,aem2csp2!$C142) * Emissions!AR125)/1000","v":0},{"$f":"(SUM(aem2csp2!$B142,aem2csp2!$C142) * Emissions!AS125)/1000","v":0},null,{"$f":"(SUM(aem2csp2!$D142,aem2csp2!$E142) * Emissions!AG125)/1000","v":0},{"$f":"(SUM(aem2csp2!$D142,aem2csp2!$E142) * Emissions!AH125)/1000","v":0},{"$f":"(SUM(aem2csp2!$D142,aem2csp2!$E142) * Emissions!AI125)/1000","v":0},{"$f":"(SUM(aem2csp2!$D142,aem2csp2!$E142) * Emissions!AJ125)/1000","v":0},{"$f":"(SUM(aem2csp2!$D142,aem2csp2!$E142) * Emissions!AK125)/1000","v":0},{"$f":"(SUM(aem2csp2!$D142,aem2csp2!$E142) * Emissions!AL125)/1000","v":0},{"$f":"(SUM(aem2csp2!$D142,aem2csp2!$E142) * Emissions!AM125)/1000","v":0},{"$f":"(SUM(aem2csp2!$D142,aem2csp2!$E142) * Emissions!AN125)/1000","v":0},{"$f":"(SUM(aem2csp2!$D142,aem2csp2!$E142) * Emissions!AO125)/1000","v":0},{"$f":"(SUM(aem2csp2!$D142,aem2csp2!$E142) * Emissions!AP125)/1000","v":0},{"$f":"(SUM(aem2csp2!$D142,aem2csp2!$E142) * Emissions!AQ125)/1000","v":0},{"$f":"(SUM(aem2csp2!$D142,aem2csp2!$E142) * Emissions!AR125)/1000","v":0},{"$f":"(SUM(aem2csp2!$D142,aem2csp2!$E142) * Emissions!AS125)/1000","v":0}]
["CRJ9-LR "," Arrival ",8.6940891096990303,567.43795019573497,1814.3065905487899,10.0524018536741,9.9999836042081292,10.0524018536741,199.670769526013,537876.77412446402,210888.61159808599,8.6346496227713896,38.318292375356997,9.4757029062300493,56.4286449043584,null,"CRJ9-LR "," Departure ",6.0860283760818801,184.847881741197,3740.2581083547602,7.0368732316060498,7.0001794561398398,7.0368732316060498,336.131395531875,905476.90650876402,355015.82673576602,16.312305010549501,117.110181555411,32.261390673698003,165.68387723965901,null,14.780117485780909,752.28583193693203,5554.5646989035504,17.08927508528015,17.000163060347969,17.08927508528015,535.80216505788803,1443353.680633228,565904.43833385198,24.946954633320892,155.42847393076801,41.73709357992805,222.11252214401742,null,0,0,0,0,0,0,0,0,0,0,0,0,0,null,{"$f":"(SUM(aem2csp2!$B143,aem2csp2!$C143) * Emissions!AG126)/1000","v":0},{"$f":"(SUM(aem2csp2!$B143,aem2csp2!$C143) * Emissions!AH126)/1000","v":0},{"$f":"(SUM(aem2csp2!$B143,aem2csp2!$C143) * Emissions!AI126)/1000","v":0},{"$f":"(SUM(aem2csp2!$B143,aem2csp2!$C143) * Emissions!AJ126)/1000","v":0},{"$f":"(SUM(aem2csp2!$B143,aem2csp2!$C143) * Emissions!AK126)/1000","v":0},{"$f":"(SUM(aem2csp2!$B143,aem2csp2!$C143) * Emissions!AL126)/1000","v":0},{"$f":"(SUM(aem2csp2!$B143,aem2csp2!$C143) * Emissions!AM126)/1000","v":0},{"$f":"(SUM(aem2csp2!$B143,aem2csp2!$C143) * Emissions!AN126)/1000","v":0},{"$f":"(SUM(aem2csp2!$B143,aem2csp2!$C143) * Emissions!AO126)/1000","v":0},{"$f":"(SUM(aem2csp2!$B143,aem2csp2!$C143) * Emissions!AP126)/1000","v":0},{"$f":"(SUM(aem2csp2!$B143,aem2csp2!$C143) * Emissions!AQ126)/1000","v":0},{"$f":"(SUM(aem2csp2!$B143,aem2csp2!$C143) * Emissions!AR126)/1000","v":0},{"$f":"(SUM(aem2csp2!$B143,aem2csp2!$C143) * Emissions!AS126)/1000","v":0},null,{"$f":"(SUM(aem2csp2!$D143,aem2csp2!$E143) * Emissions!AG126)/1000","v":0},{"$f":"(SUM(aem2csp2!$D143,aem2csp2!$E143) * Emissions!AH126)/1000","v":0},{"$f":"(SUM(aem2csp2!$D143,aem2csp2!$E143) * Emissions!AI126)/1000","v":0},{"$f":"(SUM(aem2csp2!$D143,aem2csp2!$E143) * Emissions!AJ126)/1000","v":0},{"$f":"(SUM(aem2csp2!$D143,aem2csp2!$E143) * Emissions!AK126)/1000","v":0},{"$f":"(SUM(aem2csp2!$D143,aem2csp2!$E143) * Emissions!AL126)/1000","v":0},{"$f":"(SUM(aem2csp2!$D143,aem2csp2!$E143) * Emissions!AM126)/1000","v":0},{"$f":"(SUM(aem2csp2!$D143,aem2csp2!$E143) * Emissions!AN126)/1000","v":0},{"$f":"(SUM(aem2csp2!$D143,aem2csp2!$E143) * Emissions!AO126)/1000","v":0},{"$f":"(SUM(aem2csp2!$D143,aem2csp2!$E143) * Emissions!AP126)/1000","v":0},{"$f":"(SUM(aem2csp2!$D143,aem2csp2!$E143) * Emissions!AQ126)/1000","v":0},{"$f":"(SUM(aem2csp2!$D143,aem2csp2!$E143) * Emissions!AR126)/1000","v":0},{"$f":"(SUM(aem2csp2!$D143,aem2csp2!$E143) * Emissions!AS126)/1000","v":0}]
["CVR580 "," Arrival ",19.989464592336901,4.3486559037393497E-3,68.146565095050605,23.1124995829399,22.991979453864602,23.1124995829399,49.292801708129701,132785.851595927,52062.154809559797,2.1807030459224399,11.3036255037772,12.568504449382401,26.052832999082099,null,"CVR580 "," Departure ",42.918106315500197,1.4933040304909301E-2,1039.8765305035699,49.6233758405833,49.3646147472626,49.6233758405833,164.08203816113999,442007.19808606402,173300.44501821301,7.9634902083791603,58.839963631344602,38.906752381526097,105.71020622125,null,62.907570907837098,1.9281696208648651E-2,1108.0230955986206,72.735875423523197,72.356594201127194,72.735875423523197,213.37483986926969,574793.04968199099,225362.59982777282,10.1441932543016,70.1435891351218,51.475256830908499,131.7630392203321,null,0,0,0,0,0,0,0,0,0,0,0,0,0,null,{"$f":"(SUM(aem2csp2!$B144,aem2csp2!$C144) * Emissions!AG127)/1000","v":0},{"$f":"(SUM(aem2csp2!$B144,aem2csp2!$C144) * Emissions!AH127)/1000","v":0},{"$f":"(SUM(aem2csp2!$B144,aem2csp2!$C144) * Emissions!AI127)/1000","v":0},{"$f":"(SUM(aem2csp2!$B144,aem2csp2!$C144) * Emissions!AJ127)/1000","v":0},{"$f":"(SUM(aem2csp2!$B144,aem2csp2!$C144) * Emissions!AK127)/1000","v":0},{"$f":"(SUM(aem2csp2!$B144,aem2csp2!$C144) * Emissions!AL127)/1000","v":0},{"$f":"(SUM(aem2csp2!$B144,aem2csp2!$C144) * Emissions!AM127)/1000","v":0},{"$f":"(SUM(aem2csp2!$B144,aem2csp2!$C144) * Emissions!AN127)/1000","v":0},{"$f":"(SUM(aem2csp2!$B144,aem2csp2!$C144) * Emissions!AO127)/1000","v":0},{"$f":"(SUM(aem2csp2!$B144,aem2csp2!$C144) * Emissions!AP127)/1000","v":0},{"$f":"(SUM(aem2csp2!$B144,aem2csp2!$C144) * Emissions!AQ127)/1000","v":0},{"$f":"(SUM(aem2csp2!$B144,aem2csp2!$C144) * Emissions!AR127)/1000","v":0},{"$f":"(SUM(aem2csp2!$B144,aem2csp2!$C144) * Emissions!AS127)/1000","v":0},null,{"$f":"(SUM(aem2csp2!$D144,aem2csp2!$E144) * Emissions!AG127)/1000","v":0},{"$f":"(SUM(aem2csp2!$D144,aem2csp2!$E144) * Emissions!AH127)/1000","v":0},{"$f":"(SUM(aem2csp2!$D144,aem2csp2!$E144) * Emissions!AI127)/1000","v":0},{"$f":"(SUM(aem2csp2!$D144,aem2csp2!$E144) * Emissions!AJ127)/1000","v":0},{"$f":"(SUM(aem2csp2!$D144,aem2csp2!$E144) * Emissions!AK127)/1000","v":0},{"$f":"(SUM(aem2csp2!$D144,aem2csp2!$E144) * Emissions!AL127)/1000","v":0},{"$f":"(SUM(aem2csp2!$D144,aem2csp2!$E144) * Emissions!AM127)/1000","v":0},{"$f":"(SUM(aem2csp2!$D144,aem2csp2!$E144) * Emissions!AN127)/1000","v":0},{"$f":"(SUM(aem2csp2!$D144,aem2csp2!$E144) * Emissions!AO127)/1000","v":0},{"$f":"(SUM(aem2csp2!$D144,aem2csp2!$E144) * Emissions!AP127)/1000","v":0},{"$f":"(SUM(aem2csp2!$D144,aem2csp2!$E144) * Emissions!AQ127)/1000","v":0},{"$f":"(SUM(aem2csp2!$D144,aem2csp2!$E144) * Emissions!AR127)/1000","v":0},{"$f":"(SUM(aem2csp2!$D144,aem2csp2!$E144) * Emissions!AS127)/1000","v":0}]
["DC1010 "," Arrival ",965.70430058947898,4905.8579372454997,7989.8050720848096,1116.5801936072901,1110.7577861877201,1116.5801936072901,714.241611341164,1924037.12754557,754368.91498379398,29.749738233753501,120.64466857625,33.894651887482802,184.28905869748601,null,"DC1010 "," Departure ",624.09618605897197,1073.6918007644699,69061.390609280803,721.60126017242203,717.83847040125295,721.60126017242203,2275.4205085284102,6129569.41974652,2403257.4872350101,108.93212754525101,777.64276069410801,199.602926649978,1086.17781488934,null,1589.8004866484509,5979.5497380099696,77051.195681365614,1838.1814537797122,1828.5962565889731,1838.1814537797122,2989.6621198695743,8053606.54729209,3157626.4022188042,138.68186577900451,898.28742927035796,233.49757853746081,1270.4668735868261,null,0,0,0,0,0,0,0,0,0,0,0,0,0,null,{"$f":"(SUM(aem2csp2!$B145,aem2csp2!$C145) * Emissions!AG128)/1000","v":0},{"$f":"(SUM(aem2csp2!$B145,aem2csp2!$C145) * Emissions!AH128)/1000","v":0},{"$f":"(SUM(aem2csp2!$B145,aem2csp2!$C145) * Emissions!AI128)/1000","v":0},{"$f":"(SUM(aem2csp2!$B145,aem2csp2!$C145) * Emissions!AJ128)/1000","v":0},{"$f":"(SUM(aem2csp2!$B145,aem2csp2!$C145) * Emissions!AK128)/1000","v":0},{"$f":"(SUM(aem2csp2!$B145,aem2csp2!$C145) * Emissions!AL128)/1000","v":0},{"$f":"(SUM(aem2csp2!$B145,aem2csp2!$C145) * Emissions!AM128)/1000","v":0},{"$f":"(SUM(aem2csp2!$B145,aem2csp2!$C145) * Emissions!AN128)/1000","v":0},{"$f":"(SUM(aem2csp2!$B145,aem2csp2!$C145) * Emissions!AO128)/1000","v":0},{"$f":"(SUM(aem2csp2!$B145,aem2csp2!$C145) * Emissions!AP128)/1000","v":0},{"$f":"(SUM(aem2csp2!$B145,aem2csp2!$C145) * Emissions!AQ128)/1000","v":0},{"$f":"(SUM(aem2csp2!$B145,aem2csp2!$C145) * Emissions!AR128)/1000","v":0},{"$f":"(SUM(aem2csp2!$B145,aem2csp2!$C145) * Emissions!AS128)/1000","v":0},null,{"$f":"(SUM(aem2csp2!$D145,aem2csp2!$E145) * Emissions!AG128)/1000","v":0},{"$f":"(SUM(aem2csp2!$D145,aem2csp2!$E145) * Emissions!AH128)/1000","v":0},{"$f":"(SUM(aem2csp2!$D145,aem2csp2!$E145) * Emissions!AI128)/1000","v":0},{"$f":"(SUM(aem2csp2!$D145,aem2csp2!$E145) * Emissions!AJ128)/1000","v":0},{"$f":"(SUM(aem2csp2!$D145,aem2csp2!$E145) * Emissions!AK128)/1000","v":0},{"$f":"(SUM(aem2csp2!$D145,aem2csp2!$E145) * Emissions!AL128)/1000","v":0},{"$f":"(SUM(aem2csp2!$D145,aem2csp2!$E145) * Emissions!AM128)/1000","v":0},{"$f":"(SUM(aem2csp2!$D145,aem2csp2!$E145) * Emissions!AN128)/1000","v":0},{"$f":"(SUM(aem2csp2!$D145,aem2csp2!$E145) * Emissions!AO128)/1000","v":0},{"$f":"(SUM(aem2csp2!$D145,aem2csp2!$E145) * Emissions!AP128)/1000","v":0},{"$f":"(SUM(aem2csp2!$D145,aem2csp2!$E145) * Emissions!AQ128)/1000","v":0},{"$f":"(SUM(aem2csp2!$D145,aem2csp2!$E145) * Emissions!AR128)/1000","v":0},{"$f":"(SUM(aem2csp2!$D145,aem2csp2!$E145) * Emissions!AS128)/1000","v":0}]
["DC1030 "," Arrival ",291.41250894357,3190.3998233831499,6806.64805841015,336.94106514507303,335.18408596087397,336.94106514507303,798.60628581733295,2151300.23203013,843473.33978487097,33.650588833465598,133.46286255112801,35.614112139682398,202.72756352427601,null,"DC1030 "," Departure ",343.95447109978301,1067.4449103096699,64448.175283041499,397.691870791356,395.61810653111399,397.691870791356,2640.9515930620701,7114243.74667932,2789324.72730343,126.730015508316,892.41179127728196,277.42188705464201,1296.5636938402399,null,635.36698004335301,4257.8447336928202,71254.823341451644,734.63293593642902,730.80219249198797,734.63293593642902,3439.5578788794028,9265543.97870945,3632798.0670883008,160.38060434178161,1025.8746538284099,313.0359991943244,1499.291257364516,null,0,0,0,0,0,0,0,0,0,0,0,0,0,null,{"$f":"(SUM(aem2csp2!$B146,aem2csp2!$C146) * Emissions!AG129)/1000","v":0},{"$f":"(SUM(aem2csp2!$B146,aem2csp2!$C146) * Emissions!AH129)/1000","v":0},{"$f":"(SUM(aem2csp2!$B146,aem2csp2!$C146) * Emissions!AI129)/1000","v":0},{"$f":"(SUM(aem2csp2!$B146,aem2csp2!$C146) * Emissions!AJ129)/1000","v":0},{"$f":"(SUM(aem2csp2!$B146,aem2csp2!$C146) * Emissions!AK129)/1000","v":0},{"$f":"(SUM(aem2csp2!$B146,aem2csp2!$C146) * Emissions!AL129)/1000","v":0},{"$f":"(SUM(aem2csp2!$B146,aem2csp2!$C146) * Emissions!AM129)/1000","v":0},{"$f":"(SUM(aem2csp2!$B146,aem2csp2!$C146) * Emissions!AN129)/1000","v":0},{"$f":"(SUM(aem2csp2!$B146,aem2csp2!$C146) * Emissions!AO129)/1000","v":0},{"$f":"(SUM(aem2csp2!$B146,aem2csp2!$C146) * Emissions!AP129)/1000","v":0},{"$f":"(SUM(aem2csp2!$B146,aem2csp2!$C146) * Emissions!AQ129)/1000","v":0},{"$f":"(SUM(aem2csp2!$B146,aem2csp2!$C146) * Emissions!AR129)/1000","v":0},{"$f":"(SUM(aem2csp2!$B146,aem2csp2!$C146) * Emissions!AS129)/1000","v":0},null,{"$f":"(SUM(aem2csp2!$D146,aem2csp2!$E146) * Emissions!AG129)/1000","v":0},{"$f":"(SUM(aem2csp2!$D146,aem2csp2!$E146) * Emissions!AH129)/1000","v":0},{"$f":"(SUM(aem2csp2!$D146,aem2csp2!$E146) * Emissions!AI129)/1000","v":0},{"$f":"(SUM(aem2csp2!$D146,aem2csp2!$E146) * Emissions!AJ129)/1000","v":0},{"$f":"(SUM(aem2csp2!$D146,aem2csp2!$E146) * Emissions!AK129)/1000","v":0},{"$f":"(SUM(aem2csp2!$D146,aem2csp2!$E146) * Emissions!AL129)/1000","v":0},{"$f":"(SUM(aem2csp2!$D146,aem2csp2!$E146) * Emissions!AM129)/1000","v":0},{"$f":"(SUM(aem2csp2!$D146,aem2csp2!$E146) * Emissions!AN129)/1000","v":0},{"$f":"(SUM(aem2csp2!$D146,aem2csp2!$E146) * Emissions!AO129)/1000","v":0},{"$f":"(SUM(aem2csp2!$D146,aem2csp2!$E146) * Emissions!AP129)/1000","v":0},{"$f":"(SUM(aem2csp2!$D146,aem2csp2!$E146) * Emissions!AQ129)/1000","v":0},{"$f":"(SUM(aem2csp2!$D146,aem2csp2!$E146) * Emissions!AR129)/1000","v":0},{"$f":"(SUM(aem2csp2!$D146,aem2csp2!$E146) * Emissions!AS129)/1000","v":0}]
["DC1040 "," Arrival ",2047.9332696256899,6819.8037245687301,5221.1230564183898,2367.89017642112,2355.54281309617,2367.89017642112,780.46292882226396,2102425.3248243202,824310.65825917001,33.127143945405898,166.42783367482301,39.465219612387301,239.020197232616,null,"DC1040 "," Departure ",239.740864357242,0.23974086435724201,81684.185206737704,277.19655030653399,275.75110889496,277.19655030653399,2665.4752387161002,7180305.9922722802,2815226.1529130898,125.33945526172801,819.87066924198098,267.935291124907,1213.14541562861,null,2287.6741339829318,6820.0434654330875,86905.308263156097,2645.086726727654,2631.29392199113,2645.086726727654,3445.9381675383643,9282731.3170966003,3639536.81117226,158.4665992071339,986.29850291680395,307.40051073729433,1452.165612861226,null,0,0,0,0,0,0,0,0,0,0,0,0,0,null,{"$f":"(SUM(aem2csp2!$B147,aem2csp2!$C147) * Emissions!AG130)/1000","v":0},{"$f":"(SUM(aem2csp2!$B147,aem2csp2!$C147) * Emissions!AH130)/1000","v":0},{"$f":"(SUM(aem2csp2!$B147,aem2csp2!$C147) * Emissions!AI130)/1000","v":0},{"$f":"(SUM(aem2csp2!$B147,aem2csp2!$C147) * Emissions!AJ130)/1000","v":0},{"$f":"(SUM(aem2csp2!$B147,aem2csp2!$C147) * Emissions!AK130)/1000","v":0},{"$f":"(SUM(aem2csp2!$B147,aem2csp2!$C147) * Emissions!AL130)/1000","v":0},{"$f":"(SUM(aem2csp2!$B147,aem2csp2!$C147) * Emissions!AM130)/1000","v":0},{"$f":"(SUM(aem2csp2!$B147,aem2csp2!$C147) * Emissions!AN130)/1000","v":0},{"$f":"(SUM(aem2csp2!$B147,aem2csp2!$C147) * Emissions!AO130)/1000","v":0},{"$f":"(SUM(aem2csp2!$B147,aem2csp2!$C147) * Emissions!AP130)/1000","v":0},{"$f":"(SUM(aem2csp2!$B147,aem2csp2!$C147) * Emissions!AQ130)/1000","v":0},{"$f":"(SUM(aem2csp2!$B147,aem2csp2!$C147) * Emissions!AR130)/1000","v":0},{"$f":"(SUM(aem2csp2!$B147,aem2csp2!$C147) * Emissions!AS130)/1000","v":0},null,{"$f":"(SUM(aem2csp2!$D147,aem2csp2!$E147) * Emissions!AG130)/1000","v":0},{"$f":"(SUM(aem2csp2!$D147,aem2csp2!$E147) * Emissions!AH130)/1000","v":0},{"$f":"(SUM(aem2csp2!$D147,aem2csp2!$E147) * Emissions!AI130)/1000","v":0},{"$f":"(SUM(aem2csp2!$D147,aem2csp2!$E147) * Emissions!AJ130)/1000","v":0},{"$f":"(SUM(aem2csp2!$D147,aem2csp2!$E147) * Emissions!AK130)/1000","v":0},{"$f":"(SUM(aem2csp2!$D147,aem2csp2!$E147) * Emissions!AL130)/1000","v":0},{"$f":"(SUM(aem2csp2!$D147,aem2csp2!$E147) * Emissions!AM130)/1000","v":0},{"$f":"(SUM(aem2csp2!$D147,aem2csp2!$E147) * Emissions!AN130)/1000","v":0},{"$f":"(SUM(aem2csp2!$D147,aem2csp2!$E147) * Emissions!AO130)/1000","v":0},{"$f":"(SUM(aem2csp2!$D147,aem2csp2!$E147) * Emissions!AP130)/1000","v":0},{"$f":"(SUM(aem2csp2!$D147,aem2csp2!$E147) * Emissions!AQ130)/1000","v":0},{"$f":"(SUM(aem2csp2!$D147,aem2csp2!$E147) * Emissions!AR130)/1000","v":0},{"$f":"(SUM(aem2csp2!$D147,aem2csp2!$E147) * Emissions!AS130)/1000","v":0}]
["DC3 "," Arrival ",1336.9221090342401,34859.189222741101,164.06810447206999,1309.79258251038,1115.9422536319701,1166.3702947254901,92.811104034475804,250016.25104915601,98025.389080128603,4.29970623072085,40.7427018948501,6.53989429855657,51.582302424127597,null,"DC3 "," Departure ",4107.7940647053902,54343.835569588198,231.109036811252,4024.43654725549,3428.8167837502301,3583.7607453310102,130.18503741377299,350694.83695393999,137499.05334771,6.9140505376859798,226.638686674696,15.7622643280957,249.31500154047799,null,5444.71617373963,89203.024792329292,395.17714128332199,5334.2291297658703,4544.7590373822004,4750.1310400564998,222.99614144824881,600711.08800309594,235524.4424278386,11.21375676840683,267.38138856954612,22.302158626652272,300.89730396460561,null,0,0,0,0,0,0,0,0,0,0,0,0,0,null,{"$f":"(SUM(aem2csp2!$B148,aem2csp2!$C148) * Emissions!AG131)/1000","v":0},{"$f":"(SUM(aem2csp2!$B148,aem2csp2!$C148) * Emissions!AH131)/1000","v":0},{"$f":"(SUM(aem2csp2!$B148,aem2csp2!$C148) * Emissions!AI131)/1000","v":0},{"$f":"(SUM(aem2csp2!$B148,aem2csp2!$C148) * Emissions!AJ131)/1000","v":0},{"$f":"(SUM(aem2csp2!$B148,aem2csp2!$C148) * Emissions!AK131)/1000","v":0},{"$f":"(SUM(aem2csp2!$B148,aem2csp2!$C148) * Emissions!AL131)/1000","v":0},{"$f":"(SUM(aem2csp2!$B148,aem2csp2!$C148) * Emissions!AM131)/1000","v":0},{"$f":"(SUM(aem2csp2!$B148,aem2csp2!$C148) * Emissions!AN131)/1000","v":0},{"$f":"(SUM(aem2csp2!$B148,aem2csp2!$C148) * Emissions!AO131)/1000","v":0},{"$f":"(SUM(aem2csp2!$B148,aem2csp2!$C148) * Emissions!AP131)/1000","v":0},{"$f":"(SUM(aem2csp2!$B148,aem2csp2!$C148) * Emissions!AQ131)/1000","v":0},{"$f":"(SUM(aem2csp2!$B148,aem2csp2!$C148) * Emissions!AR131)/1000","v":0},{"$f":"(SUM(aem2csp2!$B148,aem2csp2!$C148) * Emissions!AS131)/1000","v":0},null,{"$f":"(SUM(aem2csp2!$D148,aem2csp2!$E148) * Emissions!AG131)/1000","v":0},{"$f":"(SUM(aem2csp2!$D148,aem2csp2!$E148) * Emissions!AH131)/1000","v":0},{"$f":"(SUM(aem2csp2!$D148,aem2csp2!$E148) * Emissions!AI131)/1000","v":0},{"$f":"(SUM(aem2csp2!$D148,aem2csp2!$E148) * Emissions!AJ131)/1000","v":0},{"$f":"(SUM(aem2csp2!$D148,aem2csp2!$E148) * Emissions!AK131)/1000","v":0},{"$f":"(SUM(aem2csp2!$D148,aem2csp2!$E148) * Emissions!AL131)/1000","v":0},{"$f":"(SUM(aem2csp2!$D148,aem2csp2!$E148) * Emissions!AM131)/1000","v":0},{"$f":"(SUM(aem2csp2!$D148,aem2csp2!$E148) * Emissions!AN131)/1000","v":0},{"$f":"(SUM(aem2csp2!$D148,aem2csp2!$E148) * Emissions!AO131)/1000","v":0},{"$f":"(SUM(aem2csp2!$D148,aem2csp2!$E148) * Emissions!AP131)/1000","v":0},{"$f":"(SUM(aem2csp2!$D148,aem2csp2!$E148) * Emissions!AQ131)/1000","v":0},{"$f":"(SUM(aem2csp2!$D148,aem2csp2!$E148) * Emissions!AR131)/1000","v":0},{"$f":"(SUM(aem2csp2!$D148,aem2csp2!$E148) * Emissions!AS131)/1000","v":0}]
["DC6 "," Arrival ",4531.8487735123099,83587.720277585802,381.00591327363298,4439.8861149009299,3782.7794897384601,3953.71858531928,215.65999382636599,580948.83924366895,227776.13760520401,9.7808880064992199,90.856136951807002,13.6284783811021,114.265503339408,null,"DC6 "," Departure ",23855.5914071685,163195.47832216401,602.30096441568799,23371.5012006787,19912.500703477599,20812.321819204401,368.77256737463199,993406.29274843202,389490.83490643703,19.341054653484001,931.51209436078102,42.826774806655898,993.67992382092098,null,{"$f":"SUM(C132,S132)","v":28387.440180680809},246783.19859974983,{"$f":"SUM(E132,U132)","v":983.30687768932103},{"$f":"SUM(F132,V132)","v":27811.387315579632},{"$f":"SUM(G132,W132)","v":23695.280193216058},{"$f":"SUM(H132,X132)","v":24766.040404523679},{"$f":"SUM(I132,Y132)","v":584.43256120099795},{"$f":"SUM(J132,Z132)","v":1574355.131992101},{"$f":"SUM(K132,AA132)","v":617266.97251164098},{"$f":"SUM(L132,AB132)","v":29.121942659983219},{"$f":"SUM(M132,AC132)","v":1022.368231312588},{"$f":"SUM(N132,AD132)","v":56.455253187757997},{"$f":"SUM(O132,AE132)","v":1107.945427160329},null,{"$f":"IFERROR((BW132-BI132)/BI132, 0)","v":0},{"$f":"IFERROR((BX132-BJ132)/BJ132, 0)","v":0},{"$f":"IFERROR((BY132-BK132)/BK132, 0)","v":0},{"$f":"IFERROR((BZ132-BL132)/BL132, 0)","v":0},{"$f":"IFERROR((CA132-BM132)/BM132, 0)","v":0},{"$f":"IFERROR((CB132-BN132)/BN132, 0)","v":0},{"$f":"IFERROR((CC132-BO132)/BO132, 0)","v":0},{"$f":"IFERROR((CD132-BP132)/BP132, 0)","v":0},{"$f":"IFERROR((CE132-BQ132)/BQ132, 0)","v":0},{"$f":"IFERROR((CF132-BR132)/BR132, 0)","v":0},{"$f":"IFERROR((CG132-BS132)/BS132, 0)","v":0},{"$f":"IFERROR((CH132-BT132)/BT132, 0)","v":0},{"$f":"IFERROR((CI132-BU132)/BU132, 0)","v":0},null,{"$f":"(SUM(aem2csp2!$B149,aem2csp2!$C149) * Emissions!AG132)/1000","v":0},{"$f":"(SUM(aem2csp2!$B149,aem2csp2!$C149) * Emissions!AH132)/1000","v":0},{"$f":"(SUM(aem2csp2!$B149,aem2csp2!$C149) * Emissions!AI132)/1000","v":0},{"$f":"(SUM(aem2csp2!$B149,aem2csp2!$C149) * Emissions!AJ132)/1000","v":0},{"$f":"(SUM(aem2csp2!$B149,aem2csp2!$C149) * Emissions!AK132)/1000","v":0},{"$f":"(SUM(aem2csp2!$B149,aem2csp2!$C149) * Emissions!AL132)/1000","v":0},{"$f":"(SUM(aem2csp2!$B149,aem2csp2!$C149) * Emissions!AM132)/1000","v":0},{"$f":"(SUM(aem2csp2!$B149,aem2csp2!$C149) * Emissions!AN132)/1000","v":0},{"$f":"(SUM(aem2csp2!$B149,aem2csp2!$C149) * Emissions!AO132)/1000","v":0},{"$f":"(SUM(aem2csp2!$B149,aem2csp2!$C149) * Emissions!AP132)/1000","v":0},{"$f":"(SUM(aem2csp2!$B149,aem2csp2!$C149) * Emissions!AQ132)/1000","v":0},{"$f":"(SUM(aem2csp2!$B149,aem2csp2!$C149) * Emissions!AR132)/1000","v":0},{"$f":"(SUM(aem2csp2!$B149,aem2csp2!$C149) * Emissions!AS132)/1000","v":0},null,{"$f":"(SUM(aem2csp2!$D149,aem2csp2!$E149) * Emissions!AG132)/1000","v":0},{"$f":"(SUM(aem2csp2!$D149,aem2csp2!$E149) * Emissions!AH132)/1000","v":0},{"$f":"(SUM(aem2csp2!$D149,aem2csp2!$E149) * Emissions!AI132)/1000","v":0},{"$f":"(SUM(aem2csp2!$D149,aem2csp2!$E149) * Emissions!AJ132)/1000","v":0},{"$f":"(SUM(aem2csp2!$D149,aem2csp2!$E149) * Emissions!AK132)/1000","v":0},{"$f":"(SUM(aem2csp2!$D149,aem2csp2!$E149) * Emissions!AL132)/1000","v":0},{"$f":"(SUM(aem2csp2!$D149,aem2csp2!$E149) * Emissions!AM132)/1000","v":0},{"$f":"(SUM(aem2csp2!$D149,aem2csp2!$E149) * Emissions!AN132)/1000","v":0},{"$f":"(SUM(aem2csp2!$D149,aem2csp2!$E149) * Emissions!AO132)/1000","v":0},{"$f":"(SUM(aem2csp2!$D149,aem2csp2!$E149) * Emissions!AP132)/1000","v":0},{"$f":"(SUM(aem2csp2!$D149,aem2csp2!$E149) * Emissions!AQ132)/1000","v":0},{"$f":"(SUM(aem2csp2!$D149,aem2csp2!$E149) * Emissions!AR132)/1000","v":0},{"$f":"(SUM(aem2csp2!$D149,aem2csp2!$E149) * Emissions!AS132)/1000","v":0}]
["DC820 "," Arrival ",4880.3608218425297,18977.3629400879,2209.9959655194498,5642.8393536199501,5613.4147678105001,5642.8393536199501,634.21024395875304,1708447.16503575,669841.24980957794,28.587808626331,233.294310735393,38.767222571445799,300.64934193316998,null,"DC820 "," Departure ",3810.3500093768898,10243.915086913201,9583.26644644728,4405.6564194490302,4382.6831240498204,4405.6564194490302,1406.0163280888,3787552.5231558802,1485008.70717712,68.605666179177703,753.076219962511,124.95826996942,946.64015611110801,null,8690.7108312194196,29221.278027001099,11793.262411966731,10048.49577306898,9996.0978918603214,10048.49577306898,2040.226572047553,5495999.6881916299,2154849.9569866979,97.1934748055087,986.37053069790397,163.72549254086579,1247.2894980442779,null,0,0,0,0,0,0,0,0,0,0,0,0,0,null,{"$f":"(SUM(aem2csp2!$B150,aem2csp2!$C150) * Emissions!AG133)/1000","v":0},{"$f":"(SUM(aem2csp2!$B150,aem2csp2!$C150) * Emissions!AH133)/1000","v":0},{"$f":"(SUM(aem2csp2!$B150,aem2csp2!$C150) * Emissions!AI133)/1000","v":0},{"$f":"(SUM(aem2csp2!$B150,aem2csp2!$C150) * Emissions!AJ133)/1000","v":0},{"$f":"(SUM(aem2csp2!$B150,aem2csp2!$C150) * Emissions!AK133)/1000","v":0},{"$f":"(SUM(aem2csp2!$B150,aem2csp2!$C150) * Emissions!AL133)/1000","v":0},{"$f":"(SUM(aem2csp2!$B150,aem2csp2!$C150) * Emissions!AM133)/1000","v":0},{"$f":"(SUM(aem2csp2!$B150,aem2csp2!$C150) * Emissions!AN133)/1000","v":0},{"$f":"(SUM(aem2csp2!$B150,aem2csp2!$C150) * Emissions!AO133)/1000","v":0},{"$f":"(SUM(aem2csp2!$B150,aem2csp2!$C150) * Emissions!AP133)/1000","v":0},{"$f":"(SUM(aem2csp2!$B150,aem2csp2!$C150) * Emissions!AQ133)/1000","v":0},{"$f":"(SUM(aem2csp2!$B150,aem2csp2!$C150) * Emissions!AR133)/1000","v":0},{"$f":"(SUM(aem2csp2!$B150,aem2csp2!$C150) * Emissions!AS133)/1000","v":0},null,{"$f":"(SUM(aem2csp2!$D150,aem2csp2!$E150) * Emissions!AG133)/1000","v":0},{"$f":"(SUM(aem2csp2!$D150,aem2csp2!$E150) * Emissions!AH133)/1000","v":0},{"$f":"(SUM(aem2csp2!$D150,aem2csp2!$E150) * Emissions!AI133)/1000","v":0},{"$f":"(SUM(aem2csp2!$D150,aem2csp2!$E150) * Emissions!AJ133)/1000","v":0},{"$f":"(SUM(aem2csp2!$D150,aem2csp2!$E150) * Emissions!AK133)/1000","v":0},{"$f":"(SUM(aem2csp2!$D150,aem2csp2!$E150) * Emissions!AL133)/1000","v":0},{"$f":"(SUM(aem2csp2!$D150,aem2csp2!$E150) * Emissions!AM133)/1000","v":0},{"$f":"(SUM(aem2csp2!$D150,aem2csp2!$E150) * Emissions!AN133)/1000","v":0},{"$f":"(SUM(aem2csp2!$D150,aem2csp2!$E150) * Emissions!AO133)/1000","v":0},{"$f":"(SUM(aem2csp2!$D150,aem2csp2!$E150) * Emissions!AP133)/1000","v":0},{"$f":"(SUM(aem2csp2!$D150,aem2csp2!$E150) * Emissions!AQ133)/1000","v":0},{"$f":"(SUM(aem2csp2!$D150,aem2csp2!$E150) * Emissions!AR133)/1000","v":0},{"$f":"(SUM(aem2csp2!$D150,aem2csp2!$E150) * Emissions!AS133)/1000","v":0}]
["DC850 "," Arrival ",10731.138318363701,15835.6647307771,2399.5489484976401,12407.707508220699,12343.007517419101,12407.707508220699,552.34166590773805,1487908.0907948399,583373.15635917999,22.1985993838376,145.27382405744899,13.6219493664894,181.09437280777601,null,"DC850 "," Departure ",4866.6503420756799,5210.5504290582403,18225.498155083202,5626.9868300853996,5597.6449072599198,5626.9868300853996,1800.5154387268899,4850261.4490977898,1901671.4461280401,86.385259724560001,885.57570890704596,149.05078371209501,1121.0117523437,null,15597.788660439381,21046.215159835341,20625.04710358084,18034.694338306101,17940.652424679021,18034.694338306101,2352.8571046346278,6338169.5398926297,2485044.60248722,108.5838591083976,1030.849532964495,162.6727330785844,1302.1061251514759,null,0,0,0,0,0,0,0,0,0,0,0,0,0,null,{"$f":"(SUM(aem2csp2!$B151,aem2csp2!$C151) * Emissions!AG134)/1000","v":0},{"$f":"(SUM(aem2csp2!$B151,aem2csp2!$C151) * Emissions!AH134)/1000","v":0},{"$f":"(SUM(aem2csp2!$B151,aem2csp2!$C151) * Emissions!AI134)/1000","v":0},{"$f":"(SUM(aem2csp2!$B151,aem2csp2!$C151) * Emissions!AJ134)/1000","v":0},{"$f":"(SUM(aem2csp2!$B151,aem2csp2!$C151) * Emissions!AK134)/1000","v":0},{"$f":"(SUM(aem2csp2!$B151,aem2csp2!$C151) * Emissions!AL134)/1000","v":0},{"$f":"(SUM(aem2csp2!$B151,aem2csp2!$C151) * Emissions!AM134)/1000","v":0},{"$f":"(SUM(aem2csp2!$B151,aem2csp2!$C151) * Emissions!AN134)/1000","v":0},{"$f":"(SUM(aem2csp2!$B151,aem2csp2!$C151) * Emissions!AO134)/1000","v":0},{"$f":"(SUM(aem2csp2!$B151,aem2csp2!$C151) * Emissions!AP134)/1000","v":0},{"$f":"(SUM(aem2csp2!$B151,aem2csp2!$C151) * Emissions!AQ134)/1000","v":0},{"$f":"(SUM(aem2csp2!$B151,aem2csp2!$C151) * Emissions!AR134)/1000","v":0},{"$f":"(SUM(aem2csp2!$B151,aem2csp2!$C151) * Emissions!AS134)/1000","v":0},null,{"$f":"(SUM(aem2csp2!$D151,aem2csp2!$E151) * Emissions!AG134)/1000","v":0},{"$f":"(SUM(aem2csp2!$D151,aem2csp2!$E151) * Emissions!AH134)/1000","v":0},{"$f":"(SUM(aem2csp2!$D151,aem2csp2!$E151) * Emissions!AI134)/1000","v":0},{"$f":"(SUM(aem2csp2!$D151,aem2csp2!$E151) * Emissions!AJ134)/1000","v":0},{"$f":"(SUM(aem2csp2!$D151,aem2csp2!$E151) * Emissions!AK134)/1000","v":0},{"$f":"(SUM(aem2csp2!$D151,aem2csp2!$E151) * Emissions!AL134)/1000","v":0},{"$f":"(SUM(aem2csp2!$D151,aem2csp2!$E151) * Emissions!AM134)/1000","v":0},{"$f":"(SUM(aem2csp2!$D151,aem2csp2!$E151) * Emissions!AN134)/1000","v":0},{"$f":"(SUM(aem2csp2!$D151,aem2csp2!$E151) * Emissions!AO134)/1000","v":0},{"$f":"(SUM(aem2csp2!$D151,aem2csp2!$E151) * Emissions!AP134)/1000","v":0},{"$f":"(SUM(aem2csp2!$D151,aem2csp2!$E151) * Emissions!AQ134)/1000","v":0},{"$f":"(SUM(aem2csp2!$D151,aem2csp2!$E151) * Emissions!AR134)/1000","v":0},{"$f":"(SUM(aem2csp2!$D151,aem2csp2!$E151) * Emissions!AS134)/1000","v":0}]
["DC860 "," Arrival ",197.90439004737499,1030.7527653480599,2979.0498820422999,228.82379421935201,227.630592544395,228.82379421935201,550.42968746223403,1482757.5682576401,581353.75972573704,24.880890632891798,143.39212035667501,34.165345218543699,202.438356208111,null,"DC860 "," Departure ",329.88944824758499,1319.55779299034,19638.534670523601,381.42941246968201,379.44044879835798,381.42941246968201,1462.41831556442,3939489.2295130999,1544579.45385347,70.262745004524504,503.695264065976,157.85675601536499,731.81476508586604,null,527.79383829495998,2350.3105583383999,22617.584552565902,610.25320668903396,607.07104134275301,610.25320668903396,2012.8480030266542,5422246.7977707405,2125933.2135792072,95.14363563741631,647.08738442265098,192.0221012339087,934.25312129397707,null,0,0,0,0,0,0,0,0,0,0,0,0,0,null,{"$f":"(SUM(aem2csp2!$B152,aem2csp2!$C152) * Emissions!AG135)/1000","v":0},{"$f":"(SUM(aem2csp2!$B152,aem2csp2!$C152) * Emissions!AH135)/1000","v":0},{"$f":"(SUM(aem2csp2!$B152,aem2csp2!$C152) * Emissions!AI135)/1000","v":0},{"$f":"(SUM(aem2csp2!$B152,aem2csp2!$C152) * Emissions!AJ135)/1000","v":0},{"$f":"(SUM(aem2csp2!$B152,aem2csp2!$C152) * Emissions!AK135)/1000","v":0},{"$f":"(SUM(aem2csp2!$B152,aem2csp2!$C152) * Emissions!AL135)/1000","v":0},{"$f":"(SUM(aem2csp2!$B152,aem2csp2!$C152) * Emissions!AM135)/1000","v":0},{"$f":"(SUM(aem2csp2!$B152,aem2csp2!$C152) * Emissions!AN135)/1000","v":0},{"$f":"(SUM(aem2csp2!$B152,aem2csp2!$C152) * Emissions!AO135)/1000","v":0},{"$f":"(SUM(aem2csp2!$B152,aem2csp2!$C152) * Emissions!AP135)/1000","v":0},{"$f":"(SUM(aem2csp2!$B152,aem2csp2!$C152) * Emissions!AQ135)/1000","v":0},{"$f":"(SUM(aem2csp2!$B152,aem2csp2!$C152) * Emissions!AR135)/1000","v":0},{"$f":"(SUM(aem2csp2!$B152,aem2csp2!$C152) * Emissions!AS135)/1000","v":0},null,{"$f":"(SUM(aem2csp2!$D152,aem2csp2!$E152) * Emissions!AG135)/1000","v":0},{"$f":"(SUM(aem2csp2!$D152,aem2csp2!$E152) * Emissions!AH135)/1000","v":0},{"$f":"(SUM(aem2csp2!$D152,aem2csp2!$E152) * Emissions!AI135)/1000","v":0},{"$f":"(SUM(aem2csp2!$D152,aem2csp2!$E152) * Emissions!AJ135)/1000","v":0},{"$f":"(SUM(aem2csp2!$D152,aem2csp2!$E152) * Emissions!AK135)/1000","v":0},{"$f":"(SUM(aem2csp2!$D152,aem2csp2!$E152) * Emissions!AL135)/1000","v":0},{"$f":"(SUM(aem2csp2!$D152,aem2csp2!$E152) * Emissions!AM135)/1000","v":0},{"$f":"(SUM(aem2csp2!$D152,aem2csp2!$E152) * Emissions!AN135)/1000","v":0},{"$f":"(SUM(aem2csp2!$D152,aem2csp2!$E152) * Emissions!AO135)/1000","v":0},{"$f":"(SUM(aem2csp2!$D152,aem2csp2!$E152) * Emissions!AP135)/1000","v":0},{"$f":"(SUM(aem2csp2!$D152,aem2csp2!$E152) * Emissions!AQ135)/1000","v":0},{"$f":"(SUM(aem2csp2!$D152,aem2csp2!$E152) * Emissions!AR135)/1000","v":0},{"$f":"(SUM(aem2csp2!$D152,aem2csp2!$E152) * Emissions!AS135)/1000","v":0}]
["DC870 "," Arrival ",54.793838242874799,2501.6999777719602,3677.6681259621901,63.354501451810201,63.0241394039898,63.354501451810201,562.063383543746,1514096.63172858,593641.05656046199,25.251333085154499,136.31075705357699,38.312965677639397,199.875055816371,null,"DC870 "," Departure ",56.506160395984502,1130.12320791969,21820.957827868599,65.334346628092604,64.993660677600403,65.334346628092604,1394.2097107976499,3755747.64136492,1472538.7741262801,66.566938606610606,454.70760457946102,125.042373343921,646.31691652999302,null,111.29999863885931,3631.82318569165,25498.62595383079,128.68884807990281,128.0178000815902,128.68884807990281,1956.2730943413958,5269844.2730935002,2066179.830686742,91.818271691765105,591.01836163303801,163.35533902156038,846.19197234636408,null,0,0,0,0,0,0,0,0,0,0,0,0,0,null,{"$f":"(SUM(aem2csp2!$B153,aem2csp2!$C153) * Emissions!AG136)/1000","v":0},{"$f":"(SUM(aem2csp2!$B153,aem2csp2!$C153) * Emissions!AH136)/1000","v":0},{"$f":"(SUM(aem2csp2!$B153,aem2csp2!$C153) * Emissions!AI136)/1000","v":0},{"$f":"(SUM(aem2csp2!$B153,aem2csp2!$C153) * Emissions!AJ136)/1000","v":0},{"$f":"(SUM(aem2csp2!$B153,aem2csp2!$C153) * Emissions!AK136)/1000","v":0},{"$f":"(SUM(aem2csp2!$B153,aem2csp2!$C153) * Emissions!AL136)/1000","v":0},{"$f":"(SUM(aem2csp2!$B153,aem2csp2!$C153) * Emissions!AM136)/1000","v":0},{"$f":"(SUM(aem2csp2!$B153,aem2csp2!$C153) * Emissions!AN136)/1000","v":0},{"$f":"(SUM(aem2csp2!$B153,aem2csp2!$C153) * Emissions!AO136)/1000","v":0},{"$f":"(SUM(aem2csp2!$B153,aem2csp2!$C153) * Emissions!AP136)/1000","v":0},{"$f":"(SUM(aem2csp2!$B153,aem2csp2!$C153) * Emissions!AQ136)/1000","v":0},{"$f":"(SUM(aem2csp2!$B153,aem2csp2!$C153) * Emissions!AR136)/1000","v":0},{"$f":"(SUM(aem2csp2!$B153,aem2csp2!$C153) * Emissions!AS136)/1000","v":0},null,{"$f":"(SUM(aem2csp2!$D153,aem2csp2!$E153) * Emissions!AG136)/1000","v":0},{"$f":"(SUM(aem2csp2!$D153,aem2csp2!$E153) * Emissions!AH136)/1000","v":0},{"$f":"(SUM(aem2csp2!$D153,aem2csp2!$E153) * Emissions!AI136)/1000","v":0},{"$f":"(SUM(aem2csp2!$D153,aem2csp2!$E153) * Emissions!AJ136)/1000","v":0},{"$f":"(SUM(aem2csp2!$D153,aem2csp2!$E153) * Emissions!AK136)/1000","v":0},{"$f":"(SUM(aem2csp2!$D153,aem2csp2!$E153) * Emissions!AL136)/1000","v":0},{"$f":"(SUM(aem2csp2!$D153,aem2csp2!$E153) * Emissions!AM136)/1000","v":0},{"$f":"(SUM(aem2csp2!$D153,aem2csp2!$E153) * Emissions!AN136)/1000","v":0},{"$f":"(SUM(aem2csp2!$D153,aem2csp2!$E153) * Emissions!AO136)/1000","v":0},{"$f":"(SUM(aem2csp2!$D153,aem2csp2!$E153) * Emissions!AP136)/1000","v":0},{"$f":"(SUM(aem2csp2!$D153,aem2csp2!$E153) * Emissions!AQ136)/1000","v":0},{"$f":"(SUM(aem2csp2!$D153,aem2csp2!$E153) * Emissions!AR136)/1000","v":0},{"$f":"(SUM(aem2csp2!$D153,aem2csp2!$E153) * Emissions!AS136)/1000","v":0}]
["DC8QN "," Arrival ",197.90439004737499,1030.7527653480599,2979.0498820422999,228.82379421935201,227.630592544395,228.82379421935201,550.42968746223403,1482757.5682576401,581353.75972573704,24.880890632891798,143.39212035667501,34.165345218543699,202.438356208111,null,"DC8QN "," Departure ",329.88944824758499,1319.55779299034,19638.534670523601,381.42941246968201,379.44044879835798,381.42941246968201,1462.41831556442,3939489.2295130999,1544579.45385347,70.262745004524504,503.695264065976,157.85675601536499,731.81476508586604,null,527.79383829495998,2350.3105583383999,22617.584552565902,610.25320668903396,607.07104134275301,610.25320668903396,2012.8480030266542,5422246.7977707405,2125933.2135792072,95.14363563741631,647.08738442265098,192.0221012339087,934.25312129397707,null,0,0,0,0,0,0,0,0,0,0,0,0,0,null,{"$f":"(SUM(aem2csp2!$B154,aem2csp2!$C154) * Emissions!AG137)/1000","v":0},{"$f":"(SUM(aem2csp2!$B154,aem2csp2!$C154) * Emissions!AH137)/1000","v":0},{"$f":"(SUM(aem2csp2!$B154,aem2csp2!$C154) * Emissions!AI137)/1000","v":0},{"$f":"(SUM(aem2csp2!$B154,aem2csp2!$C154) * Emissions!AJ137)/1000","v":0},{"$f":"(SUM(aem2csp2!$B154,aem2csp2!$C154) * Emissions!AK137)/1000","v":0},{"$f":"(SUM(aem2csp2!$B154,aem2csp2!$C154) * Emissions!AL137)/1000","v":0},{"$f":"(SUM(aem2csp2!$B154,aem2csp2!$C154) * Emissions!AM137)/1000","v":0},{"$f":"(SUM(aem2csp2!$B154,aem2csp2!$C154) * Emissions!AN137)/1000","v":0},{"$f":"(SUM(aem2csp2!$B154,aem2csp2!$C154) * Emissions!AO137)/1000","v":0},{"$f":"(SUM(aem2csp2!$B154,aem2csp2!$C154) * Emissions!AP137)/1000","v":0},{"$f":"(SUM(aem2csp2!$B154,aem2csp2!$C154) * Emissions!AQ137)/1000","v":0},{"$f":"(SUM(aem2csp2!$B154,aem2csp2!$C154) * Emissions!AR137)/1000","v":0},{"$f":"(SUM(aem2csp2!$B154,aem2csp2!$C154) * Emissions!AS137)/1000","v":0},null,{"$f":"(SUM(aem2csp2!$D154,aem2csp2!$E154) * Emissions!AG137)/1000","v":0},{"$f":"(SUM(aem2csp2!$D154,aem2csp2!$E154) * Emissions!AH137)/1000","v":0},{"$f":"(SUM(aem2csp2!$D154,aem2csp2!$E154) * Emissions!AI137)/1000","v":0},{"$f":"(SUM(aem2csp2!$D154,aem2csp2!$E154) * Emissions!AJ137)/1000","v":0},{"$f":"(SUM(aem2csp2!$D154,aem2csp2!$E154) * Emissions!AK137)/1000","v":0},{"$f":"(SUM(aem2csp2!$D154,aem2csp2!$E154) * Emissions!AL137)/1000","v":0},{"$f":"(SUM(aem2csp2!$D154,aem2csp2!$E154) * Emissions!AM137)/1000","v":0},{"$f":"(SUM(aem2csp2!$D154,aem2csp2!$E154) * Emissions!AN137)/1000","v":0},{"$f":"(SUM(aem2csp2!$D154,aem2csp2!$E154) * Emissions!AO137)/1000","v":0},{"$f":"(SUM(aem2csp2!$D154,aem2csp2!$E154) * Emissions!AP137)/1000","v":0},{"$f":"(SUM(aem2csp2!$D154,aem2csp2!$E154) * Emissions!AQ137)/1000","v":0},{"$f":"(SUM(aem2csp2!$D154,aem2csp2!$E154) * Emissions!AR137)/1000","v":0},{"$f":"(SUM(aem2csp2!$D154,aem2csp2!$E154) * Emissions!AS137)/1000","v":0}]
["DC910 "," Arrival ",904.05967434182503,3200.9811450012298,298.39435431160501,1045.30457780187,1039.8538370809199,1045.30457780187,117.441096844962,316364.97655896097,124039.136609647,5.0714517530616297,28.6187674372526,5.5194628132608896,39.209682003575097,null,"DC910 "," Departure ",135.31162100863901,879.93182376015795,2994.8347890118998,156.45190343557201,155.636084985108,156.45190343557201,332.64203480178298,896077.20269776601,351330.427808918,16.355345167760699,127.56945363311,47.987227309242698,191.912026110113,null,1039.3712953504642,4080.9129687613877,3293.229143323505,1201.7564812374419,1195.4899220660279,1201.7564812374419,450.08313164674496,1212442.179256727,475369.56441856502,21.42679692082233,156.1882210703626,53.506690122503585,231.1217081136881,null,0,0,0,0,0,0,0,0,0,0,0,0,0,null,{"$f":"(SUM(aem2csp2!$B155,aem2csp2!$C155) * Emissions!AG138)/1000","v":0},{"$f":"(SUM(aem2csp2!$B155,aem2csp2!$C155) * Emissions!AH138)/1000","v":0},{"$f":"(SUM(aem2csp2!$B155,aem2csp2!$C155) * Emissions!AI138)/1000","v":0},{"$f":"(SUM(aem2csp2!$B155,aem2csp2!$C155) * Emissions!AJ138)/1000","v":0},{"$f":"(SUM(aem2csp2!$B155,aem2csp2!$C155) * Emissions!AK138)/1000","v":0},{"$f":"(SUM(aem2csp2!$B155,aem2csp2!$C155) * Emissions!AL138)/1000","v":0},{"$f":"(SUM(aem2csp2!$B155,aem2csp2!$C155) * Emissions!AM138)/1000","v":0},{"$f":"(SUM(aem2csp2!$B155,aem2csp2!$C155) * Emissions!AN138)/1000","v":0},{"$f":"(SUM(aem2csp2!$B155,aem2csp2!$C155) * Emissions!AO138)/1000","v":0},{"$f":"(SUM(aem2csp2!$B155,aem2csp2!$C155) * Emissions!AP138)/1000","v":0},{"$f":"(SUM(aem2csp2!$B155,aem2csp2!$C155) * Emissions!AQ138)/1000","v":0},{"$f":"(SUM(aem2csp2!$B155,aem2csp2!$C155) * Emissions!AR138)/1000","v":0},{"$f":"(SUM(aem2csp2!$B155,aem2csp2!$C155) * Emissions!AS138)/1000","v":0},null,{"$f":"(SUM(aem2csp2!$D155,aem2csp2!$E155) * Emissions!AG138)/1000","v":0},{"$f":"(SUM(aem2csp2!$D155,aem2csp2!$E155) * Emissions!AH138)/1000","v":0},{"$f":"(SUM(aem2csp2!$D155,aem2csp2!$E155) * Emissions!AI138)/1000","v":0},{"$f":"(SUM(aem2csp2!$D155,aem2csp2!$E155) * Emissions!AJ138)/1000","v":0},{"$f":"(SUM(aem2csp2!$D155,aem2csp2!$E155) * Emissions!AK138)/1000","v":0},{"$f":"(SUM(aem2csp2!$D155,aem2csp2!$E155) * Emissions!AL138)/1000","v":0},{"$f":"(SUM(aem2csp2!$D155,aem2csp2!$E155) * Emissions!AM138)/1000","v":0},{"$f":"(SUM(aem2csp2!$D155,aem2csp2!$E155) * Emissions!AN138)/1000","v":0},{"$f":"(SUM(aem2csp2!$D155,aem2csp2!$E155) * Emissions!AO138)/1000","v":0},{"$f":"(SUM(aem2csp2!$D155,aem2csp2!$E155) * Emissions!AP138)/1000","v":0},{"$f":"(SUM(aem2csp2!$D155,aem2csp2!$E155) * Emissions!AQ138)/1000","v":0},{"$f":"(SUM(aem2csp2!$D155,aem2csp2!$E155) * Emissions!AR138)/1000","v":0},{"$f":"(SUM(aem2csp2!$D155,aem2csp2!$E155) * Emissions!AS138)/1000","v":0}]
["DC930 "," Arrival ",401.313142819826,1868.13660391093,2479.83872260627,464.01192003948302,461.59232988243701,464.01192003948302,391.03518472935599,1053377.73891831,413004.203816781,17.816483845800001,121.45509948418299,25.321305230334001,164.59288856031699,null,"DC930 "," Departure ",332.40803720423401,1025.5141573322101,11450.2072609645,384.34149077679399,382.33734207313898,384.34149077679399,785.21389364820698,2115223.56084366,829328.54033711797,38.129429964541302,289.31338550603101,68.407629939877097,395.85044541044999,null,733.72118002406,2893.6507612431401,13930.04598357077,848.35341081627701,843.92967195557594,848.35341081627701,1176.2490783775629,3168601.2997619701,1242332.7441538989,55.945913810341303,410.76848499021401,93.728935170211102,560.44333397076696,null,0,0,0,0,0,0,0,0,0,0,0,0,0,null,{"$f":"(SUM(aem2csp2!$B156,aem2csp2!$C156) * Emissions!AG139)/1000","v":0},{"$f":"(SUM(aem2csp2!$B156,aem2csp2!$C156) * Emissions!AH139)/1000","v":0},{"$f":"(SUM(aem2csp2!$B156,aem2csp2!$C156) * Emissions!AI139)/1000","v":0},{"$f":"(SUM(aem2csp2!$B156,aem2csp2!$C156) * Emissions!AJ139)/1000","v":0},{"$f":"(SUM(aem2csp2!$B156,aem2csp2!$C156) * Emissions!AK139)/1000","v":0},{"$f":"(SUM(aem2csp2!$B156,aem2csp2!$C156) * Emissions!AL139)/1000","v":0},{"$f":"(SUM(aem2csp2!$B156,aem2csp2!$C156) * Emissions!AM139)/1000","v":0},{"$f":"(SUM(aem2csp2!$B156,aem2csp2!$C156) * Emissions!AN139)/1000","v":0},{"$f":"(SUM(aem2csp2!$B156,aem2csp2!$C156) * Emissions!AO139)/1000","v":0},{"$f":"(SUM(aem2csp2!$B156,aem2csp2!$C156) * Emissions!AP139)/1000","v":0},{"$f":"(SUM(aem2csp2!$B156,aem2csp2!$C156) * Emissions!AQ139)/1000","v":0},{"$f":"(SUM(aem2csp2!$B156,aem2csp2!$C156) * Emissions!AR139)/1000","v":0},{"$f":"(SUM(aem2csp2!$B156,aem2csp2!$C156) * Emissions!AS139)/1000","v":0},null,{"$f":"(SUM(aem2csp2!$D156,aem2csp2!$E156) * Emissions!AG139)/1000","v":0},{"$f":"(SUM(aem2csp2!$D156,aem2csp2!$E156) * Emissions!AH139)/1000","v":0},{"$f":"(SUM(aem2csp2!$D156,aem2csp2!$E156) * Emissions!AI139)/1000","v":0},{"$f":"(SUM(aem2csp2!$D156,aem2csp2!$E156) * Emissions!AJ139)/1000","v":0},{"$f":"(SUM(aem2csp2!$D156,aem2csp2!$E156) * Emissions!AK139)/1000","v":0},{"$f":"(SUM(aem2csp2!$D156,aem2csp2!$E156) * Emissions!AL139)/1000","v":0},{"$f":"(SUM(aem2csp2!$D156,aem2csp2!$E156) * Emissions!AM139)/1000","v":0},{"$f":"(SUM(aem2csp2!$D156,aem2csp2!$E156) * Emissions!AN139)/1000","v":0},{"$f":"(SUM(aem2csp2!$D156,aem2csp2!$E156) * Emissions!AO139)/1000","v":0},{"$f":"(SUM(aem2csp2!$D156,aem2csp2!$E156) * Emissions!AP139)/1000","v":0},{"$f":"(SUM(aem2csp2!$D156,aem2csp2!$E156) * Emissions!AQ139)/1000","v":0},{"$f":"(SUM(aem2csp2!$D156,aem2csp2!$E156) * Emissions!AR139)/1000","v":0},{"$f":"(SUM(aem2csp2!$D156,aem2csp2!$E156) * Emissions!AS139)/1000","v":0}]
["DC93LW "," Arrival ",139.53676446385299,372.00220170313202,2606.39698858989,161.33715816040001,160.49586554917201,161.33715816040001,391.03518472935599,1053377.73891831,413004.203816781,17.816483845800001,108.28055452694799,25.321305230334001,151.41834360308201,null,"DC93LW "," Departure ",116.69643859297599,760.29497871181195,12228.6337940385,134.92839569823599,134.22481157886801,134.92839569823599,785.21389364820698,2115223.56084366,829328.54033711797,38.129429964541302,278.89279649333201,87.132626718901705,404.154853176774,null,256.23320305682898,1132.297180414944,14835.03078262839,296.265553858636,294.72067712804005,296.265553858636,1176.2490783775629,3168601.2997619701,1242332.7441538989,55.945913810341303,387.17335102027999,112.45393194923571,555.57319677985606,null,0,0,0,0,0,0,0,0,0,0,0,0,0,null,{"$f":"(SUM(aem2csp2!$B157,aem2csp2!$C157) * Emissions!AG140)/1000","v":0},{"$f":"(SUM(aem2csp2!$B157,aem2csp2!$C157) * Emissions!AH140)/1000","v":0},{"$f":"(SUM(aem2csp2!$B157,aem2csp2!$C157) * Emissions!AI140)/1000","v":0},{"$f":"(SUM(aem2csp2!$B157,aem2csp2!$C157) * Emissions!AJ140)/1000","v":0},{"$f":"(SUM(aem2csp2!$B157,aem2csp2!$C157) * Emissions!AK140)/1000","v":0},{"$f":"(SUM(aem2csp2!$B157,aem2csp2!$C157) * Emissions!AL140)/1000","v":0},{"$f":"(SUM(aem2csp2!$B157,aem2csp2!$C157) * Emissions!AM140)/1000","v":0},{"$f":"(SUM(aem2csp2!$B157,aem2csp2!$C157) * Emissions!AN140)/1000","v":0},{"$f":"(SUM(aem2csp2!$B157,aem2csp2!$C157) * Emissions!AO140)/1000","v":0},{"$f":"(SUM(aem2csp2!$B157,aem2csp2!$C157) * Emissions!AP140)/1000","v":0},{"$f":"(SUM(aem2csp2!$B157,aem2csp2!$C157) * Emissions!AQ140)/1000","v":0},{"$f":"(SUM(aem2csp2!$B157,aem2csp2!$C157) * Emissions!AR140)/1000","v":0},{"$f":"(SUM(aem2csp2!$B157,aem2csp2!$C157) * Emissions!AS140)/1000","v":0},null,{"$f":"(SUM(aem2csp2!$D157,aem2csp2!$E157) * Emissions!AG140)/1000","v":0},{"$f":"(SUM(aem2csp2!$D157,aem2csp2!$E157) * Emissions!AH140)/1000","v":0},{"$f":"(SUM(aem2csp2!$D157,aem2csp2!$E157) * Emissions!AI140)/1000","v":0},{"$f":"(SUM(aem2csp2!$D157,aem2csp2!$E157) * Emissions!AJ140)/1000","v":0},{"$f":"(SUM(aem2csp2!$D157,aem2csp2!$E157) * Emissions!AK140)/1000","v":0},{"$f":"(SUM(aem2csp2!$D157,aem2csp2!$E157) * Emissions!AL140)/1000","v":0},{"$f":"(SUM(aem2csp2!$D157,aem2csp2!$E157) * Emissions!AM140)/1000","v":0},{"$f":"(SUM(aem2csp2!$D157,aem2csp2!$E157) * Emissions!AN140)/1000","v":0},{"$f":"(SUM(aem2csp2!$D157,aem2csp2!$E157) * Emissions!AO140)/1000","v":0},{"$f":"(SUM(aem2csp2!$D157,aem2csp2!$E157) * Emissions!AP140)/1000","v":0},{"$f":"(SUM(aem2csp2!$D157,aem2csp2!$E157) * Emissions!AQ140)/1000","v":0},{"$f":"(SUM(aem2csp2!$D157,aem2csp2!$E157) * Emissions!AR140)/1000","v":0},{"$f":"(SUM(aem2csp2!$D157,aem2csp2!$E157) * Emissions!AS140)/1000","v":0}]
["DC950 "," Arrival ",483.265239150269,2047.3116966939699,2342.11676286798,558.76772420366797,555.85402990580803,558.76772420366797,390.43052697875902,1051748.90080088,412365.57536947198,17.754676432615,123.063001031263,25.0264958022148,165.84417326609201,null,"DC950 "," Departure ",525.19171329579297,622.23988266015999,11638.728932617199,607.24454116524203,604.07806450533599,607.24454116524203,788.06719194840502,2122909.8280372401,832342.14176927705,37.704039682619197,283.06168605235598,64.447668064088802,385.21339379906402,null,1008.4569524460619,2669.5515793541299,13980.845695485179,1166.01226536891,1159.9320944111441,1166.01226536891,1178.497718927164,3174658.7288381201,1244707.7171387491,55.458716115234196,406.12468708361899,89.474163866303599,551.05756706515604,null,0,0,0,0,0,0,0,0,0,0,0,0,0,null,{"$f":"(SUM(aem2csp2!$B158,aem2csp2!$C158) * Emissions!AG141)/1000","v":0},{"$f":"(SUM(aem2csp2!$B158,aem2csp2!$C158) * Emissions!AH141)/1000","v":0},{"$f":"(SUM(aem2csp2!$B158,aem2csp2!$C158) * Emissions!AI141)/1000","v":0},{"$f":"(SUM(aem2csp2!$B158,aem2csp2!$C158) * Emissions!AJ141)/1000","v":0},{"$f":"(SUM(aem2csp2!$B158,aem2csp2!$C158) * Emissions!AK141)/1000","v":0},{"$f":"(SUM(aem2csp2!$B158,aem2csp2!$C158) * Emissions!AL141)/1000","v":0},{"$f":"(SUM(aem2csp2!$B158,aem2csp2!$C158) * Emissions!AM141)/1000","v":0},{"$f":"(SUM(aem2csp2!$B158,aem2csp2!$C158) * Emissions!AN141)/1000","v":0},{"$f":"(SUM(aem2csp2!$B158,aem2csp2!$C158) * Emissions!AO141)/1000","v":0},{"$f":"(SUM(aem2csp2!$B158,aem2csp2!$C158) * Emissions!AP141)/1000","v":0},{"$f":"(SUM(aem2csp2!$B158,aem2csp2!$C158) * Emissions!AQ141)/1000","v":0},{"$f":"(SUM(aem2csp2!$B158,aem2csp2!$C158) * Emissions!AR141)/1000","v":0},{"$f":"(SUM(aem2csp2!$B158,aem2csp2!$C158) * Emissions!AS141)/1000","v":0},null,{"$f":"(SUM(aem2csp2!$D158,aem2csp2!$E158) * Emissions!AG141)/1000","v":0},{"$f":"(SUM(aem2csp2!$D158,aem2csp2!$E158) * Emissions!AH141)/1000","v":0},{"$f":"(SUM(aem2csp2!$D158,aem2csp2!$E158) * Emissions!AI141)/1000","v":0},{"$f":"(SUM(aem2csp2!$D158,aem2csp2!$E158) * Emissions!AJ141)/1000","v":0},{"$f":"(SUM(aem2csp2!$D158,aem2csp2!$E158) * Emissions!AK141)/1000","v":0},{"$f":"(SUM(aem2csp2!$D158,aem2csp2!$E158) * Emissions!AL141)/1000","v":0},{"$f":"(SUM(aem2csp2!$D158,aem2csp2!$E158) * Emissions!AM141)/1000","v":0},{"$f":"(SUM(aem2csp2!$D158,aem2csp2!$E158) * Emissions!AN141)/1000","v":0},{"$f":"(SUM(aem2csp2!$D158,aem2csp2!$E158) * Emissions!AO141)/1000","v":0},{"$f":"(SUM(aem2csp2!$D158,aem2csp2!$E158) * Emissions!AP141)/1000","v":0},{"$f":"(SUM(aem2csp2!$D158,aem2csp2!$E158) * Emissions!AQ141)/1000","v":0},{"$f":"(SUM(aem2csp2!$D158,aem2csp2!$E158) * Emissions!AR141)/1000","v":0},{"$f":"(SUM(aem2csp2!$D158,aem2csp2!$E158) * Emissions!AS141)/1000","v":0}]
["DC95HW "," Arrival ",168.13233045025001,709.01467698671797,2929.04728181582,194.40032520429801,193.38662470852,194.40032520429801,390.43052697875902,1051748.90080088,412365.57536947198,17.754676432615,106.54800351616601,25.0264958022148,149.329175750996,null,"DC95HW "," Departure ",172.08998655256599,713.26712413820496,13047.959049090299,198.97630194402899,197.93874001754199,198.97630194402899,788.06719194840502,2122909.8280372401,832342.14176927705,37.704039682619197,265.77877602608902,105.78000164544601,409.26281735415398,null,340.222317002816,1422.2818011249228,15977.006330906119,393.37662714832697,391.32536472606199,393.37662714832697,1178.497718927164,3174658.7288381201,1244707.7171387491,55.458716115234196,372.32677954225505,130.8064974476608,558.59199310514998,null,0,0,0,0,0,0,0,0,0,0,0,0,0,null,{"$f":"(SUM(aem2csp2!$B159,aem2csp2!$C159) * Emissions!AG142)/1000","v":0},{"$f":"(SUM(aem2csp2!$B159,aem2csp2!$C159) * Emissions!AH142)/1000","v":0},{"$f":"(SUM(aem2csp2!$B159,aem2csp2!$C159) * Emissions!AI142)/1000","v":0},{"$f":"(SUM(aem2csp2!$B159,aem2csp2!$C159) * Emissions!AJ142)/1000","v":0},{"$f":"(SUM(aem2csp2!$B159,aem2csp2!$C159) * Emissions!AK142)/1000","v":0},{"$f":"(SUM(aem2csp2!$B159,aem2csp2!$C159) * Emissions!AL142)/1000","v":0},{"$f":"(SUM(aem2csp2!$B159,aem2csp2!$C159) * Emissions!AM142)/1000","v":0},{"$f":"(SUM(aem2csp2!$B159,aem2csp2!$C159) * Emissions!AN142)/1000","v":0},{"$f":"(SUM(aem2csp2!$B159,aem2csp2!$C159) * Emissions!AO142)/1000","v":0},{"$f":"(SUM(aem2csp2!$B159,aem2csp2!$C159) * Emissions!AP142)/1000","v":0},{"$f":"(SUM(aem2csp2!$B159,aem2csp2!$C159) * Emissions!AQ142)/1000","v":0},{"$f":"(SUM(aem2csp2!$B159,aem2csp2!$C159) * Emissions!AR142)/1000","v":0},{"$f":"(SUM(aem2csp2!$B159,aem2csp2!$C159) * Emissions!AS142)/1000","v":0},null,{"$f":"(SUM(aem2csp2!$D159,aem2csp2!$E159) * Emissions!AG142)/1000","v":0},{"$f":"(SUM(aem2csp2!$D159,aem2csp2!$E159) * Emissions!AH142)/1000","v":0},{"$f":"(SUM(aem2csp2!$D159,aem2csp2!$E159) * Emissions!AI142)/1000","v":0},{"$f":"(SUM(aem2csp2!$D159,aem2csp2!$E159) * Emissions!AJ142)/1000","v":0},{"$f":"(SUM(aem2csp2!$D159,aem2csp2!$E159) * Emissions!AK142)/1000","v":0},{"$f":"(SUM(aem2csp2!$D159,aem2csp2!$E159) * Emissions!AL142)/1000","v":0},{"$f":"(SUM(aem2csp2!$D159,aem2csp2!$E159) * Emissions!AM142)/1000","v":0},{"$f":"(SUM(aem2csp2!$D159,aem2csp2!$E159) * Emissions!AN142)/1000","v":0},{"$f":"(SUM(aem2csp2!$D159,aem2csp2!$E159) * Emissions!AO142)/1000","v":0},{"$f":"(SUM(aem2csp2!$D159,aem2csp2!$E159) * Emissions!AP142)/1000","v":0},{"$f":"(SUM(aem2csp2!$D159,aem2csp2!$E159) * Emissions!AQ142)/1000","v":0},{"$f":"(SUM(aem2csp2!$D159,aem2csp2!$E159) * Emissions!AR142)/1000","v":0},{"$f":"(SUM(aem2csp2!$D159,aem2csp2!$E159) * Emissions!AS142)/1000","v":0}]
["DC9Q7 "," Arrival ",126.29652979075,370.91172616102398,2938.0809150984601,146.02834801460801,145.266883193886,146.02834801460801,419.48500849809,1130016.3949893101,443052.386878533,18.971229669233502,109.552152828706,26.107626706941499,154.63100920488,null,"DC9Q7 "," Departure ",126.28440267460699,505.13761069842599,7926.7172030305001,146.01432623000699,145.25293452587999,146.01432623000699,561.09870877232299,1511497.9731699801,592622.18472623196,27.007314820070601,194.45726979752001,59.041921232907697,280.506505850498,null,252.58093246535699,876.04933685945002,10864.79811812896,292.042674244615,290.51981771976602,292.042674244615,980.58371727041299,2641514.3681592904,1035674.571604765,45.978544489304099,304.00942262622601,85.149547939849199,435.137515055378,null,0,0,0,0,0,0,0,0,0,0,0,0,0,null,{"$f":"(SUM(aem2csp2!$B160,aem2csp2!$C160) * Emissions!AG143)/1000","v":0},{"$f":"(SUM(aem2csp2!$B160,aem2csp2!$C160) * Emissions!AH143)/1000","v":0},{"$f":"(SUM(aem2csp2!$B160,aem2csp2!$C160) * Emissions!AI143)/1000","v":0},{"$f":"(SUM(aem2csp2!$B160,aem2csp2!$C160) * Emissions!AJ143)/1000","v":0},{"$f":"(SUM(aem2csp2!$B160,aem2csp2!$C160) * Emissions!AK143)/1000","v":0},{"$f":"(SUM(aem2csp2!$B160,aem2csp2!$C160) * Emissions!AL143)/1000","v":0},{"$f":"(SUM(aem2csp2!$B160,aem2csp2!$C160) * Emissions!AM143)/1000","v":0},{"$f":"(SUM(aem2csp2!$B160,aem2csp2!$C160) * Emissions!AN143)/1000","v":0},{"$f":"(SUM(aem2csp2!$B160,aem2csp2!$C160) * Emissions!AO143)/1000","v":0},{"$f":"(SUM(aem2csp2!$B160,aem2csp2!$C160) * Emissions!AP143)/1000","v":0},{"$f":"(SUM(aem2csp2!$B160,aem2csp2!$C160) * Emissions!AQ143)/1000","v":0},{"$f":"(SUM(aem2csp2!$B160,aem2csp2!$C160) * Emissions!AR143)/1000","v":0},{"$f":"(SUM(aem2csp2!$B160,aem2csp2!$C160) * Emissions!AS143)/1000","v":0},null,{"$f":"(SUM(aem2csp2!$D160,aem2csp2!$E160) * Emissions!AG143)/1000","v":0},{"$f":"(SUM(aem2csp2!$D160,aem2csp2!$E160) * Emissions!AH143)/1000","v":0},{"$f":"(SUM(aem2csp2!$D160,aem2csp2!$E160) * Emissions!AI143)/1000","v":0},{"$f":"(SUM(aem2csp2!$D160,aem2csp2!$E160) * Emissions!AJ143)/1000","v":0},{"$f":"(SUM(aem2csp2!$D160,aem2csp2!$E160) * Emissions!AK143)/1000","v":0},{"$f":"(SUM(aem2csp2!$D160,aem2csp2!$E160) * Emissions!AL143)/1000","v":0},{"$f":"(SUM(aem2csp2!$D160,aem2csp2!$E160) * Emissions!AM143)/1000","v":0},{"$f":"(SUM(aem2csp2!$D160,aem2csp2!$E160) * Emissions!AN143)/1000","v":0},{"$f":"(SUM(aem2csp2!$D160,aem2csp2!$E160) * Emissions!AO143)/1000","v":0},{"$f":"(SUM(aem2csp2!$D160,aem2csp2!$E160) * Emissions!AP143)/1000","v":0},{"$f":"(SUM(aem2csp2!$D160,aem2csp2!$E160) * Emissions!AQ143)/1000","v":0},{"$f":"(SUM(aem2csp2!$D160,aem2csp2!$E160) * Emissions!AR143)/1000","v":0},{"$f":"(SUM(aem2csp2!$D160,aem2csp2!$E160) * Emissions!AS143)/1000","v":0}]
["DC9Q9 "," Arrival ",379.648476415723,2280.6377316627299,2319.6079659214802,438.96249508283302,436.67352515222302,438.96249508283302,391.03518472935599,1053377.73891831,413004.203816781,17.816483845800001,117.607666001097,25.321305230334001,160.74545507723099,null,"DC9Q9 "," Departure ",301.53250168312599,1112.98819003006,11424.3198798342,348.64214532618001,346.824150859376,348.64214532618001,785.21389364820698,2115223.56084366,829328.54033711797,38.129429964541302,287.40615090164999,68.407629939877097,393.94321080606801,null,681.18097809884898,3393.6259216927901,13743.927845755679,787.60464040901297,783.49767601159897,787.60464040901297,1176.2490783775629,3168601.2997619701,1242332.7441538989,55.945913810341303,405.01381690274701,93.728935170211102,554.688665883299,null,0,0,0,0,0,0,0,0,0,0,0,0,0,null,{"$f":"(SUM(aem2csp2!$B161,aem2csp2!$C161) * Emissions!AG144)/1000","v":0},{"$f":"(SUM(aem2csp2!$B161,aem2csp2!$C161) * Emissions!AH144)/1000","v":0},{"$f":"(SUM(aem2csp2!$B161,aem2csp2!$C161) * Emissions!AI144)/1000","v":0},{"$f":"(SUM(aem2csp2!$B161,aem2csp2!$C161) * Emissions!AJ144)/1000","v":0},{"$f":"(SUM(aem2csp2!$B161,aem2csp2!$C161) * Emissions!AK144)/1000","v":0},{"$f":"(SUM(aem2csp2!$B161,aem2csp2!$C161) * Emissions!AL144)/1000","v":0},{"$f":"(SUM(aem2csp2!$B161,aem2csp2!$C161) * Emissions!AM144)/1000","v":0},{"$f":"(SUM(aem2csp2!$B161,aem2csp2!$C161) * Emissions!AN144)/1000","v":0},{"$f":"(SUM(aem2csp2!$B161,aem2csp2!$C161) * Emissions!AO144)/1000","v":0},{"$f":"(SUM(aem2csp2!$B161,aem2csp2!$C161) * Emissions!AP144)/1000","v":0},{"$f":"(SUM(aem2csp2!$B161,aem2csp2!$C161) * Emissions!AQ144)/1000","v":0},{"$f":"(SUM(aem2csp2!$B161,aem2csp2!$C161) * Emissions!AR144)/1000","v":0},{"$f":"(SUM(aem2csp2!$B161,aem2csp2!$C161) * Emissions!AS144)/1000","v":0},null,{"$f":"(SUM(aem2csp2!$D161,aem2csp2!$E161) * Emissions!AG144)/1000","v":0},{"$f":"(SUM(aem2csp2!$D161,aem2csp2!$E161) * Emissions!AH144)/1000","v":0},{"$f":"(SUM(aem2csp2!$D161,aem2csp2!$E161) * Emissions!AI144)/1000","v":0},{"$f":"(SUM(aem2csp2!$D161,aem2csp2!$E161) * Emissions!AJ144)/1000","v":0},{"$f":"(SUM(aem2csp2!$D161,aem2csp2!$E161) * Emissions!AK144)/1000","v":0},{"$f":"(SUM(aem2csp2!$D161,aem2csp2!$E161) * Emissions!AL144)/1000","v":0},{"$f":"(SUM(aem2csp2!$D161,aem2csp2!$E161) * Emissions!AM144)/1000","v":0},{"$f":"(SUM(aem2csp2!$D161,aem2csp2!$E161) * Emissions!AN144)/1000","v":0},{"$f":"(SUM(aem2csp2!$D161,aem2csp2!$E161) * Emissions!AO144)/1000","v":0},{"$f":"(SUM(aem2csp2!$D161,aem2csp2!$E161) * Emissions!AP144)/1000","v":0},{"$f":"(SUM(aem2csp2!$D161,aem2csp2!$E161) * Emissions!AQ144)/1000","v":0},{"$f":"(SUM(aem2csp2!$D161,aem2csp2!$E161) * Emissions!AR144)/1000","v":0},{"$f":"(SUM(aem2csp2!$D161,aem2csp2!$E161) * Emissions!AS144)/1000","v":0}]
["DHC-2FLT "," Arrival ",15.339678871086599,60.6101592882153,970.30315140143205,17.7362590114762,17.6437732888608,17.7362590114762,82.683051306847105,222733.11720722599,87328.325193451004,3.8863947373023602,38.840143253400299,6.2433586414286903,48.969896632131402,null,"DHC-2FLT "," Departure ",64.506457754896005,229.71464414254001,3521.1176006350402,74.584562836590905,74.1956416336795,74.584562836590905,298.54119570369602,804215.73808500601,315313.74580385198,16.764292678137402,172.67639424308101,42.929307931620301,232.369994852838,null,79.846136625982609,290.32480343075531,4491.4207520364725,92.320821848067112,91.8394149225403,92.320821848067112,381.22424701054314,1026948.855292232,402642.070997303,20.650687415439762,211.51653749648131,49.172666573048993,281.33989148496943,null,0,0,0,0,0,0,0,0,0,0,0,0,0,null,{"$f":"(SUM(aem2csp2!$B162,aem2csp2!$C162) * Emissions!AG145)/1000","v":0},{"$f":"(SUM(aem2csp2!$B162,aem2csp2!$C162) * Emissions!AH145)/1000","v":0},{"$f":"(SUM(aem2csp2!$B162,aem2csp2!$C162) * Emissions!AI145)/1000","v":0},{"$f":"(SUM(aem2csp2!$B162,aem2csp2!$C162) * Emissions!AJ145)/1000","v":0},{"$f":"(SUM(aem2csp2!$B162,aem2csp2!$C162) * Emissions!AK145)/1000","v":0},{"$f":"(SUM(aem2csp2!$B162,aem2csp2!$C162) * Emissions!AL145)/1000","v":0},{"$f":"(SUM(aem2csp2!$B162,aem2csp2!$C162) * Emissions!AM145)/1000","v":0},{"$f":"(SUM(aem2csp2!$B162,aem2csp2!$C162) * Emissions!AN145)/1000","v":0},{"$f":"(SUM(aem2csp2!$B162,aem2csp2!$C162) * Emissions!AO145)/1000","v":0},{"$f":"(SUM(aem2csp2!$B162,aem2csp2!$C162) * Emissions!AP145)/1000","v":0},{"$f":"(SUM(aem2csp2!$B162,aem2csp2!$C162) * Emissions!AQ145)/1000","v":0},{"$f":"(SUM(aem2csp2!$B162,aem2csp2!$C162) * Emissions!AR145)/1000","v":0},{"$f":"(SUM(aem2csp2!$B162,aem2csp2!$C162) * Emissions!AS145)/1000","v":0},null,{"$f":"(SUM(aem2csp2!$D162,aem2csp2!$E162) * Emissions!AG145)/1000","v":0},{"$f":"(SUM(aem2csp2!$D162,aem2csp2!$E162) * Emissions!AH145)/1000","v":0},{"$f":"(SUM(aem2csp2!$D162,aem2csp2!$E162) * Emissions!AI145)/1000","v":0},{"$f":"(SUM(aem2csp2!$D162,aem2csp2!$E162) * Emissions!AJ145)/1000","v":0},{"$f":"(SUM(aem2csp2!$D162,aem2csp2!$E162) * Emissions!AK145)/1000","v":0},{"$f":"(SUM(aem2csp2!$D162,aem2csp2!$E162) * Emissions!AL145)/1000","v":0},{"$f":"(SUM(aem2csp2!$D162,aem2csp2!$E162) * Emissions!AM145)/1000","v":0},{"$f":"(SUM(aem2csp2!$D162,aem2csp2!$E162) * Emissions!AN145)/1000","v":0},{"$f":"(SUM(aem2csp2!$D162,aem2csp2!$E162) * Emissions!AO145)/1000","v":0},{"$f":"(SUM(aem2csp2!$D162,aem2csp2!$E162) * Emissions!AP145)/1000","v":0},{"$f":"(SUM(aem2csp2!$D162,aem2csp2!$E162) * Emissions!AQ145)/1000","v":0},{"$f":"(SUM(aem2csp2!$D162,aem2csp2!$E162) * Emissions!AR145)/1000","v":0},{"$f":"(SUM(aem2csp2!$D162,aem2csp2!$E162) * Emissions!AS145)/1000","v":0}]
["DHC6 "," Arrival ",1.93763737135989,120.977456435806,293.19135408051,2.2403623033811702,2.22867993415018,2.2403623033811702,58.410714027103701,157347.85071338099,61692.326888257601,2.6540845470495702,15.2645137443954,8.8359090751243698,26.7545073665693,null,"DHC6 "," Departure ",3.02479038907188E-2,41.217416679173702,297.26499466335599,3.49736563893287E-2,3.4791286258086501E-2,3.49736563893287E-2,46.294101309378703,124707.897567529,48894.982342641197,2.3178933935495101,18.218777110064998,8.3694113535898005,28.906081857204299,null,1.9678852752506089,162.19487311497971,590.45634874386599,2.2753359597704987,2.2634712204082663,2.2753359597704987,104.7048153364824,282055.74828090996,110587.3092308988,4.9719779405990803,33.4832908544604,17.20532042871417,55.660589223773599,null,0,0,0,0,0,0,0,0,0,0,0,0,0,null,{"$f":"(SUM(aem2csp2!$B163,aem2csp2!$C163) * Emissions!AG146)/1000","v":0},{"$f":"(SUM(aem2csp2!$B163,aem2csp2!$C163) * Emissions!AH146)/1000","v":0},{"$f":"(SUM(aem2csp2!$B163,aem2csp2!$C163) * Emissions!AI146)/1000","v":0},{"$f":"(SUM(aem2csp2!$B163,aem2csp2!$C163) * Emissions!AJ146)/1000","v":0},{"$f":"(SUM(aem2csp2!$B163,aem2csp2!$C163) * Emissions!AK146)/1000","v":0},{"$f":"(SUM(aem2csp2!$B163,aem2csp2!$C163) * Emissions!AL146)/1000","v":0},{"$f":"(SUM(aem2csp2!$B163,aem2csp2!$C163) * Emissions!AM146)/1000","v":0},{"$f":"(SUM(aem2csp2!$B163,aem2csp2!$C163) * Emissions!AN146)/1000","v":0},{"$f":"(SUM(aem2csp2!$B163,aem2csp2!$C163) * Emissions!AO146)/1000","v":0},{"$f":"(SUM(aem2csp2!$B163,aem2csp2!$C163) * Emissions!AP146)/1000","v":0},{"$f":"(SUM(aem2csp2!$B163,aem2csp2!$C163) * Emissions!AQ146)/1000","v":0},{"$f":"(SUM(aem2csp2!$B163,aem2csp2!$C163) * Emissions!AR146)/1000","v":0},{"$f":"(SUM(aem2csp2!$B163,aem2csp2!$C163) * Emissions!AS146)/1000","v":0},null,{"$f":"(SUM(aem2csp2!$D163,aem2csp2!$E163) * Emissions!AG146)/1000","v":0},{"$f":"(SUM(aem2csp2!$D163,aem2csp2!$E163) * Emissions!AH146)/1000","v":0},{"$f":"(SUM(aem2csp2!$D163,aem2csp2!$E163) * Emissions!AI146)/1000","v":0},{"$f":"(SUM(aem2csp2!$D163,aem2csp2!$E163) * Emissions!AJ146)/1000","v":0},{"$f":"(SUM(aem2csp2!$D163,aem2csp2!$E163) * Emissions!AK146)/1000","v":0},{"$f":"(SUM(aem2csp2!$D163,aem2csp2!$E163) * Emissions!AL146)/1000","v":0},{"$f":"(SUM(aem2csp2!$D163,aem2csp2!$E163) * Emissions!AM146)/1000","v":0},{"$f":"(SUM(aem2csp2!$D163,aem2csp2!$E163) * Emissions!AN146)/1000","v":0},{"$f":"(SUM(aem2csp2!$D163,aem2csp2!$E163) * Emissions!AO146)/1000","v":0},{"$f":"(SUM(aem2csp2!$D163,aem2csp2!$E163) * Emissions!AP146)/1000","v":0},{"$f":"(SUM(aem2csp2!$D163,aem2csp2!$E163) * Emissions!AQ146)/1000","v":0},{"$f":"(SUM(aem2csp2!$D163,aem2csp2!$E163) * Emissions!AR146)/1000","v":0},{"$f":"(SUM(aem2csp2!$D163,aem2csp2!$E163) * Emissions!AS146)/1000","v":0}]
["DHC6QP "," Arrival ",1.93763737135989,120.977456435806,293.19135408051,2.2403623033811702,2.22867993415018,2.2403623033811702,58.410714027103701,157347.85071338099,61692.326888257601,2.6540845470495702,15.2645137443954,8.8359090751243698,26.7545073665693,null,"DHC6QP "," Departure ",3.02479038907188E-2,41.217416679173702,297.26499466335599,3.49736563893287E-2,3.4791286258086501E-2,3.49736563893287E-2,46.294101309378703,124707.897567529,48894.982342641197,2.3178933935495101,18.218777110064998,8.3694113535898005,28.906081857204299,null,1.9678852752506089,162.19487311497971,590.45634874386599,2.2753359597704987,2.2634712204082663,2.2753359597704987,104.7048153364824,282055.74828090996,110587.3092308988,4.9719779405990803,33.4832908544604,17.20532042871417,55.660589223773599,null,0,0,0,0,0,0,0,0,0,0,0,0,0,null,{"$f":"(SUM(aem2csp2!$B164,aem2csp2!$C164) * Emissions!AG147)/1000","v":0},{"$f":"(SUM(aem2csp2!$B164,aem2csp2!$C164) * Emissions!AH147)/1000","v":0},{"$f":"(SUM(aem2csp2!$B164,aem2csp2!$C164) * Emissions!AI147)/1000","v":0},{"$f":"(SUM(aem2csp2!$B164,aem2csp2!$C164) * Emissions!AJ147)/1000","v":0},{"$f":"(SUM(aem2csp2!$B164,aem2csp2!$C164) * Emissions!AK147)/1000","v":0},{"$f":"(SUM(aem2csp2!$B164,aem2csp2!$C164) * Emissions!AL147)/1000","v":0},{"$f":"(SUM(aem2csp2!$B164,aem2csp2!$C164) * Emissions!AM147)/1000","v":0},{"$f":"(SUM(aem2csp2!$B164,aem2csp2!$C164) * Emissions!AN147)/1000","v":0},{"$f":"(SUM(aem2csp2!$B164,aem2csp2!$C164) * Emissions!AO147)/1000","v":0},{"$f":"(SUM(aem2csp2!$B164,aem2csp2!$C164) * Emissions!AP147)/1000","v":0},{"$f":"(SUM(aem2csp2!$B164,aem2csp2!$C164) * Emissions!AQ147)/1000","v":0},{"$f":"(SUM(aem2csp2!$B164,aem2csp2!$C164) * Emissions!AR147)/1000","v":0},{"$f":"(SUM(aem2csp2!$B164,aem2csp2!$C164) * Emissions!AS147)/1000","v":0},null,{"$f":"(SUM(aem2csp2!$D164,aem2csp2!$E164) * Emissions!AG147)/1000","v":0},{"$f":"(SUM(aem2csp2!$D164,aem2csp2!$E164) * Emissions!AH147)/1000","v":0},{"$f":"(SUM(aem2csp2!$D164,aem2csp2!$E164) * Emissions!AI147)/1000","v":0},{"$f":"(SUM(aem2csp2!$D164,aem2csp2!$E164) * Emissions!AJ147)/1000","v":0},{"$f":"(SUM(aem2csp2!$D164,aem2csp2!$E164) * Emissions!AK147)/1000","v":0},{"$f":"(SUM(aem2csp2!$D164,aem2csp2!$E164) * Emissions!AL147)/1000","v":0},{"$f":"(SUM(aem2csp2!$D164,aem2csp2!$E164) * Emissions!AM147)/1000","v":0},{"$f":"(SUM(aem2csp2!$D164,aem2csp2!$E164) * Emissions!AN147)/1000","v":0},{"$f":"(SUM(aem2csp2!$D164,aem2csp2!$E164) * Emissions!AO147)/1000","v":0},{"$f":"(SUM(aem2csp2!$D164,aem2csp2!$E164) * Emissions!AP147)/1000","v":0},{"$f":"(SUM(aem2csp2!$D164,aem2csp2!$E164) * Emissions!AQ147)/1000","v":0},{"$f":"(SUM(aem2csp2!$D164,aem2csp2!$E164) * Emissions!AR147)/1000","v":0},{"$f":"(SUM(aem2csp2!$D164,aem2csp2!$E164) * Emissions!AS147)/1000","v":0}]
["DHC7 "," Arrival ",51.294013358909901,1386.92144256083,149.74144725022401,59.307884755432397,58.998623790375198,59.307884755432397,57.748255020815598,155563.30651526101,60992.649812797899,2.6251361436935401,14.7786079736502,9.7879819214895107,27.191726038833199,null,"DHC7 "," Departure ",1.89798643198407,435.20700503236799,1439.9619914227301,2.1945165372000002,2.18307323071677,2.1945165372000002,207.684100097173,559463.23070916999,219352.14465522801,10.8902782441131,96.412425194783495,40.591174155243301,147.89387759414001,null,53.191999790893973,1822.128447593198,1589.703438672954,61.502401292632399,61.181697021091971,61.502401292632399,265.43235511798861,715026.53722443106,280344.79446802591,13.51541438780664,111.19103316843369,50.379156076732812,175.0856036329732,null,0,0,0,0,0,0,0,0,0,0,0,0,0,null,{"$f":"(SUM(aem2csp2!$B165,aem2csp2!$C165) * Emissions!AG148)/1000","v":0},{"$f":"(SUM(aem2csp2!$B165,aem2csp2!$C165) * Emissions!AH148)/1000","v":0},{"$f":"(SUM(aem2csp2!$B165,aem2csp2!$C165) * Emissions!AI148)/1000","v":0},{"$f":"(SUM(aem2csp2!$B165,aem2csp2!$C165) * Emissions!AJ148)/1000","v":0},{"$f":"(SUM(aem2csp2!$B165,aem2csp2!$C165) * Emissions!AK148)/1000","v":0},{"$f":"(SUM(aem2csp2!$B165,aem2csp2!$C165) * Emissions!AL148)/1000","v":0},{"$f":"(SUM(aem2csp2!$B165,aem2csp2!$C165) * Emissions!AM148)/1000","v":0},{"$f":"(SUM(aem2csp2!$B165,aem2csp2!$C165) * Emissions!AN148)/1000","v":0},{"$f":"(SUM(aem2csp2!$B165,aem2csp2!$C165) * Emissions!AO148)/1000","v":0},{"$f":"(SUM(aem2csp2!$B165,aem2csp2!$C165) * Emissions!AP148)/1000","v":0},{"$f":"(SUM(aem2csp2!$B165,aem2csp2!$C165) * Emissions!AQ148)/1000","v":0},{"$f":"(SUM(aem2csp2!$B165,aem2csp2!$C165) * Emissions!AR148)/1000","v":0},{"$f":"(SUM(aem2csp2!$B165,aem2csp2!$C165) * Emissions!AS148)/1000","v":0},null,{"$f":"(SUM(aem2csp2!$D165,aem2csp2!$E165) * Emissions!AG148)/1000","v":0},{"$f":"(SUM(aem2csp2!$D165,aem2csp2!$E165) * Emissions!AH148)/1000","v":0},{"$f":"(SUM(aem2csp2!$D165,aem2csp2!$E165) * Emissions!AI148)/1000","v":0},{"$f":"(SUM(aem2csp2!$D165,aem2csp2!$E165) * Emissions!AJ148)/1000","v":0},{"$f":"(SUM(aem2csp2!$D165,aem2csp2!$E165) * Emissions!AK148)/1000","v":0},{"$f":"(SUM(aem2csp2!$D165,aem2csp2!$E165) * Emissions!AL148)/1000","v":0},{"$f":"(SUM(aem2csp2!$D165,aem2csp2!$E165) * Emissions!AM148)/1000","v":0},{"$f":"(SUM(aem2csp2!$D165,aem2csp2!$E165) * Emissions!AN148)/1000","v":0},{"$f":"(SUM(aem2csp2!$D165,aem2csp2!$E165) * Emissions!AO148)/1000","v":0},{"$f":"(SUM(aem2csp2!$D165,aem2csp2!$E165) * Emissions!AP148)/1000","v":0},{"$f":"(SUM(aem2csp2!$D165,aem2csp2!$E165) * Emissions!AQ148)/1000","v":0},{"$f":"(SUM(aem2csp2!$D165,aem2csp2!$E165) * Emissions!AR148)/1000","v":0},{"$f":"(SUM(aem2csp2!$D165,aem2csp2!$E165) * Emissions!AS148)/1000","v":0}]
["DHC8 "," Arrival ",3.7346165632314498E-3,1082.6402133132499,154.08204249348199,4.31809083036757E-3,4.2955741457326203E-3,4.31809083036757E-3,42.181548851031401,113629.428470803,44551.379720565099,1.92079150814189,10.8931023031418,8.7684969659752898,21.582390777258901,null,"DHC8 "," Departure ",7.9466565757976195E-3,176.580201783262,877.95337406914996,9.1881949086469496E-3,9.1402830662958099E-3,9.1881949086469496E-3,86.855090730205106,233971.83337926699,91734.756859002504,4.4789749871368398,38.069010992217002,19.674049538561501,62.222035517915302,null,1.1681273139029068E-2,1259.2204150965119,1032.035416562632,1.350628573901452E-2,1.343585721202843E-2,1.350628573901452E-2,129.0366395812365,347601.26185006998,136286.1365795676,6.3997664952787296,48.962113295358805,28.442546504536793,83.80442629517421,null,0,0,0,0,0,0,0,0,0,0,0,0,0,null,{"$f":"(SUM(aem2csp2!$B166,aem2csp2!$C166) * Emissions!AG149)/1000","v":0},{"$f":"(SUM(aem2csp2!$B166,aem2csp2!$C166) * Emissions!AH149)/1000","v":0},{"$f":"(SUM(aem2csp2!$B166,aem2csp2!$C166) * Emissions!AI149)/1000","v":0},{"$f":"(SUM(aem2csp2!$B166,aem2csp2!$C166) * Emissions!AJ149)/1000","v":0},{"$f":"(SUM(aem2csp2!$B166,aem2csp2!$C166) * Emissions!AK149)/1000","v":0},{"$f":"(SUM(aem2csp2!$B166,aem2csp2!$C166) * Emissions!AL149)/1000","v":0},{"$f":"(SUM(aem2csp2!$B166,aem2csp2!$C166) * Emissions!AM149)/1000","v":0},{"$f":"(SUM(aem2csp2!$B166,aem2csp2!$C166) * Emissions!AN149)/1000","v":0},{"$f":"(SUM(aem2csp2!$B166,aem2csp2!$C166) * Emissions!AO149)/1000","v":0},{"$f":"(SUM(aem2csp2!$B166,aem2csp2!$C166) * Emissions!AP149)/1000","v":0},{"$f":"(SUM(aem2csp2!$B166,aem2csp2!$C166) * Emissions!AQ149)/1000","v":0},{"$f":"(SUM(aem2csp2!$B166,aem2csp2!$C166) * Emissions!AR149)/1000","v":0},{"$f":"(SUM(aem2csp2!$B166,aem2csp2!$C166) * Emissions!AS149)/1000","v":0},null,{"$f":"(SUM(aem2csp2!$D166,aem2csp2!$E166) * Emissions!AG149)/1000","v":0},{"$f":"(SUM(aem2csp2!$D166,aem2csp2!$E166) * Emissions!AH149)/1000","v":0},{"$f":"(SUM(aem2csp2!$D166,aem2csp2!$E166) * Emissions!AI149)/1000","v":0},{"$f":"(SUM(aem2csp2!$D166,aem2csp2!$E166) * Emissions!AJ149)/1000","v":0},{"$f":"(SUM(aem2csp2!$D166,aem2csp2!$E166) * Emissions!AK149)/1000","v":0},{"$f":"(SUM(aem2csp2!$D166,aem2csp2!$E166) * Emissions!AL149)/1000","v":0},{"$f":"(SUM(aem2csp2!$D166,aem2csp2!$E166) * Emissions!AM149)/1000","v":0},{"$f":"(SUM(aem2csp2!$D166,aem2csp2!$E166) * Emissions!AN149)/1000","v":0},{"$f":"(SUM(aem2csp2!$D166,aem2csp2!$E166) * Emissions!AO149)/1000","v":0},{"$f":"(SUM(aem2csp2!$D166,aem2csp2!$E166) * Emissions!AP149)/1000","v":0},{"$f":"(SUM(aem2csp2!$D166,aem2csp2!$E166) * Emissions!AQ149)/1000","v":0},{"$f":"(SUM(aem2csp2!$D166,aem2csp2!$E166) * Emissions!AR149)/1000","v":0},{"$f":"(SUM(aem2csp2!$D166,aem2csp2!$E166) * Emissions!AS149)/1000","v":0}]
["DHC830 "," Arrival ",1.10148459143064E-2,216.45590724700099,1328.1654424805499,1.2735739890609599E-2,1.266932937495E-2,1.2735739890609599E-2,124.23654319864499,334670.67434402701,131216.36265089101,5.7351409524573498,34.407683307959502,26.283086420953701,66.425910681370496,null,"DHC830 "," Departure ",1.2414979873575401E-2,236.600478640989,1738.91293795862,1.4354622447477599E-2,1.4279770268725201E-2,1.4354622447477599E-2,135.59149373433101,365258.84796090698,143209.25354283399,6.9854736067650203,59.228685781235598,31.019763517818198,97.233922905818801,null,2.3429825787881803E-2,453.05638588799002,3067.0783804391699,2.7090362338087197E-2,2.6949099643675201E-2,2.7090362338087197E-2,259.82803693297603,699929.52230493398,274425.61619372503,12.720614559222369,93.636369089195099,57.302849938771899,163.6598335871893,null,0,0,0,0,0,0,0,0,0,0,0,0,0,null,{"$f":"(SUM(aem2csp2!$B167,aem2csp2!$C167) * Emissions!AG150)/1000","v":0},{"$f":"(SUM(aem2csp2!$B167,aem2csp2!$C167) * Emissions!AH150)/1000","v":0},{"$f":"(SUM(aem2csp2!$B167,aem2csp2!$C167) * Emissions!AI150)/1000","v":0},{"$f":"(SUM(aem2csp2!$B167,aem2csp2!$C167) * Emissions!AJ150)/1000","v":0},{"$f":"(SUM(aem2csp2!$B167,aem2csp2!$C167) * Emissions!AK150)/1000","v":0},{"$f":"(SUM(aem2csp2!$B167,aem2csp2!$C167) * Emissions!AL150)/1000","v":0},{"$f":"(SUM(aem2csp2!$B167,aem2csp2!$C167) * Emissions!AM150)/1000","v":0},{"$f":"(SUM(aem2csp2!$B167,aem2csp2!$C167) * Emissions!AN150)/1000","v":0},{"$f":"(SUM(aem2csp2!$B167,aem2csp2!$C167) * Emissions!AO150)/1000","v":0},{"$f":"(SUM(aem2csp2!$B167,aem2csp2!$C167) * Emissions!AP150)/1000","v":0},{"$f":"(SUM(aem2csp2!$B167,aem2csp2!$C167) * Emissions!AQ150)/1000","v":0},{"$f":"(SUM(aem2csp2!$B167,aem2csp2!$C167) * Emissions!AR150)/1000","v":0},{"$f":"(SUM(aem2csp2!$B167,aem2csp2!$C167) * Emissions!AS150)/1000","v":0},null,{"$f":"(SUM(aem2csp2!$D167,aem2csp2!$E167) * Emissions!AG150)/1000","v":0},{"$f":"(SUM(aem2csp2!$D167,aem2csp2!$E167) * Emissions!AH150)/1000","v":0},{"$f":"(SUM(aem2csp2!$D167,aem2csp2!$E167) * Emissions!AI150)/1000","v":0},{"$f":"(SUM(aem2csp2!$D167,aem2csp2!$E167) * Emissions!AJ150)/1000","v":0},{"$f":"(SUM(aem2csp2!$D167,aem2csp2!$E167) * Emissions!AK150)/1000","v":0},{"$f":"(SUM(aem2csp2!$D167,aem2csp2!$E167) * Emissions!AL150)/1000","v":0},{"$f":"(SUM(aem2csp2!$D167,aem2csp2!$E167) * Emissions!AM150)/1000","v":0},{"$f":"(SUM(aem2csp2!$D167,aem2csp2!$E167) * Emissions!AN150)/1000","v":0},{"$f":"(SUM(aem2csp2!$D167,aem2csp2!$E167) * Emissions!AO150)/1000","v":0},{"$f":"(SUM(aem2csp2!$D167,aem2csp2!$E167) * Emissions!AP150)/1000","v":0},{"$f":"(SUM(aem2csp2!$D167,aem2csp2!$E167) * Emissions!AQ150)/1000","v":0},{"$f":"(SUM(aem2csp2!$D167,aem2csp2!$E167) * Emissions!AR150)/1000","v":0},{"$f":"(SUM(aem2csp2!$D167,aem2csp2!$E167) * Emissions!AS150)/1000","v":0}]
["DO228 "," Arrival ",43.644496357614898,295.01671064720603,280.22563189422198,50.463252740130898,50.200112108717498,50.463252740130898,35.238357297162302,94925.731960849604,37218.107903509001,1.58879881929392,9.6916372245250102,5.54986355743997,16.830299601258901,null,"DO228 "," Departure ",6.0687067779485204,76.889490666272096,705.97993031972499,7.0168454100611601,6.9802560696703999,7.0168454100611601,69.053492471855606,186017.562114673,72933.034654785995,3.5047722967973001,28.735087177247301,12.9450581237938,45.1849175978384,null,49.713203135563418,371.90620131347811,986.20556221394691,57.480098150192056,57.180368178387894,57.480098150192056,104.29184976901792,280943.29407552257,110151.14255829499,5.09357111609122,38.426724401772312,18.49492168123377,62.0152171990973,null,0,0,0,0,0,0,0,0,0,0,0,0,0,null,{"$f":"(SUM(aem2csp2!$B168,aem2csp2!$C168) * Emissions!AG151)/1000","v":0},{"$f":"(SUM(aem2csp2!$B168,aem2csp2!$C168) * Emissions!AH151)/1000","v":0},{"$f":"(SUM(aem2csp2!$B168,aem2csp2!$C168) * Emissions!AI151)/1000","v":0},{"$f":"(SUM(aem2csp2!$B168,aem2csp2!$C168) * Emissions!AJ151)/1000","v":0},{"$f":"(SUM(aem2csp2!$B168,aem2csp2!$C168) * Emissions!AK151)/1000","v":0},{"$f":"(SUM(aem2csp2!$B168,aem2csp2!$C168) * Emissions!AL151)/1000","v":0},{"$f":"(SUM(aem2csp2!$B168,aem2csp2!$C168) * Emissions!AM151)/1000","v":0},{"$f":"(SUM(aem2csp2!$B168,aem2csp2!$C168) * Emissions!AN151)/1000","v":0},{"$f":"(SUM(aem2csp2!$B168,aem2csp2!$C168) * Emissions!AO151)/1000","v":0},{"$f":"(SUM(aem2csp2!$B168,aem2csp2!$C168) * Emissions!AP151)/1000","v":0},{"$f":"(SUM(aem2csp2!$B168,aem2csp2!$C168) * Emissions!AQ151)/1000","v":0},{"$f":"(SUM(aem2csp2!$B168,aem2csp2!$C168) * Emissions!AR151)/1000","v":0},{"$f":"(SUM(aem2csp2!$B168,aem2csp2!$C168) * Emissions!AS151)/1000","v":0},null,{"$f":"(SUM(aem2csp2!$D168,aem2csp2!$E168) * Emissions!AG151)/1000","v":0},{"$f":"(SUM(aem2csp2!$D168,aem2csp2!$E168) * Emissions!AH151)/1000","v":0},{"$f":"(SUM(aem2csp2!$D168,aem2csp2!$E168) * Emissions!AI151)/1000","v":0},{"$f":"(SUM(aem2csp2!$D168,aem2csp2!$E168) * Emissions!AJ151)/1000","v":0},{"$f":"(SUM(aem2csp2!$D168,aem2csp2!$E168) * Emissions!AK151)/1000","v":0},{"$f":"(SUM(aem2csp2!$D168,aem2csp2!$E168) * Emissions!AL151)/1000","v":0},{"$f":"(SUM(aem2csp2!$D168,aem2csp2!$E168) * Emissions!AM151)/1000","v":0},{"$f":"(SUM(aem2csp2!$D168,aem2csp2!$E168) * Emissions!AN151)/1000","v":0},{"$f":"(SUM(aem2csp2!$D168,aem2csp2!$E168) * Emissions!AO151)/1000","v":0},{"$f":"(SUM(aem2csp2!$D168,aem2csp2!$E168) * Emissions!AP151)/1000","v":0},{"$f":"(SUM(aem2csp2!$D168,aem2csp2!$E168) * Emissions!AQ151)/1000","v":0},{"$f":"(SUM(aem2csp2!$D168,aem2csp2!$E168) * Emissions!AR151)/1000","v":0},{"$f":"(SUM(aem2csp2!$D168,aem2csp2!$E168) * Emissions!AS151)/1000","v":0}]
["DO328 "," Arrival ",5.9938597818513699E-3,371.425044334294,458.34433500092098,6.9303047647082698E-3,6.8941666905127002E-3,6.9303047647082698E-3,67.720861520069803,182427.69646159501,71525.534238666703,3.09049125861132,17.689473370457598,14.0173851342854,34.797349763354397,null,"DO328 "," Departure ",7.92695731116729E-3,154.86850690437601,1219.9238666382701,9.1654179481411094E-3,9.1176248762505196E-3,9.1654179481411094E-3,86.5115878577041,233046.499053156,91371.955413234202,4.3286700546985104,33.960548815395001,20.4317751000609,58.720993970154403,null,1.3920817093018661E-2,526.29355123867003,1678.2682016391909,1.609572271284938E-2,1.6011791566763221E-2,1.609572271284938E-2,154.23244937777389,415474.19551475102,162897.48965190089,7.4191613133098304,51.650022185852599,34.449160234346301,93.5183437335088,null,0,0,0,0,0,0,0,0,0,0,0,0,0,null,{"$f":"(SUM(aem2csp2!$B169,aem2csp2!$C169) * Emissions!AG152)/1000","v":0},{"$f":"(SUM(aem2csp2!$B169,aem2csp2!$C169) * Emissions!AH152)/1000","v":0},{"$f":"(SUM(aem2csp2!$B169,aem2csp2!$C169) * Emissions!AI152)/1000","v":0},{"$f":"(SUM(aem2csp2!$B169,aem2csp2!$C169) * Emissions!AJ152)/1000","v":0},{"$f":"(SUM(aem2csp2!$B169,aem2csp2!$C169) * Emissions!AK152)/1000","v":0},{"$f":"(SUM(aem2csp2!$B169,aem2csp2!$C169) * Emissions!AL152)/1000","v":0},{"$f":"(SUM(aem2csp2!$B169,aem2csp2!$C169) * Emissions!AM152)/1000","v":0},{"$f":"(SUM(aem2csp2!$B169,aem2csp2!$C169) * Emissions!AN152)/1000","v":0},{"$f":"(SUM(aem2csp2!$B169,aem2csp2!$C169) * Emissions!AO152)/1000","v":0},{"$f":"(SUM(aem2csp2!$B169,aem2csp2!$C169) * Emissions!AP152)/1000","v":0},{"$f":"(SUM(aem2csp2!$B169,aem2csp2!$C169) * Emissions!AQ152)/1000","v":0},{"$f":"(SUM(aem2csp2!$B169,aem2csp2!$C169) * Emissions!AR152)/1000","v":0},{"$f":"(SUM(aem2csp2!$B169,aem2csp2!$C169) * Emissions!AS152)/1000","v":0},null,{"$f":"(SUM(aem2csp2!$D169,aem2csp2!$E169) * Emissions!AG152)/1000","v":0},{"$f":"(SUM(aem2csp2!$D169,aem2csp2!$E169) * Emissions!AH152)/1000","v":0},{"$f":"(SUM(aem2csp2!$D169,aem2csp2!$E169) * Emissions!AI152)/1000","v":0},{"$f":"(SUM(aem2csp2!$D169,aem2csp2!$E169) * Emissions!AJ152)/1000","v":0},{"$f":"(SUM(aem2csp2!$D169,aem2csp2!$E169) * Emissions!AK152)/1000","v":0},{"$f":"(SUM(aem2csp2!$D169,aem2csp2!$E169) * Emissions!AL152)/1000","v":0},{"$f":"(SUM(aem2csp2!$D169,aem2csp2!$E169) * Emissions!AM152)/1000","v":0},{"$f":"(SUM(aem2csp2!$D169,aem2csp2!$E169) * Emissions!AN152)/1000","v":0},{"$f":"(SUM(aem2csp2!$D169,aem2csp2!$E169) * Emissions!AO152)/1000","v":0},{"$f":"(SUM(aem2csp2!$D169,aem2csp2!$E169) * Emissions!AP152)/1000","v":0},{"$f":"(SUM(aem2csp2!$D169,aem2csp2!$E169) * Emissions!AQ152)/1000","v":0},{"$f":"(SUM(aem2csp2!$D169,aem2csp2!$E169) * Emissions!AR152)/1000","v":0},{"$f":"(SUM(aem2csp2!$D169,aem2csp2!$E169) * Emissions!AS152)/1000","v":0}]
["E3A "," Arrival ",3123.14594698255,12596.1134878301,4998.3475676108701,3611.0876838975701,3592.2576671698898,3611.0876838975701,947.53923080518905,2552498.5256065298,1000773.58991293,48.0278444521079,455.75310344542299,97.594230764240805,601.375178661772,null,"E3A "," Departure ",780.04696547940603,5058.1170417805197,19963.721951490599,901.91686130641699,897.21381583313405,901.91686130641699,2630.3843590356901,7085777.5382151604,2778163.8081686702,132.31595463240001,1080.74218617119,263.38493084733398,1476.4430716509301,null,3903.192912461956,17654.230529610621,24962.069519101467,4513.0045452039867,4489.4714830030243,4513.0045452039867,3577.9235898408792,9638276.0638216902,3778937.3980816002,180.34379908450791,1536.495289616613,360.9791616115748,2077.8182503127018,null,0,0,0,0,0,0,0,0,0,0,0,0,0,null,{"$f":"(SUM(aem2csp2!$B170,aem2csp2!$C170) * Emissions!AG153)/1000","v":0},{"$f":"(SUM(aem2csp2!$B170,aem2csp2!$C170) * Emissions!AH153)/1000","v":0},{"$f":"(SUM(aem2csp2!$B170,aem2csp2!$C170) * Emissions!AI153)/1000","v":0},{"$f":"(SUM(aem2csp2!$B170,aem2csp2!$C170) * Emissions!AJ153)/1000","v":0},{"$f":"(SUM(aem2csp2!$B170,aem2csp2!$C170) * Emissions!AK153)/1000","v":0},{"$f":"(SUM(aem2csp2!$B170,aem2csp2!$C170) * Emissions!AL153)/1000","v":0},{"$f":"(SUM(aem2csp2!$B170,aem2csp2!$C170) * Emissions!AM153)/1000","v":0},{"$f":"(SUM(aem2csp2!$B170,aem2csp2!$C170) * Emissions!AN153)/1000","v":0},{"$f":"(SUM(aem2csp2!$B170,aem2csp2!$C170) * Emissions!AO153)/1000","v":0},{"$f":"(SUM(aem2csp2!$B170,aem2csp2!$C170) * Emissions!AP153)/1000","v":0},{"$f":"(SUM(aem2csp2!$B170,aem2csp2!$C170) * Emissions!AQ153)/1000","v":0},{"$f":"(SUM(aem2csp2!$B170,aem2csp2!$C170) * Emissions!AR153)/1000","v":0},{"$f":"(SUM(aem2csp2!$B170,aem2csp2!$C170) * Emissions!AS153)/1000","v":0},null,{"$f":"(SUM(aem2csp2!$D170,aem2csp2!$E170) * Emissions!AG153)/1000","v":0},{"$f":"(SUM(aem2csp2!$D170,aem2csp2!$E170) * Emissions!AH153)/1000","v":0},{"$f":"(SUM(aem2csp2!$D170,aem2csp2!$E170) * Emissions!AI153)/1000","v":0},{"$f":"(SUM(aem2csp2!$D170,aem2csp2!$E170) * Emissions!AJ153)/1000","v":0},{"$f":"(SUM(aem2csp2!$D170,aem2csp2!$E170) * Emissions!AK153)/1000","v":0},{"$f":"(SUM(aem2csp2!$D170,aem2csp2!$E170) * Emissions!AL153)/1000","v":0},{"$f":"(SUM(aem2csp2!$D170,aem2csp2!$E170) * Emissions!AM153)/1000","v":0},{"$f":"(SUM(aem2csp2!$D170,aem2csp2!$E170) * Emissions!AN153)/1000","v":0},{"$f":"(SUM(aem2csp2!$D170,aem2csp2!$E170) * Emissions!AO153)/1000","v":0},{"$f":"(SUM(aem2csp2!$D170,aem2csp2!$E170) * Emissions!AP153)/1000","v":0},{"$f":"(SUM(aem2csp2!$D170,aem2csp2!$E170) * Emissions!AQ153)/1000","v":0},{"$f":"(SUM(aem2csp2!$D170,aem2csp2!$E170) * Emissions!AR153)/1000","v":0},{"$f":"(SUM(aem2csp2!$D170,aem2csp2!$E170) * Emissions!AS153)/1000","v":0}]
["E4 "," Arrival ",536.961713735437,7114.7427069945397,18053.8959590183,620.85341643030404,617.61597629032804,620.85341643030404,2093.5152590375901,5639549.7287086798,2211132.4926822898,108.61888222800199,946.985543719916,239.382097426749,1294.98652337467,null,"E4 "," Departure ",596.12612587574097,1850.0465975453999,97024.779034060703,689.26132423599199,685.66717106076396,689.26132423599199,4419.45930079151,11905220.3671424,4667752.0108257299,222.56422405066201,1797.55842819951,530.06441651284695,2550.1870687630199,null,1133.087839611178,8964.7893045399396,115078.67499307901,1310.114740666296,1303.2831473510919,1310.114740666296,6512.9745598291001,17544770.095851079,6878884.5035080202,331.18310627866401,2744.543971919426,769.44651393959589,3845.1735921376899,null,0,0,0,0,0,0,0,0,0,0,0,0,0,null,{"$f":"(SUM(aem2csp2!$B171,aem2csp2!$C171) * Emissions!AG154)/1000","v":0},{"$f":"(SUM(aem2csp2!$B171,aem2csp2!$C171) * Emissions!AH154)/1000","v":0},{"$f":"(SUM(aem2csp2!$B171,aem2csp2!$C171) * Emissions!AI154)/1000","v":0},{"$f":"(SUM(aem2csp2!$B171,aem2csp2!$C171) * Emissions!AJ154)/1000","v":0},{"$f":"(SUM(aem2csp2!$B171,aem2csp2!$C171) * Emissions!AK154)/1000","v":0},{"$f":"(SUM(aem2csp2!$B171,aem2csp2!$C171) * Emissions!AL154)/1000","v":0},{"$f":"(SUM(aem2csp2!$B171,aem2csp2!$C171) * Emissions!AM154)/1000","v":0},{"$f":"(SUM(aem2csp2!$B171,aem2csp2!$C171) * Emissions!AN154)/1000","v":0},{"$f":"(SUM(aem2csp2!$B171,aem2csp2!$C171) * Emissions!AO154)/1000","v":0},{"$f":"(SUM(aem2csp2!$B171,aem2csp2!$C171) * Emissions!AP154)/1000","v":0},{"$f":"(SUM(aem2csp2!$B171,aem2csp2!$C171) * Emissions!AQ154)/1000","v":0},{"$f":"(SUM(aem2csp2!$B171,aem2csp2!$C171) * Emissions!AR154)/1000","v":0},{"$f":"(SUM(aem2csp2!$B171,aem2csp2!$C171) * Emissions!AS154)/1000","v":0},null,{"$f":"(SUM(aem2csp2!$D171,aem2csp2!$E171) * Emissions!AG154)/1000","v":0},{"$f":"(SUM(aem2csp2!$D171,aem2csp2!$E171) * Emissions!AH154)/1000","v":0},{"$f":"(SUM(aem2csp2!$D171,aem2csp2!$E171) * Emissions!AI154)/1000","v":0},{"$f":"(SUM(aem2csp2!$D171,aem2csp2!$E171) * Emissions!AJ154)/1000","v":0},{"$f":"(SUM(aem2csp2!$D171,aem2csp2!$E171) * Emissions!AK154)/1000","v":0},{"$f":"(SUM(aem2csp2!$D171,aem2csp2!$E171) * Emissions!AL154)/1000","v":0},{"$f":"(SUM(aem2csp2!$D171,aem2csp2!$E171) * Emissions!AM154)/1000","v":0},{"$f":"(SUM(aem2csp2!$D171,aem2csp2!$E171) * Emissions!AN154)/1000","v":0},{"$f":"(SUM(aem2csp2!$D171,aem2csp2!$E171) * Emissions!AO154)/1000","v":0},{"$f":"(SUM(aem2csp2!$D171,aem2csp2!$E171) * Emissions!AP154)/1000","v":0},{"$f":"(SUM(aem2csp2!$D171,aem2csp2!$E171) * Emissions!AQ154)/1000","v":0},{"$f":"(SUM(aem2csp2!$D171,aem2csp2!$E171) * Emissions!AR154)/1000","v":0},{"$f":"(SUM(aem2csp2!$D171,aem2csp2!$E171) * Emissions!AS154)/1000","v":0}]
["EA6B "," Arrival ",406.37428735191401,3227.7729109666302,1671.1608961711199,469.863787674393,467.41368295356398,469.863787674393,319.53668410206097,860773.76907616295,337488.796306565,15.828704329368501,130.27867575812601,30.168023594548799,176.27540368204399,null,"EA6B "," Departure ",630.50868202747802,2207.61298316288,9858.45433008082,729.015606350285,725.21415447097104,729.015606350285,1113.8590075946199,3000533.7849735501,1176437.49350627,59.5214540513388,563.86082179310904,137.585751167578,760.968027012025,null,1036.8829693793921,5435.3858941295102,11529.615226251939,1198.879394024678,1192.6278374245351,1198.879394024678,1433.3956916966808,3861307.5540497131,1513926.2898128349,75.350158380707299,694.13949755123508,167.7537747621268,937.24343069406905,null,0,0,0,0,0,0,0,0,0,0,0,0,0,null,{"$f":"(SUM(aem2csp2!$B172,aem2csp2!$C172) * Emissions!AG155)/1000","v":0},{"$f":"(SUM(aem2csp2!$B172,aem2csp2!$C172) * Emissions!AH155)/1000","v":0},{"$f":"(SUM(aem2csp2!$B172,aem2csp2!$C172) * Emissions!AI155)/1000","v":0},{"$f":"(SUM(aem2csp2!$B172,aem2csp2!$C172) * Emissions!AJ155)/1000","v":0},{"$f":"(SUM(aem2csp2!$B172,aem2csp2!$C172) * Emissions!AK155)/1000","v":0},{"$f":"(SUM(aem2csp2!$B172,aem2csp2!$C172) * Emissions!AL155)/1000","v":0},{"$f":"(SUM(aem2csp2!$B172,aem2csp2!$C172) * Emissions!AM155)/1000","v":0},{"$f":"(SUM(aem2csp2!$B172,aem2csp2!$C172) * Emissions!AN155)/1000","v":0},{"$f":"(SUM(aem2csp2!$B172,aem2csp2!$C172) * Emissions!AO155)/1000","v":0},{"$f":"(SUM(aem2csp2!$B172,aem2csp2!$C172) * Emissions!AP155)/1000","v":0},{"$f":"(SUM(aem2csp2!$B172,aem2csp2!$C172) * Emissions!AQ155)/1000","v":0},{"$f":"(SUM(aem2csp2!$B172,aem2csp2!$C172) * Emissions!AR155)/1000","v":0},{"$f":"(SUM(aem2csp2!$B172,aem2csp2!$C172) * Emissions!AS155)/1000","v":0},null,{"$f":"(SUM(aem2csp2!$D172,aem2csp2!$E172) * Emissions!AG155)/1000","v":0},{"$f":"(SUM(aem2csp2!$D172,aem2csp2!$E172) * Emissions!AH155)/1000","v":0},{"$f":"(SUM(aem2csp2!$D172,aem2csp2!$E172) * Emissions!AI155)/1000","v":0},{"$f":"(SUM(aem2csp2!$D172,aem2csp2!$E172) * Emissions!AJ155)/1000","v":0},{"$f":"(SUM(aem2csp2!$D172,aem2csp2!$E172) * Emissions!AK155)/1000","v":0},{"$f":"(SUM(aem2csp2!$D172,aem2csp2!$E172) * Emissions!AL155)/1000","v":0},{"$f":"(SUM(aem2csp2!$D172,aem2csp2!$E172) * Emissions!AM155)/1000","v":0},{"$f":"(SUM(aem2csp2!$D172,aem2csp2!$E172) * Emissions!AN155)/1000","v":0},{"$f":"(SUM(aem2csp2!$D172,aem2csp2!$E172) * Emissions!AO155)/1000","v":0},{"$f":"(SUM(aem2csp2!$D172,aem2csp2!$E172) * Emissions!AP155)/1000","v":0},{"$f":"(SUM(aem2csp2!$D172,aem2csp2!$E172) * Emissions!AQ155)/1000","v":0},{"$f":"(SUM(aem2csp2!$D172,aem2csp2!$E172) * Emissions!AR155)/1000","v":0},{"$f":"(SUM(aem2csp2!$D172,aem2csp2!$E172) * Emissions!AS155)/1000","v":0}]
["ECLIPSE500 "," Arrival ",2.78289520080716E-3,2.78289520080716E-3,2.6442351035213599E-3,3.21767818597193E-3,3.2008996030711799E-3,3.21767818597193E-3,31.2341853925167,84139.220383700696,32988.974838237002,1.5037093952240901,10.4964578938933,2.6240954215202699,14.6242627106376,null,"ECLIPSE500 "," Departure ",4.2117132266781699E-3,4.2117132266781699E-3,3.9289922251592698E-3,4.8697262373089602E-3,4.8443330498445097E-3,4.8697262373089602E-3,46.366136079792099,124901.946150738,48971.064148482597,2.3168256835109702,18.107592551902801,4.5268608410370801,24.951279076450799,null,6.9946084274853295E-3,6.9946084274853295E-3,6.5732273286806297E-3,8.0874044232808907E-3,8.0452326529156896E-3,8.0874044232808907E-3,77.600321472308792,209041.1665344387,81960.038986719592,3.8205350787350603,28.604050445796101,7.15095626255735,39.575541787088397,null,0,0,0,0,0,0,0,0,0,0,0,0,0,null,{"$f":"(SUM(aem2csp2!$B173,aem2csp2!$C173) * Emissions!AG156)/1000","v":0},{"$f":"(SUM(aem2csp2!$B173,aem2csp2!$C173) * Emissions!AH156)/1000","v":0},{"$f":"(SUM(aem2csp2!$B173,aem2csp2!$C173) * Emissions!AI156)/1000","v":0},{"$f":"(SUM(aem2csp2!$B173,aem2csp2!$C173) * Emissions!AJ156)/1000","v":0},{"$f":"(SUM(aem2csp2!$B173,aem2csp2!$C173) * Emissions!AK156)/1000","v":0},{"$f":"(SUM(aem2csp2!$B173,aem2csp2!$C173) * Emissions!AL156)/1000","v":0},{"$f":"(SUM(aem2csp2!$B173,aem2csp2!$C173) * Emissions!AM156)/1000","v":0},{"$f":"(SUM(aem2csp2!$B173,aem2csp2!$C173) * Emissions!AN156)/1000","v":0},{"$f":"(SUM(aem2csp2!$B173,aem2csp2!$C173) * Emissions!AO156)/1000","v":0},{"$f":"(SUM(aem2csp2!$B173,aem2csp2!$C173) * Emissions!AP156)/1000","v":0},{"$f":"(SUM(aem2csp2!$B173,aem2csp2!$C173) * Emissions!AQ156)/1000","v":0},{"$f":"(SUM(aem2csp2!$B173,aem2csp2!$C173) * Emissions!AR156)/1000","v":0},{"$f":"(SUM(aem2csp2!$B173,aem2csp2!$C173) * Emissions!AS156)/1000","v":0},null,{"$f":"(SUM(aem2csp2!$D173,aem2csp2!$E173) * Emissions!AG156)/1000","v":0},{"$f":"(SUM(aem2csp2!$D173,aem2csp2!$E173) * Emissions!AH156)/1000","v":0},{"$f":"(SUM(aem2csp2!$D173,aem2csp2!$E173) * Emissions!AI156)/1000","v":0},{"$f":"(SUM(aem2csp2!$D173,aem2csp2!$E173) * Emissions!AJ156)/1000","v":0},{"$f":"(SUM(aem2csp2!$D173,aem2csp2!$E173) * Emissions!AK156)/1000","v":0},{"$f":"(SUM(aem2csp2!$D173,aem2csp2!$E173) * Emissions!AL156)/1000","v":0},{"$f":"(SUM(aem2csp2!$D173,aem2csp2!$E173) * Emissions!AM156)/1000","v":0},{"$f":"(SUM(aem2csp2!$D173,aem2csp2!$E173) * Emissions!AN156)/1000","v":0},{"$f":"(SUM(aem2csp2!$D173,aem2csp2!$E173) * Emissions!AO156)/1000","v":0},{"$f":"(SUM(aem2csp2!$D173,aem2csp2!$E173) * Emissions!AP156)/1000","v":0},{"$f":"(SUM(aem2csp2!$D173,aem2csp2!$E173) * Emissions!AQ156)/1000","v":0},{"$f":"(SUM(aem2csp2!$D173,aem2csp2!$E173) * Emissions!AR156)/1000","v":0},{"$f":"(SUM(aem2csp2!$D173,aem2csp2!$E173) * Emissions!AS156)/1000","v":0}]
["EMB120 "," Arrival ",5.7060885799917601E-3,557.30972193815296,372.898338197361,6.59757390279653E-3,6.5631708536803999E-3,6.59757390279653E-3,64.224944335722,173010.33075410101,67833.210504856601,3.0126099175697201,19.2138167264747,12.354410159386999,34.580836803431403,null,"EMB120 "," Departure ",6.21746485657277E-3,153.32650521731699,689.96388101235198,7.1888445656303401E-3,7.1513583356428599E-3,7.1888445656303401E-3,68.020682637944603,183235.360077455,71842.199814837295,3.3675167115153402,25.6288059994924,15.7219569483839,44.718279659391698,null,1.1923553436564531E-2,710.6362271554699,1062.862219209713,1.378641846842687E-2,1.371452918932326E-2,1.378641846842687E-2,132.24562697366662,356245.69083155598,139675.41031969391,6.3801266290850602,44.842622725967104,28.076367107770899,79.299116462823093,null,0,0,0,0,0,0,0,0,0,0,0,0,0,null,{"$f":"(SUM(aem2csp2!$B174,aem2csp2!$C174) * Emissions!AG157)/1000","v":0},{"$f":"(SUM(aem2csp2!$B174,aem2csp2!$C174) * Emissions!AH157)/1000","v":0},{"$f":"(SUM(aem2csp2!$B174,aem2csp2!$C174) * Emissions!AI157)/1000","v":0},{"$f":"(SUM(aem2csp2!$B174,aem2csp2!$C174) * Emissions!AJ157)/1000","v":0},{"$f":"(SUM(aem2csp2!$B174,aem2csp2!$C174) * Emissions!AK157)/1000","v":0},{"$f":"(SUM(aem2csp2!$B174,aem2csp2!$C174) * Emissions!AL157)/1000","v":0},{"$f":"(SUM(aem2csp2!$B174,aem2csp2!$C174) * Emissions!AM157)/1000","v":0},{"$f":"(SUM(aem2csp2!$B174,aem2csp2!$C174) * Emissions!AN157)/1000","v":0},{"$f":"(SUM(aem2csp2!$B174,aem2csp2!$C174) * Emissions!AO157)/1000","v":0},{"$f":"(SUM(aem2csp2!$B174,aem2csp2!$C174) * Emissions!AP157)/1000","v":0},{"$f":"(SUM(aem2csp2!$B174,aem2csp2!$C174) * Emissions!AQ157)/1000","v":0},{"$f":"(SUM(aem2csp2!$B174,aem2csp2!$C174) * Emissions!AR157)/1000","v":0},{"$f":"(SUM(aem2csp2!$B174,aem2csp2!$C174) * Emissions!AS157)/1000","v":0},null,{"$f":"(SUM(aem2csp2!$D174,aem2csp2!$E174) * Emissions!AG157)/1000","v":0},{"$f":"(SUM(aem2csp2!$D174,aem2csp2!$E174) * Emissions!AH157)/1000","v":0},{"$f":"(SUM(aem2csp2!$D174,aem2csp2!$E174) * Emissions!AI157)/1000","v":0},{"$f":"(SUM(aem2csp2!$D174,aem2csp2!$E174) * Emissions!AJ157)/1000","v":0},{"$f":"(SUM(aem2csp2!$D174,aem2csp2!$E174) * Emissions!AK157)/1000","v":0},{"$f":"(SUM(aem2csp2!$D174,aem2csp2!$E174) * Emissions!AL157)/1000","v":0},{"$f":"(SUM(aem2csp2!$D174,aem2csp2!$E174) * Emissions!AM157)/1000","v":0},{"$f":"(SUM(aem2csp2!$D174,aem2csp2!$E174) * Emissions!AN157)/1000","v":0},{"$f":"(SUM(aem2csp2!$D174,aem2csp2!$E174) * Emissions!AO157)/1000","v":0},{"$f":"(SUM(aem2csp2!$D174,aem2csp2!$E174) * Emissions!AP157)/1000","v":0},{"$f":"(SUM(aem2csp2!$D174,aem2csp2!$E174) * Emissions!AQ157)/1000","v":0},{"$f":"(SUM(aem2csp2!$D174,aem2csp2!$E174) * Emissions!AR157)/1000","v":0},{"$f":"(SUM(aem2csp2!$D174,aem2csp2!$E174) * Emissions!AS157)/1000","v":0}]
["EMB145 "," Arrival ",50.860297793439599,228.307133004582,2143.71498036618,58.806408051054397,58.499762036272202,58.806408051054397,208.61489063791601,561970.61130688596,220335.22858529899,8.9819673031951393,43.237606436055898,9.6170885829609993,61.836662322212,null,"EMB145 "," Departure ",54.366268924120298,197.077724849936,3659.0658650529299,62.8601312471584,62.532347092770202,62.8601312471584,251.029805672442,676228.685874791,265133.08539686701,12.0038464316026,84.396163858766997,21.136547572827801,117.536557863197,null,105.2265667175599,425.38485785451803,5802.7808454191099,121.6665392982128,121.0321091290424,121.6665392982128,459.64469631035797,1238199.2971816771,485468.313982166,20.985813734797738,127.6337702948229,30.753636155788801,179.373220185409,null,0,0,0,0,0,0,0,0,0,0,0,0,0,null,{"$f":"(SUM(aem2csp2!$B175,aem2csp2!$C175) * Emissions!AG158)/1000","v":0},{"$f":"(SUM(aem2csp2!$B175,aem2csp2!$C175) * Emissions!AH158)/1000","v":0},{"$f":"(SUM(aem2csp2!$B175,aem2csp2!$C175) * Emissions!AI158)/1000","v":0},{"$f":"(SUM(aem2csp2!$B175,aem2csp2!$C175) * Emissions!AJ158)/1000","v":0},{"$f":"(SUM(aem2csp2!$B175,aem2csp2!$C175) * Emissions!AK158)/1000","v":0},{"$f":"(SUM(aem2csp2!$B175,aem2csp2!$C175) * Emissions!AL158)/1000","v":0},{"$f":"(SUM(aem2csp2!$B175,aem2csp2!$C175) * Emissions!AM158)/1000","v":0},{"$f":"(SUM(aem2csp2!$B175,aem2csp2!$C175) * Emissions!AN158)/1000","v":0},{"$f":"(SUM(aem2csp2!$B175,aem2csp2!$C175) * Emissions!AO158)/1000","v":0},{"$f":"(SUM(aem2csp2!$B175,aem2csp2!$C175) * Emissions!AP158)/1000","v":0},{"$f":"(SUM(aem2csp2!$B175,aem2csp2!$C175) * Emissions!AQ158)/1000","v":0},{"$f":"(SUM(aem2csp2!$B175,aem2csp2!$C175) * Emissions!AR158)/1000","v":0},{"$f":"(SUM(aem2csp2!$B175,aem2csp2!$C175) * Emissions!AS158)/1000","v":0},null,{"$f":"(SUM(aem2csp2!$D175,aem2csp2!$E175) * Emissions!AG158)/1000","v":0},{"$f":"(SUM(aem2csp2!$D175,aem2csp2!$E175) * Emissions!AH158)/1000","v":0},{"$f":"(SUM(aem2csp2!$D175,aem2csp2!$E175) * Emissions!AI158)/1000","v":0},{"$f":"(SUM(aem2csp2!$D175,aem2csp2!$E175) * Emissions!AJ158)/1000","v":0},{"$f":"(SUM(aem2csp2!$D175,aem2csp2!$E175) * Emissions!AK158)/1000","v":0},{"$f":"(SUM(aem2csp2!$D175,aem2csp2!$E175) * Emissions!AL158)/1000","v":0},{"$f":"(SUM(aem2csp2!$D175,aem2csp2!$E175) * Emissions!AM158)/1000","v":0},{"$f":"(SUM(aem2csp2!$D175,aem2csp2!$E175) * Emissions!AN158)/1000","v":0},{"$f":"(SUM(aem2csp2!$D175,aem2csp2!$E175) * Emissions!AO158)/1000","v":0},{"$f":"(SUM(aem2csp2!$D175,aem2csp2!$E175) * Emissions!AP158)/1000","v":0},{"$f":"(SUM(aem2csp2!$D175,aem2csp2!$E175) * Emissions!AQ158)/1000","v":0},{"$f":"(SUM(aem2csp2!$D175,aem2csp2!$E175) * Emissions!AR158)/1000","v":0},{"$f":"(SUM(aem2csp2!$D175,aem2csp2!$E175) * Emissions!AS158)/1000","v":0}]
["EMB14L "," Arrival ",3.9220140689226999,62.456009240777,1891.6993918411199,4.5347662071454602,4.5111196687583002,4.5347662071454602,175.92187854542499,473901.57685349602,185805.46769184599,7.4980523294924,31.262893899685199,7.54073020059736,46.301676429774901,null,"EMB14L "," Departure ",2.39812731931008E-2,15.5878275755156,4913.6569558782103,2.7727964604234202E-2,2.7583377132805401E-2,2.7727964604234202E-2,265.88639795585101,716249.64613277803,280824.34620166302,12.7257541377083,87.119576131636293,21.785687628667201,121.631017898012,null,3.9459953421158005,78.043836816292597,6805.3563477193302,4.5624941717496945,4.538703045891106,4.5624941717496945,441.808276501276,1190151.2229862739,466629.81389350898,20.223806467200699,118.38247003132149,29.32641782926456,167.93269432778692,null,0,0,0,0,0,0,0,0,0,0,0,0,0,null,{"$f":"(SUM(aem2csp2!$B176,aem2csp2!$C176) * Emissions!AG159)/1000","v":0},{"$f":"(SUM(aem2csp2!$B176,aem2csp2!$C176) * Emissions!AH159)/1000","v":0},{"$f":"(SUM(aem2csp2!$B176,aem2csp2!$C176) * Emissions!AI159)/1000","v":0},{"$f":"(SUM(aem2csp2!$B176,aem2csp2!$C176) * Emissions!AJ159)/1000","v":0},{"$f":"(SUM(aem2csp2!$B176,aem2csp2!$C176) * Emissions!AK159)/1000","v":0},{"$f":"(SUM(aem2csp2!$B176,aem2csp2!$C176) * Emissions!AL159)/1000","v":0},{"$f":"(SUM(aem2csp2!$B176,aem2csp2!$C176) * Emissions!AM159)/1000","v":0},{"$f":"(SUM(aem2csp2!$B176,aem2csp2!$C176) * Emissions!AN159)/1000","v":0},{"$f":"(SUM(aem2csp2!$B176,aem2csp2!$C176) * Emissions!AO159)/1000","v":0},{"$f":"(SUM(aem2csp2!$B176,aem2csp2!$C176) * Emissions!AP159)/1000","v":0},{"$f":"(SUM(aem2csp2!$B176,aem2csp2!$C176) * Emissions!AQ159)/1000","v":0},{"$f":"(SUM(aem2csp2!$B176,aem2csp2!$C176) * Emissions!AR159)/1000","v":0},{"$f":"(SUM(aem2csp2!$B176,aem2csp2!$C176) * Emissions!AS159)/1000","v":0},null,{"$f":"(SUM(aem2csp2!$D176,aem2csp2!$E176) * Emissions!AG159)/1000","v":0},{"$f":"(SUM(aem2csp2!$D176,aem2csp2!$E176) * Emissions!AH159)/1000","v":0},{"$f":"(SUM(aem2csp2!$D176,aem2csp2!$E176) * Emissions!AI159)/1000","v":0},{"$f":"(SUM(aem2csp2!$D176,aem2csp2!$E176) * Emissions!AJ159)/1000","v":0},{"$f":"(SUM(aem2csp2!$D176,aem2csp2!$E176) * Emissions!AK159)/1000","v":0},{"$f":"(SUM(aem2csp2!$D176,aem2csp2!$E176) * Emissions!AL159)/1000","v":0},{"$f":"(SUM(aem2csp2!$D176,aem2csp2!$E176) * Emissions!AM159)/1000","v":0},{"$f":"(SUM(aem2csp2!$D176,aem2csp2!$E176) * Emissions!AN159)/1000","v":0},{"$f":"(SUM(aem2csp2!$D176,aem2csp2!$E176) * Emissions!AO159)/1000","v":0},{"$f":"(SUM(aem2csp2!$D176,aem2csp2!$E176) * Emissions!AP159)/1000","v":0},{"$f":"(SUM(aem2csp2!$D176,aem2csp2!$E176) * Emissions!AQ159)/1000","v":0},{"$f":"(SUM(aem2csp2!$D176,aem2csp2!$E176) * Emissions!AR159)/1000","v":0},{"$f":"(SUM(aem2csp2!$D176,aem2csp2!$E176) * Emissions!AS159)/1000","v":0}]
["EMB170 "," Arrival ",212.562195170314,2095.0059604668299,563.13791016495395,245.77164758609999,244.490071329762,245.77164758609999,115.06643639258699,309968.07276179403,121531.06371040799,4.79082062836786,16.8409309071832,4.1046292760762304,25.736380811627299,null,"EMB170 "," Departure ",16.3700866217333,216.06890989385599,3491.8492215921401,18.927651537127399,18.828953298187098,18.927651537127399,275.584823082009,742375.44127709803,291067.64528043399,13.154144406284299,89.875023903111199,29.1986639778371,132.22783228723301,null,228.93228179204729,2311.074870360686,4054.9871317570942,264.69929912322738,263.31902462794909,264.69929912322738,390.65125947459597,1052343.514038892,412598.70899084199,17.94496503465216,106.71595481029439,33.303293253913331,157.96421309886031,null,0,0,0,0,0,0,0,0,0,0,0,0,0,null,{"$f":"(SUM(aem2csp2!$B177,aem2csp2!$C177) * Emissions!AG160)/1000","v":0},{"$f":"(SUM(aem2csp2!$B177,aem2csp2!$C177) * Emissions!AH160)/1000","v":0},{"$f":"(SUM(aem2csp2!$B177,aem2csp2!$C177) * Emissions!AI160)/1000","v":0},{"$f":"(SUM(aem2csp2!$B177,aem2csp2!$C177) * Emissions!AJ160)/1000","v":0},{"$f":"(SUM(aem2csp2!$B177,aem2csp2!$C177) * Emissions!AK160)/1000","v":0},{"$f":"(SUM(aem2csp2!$B177,aem2csp2!$C177) * Emissions!AL160)/1000","v":0},{"$f":"(SUM(aem2csp2!$B177,aem2csp2!$C177) * Emissions!AM160)/1000","v":0},{"$f":"(SUM(aem2csp2!$B177,aem2csp2!$C177) * Emissions!AN160)/1000","v":0},{"$f":"(SUM(aem2csp2!$B177,aem2csp2!$C177) * Emissions!AO160)/1000","v":0},{"$f":"(SUM(aem2csp2!$B177,aem2csp2!$C177) * Emissions!AP160)/1000","v":0},{"$f":"(SUM(aem2csp2!$B177,aem2csp2!$C177) * Emissions!AQ160)/1000","v":0},{"$f":"(SUM(aem2csp2!$B177,aem2csp2!$C177) * Emissions!AR160)/1000","v":0},{"$f":"(SUM(aem2csp2!$B177,aem2csp2!$C177) * Emissions!AS160)/1000","v":0},null,{"$f":"(SUM(aem2csp2!$D177,aem2csp2!$E177) * Emissions!AG160)/1000","v":0},{"$f":"(SUM(aem2csp2!$D177,aem2csp2!$E177) * Emissions!AH160)/1000","v":0},{"$f":"(SUM(aem2csp2!$D177,aem2csp2!$E177) * Emissions!AI160)/1000","v":0},{"$f":"(SUM(aem2csp2!$D177,aem2csp2!$E177) * Emissions!AJ160)/1000","v":0},{"$f":"(SUM(aem2csp2!$D177,aem2csp2!$E177) * Emissions!AK160)/1000","v":0},{"$f":"(SUM(aem2csp2!$D177,aem2csp2!$E177) * Emissions!AL160)/1000","v":0},{"$f":"(SUM(aem2csp2!$D177,aem2csp2!$E177) * Emissions!AM160)/1000","v":0},{"$f":"(SUM(aem2csp2!$D177,aem2csp2!$E177) * Emissions!AN160)/1000","v":0},{"$f":"(SUM(aem2csp2!$D177,aem2csp2!$E177) * Emissions!AO160)/1000","v":0},{"$f":"(SUM(aem2csp2!$D177,aem2csp2!$E177) * Emissions!AP160)/1000","v":0},{"$f":"(SUM(aem2csp2!$D177,aem2csp2!$E177) * Emissions!AQ160)/1000","v":0},{"$f":"(SUM(aem2csp2!$D177,aem2csp2!$E177) * Emissions!AR160)/1000","v":0},{"$f":"(SUM(aem2csp2!$D177,aem2csp2!$E177) * Emissions!AS160)/1000","v":0}]
["EMB175 "," Arrival ",8.3788870637915807,906.41096768043496,849.01787218038203,9.6879545158814597,9.6374366770583908,9.6879545158814597,117.329263295107,316063.71729513502,123921.020061516,4.8742855551001503,16.584699986842399,4.0788569179249299,25.537842459867498,null,"EMB175 "," Departure ",5.3355911428032003,163.552035304204,3332.5960354884701,6.1691921508518801,6.13702289838126,6.1691921508518801,291.325909274102,784779.06741785596,307693.09236002801,13.901015255762999,94.441792180730602,26.402940238389501,134.74574767488301,null,13.71447820659478,1069.9630029846389,4181.6139076688523,15.857146666733339,15.77445957543965,15.857146666733339,408.65517256920901,1100842.784712991,431614.11242154404,18.775300810863151,111.026492167573,30.481797156314432,160.28359013475051,null,0,0,0,0,0,0,0,0,0,0,0,0,0,null,{"$f":"(SUM(aem2csp2!$B178,aem2csp2!$C178) * Emissions!AG161)/1000","v":0},{"$f":"(SUM(aem2csp2!$B178,aem2csp2!$C178) * Emissions!AH161)/1000","v":0},{"$f":"(SUM(aem2csp2!$B178,aem2csp2!$C178) * Emissions!AI161)/1000","v":0},{"$f":"(SUM(aem2csp2!$B178,aem2csp2!$C178) * Emissions!AJ161)/1000","v":0},{"$f":"(SUM(aem2csp2!$B178,aem2csp2!$C178) * Emissions!AK161)/1000","v":0},{"$f":"(SUM(aem2csp2!$B178,aem2csp2!$C178) * Emissions!AL161)/1000","v":0},{"$f":"(SUM(aem2csp2!$B178,aem2csp2!$C178) * Emissions!AM161)/1000","v":0},{"$f":"(SUM(aem2csp2!$B178,aem2csp2!$C178) * Emissions!AN161)/1000","v":0},{"$f":"(SUM(aem2csp2!$B178,aem2csp2!$C178) * Emissions!AO161)/1000","v":0},{"$f":"(SUM(aem2csp2!$B178,aem2csp2!$C178) * Emissions!AP161)/1000","v":0},{"$f":"(SUM(aem2csp2!$B178,aem2csp2!$C178) * Emissions!AQ161)/1000","v":0},{"$f":"(SUM(aem2csp2!$B178,aem2csp2!$C178) * Emissions!AR161)/1000","v":0},{"$f":"(SUM(aem2csp2!$B178,aem2csp2!$C178) * Emissions!AS161)/1000","v":0},null,{"$f":"(SUM(aem2csp2!$D178,aem2csp2!$E178) * Emissions!AG161)/1000","v":0},{"$f":"(SUM(aem2csp2!$D178,aem2csp2!$E178) * Emissions!AH161)/1000","v":0},{"$f":"(SUM(aem2csp2!$D178,aem2csp2!$E178) * Emissions!AI161)/1000","v":0},{"$f":"(SUM(aem2csp2!$D178,aem2csp2!$E178) * Emissions!AJ161)/1000","v":0},{"$f":"(SUM(aem2csp2!$D178,aem2csp2!$E178) * Emissions!AK161)/1000","v":0},{"$f":"(SUM(aem2csp2!$D178,aem2csp2!$E178) * Emissions!AL161)/1000","v":0},{"$f":"(SUM(aem2csp2!$D178,aem2csp2!$E178) * Emissions!AM161)/1000","v":0},{"$f":"(SUM(aem2csp2!$D178,aem2csp2!$E178) * Emissions!AN161)/1000","v":0},{"$f":"(SUM(aem2csp2!$D178,aem2csp2!$E178) * Emissions!AO161)/1000","v":0},{"$f":"(SUM(aem2csp2!$D178,aem2csp2!$E178) * Emissions!AP161)/1000","v":0},{"$f":"(SUM(aem2csp2!$D178,aem2csp2!$E178) * Emissions!AQ161)/1000","v":0},{"$f":"(SUM(aem2csp2!$D178,aem2csp2!$E178) * Emissions!AR161)/1000","v":0},{"$f":"(SUM(aem2csp2!$D178,aem2csp2!$E178) * Emissions!AS161)/1000","v":0}]
["EMB190 "," Arrival ",266.38769922064802,2553.56994711792,734.40942837805699,308.00652807368402,306.40042803304402,308.00652807368402,139.497672892239,375781.384883038,147334.88846285801,5.8702559985116398,22.2587192058865,5.4398042703120302,33.568779474710198,null,"EMB190 "," Departure ",19.623673850512901,219.36310527911499,5837.2604524375502,22.689559872434,22.571245162479201,22.689559872434,378.413400114399,1019376.94446801,399673.30596099002,18.166910954241899,126.511220838676,40.6217271736,185.299858966518,null,286.0113730711609,2772.9330523970352,6571.669880815607,330.69608794611804,328.97167319552324,330.69608794611804,517.91107300663793,1395158.329351048,547008.19442384806,24.037166952753537,148.7699400445625,46.061531443912031,218.8686384412282,null,0,0,0,0,0,0,0,0,0,0,0,0,0,null,{"$f":"(SUM(aem2csp2!$B179,aem2csp2!$C179) * Emissions!AG162)/1000","v":0},{"$f":"(SUM(aem2csp2!$B179,aem2csp2!$C179) * Emissions!AH162)/1000","v":0},{"$f":"(SUM(aem2csp2!$B179,aem2csp2!$C179) * Emissions!AI162)/1000","v":0},{"$f":"(SUM(aem2csp2!$B179,aem2csp2!$C179) * Emissions!AJ162)/1000","v":0},{"$f":"(SUM(aem2csp2!$B179,aem2csp2!$C179) * Emissions!AK162)/1000","v":0},{"$f":"(SUM(aem2csp2!$B179,aem2csp2!$C179) * Emissions!AL162)/1000","v":0},{"$f":"(SUM(aem2csp2!$B179,aem2csp2!$C179) * Emissions!AM162)/1000","v":0},{"$f":"(SUM(aem2csp2!$B179,aem2csp2!$C179) * Emissions!AN162)/1000","v":0},{"$f":"(SUM(aem2csp2!$B179,aem2csp2!$C179) * Emissions!AO162)/1000","v":0},{"$f":"(SUM(aem2csp2!$B179,aem2csp2!$C179) * Emissions!AP162)/1000","v":0},{"$f":"(SUM(aem2csp2!$B179,aem2csp2!$C179) * Emissions!AQ162)/1000","v":0},{"$f":"(SUM(aem2csp2!$B179,aem2csp2!$C179) * Emissions!AR162)/1000","v":0},{"$f":"(SUM(aem2csp2!$B179,aem2csp2!$C179) * Emissions!AS162)/1000","v":0},null,{"$f":"(SUM(aem2csp2!$D179,aem2csp2!$E179) * Emissions!AG162)/1000","v":0},{"$f":"(SUM(aem2csp2!$D179,aem2csp2!$E179) * Emissions!AH162)/1000","v":0},{"$f":"(SUM(aem2csp2!$D179,aem2csp2!$E179) * Emissions!AI162)/1000","v":0},{"$f":"(SUM(aem2csp2!$D179,aem2csp2!$E179) * Emissions!AJ162)/1000","v":0},{"$f":"(SUM(aem2csp2!$D179,aem2csp2!$E179) * Emissions!AK162)/1000","v":0},{"$f":"(SUM(aem2csp2!$D179,aem2csp2!$E179) * Emissions!AL162)/1000","v":0},{"$f":"(SUM(aem2csp2!$D179,aem2csp2!$E179) * Emissions!AM162)/1000","v":0},{"$f":"(SUM(aem2csp2!$D179,aem2csp2!$E179) * Emissions!AN162)/1000","v":0},{"$f":"(SUM(aem2csp2!$D179,aem2csp2!$E179) * Emissions!AO162)/1000","v":0},{"$f":"(SUM(aem2csp2!$D179,aem2csp2!$E179) * Emissions!AP162)/1000","v":0},{"$f":"(SUM(aem2csp2!$D179,aem2csp2!$E179) * Emissions!AQ162)/1000","v":0},{"$f":"(SUM(aem2csp2!$D179,aem2csp2!$E179) * Emissions!AR162)/1000","v":0},{"$f":"(SUM(aem2csp2!$D179,aem2csp2!$E179) * Emissions!AS162)/1000","v":0}]
["EMB195 "," Arrival ",304.16942312654101,2642.2363824019899,774.85155587597501,351.69104368359501,349.85715073630598,351.69104368359501,142.449993570495,383734.400371339,150453.07551801801,5.9791530727096198,22.360857041769702,5.4374511067201796,33.777461221199502,null,"EMB195 "," Departure ",23.143694721701799,171.29978770393501,6020.6703184324497,26.7595278568932,26.619990298883401,26.7595278568932,404.24590223011398,1088965.01155739,426957.12180554197,19.8431149579501,148.15645640764001,42.744096495292098,210.743667860882,null,327.31311784824283,2813.5361701059251,6795.5218743084242,378.45057154048823,376.47714103518939,378.45057154048823,546.69589580060892,1472699.4119287289,577410.19732356002,25.822268030659721,170.5173134494097,48.18154760201228,244.5211290820815,null,0,0,0,0,0,0,0,0,0,0,0,0,0,null,{"$f":"(SUM(aem2csp2!$B180,aem2csp2!$C180) * Emissions!AG163)/1000","v":0},{"$f":"(SUM(aem2csp2!$B180,aem2csp2!$C180) * Emissions!AH163)/1000","v":0},{"$f":"(SUM(aem2csp2!$B180,aem2csp2!$C180) * Emissions!AI163)/1000","v":0},{"$f":"(SUM(aem2csp2!$B180,aem2csp2!$C180) * Emissions!AJ163)/1000","v":0},{"$f":"(SUM(aem2csp2!$B180,aem2csp2!$C180) * Emissions!AK163)/1000","v":0},{"$f":"(SUM(aem2csp2!$B180,aem2csp2!$C180) * Emissions!AL163)/1000","v":0},{"$f":"(SUM(aem2csp2!$B180,aem2csp2!$C180) * Emissions!AM163)/1000","v":0},{"$f":"(SUM(aem2csp2!$B180,aem2csp2!$C180) * Emissions!AN163)/1000","v":0},{"$f":"(SUM(aem2csp2!$B180,aem2csp2!$C180) * Emissions!AO163)/1000","v":0},{"$f":"(SUM(aem2csp2!$B180,aem2csp2!$C180) * Emissions!AP163)/1000","v":0},{"$f":"(SUM(aem2csp2!$B180,aem2csp2!$C180) * Emissions!AQ163)/1000","v":0},{"$f":"(SUM(aem2csp2!$B180,aem2csp2!$C180) * Emissions!AR163)/1000","v":0},{"$f":"(SUM(aem2csp2!$B180,aem2csp2!$C180) * Emissions!AS163)/1000","v":0},null,{"$f":"(SUM(aem2csp2!$D180,aem2csp2!$E180) * Emissions!AG163)/1000","v":0},{"$f":"(SUM(aem2csp2!$D180,aem2csp2!$E180) * Emissions!AH163)/1000","v":0},{"$f":"(SUM(aem2csp2!$D180,aem2csp2!$E180) * Emissions!AI163)/1000","v":0},{"$f":"(SUM(aem2csp2!$D180,aem2csp2!$E180) * Emissions!AJ163)/1000","v":0},{"$f":"(SUM(aem2csp2!$D180,aem2csp2!$E180) * Emissions!AK163)/1000","v":0},{"$f":"(SUM(aem2csp2!$D180,aem2csp2!$E180) * Emissions!AL163)/1000","v":0},{"$f":"(SUM(aem2csp2!$D180,aem2csp2!$E180) * Emissions!AM163)/1000","v":0},{"$f":"(SUM(aem2csp2!$D180,aem2csp2!$E180) * Emissions!AN163)/1000","v":0},{"$f":"(SUM(aem2csp2!$D180,aem2csp2!$E180) * Emissions!AO163)/1000","v":0},{"$f":"(SUM(aem2csp2!$D180,aem2csp2!$E180) * Emissions!AP163)/1000","v":0},{"$f":"(SUM(aem2csp2!$D180,aem2csp2!$E180) * Emissions!AQ163)/1000","v":0},{"$f":"(SUM(aem2csp2!$D180,aem2csp2!$E180) * Emissions!AR163)/1000","v":0},{"$f":"(SUM(aem2csp2!$D180,aem2csp2!$E180) * Emissions!AS163)/1000","v":0}]
["F10062 "," Arrival ",206.68728627344001,977.81485222887704,1104.4046772049501,238.978877884761,237.73272252603101,238.978877884761,222.276795223004,598773.29997317097,234764.68211309399,9.5704756256729997,47.964186228108296,69.709171871227994,127.243833725009,null,"F10062 "," Departure ",243.60479873540899,332.18836191192099,7720.4623002511598,281.66416279767202,280.19542502076303,281.66416279767202,489.84939858774698,1319565.27710412,517369.96759993403,24.101445822168699,192.906743404422,126.337848299567,343.34603752615698,null,450.29208500884897,1310.003214140798,8824.8669774561095,520.64304068243302,517.92814754679398,520.64304068243302,712.12619381075092,1918338.577077291,752134.64971302799,33.671921447841697,240.87092963253031,196.04702017079501,470.58987125116596,null,0,0,0,0,0,0,0,0,0,0,0,0,0,null,{"$f":"(SUM(aem2csp2!$B181,aem2csp2!$C181) * Emissions!AG164)/1000","v":0},{"$f":"(SUM(aem2csp2!$B181,aem2csp2!$C181) * Emissions!AH164)/1000","v":0},{"$f":"(SUM(aem2csp2!$B181,aem2csp2!$C181) * Emissions!AI164)/1000","v":0},{"$f":"(SUM(aem2csp2!$B181,aem2csp2!$C181) * Emissions!AJ164)/1000","v":0},{"$f":"(SUM(aem2csp2!$B181,aem2csp2!$C181) * Emissions!AK164)/1000","v":0},{"$f":"(SUM(aem2csp2!$B181,aem2csp2!$C181) * Emissions!AL164)/1000","v":0},{"$f":"(SUM(aem2csp2!$B181,aem2csp2!$C181) * Emissions!AM164)/1000","v":0},{"$f":"(SUM(aem2csp2!$B181,aem2csp2!$C181) * Emissions!AN164)/1000","v":0},{"$f":"(SUM(aem2csp2!$B181,aem2csp2!$C181) * Emissions!AO164)/1000","v":0},{"$f":"(SUM(aem2csp2!$B181,aem2csp2!$C181) * Emissions!AP164)/1000","v":0},{"$f":"(SUM(aem2csp2!$B181,aem2csp2!$C181) * Emissions!AQ164)/1000","v":0},{"$f":"(SUM(aem2csp2!$B181,aem2csp2!$C181) * Emissions!AR164)/1000","v":0},{"$f":"(SUM(aem2csp2!$B181,aem2csp2!$C181) * Emissions!AS164)/1000","v":0},null,{"$f":"(SUM(aem2csp2!$D181,aem2csp2!$E181) * Emissions!AG164)/1000","v":0},{"$f":"(SUM(aem2csp2!$D181,aem2csp2!$E181) * Emissions!AH164)/1000","v":0},{"$f":"(SUM(aem2csp2!$D181,aem2csp2!$E181) * Emissions!AI164)/1000","v":0},{"$f":"(SUM(aem2csp2!$D181,aem2csp2!$E181) * Emissions!AJ164)/1000","v":0},{"$f":"(SUM(aem2csp2!$D181,aem2csp2!$E181) * Emissions!AK164)/1000","v":0},{"$f":"(SUM(aem2csp2!$D181,aem2csp2!$E181) * Emissions!AL164)/1000","v":0},{"$f":"(SUM(aem2csp2!$D181,aem2csp2!$E181) * Emissions!AM164)/1000","v":0},{"$f":"(SUM(aem2csp2!$D181,aem2csp2!$E181) * Emissions!AN164)/1000","v":0},{"$f":"(SUM(aem2csp2!$D181,aem2csp2!$E181) * Emissions!AO164)/1000","v":0},{"$f":"(SUM(aem2csp2!$D181,aem2csp2!$E181) * Emissions!AP164)/1000","v":0},{"$f":"(SUM(aem2csp2!$D181,aem2csp2!$E181) * Emissions!AQ164)/1000","v":0},{"$f":"(SUM(aem2csp2!$D181,aem2csp2!$E181) * Emissions!AR164)/1000","v":0},{"$f":"(SUM(aem2csp2!$D181,aem2csp2!$E181) * Emissions!AS164)/1000","v":0}]
["F10065 "," Arrival ",226.618139645708,1855.3607967718499,870.83178102286695,262.02360917940399,260.657287069338,262.02360917940399,230.71204366049301,621496.32662982901,243673.83709702,9.8971794831211799,48.600722331475303,17.246215831474899,75.744117646071402,null,"F10065 "," Departure ",176.71349983592799,849.58413382657795,7014.8846535491002,204.322165428256,203.25672749662999,204.322165428256,500.90029282939099,1349334.3783100499,529041.71980016795,24.689380986623899,193.01793498042599,112.304609940847,330.01192590789702,null,403.33163948163599,2704.9449305984281,7885.7164345719675,466.34577460766002,463.91401456596799,466.34577460766002,731.612336489884,1970830.704939879,772715.55689718795,34.586560469745081,241.6186573119013,129.5508257723219,405.75604355396842,null,0,0,0,0,0,0,0,0,0,0,0,0,0,null,{"$f":"(SUM(aem2csp2!$B182,aem2csp2!$C182) * Emissions!AG165)/1000","v":0},{"$f":"(SUM(aem2csp2!$B182,aem2csp2!$C182) * Emissions!AH165)/1000","v":0},{"$f":"(SUM(aem2csp2!$B182,aem2csp2!$C182) * Emissions!AI165)/1000","v":0},{"$f":"(SUM(aem2csp2!$B182,aem2csp2!$C182) * Emissions!AJ165)/1000","v":0},{"$f":"(SUM(aem2csp2!$B182,aem2csp2!$C182) * Emissions!AK165)/1000","v":0},{"$f":"(SUM(aem2csp2!$B182,aem2csp2!$C182) * Emissions!AL165)/1000","v":0},{"$f":"(SUM(aem2csp2!$B182,aem2csp2!$C182) * Emissions!AM165)/1000","v":0},{"$f":"(SUM(aem2csp2!$B182,aem2csp2!$C182) * Emissions!AN165)/1000","v":0},{"$f":"(SUM(aem2csp2!$B182,aem2csp2!$C182) * Emissions!AO165)/1000","v":0},{"$f":"(SUM(aem2csp2!$B182,aem2csp2!$C182) * Emissions!AP165)/1000","v":0},{"$f":"(SUM(aem2csp2!$B182,aem2csp2!$C182) * Emissions!AQ165)/1000","v":0},{"$f":"(SUM(aem2csp2!$B182,aem2csp2!$C182) * Emissions!AR165)/1000","v":0},{"$f":"(SUM(aem2csp2!$B182,aem2csp2!$C182) * Emissions!AS165)/1000","v":0},null,{"$f":"(SUM(aem2csp2!$D182,aem2csp2!$E182) * Emissions!AG165)/1000","v":0},{"$f":"(SUM(aem2csp2!$D182,aem2csp2!$E182) * Emissions!AH165)/1000","v":0},{"$f":"(SUM(aem2csp2!$D182,aem2csp2!$E182) * Emissions!AI165)/1000","v":0},{"$f":"(SUM(aem2csp2!$D182,aem2csp2!$E182) * Emissions!AJ165)/1000","v":0},{"$f":"(SUM(aem2csp2!$D182,aem2csp2!$E182) * Emissions!AK165)/1000","v":0},{"$f":"(SUM(aem2csp2!$D182,aem2csp2!$E182) * Emissions!AL165)/1000","v":0},{"$f":"(SUM(aem2csp2!$D182,aem2csp2!$E182) * Emissions!AM165)/1000","v":0},{"$f":"(SUM(aem2csp2!$D182,aem2csp2!$E182) * Emissions!AN165)/1000","v":0},{"$f":"(SUM(aem2csp2!$D182,aem2csp2!$E182) * Emissions!AO165)/1000","v":0},{"$f":"(SUM(aem2csp2!$D182,aem2csp2!$E182) * Emissions!AP165)/1000","v":0},{"$f":"(SUM(aem2csp2!$D182,aem2csp2!$E182) * Emissions!AQ165)/1000","v":0},{"$f":"(SUM(aem2csp2!$D182,aem2csp2!$E182) * Emissions!AR165)/1000","v":0},{"$f":"(SUM(aem2csp2!$D182,aem2csp2!$E182) * Emissions!AS165)/1000","v":0}]
["F100D "," Arrival ",1932.95589318259,3663.4098939083801,425.47074949043798,2234.94941891292,2223.295275168,2234.94941891292,169.69514292597299,457127.88245512597,179228.90351727101,8.8806265977134995,111.097203971187,19.562533750560899,139.54036431946199,null,"F100D "," Departure ",261.48055389535398,721.48866727596101,4148.2587286013704,302.33271956518797,300.756205599015,302.33271956518797,438.14433309030699,1180281.2251536199,462760.02393503202,22.705284841617999,202.729652949464,48.8374878744198,274.27242566550098,null,2194.4364470779437,4384.8985611843409,4573.7294780918082,2537.2821384781082,2524.0514807670152,2537.2821384781082,607.83947601627995,1637409.1076087458,641988.927452303,31.585911439331497,313.82685692065098,68.400021624980695,413.81278998496293,null,0,0,0,0,0,0,0,0,0,0,0,0,0,null,{"$f":"(SUM(aem2csp2!$B183,aem2csp2!$C183) * Emissions!AG166)/1000","v":0},{"$f":"(SUM(aem2csp2!$B183,aem2csp2!$C183) * Emissions!AH166)/1000","v":0},{"$f":"(SUM(aem2csp2!$B183,aem2csp2!$C183) * Emissions!AI166)/1000","v":0},{"$f":"(SUM(aem2csp2!$B183,aem2csp2!$C183) * Emissions!AJ166)/1000","v":0},{"$f":"(SUM(aem2csp2!$B183,aem2csp2!$C183) * Emissions!AK166)/1000","v":0},{"$f":"(SUM(aem2csp2!$B183,aem2csp2!$C183) * Emissions!AL166)/1000","v":0},{"$f":"(SUM(aem2csp2!$B183,aem2csp2!$C183) * Emissions!AM166)/1000","v":0},{"$f":"(SUM(aem2csp2!$B183,aem2csp2!$C183) * Emissions!AN166)/1000","v":0},{"$f":"(SUM(aem2csp2!$B183,aem2csp2!$C183) * Emissions!AO166)/1000","v":0},{"$f":"(SUM(aem2csp2!$B183,aem2csp2!$C183) * Emissions!AP166)/1000","v":0},{"$f":"(SUM(aem2csp2!$B183,aem2csp2!$C183) * Emissions!AQ166)/1000","v":0},{"$f":"(SUM(aem2csp2!$B183,aem2csp2!$C183) * Emissions!AR166)/1000","v":0},{"$f":"(SUM(aem2csp2!$B183,aem2csp2!$C183) * Emissions!AS166)/1000","v":0},null,{"$f":"(SUM(aem2csp2!$D183,aem2csp2!$E183) * Emissions!AG166)/1000","v":0},{"$f":"(SUM(aem2csp2!$D183,aem2csp2!$E183) * Emissions!AH166)/1000","v":0},{"$f":"(SUM(aem2csp2!$D183,aem2csp2!$E183) * Emissions!AI166)/1000","v":0},{"$f":"(SUM(aem2csp2!$D183,aem2csp2!$E183) * Emissions!AJ166)/1000","v":0},{"$f":"(SUM(aem2csp2!$D183,aem2csp2!$E183) * Emissions!AK166)/1000","v":0},{"$f":"(SUM(aem2csp2!$D183,aem2csp2!$E183) * Emissions!AL166)/1000","v":0},{"$f":"(SUM(aem2csp2!$D183,aem2csp2!$E183) * Emissions!AM166)/1000","v":0},{"$f":"(SUM(aem2csp2!$D183,aem2csp2!$E183) * Emissions!AN166)/1000","v":0},{"$f":"(SUM(aem2csp2!$D183,aem2csp2!$E183) * Emissions!AO166)/1000","v":0},{"$f":"(SUM(aem2csp2!$D183,aem2csp2!$E183) * Emissions!AP166)/1000","v":0},{"$f":"(SUM(aem2csp2!$D183,aem2csp2!$E183) * Emissions!AQ166)/1000","v":0},{"$f":"(SUM(aem2csp2!$D183,aem2csp2!$E183) * Emissions!AR166)/1000","v":0},{"$f":"(SUM(aem2csp2!$D183,aem2csp2!$E183) * Emissions!AS166)/1000","v":0}]
["F101B "," Arrival ",1426.20246955629,4658.7186395417903,1292.83371528364,1649.0238560688599,1640.42502117139,1649.0238560688599,342.33974621120399,922201.07521887601,361572.97307313798,17.8064290691567,179.89533556795601,38.650323494415503,236.35208813152801,null,"F101B "," Departure ",427.43667019435702,559.22964350428401,6347.9060397837002,494.21683186989901,491.63973820011302,494.21683186989901,778.93220568514801,2098301.8348161201,822693.93650318298,40.874660961565702,374.10970453861501,90.623544881811497,505.60791038199301,null,1853.639139750647,5217.9482830460747,7640.7397550673404,2143.240687938759,2132.064759371503,2143.240687938759,1121.271951896352,3020502.910034996,1184266.909576321,58.681090030722402,554.00504010657096,129.273868376227,741.95999851352099,null,0,0,0,0,0,0,0,0,0,0,0,0,0,null,{"$f":"(SUM(aem2csp2!$B184,aem2csp2!$C184) * Emissions!AG167)/1000","v":0},{"$f":"(SUM(aem2csp2!$B184,aem2csp2!$C184) * Emissions!AH167)/1000","v":0},{"$f":"(SUM(aem2csp2!$B184,aem2csp2!$C184) * Emissions!AI167)/1000","v":0},{"$f":"(SUM(aem2csp2!$B184,aem2csp2!$C184) * Emissions!AJ167)/1000","v":0},{"$f":"(SUM(aem2csp2!$B184,aem2csp2!$C184) * Emissions!AK167)/1000","v":0},{"$f":"(SUM(aem2csp2!$B184,aem2csp2!$C184) * Emissions!AL167)/1000","v":0},{"$f":"(SUM(aem2csp2!$B184,aem2csp2!$C184) * Emissions!AM167)/1000","v":0},{"$f":"(SUM(aem2csp2!$B184,aem2csp2!$C184) * Emissions!AN167)/1000","v":0},{"$f":"(SUM(aem2csp2!$B184,aem2csp2!$C184) * Emissions!AO167)/1000","v":0},{"$f":"(SUM(aem2csp2!$B184,aem2csp2!$C184) * Emissions!AP167)/1000","v":0},{"$f":"(SUM(aem2csp2!$B184,aem2csp2!$C184) * Emissions!AQ167)/1000","v":0},{"$f":"(SUM(aem2csp2!$B184,aem2csp2!$C184) * Emissions!AR167)/1000","v":0},{"$f":"(SUM(aem2csp2!$B184,aem2csp2!$C184) * Emissions!AS167)/1000","v":0},null,{"$f":"(SUM(aem2csp2!$D184,aem2csp2!$E184) * Emissions!AG167)/1000","v":0},{"$f":"(SUM(aem2csp2!$D184,aem2csp2!$E184) * Emissions!AH167)/1000","v":0},{"$f":"(SUM(aem2csp2!$D184,aem2csp2!$E184) * Emissions!AI167)/1000","v":0},{"$f":"(SUM(aem2csp2!$D184,aem2csp2!$E184) * Emissions!AJ167)/1000","v":0},{"$f":"(SUM(aem2csp2!$D184,aem2csp2!$E184) * Emissions!AK167)/1000","v":0},{"$f":"(SUM(aem2csp2!$D184,aem2csp2!$E184) * Emissions!AL167)/1000","v":0},{"$f":"(SUM(aem2csp2!$D184,aem2csp2!$E184) * Emissions!AM167)/1000","v":0},{"$f":"(SUM(aem2csp2!$D184,aem2csp2!$E184) * Emissions!AN167)/1000","v":0},{"$f":"(SUM(aem2csp2!$D184,aem2csp2!$E184) * Emissions!AO167)/1000","v":0},{"$f":"(SUM(aem2csp2!$D184,aem2csp2!$E184) * Emissions!AP167)/1000","v":0},{"$f":"(SUM(aem2csp2!$D184,aem2csp2!$E184) * Emissions!AQ167)/1000","v":0},{"$f":"(SUM(aem2csp2!$D184,aem2csp2!$E184) * Emissions!AR167)/1000","v":0},{"$f":"(SUM(aem2csp2!$D184,aem2csp2!$E184) * Emissions!AS167)/1000","v":0}]
["F102 "," Arrival ",1187.0028119548699,2249.65187294201,261.846501265874,1372.45306744096,1365.2964109207901,1372.45306744096,104.480149879705,281450.54036071402,110350.021688179,5.3941634396257001,68.121007523449094,11.4954285035273,85.010599466602002,null,"F102 "," Departure ",304.37777537493002,839.85257118419099,3700.14266010858,351.931947647367,350.09679850636002,351.931947647367,411.35918625699799,1108126.9062848601,434470.04217888199,22.945642997850701,235.54291140085999,58.004166110918597,316.49272050962998,null,1491.3805873297999,3089.5044441262007,3961.9891613744539,1724.385015088327,1715.3932094271502,1724.385015088327,515.83933613670297,1389577.4466455742,544820.06386706093,28.339806437476401,303.66391892430909,69.499594614445897,401.50331997623198,null,0,0,0,0,0,0,0,0,0,0,0,0,0,null,{"$f":"(SUM(aem2csp2!$B185,aem2csp2!$C185) * Emissions!AG168)/1000","v":0},{"$f":"(SUM(aem2csp2!$B185,aem2csp2!$C185) * Emissions!AH168)/1000","v":0},{"$f":"(SUM(aem2csp2!$B185,aem2csp2!$C185) * Emissions!AI168)/1000","v":0},{"$f":"(SUM(aem2csp2!$B185,aem2csp2!$C185) * Emissions!AJ168)/1000","v":0},{"$f":"(SUM(aem2csp2!$B185,aem2csp2!$C185) * Emissions!AK168)/1000","v":0},{"$f":"(SUM(aem2csp2!$B185,aem2csp2!$C185) * Emissions!AL168)/1000","v":0},{"$f":"(SUM(aem2csp2!$B185,aem2csp2!$C185) * Emissions!AM168)/1000","v":0},{"$f":"(SUM(aem2csp2!$B185,aem2csp2!$C185) * Emissions!AN168)/1000","v":0},{"$f":"(SUM(aem2csp2!$B185,aem2csp2!$C185) * Emissions!AO168)/1000","v":0},{"$f":"(SUM(aem2csp2!$B185,aem2csp2!$C185) * Emissions!AP168)/1000","v":0},{"$f":"(SUM(aem2csp2!$B185,aem2csp2!$C185) * Emissions!AQ168)/1000","v":0},{"$f":"(SUM(aem2csp2!$B185,aem2csp2!$C185) * Emissions!AR168)/1000","v":0},{"$f":"(SUM(aem2csp2!$B185,aem2csp2!$C185) * Emissions!AS168)/1000","v":0},null,{"$f":"(SUM(aem2csp2!$D185,aem2csp2!$E185) * Emissions!AG168)/1000","v":0},{"$f":"(SUM(aem2csp2!$D185,aem2csp2!$E185) * Emissions!AH168)/1000","v":0},{"$f":"(SUM(aem2csp2!$D185,aem2csp2!$E185) * Emissions!AI168)/1000","v":0},{"$f":"(SUM(aem2csp2!$D185,aem2csp2!$E185) * Emissions!AJ168)/1000","v":0},{"$f":"(SUM(aem2csp2!$D185,aem2csp2!$E185) * Emissions!AK168)/1000","v":0},{"$f":"(SUM(aem2csp2!$D185,aem2csp2!$E185) * Emissions!AL168)/1000","v":0},{"$f":"(SUM(aem2csp2!$D185,aem2csp2!$E185) * Emissions!AM168)/1000","v":0},{"$f":"(SUM(aem2csp2!$D185,aem2csp2!$E185) * Emissions!AN168)/1000","v":0},{"$f":"(SUM(aem2csp2!$D185,aem2csp2!$E185) * Emissions!AO168)/1000","v":0},{"$f":"(SUM(aem2csp2!$D185,aem2csp2!$E185) * Emissions!AP168)/1000","v":0},{"$f":"(SUM(aem2csp2!$D185,aem2csp2!$E185) * Emissions!AQ168)/1000","v":0},{"$f":"(SUM(aem2csp2!$D185,aem2csp2!$E185) * Emissions!AR168)/1000","v":0},{"$f":"(SUM(aem2csp2!$D185,aem2csp2!$E185) * Emissions!AS168)/1000","v":0}]
["F104G "," Arrival ",815.773717670427,5560.5800347331196,1081.88672611671,943.22534864986096,938.30690006932696,943.22534864986096,301.14306311133299,811224.69613751397,318061.79052998603,15.957582623663299,157.36635218937599,36.1928857405142,209.516820553553,null,"F104G "," Departure ",629.54654667031105,5137.3373855643304,4222.4320109875398,727.90315269058101,724.10750170087601,727.90315269058101,662.82343046737401,1785525.8906459799,700061.97360667901,33.565374068708401,292.63112033652197,68.0370809444115,394.23357534964202,null,1445.320264340738,10697.91742029745,5304.3187371042495,1671.128501340442,1662.4144017702029,1671.128501340442,963.96649357870706,2596750.5867834939,1018123.764136665,49.5229566923717,449.99747252589793,104.2299666849257,603.750395903195,null,0,0,0,0,0,0,0,0,0,0,0,0,0,null,{"$f":"(SUM(aem2csp2!$B186,aem2csp2!$C186) * Emissions!AG169)/1000","v":0},{"$f":"(SUM(aem2csp2!$B186,aem2csp2!$C186) * Emissions!AH169)/1000","v":0},{"$f":"(SUM(aem2csp2!$B186,aem2csp2!$C186) * Emissions!AI169)/1000","v":0},{"$f":"(SUM(aem2csp2!$B186,aem2csp2!$C186) * Emissions!AJ169)/1000","v":0},{"$f":"(SUM(aem2csp2!$B186,aem2csp2!$C186) * Emissions!AK169)/1000","v":0},{"$f":"(SUM(aem2csp2!$B186,aem2csp2!$C186) * Emissions!AL169)/1000","v":0},{"$f":"(SUM(aem2csp2!$B186,aem2csp2!$C186) * Emissions!AM169)/1000","v":0},{"$f":"(SUM(aem2csp2!$B186,aem2csp2!$C186) * Emissions!AN169)/1000","v":0},{"$f":"(SUM(aem2csp2!$B186,aem2csp2!$C186) * Emissions!AO169)/1000","v":0},{"$f":"(SUM(aem2csp2!$B186,aem2csp2!$C186) * Emissions!AP169)/1000","v":0},{"$f":"(SUM(aem2csp2!$B186,aem2csp2!$C186) * Emissions!AQ169)/1000","v":0},{"$f":"(SUM(aem2csp2!$B186,aem2csp2!$C186) * Emissions!AR169)/1000","v":0},{"$f":"(SUM(aem2csp2!$B186,aem2csp2!$C186) * Emissions!AS169)/1000","v":0},null,{"$f":"(SUM(aem2csp2!$D186,aem2csp2!$E186) * Emissions!AG169)/1000","v":0},{"$f":"(SUM(aem2csp2!$D186,aem2csp2!$E186) * Emissions!AH169)/1000","v":0},{"$f":"(SUM(aem2csp2!$D186,aem2csp2!$E186) * Emissions!AI169)/1000","v":0},{"$f":"(SUM(aem2csp2!$D186,aem2csp2!$E186) * Emissions!AJ169)/1000","v":0},{"$f":"(SUM(aem2csp2!$D186,aem2csp2!$E186) * Emissions!AK169)/1000","v":0},{"$f":"(SUM(aem2csp2!$D186,aem2csp2!$E186) * Emissions!AL169)/1000","v":0},{"$f":"(SUM(aem2csp2!$D186,aem2csp2!$E186) * Emissions!AM169)/1000","v":0},{"$f":"(SUM(aem2csp2!$D186,aem2csp2!$E186) * Emissions!AN169)/1000","v":0},{"$f":"(SUM(aem2csp2!$D186,aem2csp2!$E186) * Emissions!AO169)/1000","v":0},{"$f":"(SUM(aem2csp2!$D186,aem2csp2!$E186) * Emissions!AP169)/1000","v":0},{"$f":"(SUM(aem2csp2!$D186,aem2csp2!$E186) * Emissions!AQ169)/1000","v":0},{"$f":"(SUM(aem2csp2!$D186,aem2csp2!$E186) * Emissions!AR169)/1000","v":0},{"$f":"(SUM(aem2csp2!$D186,aem2csp2!$E186) * Emissions!AS169)/1000","v":0}]
["F105D "," Arrival ",312.32866752143701,2128.9341826971399,415.72788237199501,361.125039867086,359.24195334669901,361.125039867086,115.816926768343,311989.757474488,122323.717906796,6.0124928345106898,57.569959292765297,12.9892314260315,76.571683553307395,null,"F105D "," Departure ",470.47168467878799,3839.2264834636899,2788.1115867549902,543.97538091600597,541.13882129221997,543.97538091600597,489.387870446536,1318322.0041485799,516882.51002592599,23.154959476236499,169.48127014884901,38.087817414450797,230.724047039537,null,782.80035220022501,5968.1606661608294,3203.839469126985,905.10042078309198,900.38077463891898,905.10042078309198,605.20479721487902,1630311.7616230678,639206.22793272196,29.167452310747187,227.05122944161431,51.077048840482298,307.29573059284439,null,0,0,0,0,0,0,0,0,0,0,0,0,0,null,{"$f":"(SUM(aem2csp2!$B187,aem2csp2!$C187) * Emissions!AG170)/1000","v":0},{"$f":"(SUM(aem2csp2!$B187,aem2csp2!$C187) * Emissions!AH170)/1000","v":0},{"$f":"(SUM(aem2csp2!$B187,aem2csp2!$C187) * Emissions!AI170)/1000","v":0},{"$f":"(SUM(aem2csp2!$B187,aem2csp2!$C187) * Emissions!AJ170)/1000","v":0},{"$f":"(SUM(aem2csp2!$B187,aem2csp2!$C187) * Emissions!AK170)/1000","v":0},{"$f":"(SUM(aem2csp2!$B187,aem2csp2!$C187) * Emissions!AL170)/1000","v":0},{"$f":"(SUM(aem2csp2!$B187,aem2csp2!$C187) * Emissions!AM170)/1000","v":0},{"$f":"(SUM(aem2csp2!$B187,aem2csp2!$C187) * Emissions!AN170)/1000","v":0},{"$f":"(SUM(aem2csp2!$B187,aem2csp2!$C187) * Emissions!AO170)/1000","v":0},{"$f":"(SUM(aem2csp2!$B187,aem2csp2!$C187) * Emissions!AP170)/1000","v":0},{"$f":"(SUM(aem2csp2!$B187,aem2csp2!$C187) * Emissions!AQ170)/1000","v":0},{"$f":"(SUM(aem2csp2!$B187,aem2csp2!$C187) * Emissions!AR170)/1000","v":0},{"$f":"(SUM(aem2csp2!$B187,aem2csp2!$C187) * Emissions!AS170)/1000","v":0},null,{"$f":"(SUM(aem2csp2!$D187,aem2csp2!$E187) * Emissions!AG170)/1000","v":0},{"$f":"(SUM(aem2csp2!$D187,aem2csp2!$E187) * Emissions!AH170)/1000","v":0},{"$f":"(SUM(aem2csp2!$D187,aem2csp2!$E187) * Emissions!AI170)/1000","v":0},{"$f":"(SUM(aem2csp2!$D187,aem2csp2!$E187) * Emissions!AJ170)/1000","v":0},{"$f":"(SUM(aem2csp2!$D187,aem2csp2!$E187) * Emissions!AK170)/1000","v":0},{"$f":"(SUM(aem2csp2!$D187,aem2csp2!$E187) * Emissions!AL170)/1000","v":0},{"$f":"(SUM(aem2csp2!$D187,aem2csp2!$E187) * Emissions!AM170)/1000","v":0},{"$f":"(SUM(aem2csp2!$D187,aem2csp2!$E187) * Emissions!AN170)/1000","v":0},{"$f":"(SUM(aem2csp2!$D187,aem2csp2!$E187) * Emissions!AO170)/1000","v":0},{"$f":"(SUM(aem2csp2!$D187,aem2csp2!$E187) * Emissions!AP170)/1000","v":0},{"$f":"(SUM(aem2csp2!$D187,aem2csp2!$E187) * Emissions!AQ170)/1000","v":0},{"$f":"(SUM(aem2csp2!$D187,aem2csp2!$E187) * Emissions!AR170)/1000","v":0},{"$f":"(SUM(aem2csp2!$D187,aem2csp2!$E187) * Emissions!AS170)/1000","v":0}]
["F106 "," Arrival ",1552.210153647,2941.8064086981699,348.58255399344699,1794.7182308501799,1785.3596726354101,1794.7182308501799,139.28910583205001,375219.54311827099,147114.60375191801,6.7436991345028803,89.108296750527401,11.9849717497629,107.836967634793,null,"F106 "," Departure ",253.72250297786499,700.08231130136505,3924.8225663867502,293.36259694051103,291.83285767876498,293.36259694051103,414.74386606707799,1117244.6187172399,438044.87903430301,22.3698980090684,216.424235277854,52.775884499908003,291.57001778683099,null,1805.9326566248649,3641.8887199995352,4273.4051203801973,2088.0808277906908,2077.1925303141752,2088.0808277906908,554.03297189912803,1492464.161835511,585159.48278622096,29.11359714357128,305.53253202838141,64.760856249670908,399.40698542162397,null,0,0,0,0,0,0,0,0,0,0,0,0,0,null,{"$f":"(SUM(aem2csp2!$B188,aem2csp2!$C188) * Emissions!AG171)/1000","v":0},{"$f":"(SUM(aem2csp2!$B188,aem2csp2!$C188) * Emissions!AH171)/1000","v":0},{"$f":"(SUM(aem2csp2!$B188,aem2csp2!$C188) * Emissions!AI171)/1000","v":0},{"$f":"(SUM(aem2csp2!$B188,aem2csp2!$C188) * Emissions!AJ171)/1000","v":0},{"$f":"(SUM(aem2csp2!$B188,aem2csp2!$C188) * Emissions!AK171)/1000","v":0},{"$f":"(SUM(aem2csp2!$B188,aem2csp2!$C188) * Emissions!AL171)/1000","v":0},{"$f":"(SUM(aem2csp2!$B188,aem2csp2!$C188) * Emissions!AM171)/1000","v":0},{"$f":"(SUM(aem2csp2!$B188,aem2csp2!$C188) * Emissions!AN171)/1000","v":0},{"$f":"(SUM(aem2csp2!$B188,aem2csp2!$C188) * Emissions!AO171)/1000","v":0},{"$f":"(SUM(aem2csp2!$B188,aem2csp2!$C188) * Emissions!AP171)/1000","v":0},{"$f":"(SUM(aem2csp2!$B188,aem2csp2!$C188) * Emissions!AQ171)/1000","v":0},{"$f":"(SUM(aem2csp2!$B188,aem2csp2!$C188) * Emissions!AR171)/1000","v":0},{"$f":"(SUM(aem2csp2!$B188,aem2csp2!$C188) * Emissions!AS171)/1000","v":0},null,{"$f":"(SUM(aem2csp2!$D188,aem2csp2!$E188) * Emissions!AG171)/1000","v":0},{"$f":"(SUM(aem2csp2!$D188,aem2csp2!$E188) * Emissions!AH171)/1000","v":0},{"$f":"(SUM(aem2csp2!$D188,aem2csp2!$E188) * Emissions!AI171)/1000","v":0},{"$f":"(SUM(aem2csp2!$D188,aem2csp2!$E188) * Emissions!AJ171)/1000","v":0},{"$f":"(SUM(aem2csp2!$D188,aem2csp2!$E188) * Emissions!AK171)/1000","v":0},{"$f":"(SUM(aem2csp2!$D188,aem2csp2!$E188) * Emissions!AL171)/1000","v":0},{"$f":"(SUM(aem2csp2!$D188,aem2csp2!$E188) * Emissions!AM171)/1000","v":0},{"$f":"(SUM(aem2csp2!$D188,aem2csp2!$E188) * Emissions!AN171)/1000","v":0},{"$f":"(SUM(aem2csp2!$D188,aem2csp2!$E188) * Emissions!AO171)/1000","v":0},{"$f":"(SUM(aem2csp2!$D188,aem2csp2!$E188) * Emissions!AP171)/1000","v":0},{"$f":"(SUM(aem2csp2!$D188,aem2csp2!$E188) * Emissions!AQ171)/1000","v":0},{"$f":"(SUM(aem2csp2!$D188,aem2csp2!$E188) * Emissions!AR171)/1000","v":0},{"$f":"(SUM(aem2csp2!$D188,aem2csp2!$E188) * Emissions!AS171)/1000","v":0}]
["F111AE "," Arrival ",2627.2648947791799,9469.8087704610007,2604.0727245695998,3037.73312708609,3021.8928676948999,3037.73312708609,528.94404078116202,1424879.13991169,558661.013017672,27.619691476913999,287.42632828708298,60.518361675328698,375.56438143932502,null,"F111AE "," Departure ",279.239468220616,6572.35977616124,5482.1645466627597,322.86618098132999,321.18259528060202,322.86618098132999,594.69710802516704,1602005.95612995,628108.19896442199,30.834999118383301,274.59329225020201,66.413806357322997,371.84209772590901,null,2906.5043629997958,16042.168546622241,8086.2372712323595,3360.5993080674198,3343.075462975502,3360.5993080674198,1123.6411488063291,3026885.0960416403,1186769.211982094,58.454690595297301,562.01962053728494,126.9321680326517,747.40647916523403,null,0,0,0,0,0,0,0,0,0,0,0,0,0,null,{"$f":"(SUM(aem2csp2!$B189,aem2csp2!$C189) * Emissions!AG172)/1000","v":0},{"$f":"(SUM(aem2csp2!$B189,aem2csp2!$C189) * Emissions!AH172)/1000","v":0},{"$f":"(SUM(aem2csp2!$B189,aem2csp2!$C189) * Emissions!AI172)/1000","v":0},{"$f":"(SUM(aem2csp2!$B189,aem2csp2!$C189) * Emissions!AJ172)/1000","v":0},{"$f":"(SUM(aem2csp2!$B189,aem2csp2!$C189) * Emissions!AK172)/1000","v":0},{"$f":"(SUM(aem2csp2!$B189,aem2csp2!$C189) * Emissions!AL172)/1000","v":0},{"$f":"(SUM(aem2csp2!$B189,aem2csp2!$C189) * Emissions!AM172)/1000","v":0},{"$f":"(SUM(aem2csp2!$B189,aem2csp2!$C189) * Emissions!AN172)/1000","v":0},{"$f":"(SUM(aem2csp2!$B189,aem2csp2!$C189) * Emissions!AO172)/1000","v":0},{"$f":"(SUM(aem2csp2!$B189,aem2csp2!$C189) * Emissions!AP172)/1000","v":0},{"$f":"(SUM(aem2csp2!$B189,aem2csp2!$C189) * Emissions!AQ172)/1000","v":0},{"$f":"(SUM(aem2csp2!$B189,aem2csp2!$C189) * Emissions!AR172)/1000","v":0},{"$f":"(SUM(aem2csp2!$B189,aem2csp2!$C189) * Emissions!AS172)/1000","v":0},null,{"$f":"(SUM(aem2csp2!$D189,aem2csp2!$E189) * Emissions!AG172)/1000","v":0},{"$f":"(SUM(aem2csp2!$D189,aem2csp2!$E189) * Emissions!AH172)/1000","v":0},{"$f":"(SUM(aem2csp2!$D189,aem2csp2!$E189) * Emissions!AI172)/1000","v":0},{"$f":"(SUM(aem2csp2!$D189,aem2csp2!$E189) * Emissions!AJ172)/1000","v":0},{"$f":"(SUM(aem2csp2!$D189,aem2csp2!$E189) * Emissions!AK172)/1000","v":0},{"$f":"(SUM(aem2csp2!$D189,aem2csp2!$E189) * Emissions!AL172)/1000","v":0},{"$f":"(SUM(aem2csp2!$D189,aem2csp2!$E189) * Emissions!AM172)/1000","v":0},{"$f":"(SUM(aem2csp2!$D189,aem2csp2!$E189) * Emissions!AN172)/1000","v":0},{"$f":"(SUM(aem2csp2!$D189,aem2csp2!$E189) * Emissions!AO172)/1000","v":0},{"$f":"(SUM(aem2csp2!$D189,aem2csp2!$E189) * Emissions!AP172)/1000","v":0},{"$f":"(SUM(aem2csp2!$D189,aem2csp2!$E189) * Emissions!AQ172)/1000","v":0},{"$f":"(SUM(aem2csp2!$D189,aem2csp2!$E189) * Emissions!AR172)/1000","v":0},{"$f":"(SUM(aem2csp2!$D189,aem2csp2!$E189) * Emissions!AS172)/1000","v":0}]
["F111D "," Arrival ",2093.1821470515602,7544.7415651581196,2076.1427108476801,2420.20846917994,2407.5882921174002,2420.20846917994,421.907993193685,1136543.4755174799,445611.49895883602,21.558042925691499,220.52250472199901,44.745245140860199,286.82579278855002,null,"F111D "," Departure ",276.799567059536,6514.7389748447704,5314.0244830584697,320.04508418269501,318.37620909122398,320.04508418269501,574.63444410323802,1547960.7847897201,606918.38059742597,30.579369879901201,286.85868462375902,70.028635116428603,387.466689620088,null,2369.9817141110962,14059.480540002889,7390.1671939061498,2740.2535533626351,2725.9645012086244,2740.2535533626351,996.54243729692303,2684504.2603072003,1052529.8795562619,52.137412805592703,507.381189345758,114.77388025728879,674.29248240863808,null,0,0,0,0,0,0,0,0,0,0,0,0,0,null,{"$f":"(SUM(aem2csp2!$B190,aem2csp2!$C190) * Emissions!AG173)/1000","v":0},{"$f":"(SUM(aem2csp2!$B190,aem2csp2!$C190) * Emissions!AH173)/1000","v":0},{"$f":"(SUM(aem2csp2!$B190,aem2csp2!$C190) * Emissions!AI173)/1000","v":0},{"$f":"(SUM(aem2csp2!$B190,aem2csp2!$C190) * Emissions!AJ173)/1000","v":0},{"$f":"(SUM(aem2csp2!$B190,aem2csp2!$C190) * Emissions!AK173)/1000","v":0},{"$f":"(SUM(aem2csp2!$B190,aem2csp2!$C190) * Emissions!AL173)/1000","v":0},{"$f":"(SUM(aem2csp2!$B190,aem2csp2!$C190) * Emissions!AM173)/1000","v":0},{"$f":"(SUM(aem2csp2!$B190,aem2csp2!$C190) * Emissions!AN173)/1000","v":0},{"$f":"(SUM(aem2csp2!$B190,aem2csp2!$C190) * Emissions!AO173)/1000","v":0},{"$f":"(SUM(aem2csp2!$B190,aem2csp2!$C190) * Emissions!AP173)/1000","v":0},{"$f":"(SUM(aem2csp2!$B190,aem2csp2!$C190) * Emissions!AQ173)/1000","v":0},{"$f":"(SUM(aem2csp2!$B190,aem2csp2!$C190) * Emissions!AR173)/1000","v":0},{"$f":"(SUM(aem2csp2!$B190,aem2csp2!$C190) * Emissions!AS173)/1000","v":0},null,{"$f":"(SUM(aem2csp2!$D190,aem2csp2!$E190) * Emissions!AG173)/1000","v":0},{"$f":"(SUM(aem2csp2!$D190,aem2csp2!$E190) * Emissions!AH173)/1000","v":0},{"$f":"(SUM(aem2csp2!$D190,aem2csp2!$E190) * Emissions!AI173)/1000","v":0},{"$f":"(SUM(aem2csp2!$D190,aem2csp2!$E190) * Emissions!AJ173)/1000","v":0},{"$f":"(SUM(aem2csp2!$D190,aem2csp2!$E190) * Emissions!AK173)/1000","v":0},{"$f":"(SUM(aem2csp2!$D190,aem2csp2!$E190) * Emissions!AL173)/1000","v":0},{"$f":"(SUM(aem2csp2!$D190,aem2csp2!$E190) * Emissions!AM173)/1000","v":0},{"$f":"(SUM(aem2csp2!$D190,aem2csp2!$E190) * Emissions!AN173)/1000","v":0},{"$f":"(SUM(aem2csp2!$D190,aem2csp2!$E190) * Emissions!AO173)/1000","v":0},{"$f":"(SUM(aem2csp2!$D190,aem2csp2!$E190) * Emissions!AP173)/1000","v":0},{"$f":"(SUM(aem2csp2!$D190,aem2csp2!$E190) * Emissions!AQ173)/1000","v":0},{"$f":"(SUM(aem2csp2!$D190,aem2csp2!$E190) * Emissions!AR173)/1000","v":0},{"$f":"(SUM(aem2csp2!$D190,aem2csp2!$E190) * Emissions!AS173)/1000","v":0}]
["F-111F "," Arrival ",2891.70351492392,10422.960913311699,2862.9221092908901,3343.4860635680102,3326.0514554895399,3343.4860635680102,581.36711943115404,1566097.38883648,614029.30903034203,30.551755659091,319.51408958577298,67.969302236904198,418.03514748176798,null,"F-111F "," Departure ",389.70519751533698,7655.5873976139501,5828.1060295964498,450.590418439502,448.24081470254998,450.590418439502,884.83673192422202,2383589.38628835,934548.35842747905,40.839268199991899,259.82314204421903,61.207819105701503,361.87022934991199,null,3281.4087124392572,18078.548310925649,8691.0281388873409,3794.0764820075124,3774.2922701920897,3794.0764820075124,1466.2038513553762,3949686.7751248302,1548577.6674578211,71.391023859082907,579.33723162999195,129.17712134260569,779.90537683167997,null,0,0,0,0,0,0,0,0,0,0,0,0,0,null,{"$f":"(SUM(aem2csp2!$B191,aem2csp2!$C191) * Emissions!AG174)/1000","v":0},{"$f":"(SUM(aem2csp2!$B191,aem2csp2!$C191) * Emissions!AH174)/1000","v":0},{"$f":"(SUM(aem2csp2!$B191,aem2csp2!$C191) * Emissions!AI174)/1000","v":0},{"$f":"(SUM(aem2csp2!$B191,aem2csp2!$C191) * Emissions!AJ174)/1000","v":0},{"$f":"(SUM(aem2csp2!$B191,aem2csp2!$C191) * Emissions!AK174)/1000","v":0},{"$f":"(SUM(aem2csp2!$B191,aem2csp2!$C191) * Emissions!AL174)/1000","v":0},{"$f":"(SUM(aem2csp2!$B191,aem2csp2!$C191) * Emissions!AM174)/1000","v":0},{"$f":"(SUM(aem2csp2!$B191,aem2csp2!$C191) * Emissions!AN174)/1000","v":0},{"$f":"(SUM(aem2csp2!$B191,aem2csp2!$C191) * Emissions!AO174)/1000","v":0},{"$f":"(SUM(aem2csp2!$B191,aem2csp2!$C191) * Emissions!AP174)/1000","v":0},{"$f":"(SUM(aem2csp2!$B191,aem2csp2!$C191) * Emissions!AQ174)/1000","v":0},{"$f":"(SUM(aem2csp2!$B191,aem2csp2!$C191) * Emissions!AR174)/1000","v":0},{"$f":"(SUM(aem2csp2!$B191,aem2csp2!$C191) * Emissions!AS174)/1000","v":0},null,{"$f":"(SUM(aem2csp2!$D191,aem2csp2!$E191) * Emissions!AG174)/1000","v":0},{"$f":"(SUM(aem2csp2!$D191,aem2csp2!$E191) * Emissions!AH174)/1000","v":0},{"$f":"(SUM(aem2csp2!$D191,aem2csp2!$E191) * Emissions!AI174)/1000","v":0},{"$f":"(SUM(aem2csp2!$D191,aem2csp2!$E191) * Emissions!AJ174)/1000","v":0},{"$f":"(SUM(aem2csp2!$D191,aem2csp2!$E191) * Emissions!AK174)/1000","v":0},{"$f":"(SUM(aem2csp2!$D191,aem2csp2!$E191) * Emissions!AL174)/1000","v":0},{"$f":"(SUM(aem2csp2!$D191,aem2csp2!$E191) * Emissions!AM174)/1000","v":0},{"$f":"(SUM(aem2csp2!$D191,aem2csp2!$E191) * Emissions!AN174)/1000","v":0},{"$f":"(SUM(aem2csp2!$D191,aem2csp2!$E191) * Emissions!AO174)/1000","v":0},{"$f":"(SUM(aem2csp2!$D191,aem2csp2!$E191) * Emissions!AP174)/1000","v":0},{"$f":"(SUM(aem2csp2!$D191,aem2csp2!$E191) * Emissions!AQ174)/1000","v":0},{"$f":"(SUM(aem2csp2!$D191,aem2csp2!$E191) * Emissions!AR174)/1000","v":0},{"$f":"(SUM(aem2csp2!$D191,aem2csp2!$E191) * Emissions!AS174)/1000","v":0}]
["F117A "," Arrival ",339.73409478585501,1272.49515976004,2723.52170242479,392.81212799759902,390.76380915615499,392.81212799759902,450.73380689598002,1214194.98015439,476056.795705539,20.461937584969998,126.010735983807,28.630673742013101,175.10334731079001,null,"F117A "," Departure ",182.82999843143099,965.34239171795798,10830.070190784099,211.39426936503801,210.291953947434,211.39426936503801,765.11268962825795,2061074.5694818599,808098.01662410703,39.202185939441499,333.294808918792,81.946389851034198,454.44338470926698,null,522.56409321728597,2237.8375514779982,13553.59189320889,604.20639736263706,601.05576310358902,604.20639736263706,1215.8464965242379,3275269.5496362499,1284154.812329646,59.664123524411494,459.30554490259897,110.5770635930473,629.54673202005699,null,0,0,0,0,0,0,0,0,0,0,0,0,0,null,{"$f":"(SUM(aem2csp2!$B192,aem2csp2!$C192) * Emissions!AG175)/1000","v":0},{"$f":"(SUM(aem2csp2!$B192,aem2csp2!$C192) * Emissions!AH175)/1000","v":0},{"$f":"(SUM(aem2csp2!$B192,aem2csp2!$C192) * Emissions!AI175)/1000","v":0},{"$f":"(SUM(aem2csp2!$B192,aem2csp2!$C192) * Emissions!AJ175)/1000","v":0},{"$f":"(SUM(aem2csp2!$B192,aem2csp2!$C192) * Emissions!AK175)/1000","v":0},{"$f":"(SUM(aem2csp2!$B192,aem2csp2!$C192) * Emissions!AL175)/1000","v":0},{"$f":"(SUM(aem2csp2!$B192,aem2csp2!$C192) * Emissions!AM175)/1000","v":0},{"$f":"(SUM(aem2csp2!$B192,aem2csp2!$C192) * Emissions!AN175)/1000","v":0},{"$f":"(SUM(aem2csp2!$B192,aem2csp2!$C192) * Emissions!AO175)/1000","v":0},{"$f":"(SUM(aem2csp2!$B192,aem2csp2!$C192) * Emissions!AP175)/1000","v":0},{"$f":"(SUM(aem2csp2!$B192,aem2csp2!$C192) * Emissions!AQ175)/1000","v":0},{"$f":"(SUM(aem2csp2!$B192,aem2csp2!$C192) * Emissions!AR175)/1000","v":0},{"$f":"(SUM(aem2csp2!$B192,aem2csp2!$C192) * Emissions!AS175)/1000","v":0},null,{"$f":"(SUM(aem2csp2!$D192,aem2csp2!$E192) * Emissions!AG175)/1000","v":0},{"$f":"(SUM(aem2csp2!$D192,aem2csp2!$E192) * Emissions!AH175)/1000","v":0},{"$f":"(SUM(aem2csp2!$D192,aem2csp2!$E192) * Emissions!AI175)/1000","v":0},{"$f":"(SUM(aem2csp2!$D192,aem2csp2!$E192) * Emissions!AJ175)/1000","v":0},{"$f":"(SUM(aem2csp2!$D192,aem2csp2!$E192) * Emissions!AK175)/1000","v":0},{"$f":"(SUM(aem2csp2!$D192,aem2csp2!$E192) * Emissions!AL175)/1000","v":0},{"$f":"(SUM(aem2csp2!$D192,aem2csp2!$E192) * Emissions!AM175)/1000","v":0},{"$f":"(SUM(aem2csp2!$D192,aem2csp2!$E192) * Emissions!AN175)/1000","v":0},{"$f":"(SUM(aem2csp2!$D192,aem2csp2!$E192) * Emissions!AO175)/1000","v":0},{"$f":"(SUM(aem2csp2!$D192,aem2csp2!$E192) * Emissions!AP175)/1000","v":0},{"$f":"(SUM(aem2csp2!$D192,aem2csp2!$E192) * Emissions!AQ175)/1000","v":0},{"$f":"(SUM(aem2csp2!$D192,aem2csp2!$E192) * Emissions!AR175)/1000","v":0},{"$f":"(SUM(aem2csp2!$D192,aem2csp2!$E192) * Emissions!AS175)/1000","v":0}]
["F14A "," Arrival ",1405.5109960815801,3159.9764463627298,3283.1108346317601,1625.09966991343,1616.6255876846701,1625.09966991343,530.87175529337105,1430072.05255344,560697.029796705,27.107445632881799,252.79036904198401,56.165002960080997,336.06281763494701,null,"F14A "," Departure ",507.26164129603802,5406.3411769709301,12062.078993393299,586.51318141810304,583.45480843359906,586.51318141810304,956.98823535189297,2577952.4270280199,1010753.45554157,46.772562529384103,358.45809077457898,85.625493607862495,490.85614691182502,null,1912.7726373776181,8566.3176233336599,15345.189828025059,2211.612851331533,2200.0803961182692,2211.612851331533,1487.8599906452641,4008024.4795814599,1571450.4853382749,73.880008162265909,611.24845981656301,141.79049656794348,826.91896454677203,null,0,0,0,0,0,0,0,0,0,0,0,0,0,null,{"$f":"(SUM(aem2csp2!$B193,aem2csp2!$C193) * Emissions!AG176)/1000","v":0},{"$f":"(SUM(aem2csp2!$B193,aem2csp2!$C193) * Emissions!AH176)/1000","v":0},{"$f":"(SUM(aem2csp2!$B193,aem2csp2!$C193) * Emissions!AI176)/1000","v":0},{"$f":"(SUM(aem2csp2!$B193,aem2csp2!$C193) * Emissions!AJ176)/1000","v":0},{"$f":"(SUM(aem2csp2!$B193,aem2csp2!$C193) * Emissions!AK176)/1000","v":0},{"$f":"(SUM(aem2csp2!$B193,aem2csp2!$C193) * Emissions!AL176)/1000","v":0},{"$f":"(SUM(aem2csp2!$B193,aem2csp2!$C193) * Emissions!AM176)/1000","v":0},{"$f":"(SUM(aem2csp2!$B193,aem2csp2!$C193) * Emissions!AN176)/1000","v":0},{"$f":"(SUM(aem2csp2!$B193,aem2csp2!$C193) * Emissions!AO176)/1000","v":0},{"$f":"(SUM(aem2csp2!$B193,aem2csp2!$C193) * Emissions!AP176)/1000","v":0},{"$f":"(SUM(aem2csp2!$B193,aem2csp2!$C193) * Emissions!AQ176)/1000","v":0},{"$f":"(SUM(aem2csp2!$B193,aem2csp2!$C193) * Emissions!AR176)/1000","v":0},{"$f":"(SUM(aem2csp2!$B193,aem2csp2!$C193) * Emissions!AS176)/1000","v":0},null,{"$f":"(SUM(aem2csp2!$D193,aem2csp2!$E193) * Emissions!AG176)/1000","v":0},{"$f":"(SUM(aem2csp2!$D193,aem2csp2!$E193) * Emissions!AH176)/1000","v":0},{"$f":"(SUM(aem2csp2!$D193,aem2csp2!$E193) * Emissions!AI176)/1000","v":0},{"$f":"(SUM(aem2csp2!$D193,aem2csp2!$E193) * Emissions!AJ176)/1000","v":0},{"$f":"(SUM(aem2csp2!$D193,aem2csp2!$E193) * Emissions!AK176)/1000","v":0},{"$f":"(SUM(aem2csp2!$D193,aem2csp2!$E193) * Emissions!AL176)/1000","v":0},{"$f":"(SUM(aem2csp2!$D193,aem2csp2!$E193) * Emissions!AM176)/1000","v":0},{"$f":"(SUM(aem2csp2!$D193,aem2csp2!$E193) * Emissions!AN176)/1000","v":0},{"$f":"(SUM(aem2csp2!$D193,aem2csp2!$E193) * Emissions!AO176)/1000","v":0},{"$f":"(SUM(aem2csp2!$D193,aem2csp2!$E193) * Emissions!AP176)/1000","v":0},{"$f":"(SUM(aem2csp2!$D193,aem2csp2!$E193) * Emissions!AQ176)/1000","v":0},{"$f":"(SUM(aem2csp2!$D193,aem2csp2!$E193) * Emissions!AR176)/1000","v":0},{"$f":"(SUM(aem2csp2!$D193,aem2csp2!$E193) * Emissions!AS176)/1000","v":0}]
["F15A "," Arrival ",51.609004732342001,1162.03500977983,3749.7721915534298,59.6720885065359,59.360928401018597,59.6720885065359,358.93088361187603,966894.58486635005,379096.22867818503,17.823941648912101,138.03681505666299,34.214087650711797,190.074844356287,null,"F15A "," Departure ",142.870502876204,623.12195230344298,18892.583072885202,165.19174002321901,164.33034769486801,165.19174002321901,711.88428304138995,1917686.9134183601,751879.14798685,38.663078898353298,372.43945547448499,92.575015409398503,503.67754978223701,null,194.47950760854599,1785.1569620832729,22642.355264438633,224.86382852975493,223.69127609588662,224.86382852975493,1070.815166653266,2884581.4982847101,1130975.376665035,56.487020547265402,510.47627053114797,126.78910306011031,693.75239413852398,null,0,0,0,0,0,0,0,0,0,0,0,0,0,null,{"$f":"(SUM(aem2csp2!$B194,aem2csp2!$C194) * Emissions!AG177)/1000","v":0},{"$f":"(SUM(aem2csp2!$B194,aem2csp2!$C194) * Emissions!AH177)/1000","v":0},{"$f":"(SUM(aem2csp2!$B194,aem2csp2!$C194) * Emissions!AI177)/1000","v":0},{"$f":"(SUM(aem2csp2!$B194,aem2csp2!$C194) * Emissions!AJ177)/1000","v":0},{"$f":"(SUM(aem2csp2!$B194,aem2csp2!$C194) * Emissions!AK177)/1000","v":0},{"$f":"(SUM(aem2csp2!$B194,aem2csp2!$C194) * Emissions!AL177)/1000","v":0},{"$f":"(SUM(aem2csp2!$B194,aem2csp2!$C194) * Emissions!AM177)/1000","v":0},{"$f":"(SUM(aem2csp2!$B194,aem2csp2!$C194) * Emissions!AN177)/1000","v":0},{"$f":"(SUM(aem2csp2!$B194,aem2csp2!$C194) * Emissions!AO177)/1000","v":0},{"$f":"(SUM(aem2csp2!$B194,aem2csp2!$C194) * Emissions!AP177)/1000","v":0},{"$f":"(SUM(aem2csp2!$B194,aem2csp2!$C194) * Emissions!AQ177)/1000","v":0},{"$f":"(SUM(aem2csp2!$B194,aem2csp2!$C194) * Emissions!AR177)/1000","v":0},{"$f":"(SUM(aem2csp2!$B194,aem2csp2!$C194) * Emissions!AS177)/1000","v":0},null,{"$f":"(SUM(aem2csp2!$D194,aem2csp2!$E194) * Emissions!AG177)/1000","v":0},{"$f":"(SUM(aem2csp2!$D194,aem2csp2!$E194) * Emissions!AH177)/1000","v":0},{"$f":"(SUM(aem2csp2!$D194,aem2csp2!$E194) * Emissions!AI177)/1000","v":0},{"$f":"(SUM(aem2csp2!$D194,aem2csp2!$E194) * Emissions!AJ177)/1000","v":0},{"$f":"(SUM(aem2csp2!$D194,aem2csp2!$E194) * Emissions!AK177)/1000","v":0},{"$f":"(SUM(aem2csp2!$D194,aem2csp2!$E194) * Emissions!AL177)/1000","v":0},{"$f":"(SUM(aem2csp2!$D194,aem2csp2!$E194) * Emissions!AM177)/1000","v":0},{"$f":"(SUM(aem2csp2!$D194,aem2csp2!$E194) * Emissions!AN177)/1000","v":0},{"$f":"(SUM(aem2csp2!$D194,aem2csp2!$E194) * Emissions!AO177)/1000","v":0},{"$f":"(SUM(aem2csp2!$D194,aem2csp2!$E194) * Emissions!AP177)/1000","v":0},{"$f":"(SUM(aem2csp2!$D194,aem2csp2!$E194) * Emissions!AQ177)/1000","v":0},{"$f":"(SUM(aem2csp2!$D194,aem2csp2!$E194) * Emissions!AR177)/1000","v":0},{"$f":"(SUM(aem2csp2!$D194,aem2csp2!$E194) * Emissions!AS177)/1000","v":0}]
["F15E20 "," Arrival ",2326.0386966269498,872.26451123510799,5206.4324916467704,2689.4451403316698,2675.4210286474099,2689.4451403316698,490.84936521556398,1322259.00551153,518426.114046834,23.8554371080881,230.55785897243399,42.912966951108103,297.32626303163102,null,"F15E20 "," Departure ",2115.2428993420999,516.68391200984695,11942.170145182699,2445.71586212482,2432.9626767617701,2445.71586212482,611.18471133030505,1646420.5637355801,645522.10375306301,31.872510606269,315.56577058900803,69.618001772598504,417.05628296787597,null,4441.2815959690497,1388.9484232449549,17148.60263682947,5135.1610024564898,5108.38370540918,5135.1610024564898,1102.0340765458691,2968679.5692471098,1163948.2177998971,55.7279477143571,546.12362956144204,112.53096872370661,714.38254599950699,null,0,0,0,0,0,0,0,0,0,0,0,0,0,null,{"$f":"(SUM(aem2csp2!$B195,aem2csp2!$C195) * Emissions!AG178)/1000","v":0},{"$f":"(SUM(aem2csp2!$B195,aem2csp2!$C195) * Emissions!AH178)/1000","v":0},{"$f":"(SUM(aem2csp2!$B195,aem2csp2!$C195) * Emissions!AI178)/1000","v":0},{"$f":"(SUM(aem2csp2!$B195,aem2csp2!$C195) * Emissions!AJ178)/1000","v":0},{"$f":"(SUM(aem2csp2!$B195,aem2csp2!$C195) * Emissions!AK178)/1000","v":0},{"$f":"(SUM(aem2csp2!$B195,aem2csp2!$C195) * Emissions!AL178)/1000","v":0},{"$f":"(SUM(aem2csp2!$B195,aem2csp2!$C195) * Emissions!AM178)/1000","v":0},{"$f":"(SUM(aem2csp2!$B195,aem2csp2!$C195) * Emissions!AN178)/1000","v":0},{"$f":"(SUM(aem2csp2!$B195,aem2csp2!$C195) * Emissions!AO178)/1000","v":0},{"$f":"(SUM(aem2csp2!$B195,aem2csp2!$C195) * Emissions!AP178)/1000","v":0},{"$f":"(SUM(aem2csp2!$B195,aem2csp2!$C195) * Emissions!AQ178)/1000","v":0},{"$f":"(SUM(aem2csp2!$B195,aem2csp2!$C195) * Emissions!AR178)/1000","v":0},{"$f":"(SUM(aem2csp2!$B195,aem2csp2!$C195) * Emissions!AS178)/1000","v":0},null,{"$f":"(SUM(aem2csp2!$D195,aem2csp2!$E195) * Emissions!AG178)/1000","v":0},{"$f":"(SUM(aem2csp2!$D195,aem2csp2!$E195) * Emissions!AH178)/1000","v":0},{"$f":"(SUM(aem2csp2!$D195,aem2csp2!$E195) * Emissions!AI178)/1000","v":0},{"$f":"(SUM(aem2csp2!$D195,aem2csp2!$E195) * Emissions!AJ178)/1000","v":0},{"$f":"(SUM(aem2csp2!$D195,aem2csp2!$E195) * Emissions!AK178)/1000","v":0},{"$f":"(SUM(aem2csp2!$D195,aem2csp2!$E195) * Emissions!AL178)/1000","v":0},{"$f":"(SUM(aem2csp2!$D195,aem2csp2!$E195) * Emissions!AM178)/1000","v":0},{"$f":"(SUM(aem2csp2!$D195,aem2csp2!$E195) * Emissions!AN178)/1000","v":0},{"$f":"(SUM(aem2csp2!$D195,aem2csp2!$E195) * Emissions!AO178)/1000","v":0},{"$f":"(SUM(aem2csp2!$D195,aem2csp2!$E195) * Emissions!AP178)/1000","v":0},{"$f":"(SUM(aem2csp2!$D195,aem2csp2!$E195) * Emissions!AQ178)/1000","v":0},{"$f":"(SUM(aem2csp2!$D195,aem2csp2!$E195) * Emissions!AR178)/1000","v":0},{"$f":"(SUM(aem2csp2!$D195,aem2csp2!$E195) * Emissions!AS178)/1000","v":0}]
["F15E29 "," Arrival ",77.029621251182405,429.16503268515902,5059.2018296506903,89.064270872191102,88.599845231727997,89.064270872191102,396.31428527922901,1067598.6766188201,418579.89317828399,19.261001801160699,140.54333912172299,34.648148763461698,194.45248968634601,null,"F15E29 "," Departure ",306.78195690052598,295.82545843979301,14353.678515673,354.71174418723803,352.86209979717398,354.71174418723803,757.53049232899002,2040649.50759731,800089.83863640798,39.300960978368501,347.33235965724998,84.770615603162895,471.403936238781,null,383.81157815170837,724.99049112495209,19412.880345323691,443.77601505942914,441.46194502890199,443.77601505942914,1153.8447776082189,3108248.1842161301,1218669.731814692,58.561962779529196,487.87569877897295,119.4187643666246,665.85642592512704,null,0,0,0,0,0,0,0,0,0,0,0,0,0,null,{"$f":"(SUM(aem2csp2!$B196,aem2csp2!$C196) * Emissions!AG179)/1000","v":0},{"$f":"(SUM(aem2csp2!$B196,aem2csp2!$C196) * Emissions!AH179)/1000","v":0},{"$f":"(SUM(aem2csp2!$B196,aem2csp2!$C196) * Emissions!AI179)/1000","v":0},{"$f":"(SUM(aem2csp2!$B196,aem2csp2!$C196) * Emissions!AJ179)/1000","v":0},{"$f":"(SUM(aem2csp2!$B196,aem2csp2!$C196) * Emissions!AK179)/1000","v":0},{"$f":"(SUM(aem2csp2!$B196,aem2csp2!$C196) * Emissions!AL179)/1000","v":0},{"$f":"(SUM(aem2csp2!$B196,aem2csp2!$C196) * Emissions!AM179)/1000","v":0},{"$f":"(SUM(aem2csp2!$B196,aem2csp2!$C196) * Emissions!AN179)/1000","v":0},{"$f":"(SUM(aem2csp2!$B196,aem2csp2!$C196) * Emissions!AO179)/1000","v":0},{"$f":"(SUM(aem2csp2!$B196,aem2csp2!$C196) * Emissions!AP179)/1000","v":0},{"$f":"(SUM(aem2csp2!$B196,aem2csp2!$C196) * Emissions!AQ179)/1000","v":0},{"$f":"(SUM(aem2csp2!$B196,aem2csp2!$C196) * Emissions!AR179)/1000","v":0},{"$f":"(SUM(aem2csp2!$B196,aem2csp2!$C196) * Emissions!AS179)/1000","v":0},null,{"$f":"(SUM(aem2csp2!$D196,aem2csp2!$E196) * Emissions!AG179)/1000","v":0},{"$f":"(SUM(aem2csp2!$D196,aem2csp2!$E196) * Emissions!AH179)/1000","v":0},{"$f":"(SUM(aem2csp2!$D196,aem2csp2!$E196) * Emissions!AI179)/1000","v":0},{"$f":"(SUM(aem2csp2!$D196,aem2csp2!$E196) * Emissions!AJ179)/1000","v":0},{"$f":"(SUM(aem2csp2!$D196,aem2csp2!$E196) * Emissions!AK179)/1000","v":0},{"$f":"(SUM(aem2csp2!$D196,aem2csp2!$E196) * Emissions!AL179)/1000","v":0},{"$f":"(SUM(aem2csp2!$D196,aem2csp2!$E196) * Emissions!AM179)/1000","v":0},{"$f":"(SUM(aem2csp2!$D196,aem2csp2!$E196) * Emissions!AN179)/1000","v":0},{"$f":"(SUM(aem2csp2!$D196,aem2csp2!$E196) * Emissions!AO179)/1000","v":0},{"$f":"(SUM(aem2csp2!$D196,aem2csp2!$E196) * Emissions!AP179)/1000","v":0},{"$f":"(SUM(aem2csp2!$D196,aem2csp2!$E196) * Emissions!AQ179)/1000","v":0},{"$f":"(SUM(aem2csp2!$D196,aem2csp2!$E196) * Emissions!AR179)/1000","v":0},{"$f":"(SUM(aem2csp2!$D196,aem2csp2!$E196) * Emissions!AS179)/1000","v":0}]
["F16A "," Arrival ",3247.2677897654498,254.32630816551099,2378.4139567428601,3754.6015847477802,3735.0232147841198,3754.6015847477802,203.137109158936,547214.46328248305,214549.69606352801,9.8588743324081793,155.030259157122,17.657553054721301,182.546686544251,null,"F16A "," Departure ",1215.75222491097,194.46273739689701,7255.8727450546003,1405.6941175895699,1398.3641256133999,1405.6941175895699,299.23324177306301,806079.98445527197,316044.672193715,16.295895455478998,179.834355266187,39.243311572648203,235.37356229431401,null,4463.02001467642,448.78904556240798,9634.2867017974604,5160.2957023373501,5133.3873403975194,5160.2957023373501,502.37035093199904,1353294.447737755,530594.36825724295,26.154769787887176,334.86461442330904,56.900864627369501,417.92024883856504,null,0,0,0,0,0,0,0,0,0,0,0,0,0,null,{"$f":"(SUM(aem2csp2!$B197,aem2csp2!$C197) * Emissions!AG180)/1000","v":0},{"$f":"(SUM(aem2csp2!$B197,aem2csp2!$C197) * Emissions!AH180)/1000","v":0},{"$f":"(SUM(aem2csp2!$B197,aem2csp2!$C197) * Emissions!AI180)/1000","v":0},{"$f":"(SUM(aem2csp2!$B197,aem2csp2!$C197) * Emissions!AJ180)/1000","v":0},{"$f":"(SUM(aem2csp2!$B197,aem2csp2!$C197) * Emissions!AK180)/1000","v":0},{"$f":"(SUM(aem2csp2!$B197,aem2csp2!$C197) * Emissions!AL180)/1000","v":0},{"$f":"(SUM(aem2csp2!$B197,aem2csp2!$C197) * Emissions!AM180)/1000","v":0},{"$f":"(SUM(aem2csp2!$B197,aem2csp2!$C197) * Emissions!AN180)/1000","v":0},{"$f":"(SUM(aem2csp2!$B197,aem2csp2!$C197) * Emissions!AO180)/1000","v":0},{"$f":"(SUM(aem2csp2!$B197,aem2csp2!$C197) * Emissions!AP180)/1000","v":0},{"$f":"(SUM(aem2csp2!$B197,aem2csp2!$C197) * Emissions!AQ180)/1000","v":0},{"$f":"(SUM(aem2csp2!$B197,aem2csp2!$C197) * Emissions!AR180)/1000","v":0},{"$f":"(SUM(aem2csp2!$B197,aem2csp2!$C197) * Emissions!AS180)/1000","v":0},null,{"$f":"(SUM(aem2csp2!$D197,aem2csp2!$E197) * Emissions!AG180)/1000","v":0},{"$f":"(SUM(aem2csp2!$D197,aem2csp2!$E197) * Emissions!AH180)/1000","v":0},{"$f":"(SUM(aem2csp2!$D197,aem2csp2!$E197) * Emissions!AI180)/1000","v":0},{"$f":"(SUM(aem2csp2!$D197,aem2csp2!$E197) * Emissions!AJ180)/1000","v":0},{"$f":"(SUM(aem2csp2!$D197,aem2csp2!$E197) * Emissions!AK180)/1000","v":0},{"$f":"(SUM(aem2csp2!$D197,aem2csp2!$E197) * Emissions!AL180)/1000","v":0},{"$f":"(SUM(aem2csp2!$D197,aem2csp2!$E197) * Emissions!AM180)/1000","v":0},{"$f":"(SUM(aem2csp2!$D197,aem2csp2!$E197) * Emissions!AN180)/1000","v":0},{"$f":"(SUM(aem2csp2!$D197,aem2csp2!$E197) * Emissions!AO180)/1000","v":0},{"$f":"(SUM(aem2csp2!$D197,aem2csp2!$E197) * Emissions!AP180)/1000","v":0},{"$f":"(SUM(aem2csp2!$D197,aem2csp2!$E197) * Emissions!AQ180)/1000","v":0},{"$f":"(SUM(aem2csp2!$D197,aem2csp2!$E197) * Emissions!AR180)/1000","v":0},{"$f":"(SUM(aem2csp2!$D197,aem2csp2!$E197) * Emissions!AS180)/1000","v":0}]
["F16GE "," Arrival ",101.066290243503,1122.95878048337,2856.5764161054199,116.85628598565501,116.24693888238301,116.85628598565501,310.17749248675699,835561.80737339298,327603.78945194499,15.058214486784101,110.60713464742,26.994338830270301,152.65968796447399,null,"F16GE "," Departure ",123.13606899239799,646.08431261443502,5122.0971640249099,142.374115629024,141.63170580307599,142.374115629024,316.06060717121699,851409.84940675402,333817.427485311,16.6142884293569,150.31237051035399,36.9874269703365,203.91408591004799,null,224.20235923590099,1769.043093097805,7978.6735801303294,259.23040161467901,257.87864468545899,259.23040161467901,626.23809965797398,1686971.656780147,661421.21693725605,31.672502916140999,260.91950515777398,63.981765800606802,356.57377387452198,null,0,0,0,0,0,0,0,0,0,0,0,0,0,null,{"$f":"(SUM(aem2csp2!$B198,aem2csp2!$C198) * Emissions!AG181)/1000","v":0},{"$f":"(SUM(aem2csp2!$B198,aem2csp2!$C198) * Emissions!AH181)/1000","v":0},{"$f":"(SUM(aem2csp2!$B198,aem2csp2!$C198) * Emissions!AI181)/1000","v":0},{"$f":"(SUM(aem2csp2!$B198,aem2csp2!$C198) * Emissions!AJ181)/1000","v":0},{"$f":"(SUM(aem2csp2!$B198,aem2csp2!$C198) * Emissions!AK181)/1000","v":0},{"$f":"(SUM(aem2csp2!$B198,aem2csp2!$C198) * Emissions!AL181)/1000","v":0},{"$f":"(SUM(aem2csp2!$B198,aem2csp2!$C198) * Emissions!AM181)/1000","v":0},{"$f":"(SUM(aem2csp2!$B198,aem2csp2!$C198) * Emissions!AN181)/1000","v":0},{"$f":"(SUM(aem2csp2!$B198,aem2csp2!$C198) * Emissions!AO181)/1000","v":0},{"$f":"(SUM(aem2csp2!$B198,aem2csp2!$C198) * Emissions!AP181)/1000","v":0},{"$f":"(SUM(aem2csp2!$B198,aem2csp2!$C198) * Emissions!AQ181)/1000","v":0},{"$f":"(SUM(aem2csp2!$B198,aem2csp2!$C198) * Emissions!AR181)/1000","v":0},{"$f":"(SUM(aem2csp2!$B198,aem2csp2!$C198) * Emissions!AS181)/1000","v":0},null,{"$f":"(SUM(aem2csp2!$D198,aem2csp2!$E198) * Emissions!AG181)/1000","v":0},{"$f":"(SUM(aem2csp2!$D198,aem2csp2!$E198) * Emissions!AH181)/1000","v":0},{"$f":"(SUM(aem2csp2!$D198,aem2csp2!$E198) * Emissions!AI181)/1000","v":0},{"$f":"(SUM(aem2csp2!$D198,aem2csp2!$E198) * Emissions!AJ181)/1000","v":0},{"$f":"(SUM(aem2csp2!$D198,aem2csp2!$E198) * Emissions!AK181)/1000","v":0},{"$f":"(SUM(aem2csp2!$D198,aem2csp2!$E198) * Emissions!AL181)/1000","v":0},{"$f":"(SUM(aem2csp2!$D198,aem2csp2!$E198) * Emissions!AM181)/1000","v":0},{"$f":"(SUM(aem2csp2!$D198,aem2csp2!$E198) * Emissions!AN181)/1000","v":0},{"$f":"(SUM(aem2csp2!$D198,aem2csp2!$E198) * Emissions!AO181)/1000","v":0},{"$f":"(SUM(aem2csp2!$D198,aem2csp2!$E198) * Emissions!AP181)/1000","v":0},{"$f":"(SUM(aem2csp2!$D198,aem2csp2!$E198) * Emissions!AQ181)/1000","v":0},{"$f":"(SUM(aem2csp2!$D198,aem2csp2!$E198) * Emissions!AR181)/1000","v":0},{"$f":"(SUM(aem2csp2!$D198,aem2csp2!$E198) * Emissions!AS181)/1000","v":0}]
["F16PW0 "," Arrival ",891.97116736868702,334.48918776325797,2084.9105918657501,1031.3274344379499,1025.94957753108,1031.3274344379499,196.88278729902899,530366.45656458102,207943.99580677901,9.0009253881585103,81.633723543366003,12.976532573385599,103.61118150490999,null,"F16PW0 "," Departure ",1005.21196044104,242.223522555172,5665.6974896829797,1162.2602951239701,1156.19968881504,1162.2602951239701,291.94580068587601,786448.94225063105,308347.81032140402,15.697088845361399,161.125791829327,36.780568635163398,213.60344930985201,null,1897.183127809727,576.71271031843003,7750.6080815487294,2193.5877295619202,2182.1492663461199,2193.5877295619202,488.82858798490497,1316815.3988152121,516291.80612818303,24.69801423351991,242.75951537269299,49.757101208548995,317.21463081476202,null,0,0,0,0,0,0,0,0,0,0,0,0,0,null,{"$f":"(SUM(aem2csp2!$B199,aem2csp2!$C199) * Emissions!AG182)/1000","v":0},{"$f":"(SUM(aem2csp2!$B199,aem2csp2!$C199) * Emissions!AH182)/1000","v":0},{"$f":"(SUM(aem2csp2!$B199,aem2csp2!$C199) * Emissions!AI182)/1000","v":0},{"$f":"(SUM(aem2csp2!$B199,aem2csp2!$C199) * Emissions!AJ182)/1000","v":0},{"$f":"(SUM(aem2csp2!$B199,aem2csp2!$C199) * Emissions!AK182)/1000","v":0},{"$f":"(SUM(aem2csp2!$B199,aem2csp2!$C199) * Emissions!AL182)/1000","v":0},{"$f":"(SUM(aem2csp2!$B199,aem2csp2!$C199) * Emissions!AM182)/1000","v":0},{"$f":"(SUM(aem2csp2!$B199,aem2csp2!$C199) * Emissions!AN182)/1000","v":0},{"$f":"(SUM(aem2csp2!$B199,aem2csp2!$C199) * Emissions!AO182)/1000","v":0},{"$f":"(SUM(aem2csp2!$B199,aem2csp2!$C199) * Emissions!AP182)/1000","v":0},{"$f":"(SUM(aem2csp2!$B199,aem2csp2!$C199) * Emissions!AQ182)/1000","v":0},{"$f":"(SUM(aem2csp2!$B199,aem2csp2!$C199) * Emissions!AR182)/1000","v":0},{"$f":"(SUM(aem2csp2!$B199,aem2csp2!$C199) * Emissions!AS182)/1000","v":0},null,{"$f":"(SUM(aem2csp2!$D199,aem2csp2!$E199) * Emissions!AG182)/1000","v":0},{"$f":"(SUM(aem2csp2!$D199,aem2csp2!$E199) * Emissions!AH182)/1000","v":0},{"$f":"(SUM(aem2csp2!$D199,aem2csp2!$E199) * Emissions!AI182)/1000","v":0},{"$f":"(SUM(aem2csp2!$D199,aem2csp2!$E199) * Emissions!AJ182)/1000","v":0},{"$f":"(SUM(aem2csp2!$D199,aem2csp2!$E199) * Emissions!AK182)/1000","v":0},{"$f":"(SUM(aem2csp2!$D199,aem2csp2!$E199) * Emissions!AL182)/1000","v":0},{"$f":"(SUM(aem2csp2!$D199,aem2csp2!$E199) * Emissions!AM182)/1000","v":0},{"$f":"(SUM(aem2csp2!$D199,aem2csp2!$E199) * Emissions!AN182)/1000","v":0},{"$f":"(SUM(aem2csp2!$D199,aem2csp2!$E199) * Emissions!AO182)/1000","v":0},{"$f":"(SUM(aem2csp2!$D199,aem2csp2!$E199) * Emissions!AP182)/1000","v":0},{"$f":"(SUM(aem2csp2!$D199,aem2csp2!$E199) * Emissions!AQ182)/1000","v":0},{"$f":"(SUM(aem2csp2!$D199,aem2csp2!$E199) * Emissions!AR182)/1000","v":0},{"$f":"(SUM(aem2csp2!$D199,aem2csp2!$E199) * Emissions!AS182)/1000","v":0}]
["F-18 "," Arrival ",132.93159147443799,1090.5313893180801,1261.6598259821601,153.70003225050399,152.89856343233399,153.70003225050399,273.45843085763198,736647.32697731501,288821.78873880801,12.762907871965,83.949131703190702,19.972585118692098,116.68462469384799,null,"F-18 "," Departure ",186.150493142774,9435.5031211743499,7824.2778748853398,215.23353840981599,214.11120312377801,215.23353840981599,817.490626028782,2202171.2133886698,863418.63421926496,39.631808354355798,288.949547815877,70.734817843276801,399.316174013509,null,319.08208461721199,10526.034510492431,9085.9377008675001,368.93357066032002,367.00976655611203,368.93357066032002,1090.9490568864139,2938818.5403659847,1152240.422958073,52.394716226320796,372.89867951906768,90.707402961968896,516.00079870735703,null,0,0,0,0,0,0,0,0,0,0,0,0,0,null,{"$f":"(SUM(aem2csp2!$B200,aem2csp2!$C200) * Emissions!AG183)/1000","v":0},{"$f":"(SUM(aem2csp2!$B200,aem2csp2!$C200) * Emissions!AH183)/1000","v":0},{"$f":"(SUM(aem2csp2!$B200,aem2csp2!$C200) * Emissions!AI183)/1000","v":0},{"$f":"(SUM(aem2csp2!$B200,aem2csp2!$C200) * Emissions!AJ183)/1000","v":0},{"$f":"(SUM(aem2csp2!$B200,aem2csp2!$C200) * Emissions!AK183)/1000","v":0},{"$f":"(SUM(aem2csp2!$B200,aem2csp2!$C200) * Emissions!AL183)/1000","v":0},{"$f":"(SUM(aem2csp2!$B200,aem2csp2!$C200) * Emissions!AM183)/1000","v":0},{"$f":"(SUM(aem2csp2!$B200,aem2csp2!$C200) * Emissions!AN183)/1000","v":0},{"$f":"(SUM(aem2csp2!$B200,aem2csp2!$C200) * Emissions!AO183)/1000","v":0},{"$f":"(SUM(aem2csp2!$B200,aem2csp2!$C200) * Emissions!AP183)/1000","v":0},{"$f":"(SUM(aem2csp2!$B200,aem2csp2!$C200) * Emissions!AQ183)/1000","v":0},{"$f":"(SUM(aem2csp2!$B200,aem2csp2!$C200) * Emissions!AR183)/1000","v":0},{"$f":"(SUM(aem2csp2!$B200,aem2csp2!$C200) * Emissions!AS183)/1000","v":0},null,{"$f":"(SUM(aem2csp2!$D200,aem2csp2!$E200) * Emissions!AG183)/1000","v":0},{"$f":"(SUM(aem2csp2!$D200,aem2csp2!$E200) * Emissions!AH183)/1000","v":0},{"$f":"(SUM(aem2csp2!$D200,aem2csp2!$E200) * Emissions!AI183)/1000","v":0},{"$f":"(SUM(aem2csp2!$D200,aem2csp2!$E200) * Emissions!AJ183)/1000","v":0},{"$f":"(SUM(aem2csp2!$D200,aem2csp2!$E200) * Emissions!AK183)/1000","v":0},{"$f":"(SUM(aem2csp2!$D200,aem2csp2!$E200) * Emissions!AL183)/1000","v":0},{"$f":"(SUM(aem2csp2!$D200,aem2csp2!$E200) * Emissions!AM183)/1000","v":0},{"$f":"(SUM(aem2csp2!$D200,aem2csp2!$E200) * Emissions!AN183)/1000","v":0},{"$f":"(SUM(aem2csp2!$D200,aem2csp2!$E200) * Emissions!AO183)/1000","v":0},{"$f":"(SUM(aem2csp2!$D200,aem2csp2!$E200) * Emissions!AP183)/1000","v":0},{"$f":"(SUM(aem2csp2!$D200,aem2csp2!$E200) * Emissions!AQ183)/1000","v":0},{"$f":"(SUM(aem2csp2!$D200,aem2csp2!$E200) * Emissions!AR183)/1000","v":0},{"$f":"(SUM(aem2csp2!$D200,aem2csp2!$E200) * Emissions!AS183)/1000","v":0}]
["F28MK2 "," Arrival ",79.611979160771796,876.88106544671496,1465.17560796675,92.050081013962796,91.570085866515498,92.050081013962796,231.03426058647099,622364.32048353401,244014.15671573099,9.9180757658955994,44.049146204483101,53.522655000496201,107.489876970875,null,"F28MK2 "," Departure ",93.4691176663015,212.429812877958,8725.2481360555394,108.072176375765,107.508634012054,108.072176375765,470.60289320779998,1267718.68858488,497042.16094437201,23.043539738912099,174.542594020987,92.535640090387702,290.12177385028701,null,173.08109682707328,1089.310878324673,10190.42374402229,200.12225738972779,199.0787198785695,200.12225738972779,701.63715379427094,1890083.0090684141,741056.31766010297,32.961615504807696,218.59174022547009,146.05829509088392,397.61165082116202,null,0,0,0,0,0,0,0,0,0,0,0,0,0,null,{"$f":"(SUM(aem2csp2!$B201,aem2csp2!$C201) * Emissions!AG184)/1000","v":0},{"$f":"(SUM(aem2csp2!$B201,aem2csp2!$C201) * Emissions!AH184)/1000","v":0},{"$f":"(SUM(aem2csp2!$B201,aem2csp2!$C201) * Emissions!AI184)/1000","v":0},{"$f":"(SUM(aem2csp2!$B201,aem2csp2!$C201) * Emissions!AJ184)/1000","v":0},{"$f":"(SUM(aem2csp2!$B201,aem2csp2!$C201) * Emissions!AK184)/1000","v":0},{"$f":"(SUM(aem2csp2!$B201,aem2csp2!$C201) * Emissions!AL184)/1000","v":0},{"$f":"(SUM(aem2csp2!$B201,aem2csp2!$C201) * Emissions!AM184)/1000","v":0},{"$f":"(SUM(aem2csp2!$B201,aem2csp2!$C201) * Emissions!AN184)/1000","v":0},{"$f":"(SUM(aem2csp2!$B201,aem2csp2!$C201) * Emissions!AO184)/1000","v":0},{"$f":"(SUM(aem2csp2!$B201,aem2csp2!$C201) * Emissions!AP184)/1000","v":0},{"$f":"(SUM(aem2csp2!$B201,aem2csp2!$C201) * Emissions!AQ184)/1000","v":0},{"$f":"(SUM(aem2csp2!$B201,aem2csp2!$C201) * Emissions!AR184)/1000","v":0},{"$f":"(SUM(aem2csp2!$B201,aem2csp2!$C201) * Emissions!AS184)/1000","v":0},null,{"$f":"(SUM(aem2csp2!$D201,aem2csp2!$E201) * Emissions!AG184)/1000","v":0},{"$f":"(SUM(aem2csp2!$D201,aem2csp2!$E201) * Emissions!AH184)/1000","v":0},{"$f":"(SUM(aem2csp2!$D201,aem2csp2!$E201) * Emissions!AI184)/1000","v":0},{"$f":"(SUM(aem2csp2!$D201,aem2csp2!$E201) * Emissions!AJ184)/1000","v":0},{"$f":"(SUM(aem2csp2!$D201,aem2csp2!$E201) * Emissions!AK184)/1000","v":0},{"$f":"(SUM(aem2csp2!$D201,aem2csp2!$E201) * Emissions!AL184)/1000","v":0},{"$f":"(SUM(aem2csp2!$D201,aem2csp2!$E201) * Emissions!AM184)/1000","v":0},{"$f":"(SUM(aem2csp2!$D201,aem2csp2!$E201) * Emissions!AN184)/1000","v":0},{"$f":"(SUM(aem2csp2!$D201,aem2csp2!$E201) * Emissions!AO184)/1000","v":0},{"$f":"(SUM(aem2csp2!$D201,aem2csp2!$E201) * Emissions!AP184)/1000","v":0},{"$f":"(SUM(aem2csp2!$D201,aem2csp2!$E201) * Emissions!AQ184)/1000","v":0},{"$f":"(SUM(aem2csp2!$D201,aem2csp2!$E201) * Emissions!AR184)/1000","v":0},{"$f":"(SUM(aem2csp2!$D201,aem2csp2!$E201) * Emissions!AS184)/1000","v":0}]
["F28MK4 "," Arrival ",2670.4288346631702,4405.60831463251,1183.49929152287,3087.64074406895,3071.5402414089999,3087.64074406895,231.92476098396099,624763.16675580305,244954.68693405,9.9484699413727302,108.952807420138,10.4020007597044,129.30327812121499,null,"F28MK4 "," Departure ",1399.8995210821899,279.44600161563801,8799.3137961226894,1618.6114914540201,1610.17124183183,1618.6114914540201,545.70712266172904,1470035.8367467199,576365.87323476595,26.761600740157,283.345626095569,49.500442764948502,359.607669600674,null,4070.3283557453601,4685.0543162481481,9982.8130876455598,4706.2522355229703,4681.7114832408297,4706.2522355229703,777.6318836456901,2094799.0035025231,821320.56016881601,36.710070681529729,392.29843351570702,59.902443524652902,488.91094772188899,null,0,0,0,0,0,0,0,0,0,0,0,0,0,null,{"$f":"(SUM(aem2csp2!$B202,aem2csp2!$C202) * Emissions!AG185)/1000","v":0},{"$f":"(SUM(aem2csp2!$B202,aem2csp2!$C202) * Emissions!AH185)/1000","v":0},{"$f":"(SUM(aem2csp2!$B202,aem2csp2!$C202) * Emissions!AI185)/1000","v":0},{"$f":"(SUM(aem2csp2!$B202,aem2csp2!$C202) * Emissions!AJ185)/1000","v":0},{"$f":"(SUM(aem2csp2!$B202,aem2csp2!$C202) * Emissions!AK185)/1000","v":0},{"$f":"(SUM(aem2csp2!$B202,aem2csp2!$C202) * Emissions!AL185)/1000","v":0},{"$f":"(SUM(aem2csp2!$B202,aem2csp2!$C202) * Emissions!AM185)/1000","v":0},{"$f":"(SUM(aem2csp2!$B202,aem2csp2!$C202) * Emissions!AN185)/1000","v":0},{"$f":"(SUM(aem2csp2!$B202,aem2csp2!$C202) * Emissions!AO185)/1000","v":0},{"$f":"(SUM(aem2csp2!$B202,aem2csp2!$C202) * Emissions!AP185)/1000","v":0},{"$f":"(SUM(aem2csp2!$B202,aem2csp2!$C202) * Emissions!AQ185)/1000","v":0},{"$f":"(SUM(aem2csp2!$B202,aem2csp2!$C202) * Emissions!AR185)/1000","v":0},{"$f":"(SUM(aem2csp2!$B202,aem2csp2!$C202) * Emissions!AS185)/1000","v":0},null,{"$f":"(SUM(aem2csp2!$D202,aem2csp2!$E202) * Emissions!AG185)/1000","v":0},{"$f":"(SUM(aem2csp2!$D202,aem2csp2!$E202) * Emissions!AH185)/1000","v":0},{"$f":"(SUM(aem2csp2!$D202,aem2csp2!$E202) * Emissions!AI185)/1000","v":0},{"$f":"(SUM(aem2csp2!$D202,aem2csp2!$E202) * Emissions!AJ185)/1000","v":0},{"$f":"(SUM(aem2csp2!$D202,aem2csp2!$E202) * Emissions!AK185)/1000","v":0},{"$f":"(SUM(aem2csp2!$D202,aem2csp2!$E202) * Emissions!AL185)/1000","v":0},{"$f":"(SUM(aem2csp2!$D202,aem2csp2!$E202) * Emissions!AM185)/1000","v":0},{"$f":"(SUM(aem2csp2!$D202,aem2csp2!$E202) * Emissions!AN185)/1000","v":0},{"$f":"(SUM(aem2csp2!$D202,aem2csp2!$E202) * Emissions!AO185)/1000","v":0},{"$f":"(SUM(aem2csp2!$D202,aem2csp2!$E202) * Emissions!AP185)/1000","v":0},{"$f":"(SUM(aem2csp2!$D202,aem2csp2!$E202) * Emissions!AQ185)/1000","v":0},{"$f":"(SUM(aem2csp2!$D202,aem2csp2!$E202) * Emissions!AR185)/1000","v":0},{"$f":"(SUM(aem2csp2!$D202,aem2csp2!$E202) * Emissions!AS185)/1000","v":0}]
["F4C "," Arrival ",3731.7105245061198,11619.5030930378,231.029824728666,4314.7307694456304,4292.2316058483602,4314.7307694456304,155.78162512712001,419647.393507567,164533.700719132,6.8410877655045503,47.927260852400202,8.1719717592070609,62.940320377111902,null,"F4C "," Departure ",378.003966086444,1262.01525268196,2089.1601734186502,437.061056246188,434.782001368392,437.061056246188,288.87202014744298,778168.73596753995,305101.33958537102,13.67786664386,108.857574911128,22.5578443777482,145.09328593273599,null,4109.7144905925634,12881.51834571976,2320.1899981473161,4751.7918256918183,4727.0136072167525,4751.7918256918183,444.65364527456302,1197816.129475107,469635.04030450305,20.51895440936455,156.78483576352821,30.729816136955261,208.0336063098479,null,0,0,0,0,0,0,0,0,0,0,0,0,0,null,{"$f":"(SUM(aem2csp2!$B203,aem2csp2!$C203) * Emissions!AG186)/1000","v":0},{"$f":"(SUM(aem2csp2!$B203,aem2csp2!$C203) * Emissions!AH186)/1000","v":0},{"$f":"(SUM(aem2csp2!$B203,aem2csp2!$C203) * Emissions!AI186)/1000","v":0},{"$f":"(SUM(aem2csp2!$B203,aem2csp2!$C203) * Emissions!AJ186)/1000","v":0},{"$f":"(SUM(aem2csp2!$B203,aem2csp2!$C203) * Emissions!AK186)/1000","v":0},{"$f":"(SUM(aem2csp2!$B203,aem2csp2!$C203) * Emissions!AL186)/1000","v":0},{"$f":"(SUM(aem2csp2!$B203,aem2csp2!$C203) * Emissions!AM186)/1000","v":0},{"$f":"(SUM(aem2csp2!$B203,aem2csp2!$C203) * Emissions!AN186)/1000","v":0},{"$f":"(SUM(aem2csp2!$B203,aem2csp2!$C203) * Emissions!AO186)/1000","v":0},{"$f":"(SUM(aem2csp2!$B203,aem2csp2!$C203) * Emissions!AP186)/1000","v":0},{"$f":"(SUM(aem2csp2!$B203,aem2csp2!$C203) * Emissions!AQ186)/1000","v":0},{"$f":"(SUM(aem2csp2!$B203,aem2csp2!$C203) * Emissions!AR186)/1000","v":0},{"$f":"(SUM(aem2csp2!$B203,aem2csp2!$C203) * Emissions!AS186)/1000","v":0},null,{"$f":"(SUM(aem2csp2!$D203,aem2csp2!$E203) * Emissions!AG186)/1000","v":0},{"$f":"(SUM(aem2csp2!$D203,aem2csp2!$E203) * Emissions!AH186)/1000","v":0},{"$f":"(SUM(aem2csp2!$D203,aem2csp2!$E203) * Emissions!AI186)/1000","v":0},{"$f":"(SUM(aem2csp2!$D203,aem2csp2!$E203) * Emissions!AJ186)/1000","v":0},{"$f":"(SUM(aem2csp2!$D203,aem2csp2!$E203) * Emissions!AK186)/1000","v":0},{"$f":"(SUM(aem2csp2!$D203,aem2csp2!$E203) * Emissions!AL186)/1000","v":0},{"$f":"(SUM(aem2csp2!$D203,aem2csp2!$E203) * Emissions!AM186)/1000","v":0},{"$f":"(SUM(aem2csp2!$D203,aem2csp2!$E203) * Emissions!AN186)/1000","v":0},{"$f":"(SUM(aem2csp2!$D203,aem2csp2!$E203) * Emissions!AO186)/1000","v":0},{"$f":"(SUM(aem2csp2!$D203,aem2csp2!$E203) * Emissions!AP186)/1000","v":0},{"$f":"(SUM(aem2csp2!$D203,aem2csp2!$E203) * Emissions!AQ186)/1000","v":0},{"$f":"(SUM(aem2csp2!$D203,aem2csp2!$E203) * Emissions!AR186)/1000","v":0},{"$f":"(SUM(aem2csp2!$D203,aem2csp2!$E203) * Emissions!AS186)/1000","v":0}]
["F-4C "," Arrival ",701.90934190721498,4883.0556717681202,442.32159601907102,811.57148042430504,807.339540939632,811.57148042430504,175.19242947551299,471936.57359566598,185035.03693750899,8.4595634668600592,78.202751694685901,14.907071832463799,101.56938699401,null,"F-4C "," Departure ",452.15357157160702,7230.0242669930503,5852.6231378538096,522.79535482805102,520.06923845029996,522.79535482805102,913.19599506811198,2459984.0884903502,964500.89301507396,46.615094203906601,405.50680650224302,96.504741562888597,548.62664226903803,null,1154.0629134788219,12113.07993876117,6294.9447338728805,1334.3668352523559,1327.4087793899321,1334.3668352523559,1088.388424543625,2931920.662086016,1149535.929952583,55.074657670766662,483.70955819692892,111.4118133953524,650.19602926304799,null,0,0,0,0,0,0,0,0,0,0,0,0,0,null,{"$f":"(SUM(aem2csp2!$B204,aem2csp2!$C204) * Emissions!AG187)/1000","v":0},{"$f":"(SUM(aem2csp2!$B204,aem2csp2!$C204) * Emissions!AH187)/1000","v":0},{"$f":"(SUM(aem2csp2!$B204,aem2csp2!$C204) * Emissions!AI187)/1000","v":0},{"$f":"(SUM(aem2csp2!$B204,aem2csp2!$C204) * Emissions!AJ187)/1000","v":0},{"$f":"(SUM(aem2csp2!$B204,aem2csp2!$C204) * Emissions!AK187)/1000","v":0},{"$f":"(SUM(aem2csp2!$B204,aem2csp2!$C204) * Emissions!AL187)/1000","v":0},{"$f":"(SUM(aem2csp2!$B204,aem2csp2!$C204) * Emissions!AM187)/1000","v":0},{"$f":"(SUM(aem2csp2!$B204,aem2csp2!$C204) * Emissions!AN187)/1000","v":0},{"$f":"(SUM(aem2csp2!$B204,aem2csp2!$C204) * Emissions!AO187)/1000","v":0},{"$f":"(SUM(aem2csp2!$B204,aem2csp2!$C204) * Emissions!AP187)/1000","v":0},{"$f":"(SUM(aem2csp2!$B204,aem2csp2!$C204) * Emissions!AQ187)/1000","v":0},{"$f":"(SUM(aem2csp2!$B204,aem2csp2!$C204) * Emissions!AR187)/1000","v":0},{"$f":"(SUM(aem2csp2!$B204,aem2csp2!$C204) * Emissions!AS187)/1000","v":0},null,{"$f":"(SUM(aem2csp2!$D204,aem2csp2!$E204) * Emissions!AG187)/1000","v":0},{"$f":"(SUM(aem2csp2!$D204,aem2csp2!$E204) * Emissions!AH187)/1000","v":0},{"$f":"(SUM(aem2csp2!$D204,aem2csp2!$E204) * Emissions!AI187)/1000","v":0},{"$f":"(SUM(aem2csp2!$D204,aem2csp2!$E204) * Emissions!AJ187)/1000","v":0},{"$f":"(SUM(aem2csp2!$D204,aem2csp2!$E204) * Emissions!AK187)/1000","v":0},{"$f":"(SUM(aem2csp2!$D204,aem2csp2!$E204) * Emissions!AL187)/1000","v":0},{"$f":"(SUM(aem2csp2!$D204,aem2csp2!$E204) * Emissions!AM187)/1000","v":0},{"$f":"(SUM(aem2csp2!$D204,aem2csp2!$E204) * Emissions!AN187)/1000","v":0},{"$f":"(SUM(aem2csp2!$D204,aem2csp2!$E204) * Emissions!AO187)/1000","v":0},{"$f":"(SUM(aem2csp2!$D204,aem2csp2!$E204) * Emissions!AP187)/1000","v":0},{"$f":"(SUM(aem2csp2!$D204,aem2csp2!$E204) * Emissions!AQ187)/1000","v":0},{"$f":"(SUM(aem2csp2!$D204,aem2csp2!$E204) * Emissions!AR187)/1000","v":0},{"$f":"(SUM(aem2csp2!$D204,aem2csp2!$E204) * Emissions!AS187)/1000","v":0}]
["F5AB "," Arrival ",567.17694235086196,17476.139536186001,492.34594817859499,655.78929255377705,652.36967928775505,655.78929255377705,202.73827834841799,546140.08554410795,214128.45826245999,10.6772806996014,104.687012199471,23.874846634664099,139.23913953373699,null,"F5AB "," Departure ",326.30270380221998,10872.822479471401,1027.43337568577,377.28229641688802,375.31495788222202,377.28229641688802,242.365225318905,652887.88070453005,255981.71424136401,12.366715435932999,114.547160453706,25.574735089843301,152.48861097948199,null,893.47964615308194,28348.962015657402,1519.7793238643649,1033.0715889706651,1027.6846371699771,1033.0715889706651,445.10350366732303,1199027.966248638,470110.172503824,23.0439961355344,219.23417265317698,49.449581724507397,291.72775051321901,null,0,0,0,0,0,0,0,0,0,0,0,0,0,null,{"$f":"(SUM(aem2csp2!$B205,aem2csp2!$C205) * Emissions!AG188)/1000","v":0},{"$f":"(SUM(aem2csp2!$B205,aem2csp2!$C205) * Emissions!AH188)/1000","v":0},{"$f":"(SUM(aem2csp2!$B205,aem2csp2!$C205) * Emissions!AI188)/1000","v":0},{"$f":"(SUM(aem2csp2!$B205,aem2csp2!$C205) * Emissions!AJ188)/1000","v":0},{"$f":"(SUM(aem2csp2!$B205,aem2csp2!$C205) * Emissions!AK188)/1000","v":0},{"$f":"(SUM(aem2csp2!$B205,aem2csp2!$C205) * Emissions!AL188)/1000","v":0},{"$f":"(SUM(aem2csp2!$B205,aem2csp2!$C205) * Emissions!AM188)/1000","v":0},{"$f":"(SUM(aem2csp2!$B205,aem2csp2!$C205) * Emissions!AN188)/1000","v":0},{"$f":"(SUM(aem2csp2!$B205,aem2csp2!$C205) * Emissions!AO188)/1000","v":0},{"$f":"(SUM(aem2csp2!$B205,aem2csp2!$C205) * Emissions!AP188)/1000","v":0},{"$f":"(SUM(aem2csp2!$B205,aem2csp2!$C205) * Emissions!AQ188)/1000","v":0},{"$f":"(SUM(aem2csp2!$B205,aem2csp2!$C205) * Emissions!AR188)/1000","v":0},{"$f":"(SUM(aem2csp2!$B205,aem2csp2!$C205) * Emissions!AS188)/1000","v":0},null,{"$f":"(SUM(aem2csp2!$D205,aem2csp2!$E205) * Emissions!AG188)/1000","v":0},{"$f":"(SUM(aem2csp2!$D205,aem2csp2!$E205) * Emissions!AH188)/1000","v":0},{"$f":"(SUM(aem2csp2!$D205,aem2csp2!$E205) * Emissions!AI188)/1000","v":0},{"$f":"(SUM(aem2csp2!$D205,aem2csp2!$E205) * Emissions!AJ188)/1000","v":0},{"$f":"(SUM(aem2csp2!$D205,aem2csp2!$E205) * Emissions!AK188)/1000","v":0},{"$f":"(SUM(aem2csp2!$D205,aem2csp2!$E205) * Emissions!AL188)/1000","v":0},{"$f":"(SUM(aem2csp2!$D205,aem2csp2!$E205) * Emissions!AM188)/1000","v":0},{"$f":"(SUM(aem2csp2!$D205,aem2csp2!$E205) * Emissions!AN188)/1000","v":0},{"$f":"(SUM(aem2csp2!$D205,aem2csp2!$E205) * Emissions!AO188)/1000","v":0},{"$f":"(SUM(aem2csp2!$D205,aem2csp2!$E205) * Emissions!AP188)/1000","v":0},{"$f":"(SUM(aem2csp2!$D205,aem2csp2!$E205) * Emissions!AQ188)/1000","v":0},{"$f":"(SUM(aem2csp2!$D205,aem2csp2!$E205) * Emissions!AR188)/1000","v":0},{"$f":"(SUM(aem2csp2!$D205,aem2csp2!$E205) * Emissions!AS188)/1000","v":0}]
["F5E "," Arrival ",540.02657179727703,9668.2301315062396,562.46919722859298,624.39710967675398,621.14119094834496,624.39710967675398,227.10397111346401,611776.83475322602,239863.056922263,11.9735699791757,116.041649656347,26.841672831468699,154.85689246699201,null,"F5E "," Departure ",57.203860291033301,9385.7562869985304,1521.2218442370199,66.1410510027317,65.796158492277996,66.1410510027317,351.807612854914,947705.78770257195,371572.76050335402,18.065222338643,153.63671301934801,37.975462898662798,209.67739825665399,null,597.23043208831029,19053.98641850477,2083.6910414656131,690.53816067948571,686.93734944062294,690.53816067948571,578.91158396837795,1559482.6224557981,611435.81742561702,30.0387923178187,269.67836267569498,64.817135730131497,364.534290723646,null,0,0,0,0,0,0,0,0,0,0,0,0,0,null,{"$f":"(SUM(aem2csp2!$B206,aem2csp2!$C206) * Emissions!AG189)/1000","v":0},{"$f":"(SUM(aem2csp2!$B206,aem2csp2!$C206) * Emissions!AH189)/1000","v":0},{"$f":"(SUM(aem2csp2!$B206,aem2csp2!$C206) * Emissions!AI189)/1000","v":0},{"$f":"(SUM(aem2csp2!$B206,aem2csp2!$C206) * Emissions!AJ189)/1000","v":0},{"$f":"(SUM(aem2csp2!$B206,aem2csp2!$C206) * Emissions!AK189)/1000","v":0},{"$f":"(SUM(aem2csp2!$B206,aem2csp2!$C206) * Emissions!AL189)/1000","v":0},{"$f":"(SUM(aem2csp2!$B206,aem2csp2!$C206) * Emissions!AM189)/1000","v":0},{"$f":"(SUM(aem2csp2!$B206,aem2csp2!$C206) * Emissions!AN189)/1000","v":0},{"$f":"(SUM(aem2csp2!$B206,aem2csp2!$C206) * Emissions!AO189)/1000","v":0},{"$f":"(SUM(aem2csp2!$B206,aem2csp2!$C206) * Emissions!AP189)/1000","v":0},{"$f":"(SUM(aem2csp2!$B206,aem2csp2!$C206) * Emissions!AQ189)/1000","v":0},{"$f":"(SUM(aem2csp2!$B206,aem2csp2!$C206) * Emissions!AR189)/1000","v":0},{"$f":"(SUM(aem2csp2!$B206,aem2csp2!$C206) * Emissions!AS189)/1000","v":0},null,{"$f":"(SUM(aem2csp2!$D206,aem2csp2!$E206) * Emissions!AG189)/1000","v":0},{"$f":"(SUM(aem2csp2!$D206,aem2csp2!$E206) * Emissions!AH189)/1000","v":0},{"$f":"(SUM(aem2csp2!$D206,aem2csp2!$E206) * Emissions!AI189)/1000","v":0},{"$f":"(SUM(aem2csp2!$D206,aem2csp2!$E206) * Emissions!AJ189)/1000","v":0},{"$f":"(SUM(aem2csp2!$D206,aem2csp2!$E206) * Emissions!AK189)/1000","v":0},{"$f":"(SUM(aem2csp2!$D206,aem2csp2!$E206) * Emissions!AL189)/1000","v":0},{"$f":"(SUM(aem2csp2!$D206,aem2csp2!$E206) * Emissions!AM189)/1000","v":0},{"$f":"(SUM(aem2csp2!$D206,aem2csp2!$E206) * Emissions!AN189)/1000","v":0},{"$f":"(SUM(aem2csp2!$D206,aem2csp2!$E206) * Emissions!AO189)/1000","v":0},{"$f":"(SUM(aem2csp2!$D206,aem2csp2!$E206) * Emissions!AP189)/1000","v":0},{"$f":"(SUM(aem2csp2!$D206,aem2csp2!$E206) * Emissions!AQ189)/1000","v":0},{"$f":"(SUM(aem2csp2!$D206,aem2csp2!$E206) * Emissions!AR189)/1000","v":0},{"$f":"(SUM(aem2csp2!$D206,aem2csp2!$E206) * Emissions!AS189)/1000","v":0}]
["F8 "," Arrival ",1747.92851113796,3312.7391184308099,384.60156782274697,2021.01445979559,2010.4758798949799,2021.01445979559,153.40423674856601,413243.14117292099,162022.746634201,8.0276356750145705,100.430073705468,17.6812140312718,126.138923411755,null,"F8 "," Departure ",300.46455994900202,829.055054732754,4853.0329506067001,347.40735473083799,345.59579907959397,347.40735473083799,513.86040765106202,1384246.5728646701,542729.95582681301,23.534389303247799,150.674860306639,34.182998566580203,208.39224817646701,null,2048.3930710869618,4141.7941731635638,5237.6345184294469,2368.4218145264281,2356.0716789745738,2368.4218145264281,667.26464439962797,1797489.7140375911,704752.70246101404,31.562024978262372,251.10493401210701,51.864212597852003,334.53117158822204,null,0,0,0,0,0,0,0,0,0,0,0,0,0,null,{"$f":"(SUM(aem2csp2!$B207,aem2csp2!$C207) * Emissions!AG190)/1000","v":0},{"$f":"(SUM(aem2csp2!$B207,aem2csp2!$C207) * Emissions!AH190)/1000","v":0},{"$f":"(SUM(aem2csp2!$B207,aem2csp2!$C207) * Emissions!AI190)/1000","v":0},{"$f":"(SUM(aem2csp2!$B207,aem2csp2!$C207) * Emissions!AJ190)/1000","v":0},{"$f":"(SUM(aem2csp2!$B207,aem2csp2!$C207) * Emissions!AK190)/1000","v":0},{"$f":"(SUM(aem2csp2!$B207,aem2csp2!$C207) * Emissions!AL190)/1000","v":0},{"$f":"(SUM(aem2csp2!$B207,aem2csp2!$C207) * Emissions!AM190)/1000","v":0},{"$f":"(SUM(aem2csp2!$B207,aem2csp2!$C207) * Emissions!AN190)/1000","v":0},{"$f":"(SUM(aem2csp2!$B207,aem2csp2!$C207) * Emissions!AO190)/1000","v":0},{"$f":"(SUM(aem2csp2!$B207,aem2csp2!$C207) * Emissions!AP190)/1000","v":0},{"$f":"(SUM(aem2csp2!$B207,aem2csp2!$C207) * Emissions!AQ190)/1000","v":0},{"$f":"(SUM(aem2csp2!$B207,aem2csp2!$C207) * Emissions!AR190)/1000","v":0},{"$f":"(SUM(aem2csp2!$B207,aem2csp2!$C207) * Emissions!AS190)/1000","v":0},null,{"$f":"(SUM(aem2csp2!$D207,aem2csp2!$E207) * Emissions!AG190)/1000","v":0},{"$f":"(SUM(aem2csp2!$D207,aem2csp2!$E207) * Emissions!AH190)/1000","v":0},{"$f":"(SUM(aem2csp2!$D207,aem2csp2!$E207) * Emissions!AI190)/1000","v":0},{"$f":"(SUM(aem2csp2!$D207,aem2csp2!$E207) * Emissions!AJ190)/1000","v":0},{"$f":"(SUM(aem2csp2!$D207,aem2csp2!$E207) * Emissions!AK190)/1000","v":0},{"$f":"(SUM(aem2csp2!$D207,aem2csp2!$E207) * Emissions!AL190)/1000","v":0},{"$f":"(SUM(aem2csp2!$D207,aem2csp2!$E207) * Emissions!AM190)/1000","v":0},{"$f":"(SUM(aem2csp2!$D207,aem2csp2!$E207) * Emissions!AN190)/1000","v":0},{"$f":"(SUM(aem2csp2!$D207,aem2csp2!$E207) * Emissions!AO190)/1000","v":0},{"$f":"(SUM(aem2csp2!$D207,aem2csp2!$E207) * Emissions!AP190)/1000","v":0},{"$f":"(SUM(aem2csp2!$D207,aem2csp2!$E207) * Emissions!AQ190)/1000","v":0},{"$f":"(SUM(aem2csp2!$D207,aem2csp2!$E207) * Emissions!AR190)/1000","v":0},{"$f":"(SUM(aem2csp2!$D207,aem2csp2!$E207) * Emissions!AS190)/1000","v":0}]
["FAL20 "," Arrival ",347.285461154578,7296.0085303317901,139.744851291728,401.54327490959002,399.449427502574,401.54327490959002,103.24401550367701,278120.61894988001,109044.439188907,4.4887006169226797,25.2694182434429,5.0785053522157,34.836624212581299,null,"FAL20 "," Departure ",25.6658240994484,6068.28888199618,1360.5591504481999,29.675699719427001,29.520955783240002,29.675699719427001,287.16177696332397,773561.65157043003,303295.01204203599,13.7192196437486,94.674728085143798,23.337215573915699,131.731163302808,null,372.9512852540264,13364.297412327971,1500.304001739928,431.218974629017,428.97038328581402,431.218974629017,390.40579246700099,1051682.2705203099,412339.45123094297,18.20792026067128,119.9441463285867,28.415720926131399,166.56778751538928,null,0,0,0,0,0,0,0,0,0,0,0,0,0,null,{"$f":"(SUM(aem2csp2!$B208,aem2csp2!$C208) * Emissions!AG191)/1000","v":0},{"$f":"(SUM(aem2csp2!$B208,aem2csp2!$C208) * Emissions!AH191)/1000","v":0},{"$f":"(SUM(aem2csp2!$B208,aem2csp2!$C208) * Emissions!AI191)/1000","v":0},{"$f":"(SUM(aem2csp2!$B208,aem2csp2!$C208) * Emissions!AJ191)/1000","v":0},{"$f":"(SUM(aem2csp2!$B208,aem2csp2!$C208) * Emissions!AK191)/1000","v":0},{"$f":"(SUM(aem2csp2!$B208,aem2csp2!$C208) * Emissions!AL191)/1000","v":0},{"$f":"(SUM(aem2csp2!$B208,aem2csp2!$C208) * Emissions!AM191)/1000","v":0},{"$f":"(SUM(aem2csp2!$B208,aem2csp2!$C208) * Emissions!AN191)/1000","v":0},{"$f":"(SUM(aem2csp2!$B208,aem2csp2!$C208) * Emissions!AO191)/1000","v":0},{"$f":"(SUM(aem2csp2!$B208,aem2csp2!$C208) * Emissions!AP191)/1000","v":0},{"$f":"(SUM(aem2csp2!$B208,aem2csp2!$C208) * Emissions!AQ191)/1000","v":0},{"$f":"(SUM(aem2csp2!$B208,aem2csp2!$C208) * Emissions!AR191)/1000","v":0},{"$f":"(SUM(aem2csp2!$B208,aem2csp2!$C208) * Emissions!AS191)/1000","v":0},null,{"$f":"(SUM(aem2csp2!$D208,aem2csp2!$E208) * Emissions!AG191)/1000","v":0},{"$f":"(SUM(aem2csp2!$D208,aem2csp2!$E208) * Emissions!AH191)/1000","v":0},{"$f":"(SUM(aem2csp2!$D208,aem2csp2!$E208) * Emissions!AI191)/1000","v":0},{"$f":"(SUM(aem2csp2!$D208,aem2csp2!$E208) * Emissions!AJ191)/1000","v":0},{"$f":"(SUM(aem2csp2!$D208,aem2csp2!$E208) * Emissions!AK191)/1000","v":0},{"$f":"(SUM(aem2csp2!$D208,aem2csp2!$E208) * Emissions!AL191)/1000","v":0},{"$f":"(SUM(aem2csp2!$D208,aem2csp2!$E208) * Emissions!AM191)/1000","v":0},{"$f":"(SUM(aem2csp2!$D208,aem2csp2!$E208) * Emissions!AN191)/1000","v":0},{"$f":"(SUM(aem2csp2!$D208,aem2csp2!$E208) * Emissions!AO191)/1000","v":0},{"$f":"(SUM(aem2csp2!$D208,aem2csp2!$E208) * Emissions!AP191)/1000","v":0},{"$f":"(SUM(aem2csp2!$D208,aem2csp2!$E208) * Emissions!AQ191)/1000","v":0},{"$f":"(SUM(aem2csp2!$D208,aem2csp2!$E208) * Emissions!AR191)/1000","v":0},{"$f":"(SUM(aem2csp2!$D208,aem2csp2!$E208) * Emissions!AS191)/1000","v":0}]
["FB111A "," Arrival ",2537.7120911966499,9147.0214008012208,2529.79377705256,2934.1891264005499,2918.8887972009402,2934.1891264005499,514.15048286950196,1385027.9827982199,543036.32796240901,26.195232800745899,267.328510992443,53.9601926093857,347.48393640257399,null,"FB111A "," Departure ",274.71898291971303,6464.3114003500496,5326.5642621201196,317.63944195842203,315.98311108833002,317.63944195842203,570.97134503373502,1538093.0614595599,603049.48241694795,30.585071687766298,290.422529007008,71.079501667218196,392.087102361993,null,2812.4310741163631,15611.332801151271,7856.3580391726791,3251.828568358972,3234.8719082892703,3251.828568358972,1085.1218279032369,2923121.0442577796,1146085.8103793571,56.780304488512201,557.751039999451,125.0396942766039,739.57103876456699,null,0,0,0,0,0,0,0,0,0,0,0,0,0,null,{"$f":"(SUM(aem2csp2!$B209,aem2csp2!$C209) * Emissions!AG192)/1000","v":0},{"$f":"(SUM(aem2csp2!$B209,aem2csp2!$C209) * Emissions!AH192)/1000","v":0},{"$f":"(SUM(aem2csp2!$B209,aem2csp2!$C209) * Emissions!AI192)/1000","v":0},{"$f":"(SUM(aem2csp2!$B209,aem2csp2!$C209) * Emissions!AJ192)/1000","v":0},{"$f":"(SUM(aem2csp2!$B209,aem2csp2!$C209) * Emissions!AK192)/1000","v":0},{"$f":"(SUM(aem2csp2!$B209,aem2csp2!$C209) * Emissions!AL192)/1000","v":0},{"$f":"(SUM(aem2csp2!$B209,aem2csp2!$C209) * Emissions!AM192)/1000","v":0},{"$f":"(SUM(aem2csp2!$B209,aem2csp2!$C209) * Emissions!AN192)/1000","v":0},{"$f":"(SUM(aem2csp2!$B209,aem2csp2!$C209) * Emissions!AO192)/1000","v":0},{"$f":"(SUM(aem2csp2!$B209,aem2csp2!$C209) * Emissions!AP192)/1000","v":0},{"$f":"(SUM(aem2csp2!$B209,aem2csp2!$C209) * Emissions!AQ192)/1000","v":0},{"$f":"(SUM(aem2csp2!$B209,aem2csp2!$C209) * Emissions!AR192)/1000","v":0},{"$f":"(SUM(aem2csp2!$B209,aem2csp2!$C209) * Emissions!AS192)/1000","v":0},null,{"$f":"(SUM(aem2csp2!$D209,aem2csp2!$E209) * Emissions!AG192)/1000","v":0},{"$f":"(SUM(aem2csp2!$D209,aem2csp2!$E209) * Emissions!AH192)/1000","v":0},{"$f":"(SUM(aem2csp2!$D209,aem2csp2!$E209) * Emissions!AI192)/1000","v":0},{"$f":"(SUM(aem2csp2!$D209,aem2csp2!$E209) * Emissions!AJ192)/1000","v":0},{"$f":"(SUM(aem2csp2!$D209,aem2csp2!$E209) * Emissions!AK192)/1000","v":0},{"$f":"(SUM(aem2csp2!$D209,aem2csp2!$E209) * Emissions!AL192)/1000","v":0},{"$f":"(SUM(aem2csp2!$D209,aem2csp2!$E209) * Emissions!AM192)/1000","v":0},{"$f":"(SUM(aem2csp2!$D209,aem2csp2!$E209) * Emissions!AN192)/1000","v":0},{"$f":"(SUM(aem2csp2!$D209,aem2csp2!$E209) * Emissions!AO192)/1000","v":0},{"$f":"(SUM(aem2csp2!$D209,aem2csp2!$E209) * Emissions!AP192)/1000","v":0},{"$f":"(SUM(aem2csp2!$D209,aem2csp2!$E209) * Emissions!AQ192)/1000","v":0},{"$f":"(SUM(aem2csp2!$D209,aem2csp2!$E209) * Emissions!AR192)/1000","v":0},{"$f":"(SUM(aem2csp2!$D209,aem2csp2!$E209) * Emissions!AS192)/1000","v":0}]
["GASEPF "," Arrival ",84.393046422311201,8318.4239416277505,41.7395655791561,82.680498342006501,70.443719779167395,73.626983773556901,9.0669239986441408,24424.645846757401,9576.3191481581307,0.41630571848590397,5.6631216718211501,0.61097012854059696,6.6903975188476501,null,"GASEPF "," Departure ",113.473762760195,11217.995706043899,52.933247620609599,111.171093490413,94.717684513562503,98.997858753213194,11.722143287608899,31577.324173843899,12380.7131546894,0.62791254053967405,8.3296933711173402,1.4592418125520099,10.416847724208999,null,197.86680918250619,19536.41964767165,94.672813199765699,193.8515918324195,165.16140429272991,172.6248425267701,20.78906728625304,56001.9700206013,21957.032302847532,1.044218259025578,13.99281504293849,2.070211941092607,17.107245243056649,null,0,0,0,0,0,0,0,0,0,0,0,0,0,null,{"$f":"(SUM(aem2csp2!$B210,aem2csp2!$C210) * Emissions!AG193)/1000","v":0},{"$f":"(SUM(aem2csp2!$B210,aem2csp2!$C210) * Emissions!AH193)/1000","v":0},{"$f":"(SUM(aem2csp2!$B210,aem2csp2!$C210) * Emissions!AI193)/1000","v":0},{"$f":"(SUM(aem2csp2!$B210,aem2csp2!$C210) * Emissions!AJ193)/1000","v":0},{"$f":"(SUM(aem2csp2!$B210,aem2csp2!$C210) * Emissions!AK193)/1000","v":0},{"$f":"(SUM(aem2csp2!$B210,aem2csp2!$C210) * Emissions!AL193)/1000","v":0},{"$f":"(SUM(aem2csp2!$B210,aem2csp2!$C210) * Emissions!AM193)/1000","v":0},{"$f":"(SUM(aem2csp2!$B210,aem2csp2!$C210) * Emissions!AN193)/1000","v":0},{"$f":"(SUM(aem2csp2!$B210,aem2csp2!$C210) * Emissions!AO193)/1000","v":0},{"$f":"(SUM(aem2csp2!$B210,aem2csp2!$C210) * Emissions!AP193)/1000","v":0},{"$f":"(SUM(aem2csp2!$B210,aem2csp2!$C210) * Emissions!AQ193)/1000","v":0},{"$f":"(SUM(aem2csp2!$B210,aem2csp2!$C210) * Emissions!AR193)/1000","v":0},{"$f":"(SUM(aem2csp2!$B210,aem2csp2!$C210) * Emissions!AS193)/1000","v":0},null,{"$f":"(SUM(aem2csp2!$D210,aem2csp2!$E210) * Emissions!AG193)/1000","v":0},{"$f":"(SUM(aem2csp2!$D210,aem2csp2!$E210) * Emissions!AH193)/1000","v":0},{"$f":"(SUM(aem2csp2!$D210,aem2csp2!$E210) * Emissions!AI193)/1000","v":0},{"$f":"(SUM(aem2csp2!$D210,aem2csp2!$E210) * Emissions!AJ193)/1000","v":0},{"$f":"(SUM(aem2csp2!$D210,aem2csp2!$E210) * Emissions!AK193)/1000","v":0},{"$f":"(SUM(aem2csp2!$D210,aem2csp2!$E210) * Emissions!AL193)/1000","v":0},{"$f":"(SUM(aem2csp2!$D210,aem2csp2!$E210) * Emissions!AM193)/1000","v":0},{"$f":"(SUM(aem2csp2!$D210,aem2csp2!$E210) * Emissions!AN193)/1000","v":0},{"$f":"(SUM(aem2csp2!$D210,aem2csp2!$E210) * Emissions!AO193)/1000","v":0},{"$f":"(SUM(aem2csp2!$D210,aem2csp2!$E210) * Emissions!AP193)/1000","v":0},{"$f":"(SUM(aem2csp2!$D210,aem2csp2!$E210) * Emissions!AQ193)/1000","v":0},{"$f":"(SUM(aem2csp2!$D210,aem2csp2!$E210) * Emissions!AR193)/1000","v":0},{"$f":"(SUM(aem2csp2!$D210,aem2csp2!$E210) * Emissions!AS193)/1000","v":0}]
["GASEPV "," Arrival ",185.87033935393501,9318.9729085997005,2.69816927368917,182.09856067855301,155.14783096212301,162.15876828425101,8.2400189307700291,22197.1138375849,8702.95715280271,0.38214380625501598,5.4334359489772597,0.58364687880148902,6.39922663403377,null,"GASEPV "," Departure ",125.86525830683701,6517.9886542169797,1.83074499402248,123.311134292736,105.06098976129999,109.808565087681,5.5722282901540803,15010.570573289,5885.2855147887603,0.281649104387593,4.7828913322567903,0.568030549889464,5.6325709865338496,null,311.73559766077199,15836.961562816679,4.5289142677116505,305.40969497128901,260.208820723423,271.967333371932,13.81224722092411,37207.684410873902,14588.24266759147,0.66379291064260904,10.216327281234051,1.151677428690953,12.03179762056762,null,0,0,0,0,0,0,0,0,0,0,0,0,0,null,{"$f":"(SUM(aem2csp2!$B211,aem2csp2!$C211) * Emissions!AG194)/1000","v":0},{"$f":"(SUM(aem2csp2!$B211,aem2csp2!$C211) * Emissions!AH194)/1000","v":0},{"$f":"(SUM(aem2csp2!$B211,aem2csp2!$C211) * Emissions!AI194)/1000","v":0},{"$f":"(SUM(aem2csp2!$B211,aem2csp2!$C211) * Emissions!AJ194)/1000","v":0},{"$f":"(SUM(aem2csp2!$B211,aem2csp2!$C211) * Emissions!AK194)/1000","v":0},{"$f":"(SUM(aem2csp2!$B211,aem2csp2!$C211) * Emissions!AL194)/1000","v":0},{"$f":"(SUM(aem2csp2!$B211,aem2csp2!$C211) * Emissions!AM194)/1000","v":0},{"$f":"(SUM(aem2csp2!$B211,aem2csp2!$C211) * Emissions!AN194)/1000","v":0},{"$f":"(SUM(aem2csp2!$B211,aem2csp2!$C211) * Emissions!AO194)/1000","v":0},{"$f":"(SUM(aem2csp2!$B211,aem2csp2!$C211) * Emissions!AP194)/1000","v":0},{"$f":"(SUM(aem2csp2!$B211,aem2csp2!$C211) * Emissions!AQ194)/1000","v":0},{"$f":"(SUM(aem2csp2!$B211,aem2csp2!$C211) * Emissions!AR194)/1000","v":0},{"$f":"(SUM(aem2csp2!$B211,aem2csp2!$C211) * Emissions!AS194)/1000","v":0},null,{"$f":"(SUM(aem2csp2!$D211,aem2csp2!$E211) * Emissions!AG194)/1000","v":0},{"$f":"(SUM(aem2csp2!$D211,aem2csp2!$E211) * Emissions!AH194)/1000","v":0},{"$f":"(SUM(aem2csp2!$D211,aem2csp2!$E211) * Emissions!AI194)/1000","v":0},{"$f":"(SUM(aem2csp2!$D211,aem2csp2!$E211) * Emissions!AJ194)/1000","v":0},{"$f":"(SUM(aem2csp2!$D211,aem2csp2!$E211) * Emissions!AK194)/1000","v":0},{"$f":"(SUM(aem2csp2!$D211,aem2csp2!$E211) * Emissions!AL194)/1000","v":0},{"$f":"(SUM(aem2csp2!$D211,aem2csp2!$E211) * Emissions!AM194)/1000","v":0},{"$f":"(SUM(aem2csp2!$D211,aem2csp2!$E211) * Emissions!AN194)/1000","v":0},{"$f":"(SUM(aem2csp2!$D211,aem2csp2!$E211) * Emissions!AO194)/1000","v":0},{"$f":"(SUM(aem2csp2!$D211,aem2csp2!$E211) * Emissions!AP194)/1000","v":0},{"$f":"(SUM(aem2csp2!$D211,aem2csp2!$E211) * Emissions!AQ194)/1000","v":0},{"$f":"(SUM(aem2csp2!$D211,aem2csp2!$E211) * Emissions!AR194)/1000","v":0},{"$f":"(SUM(aem2csp2!$D211,aem2csp2!$E211) * Emissions!AS194)/1000","v":0}]
["GII "," Arrival ",172.35372415949701,1758.46891518556,855.626888827176,199.28124434516499,198.24209229652701,199.28124434516499,182.23191964756799,490899.68108613201,192470.017592249,8.1313336514080206,43.122358911183603,10.5198842095499,61.773576772141503,null,"GII "," Departure ",46.256401779264003,162.24867747627999,8192.9233436642498,53.483226721409302,53.2043384356705,53.483226721409302,480.194656011039,1293557.1548111599,507172.80523023801,23.506778198534899,174.84215638360601,43.243882320258301,241.59281690239899,null,{"$f":"SUM(C195,S195)","v":218.610125938761},1920.7175926618399,{"$f":"SUM(E195,U195)","v":9048.550232491425},{"$f":"SUM(F195,V195)","v":252.76447106657429},{"$f":"SUM(G195,W195)","v":251.44643073219751},{"$f":"SUM(H195,X195)","v":252.76447106657429},{"$f":"SUM(I195,Y195)","v":662.42657565860702},{"$f":"SUM(J195,Z195)","v":1784456.835897292},{"$f":"SUM(K195,AA195)","v":699642.82282248698},{"$f":"SUM(L195,AB195)","v":31.63811184994292},{"$f":"SUM(M195,AC195)","v":217.96451529478961},{"$f":"SUM(N195,AD195)","v":53.763766529808201},{"$f":"SUM(O195,AE195)","v":303.36639367454052},null,0,0,0,0,0,0,0,0,0,0,0,0,0,null,{"$f":"(SUM(aem2csp2!$B212,aem2csp2!$C212) * Emissions!AG195)/1000","v":0},{"$f":"(SUM(aem2csp2!$B212,aem2csp2!$C212) * Emissions!AH195)/1000","v":0},{"$f":"(SUM(aem2csp2!$B212,aem2csp2!$C212) * Emissions!AI195)/1000","v":0},{"$f":"(SUM(aem2csp2!$B212,aem2csp2!$C212) * Emissions!AJ195)/1000","v":0},{"$f":"(SUM(aem2csp2!$B212,aem2csp2!$C212) * Emissions!AK195)/1000","v":0},{"$f":"(SUM(aem2csp2!$B212,aem2csp2!$C212) * Emissions!AL195)/1000","v":0},{"$f":"(SUM(aem2csp2!$B212,aem2csp2!$C212) * Emissions!AM195)/1000","v":0},{"$f":"(SUM(aem2csp2!$B212,aem2csp2!$C212) * Emissions!AN195)/1000","v":0},{"$f":"(SUM(aem2csp2!$B212,aem2csp2!$C212) * Emissions!AO195)/1000","v":0},{"$f":"(SUM(aem2csp2!$B212,aem2csp2!$C212) * Emissions!AP195)/1000","v":0},{"$f":"(SUM(aem2csp2!$B212,aem2csp2!$C212) * Emissions!AQ195)/1000","v":0},{"$f":"(SUM(aem2csp2!$B212,aem2csp2!$C212) * Emissions!AR195)/1000","v":0},{"$f":"(SUM(aem2csp2!$B212,aem2csp2!$C212) * Emissions!AS195)/1000","v":0},null,{"$f":"(SUM(aem2csp2!$D212,aem2csp2!$E212) * Emissions!AG195)/1000","v":0},{"$f":"(SUM(aem2csp2!$D212,aem2csp2!$E212) * Emissions!AH195)/1000","v":0},{"$f":"(SUM(aem2csp2!$D212,aem2csp2!$E212) * Emissions!AI195)/1000","v":0},{"$f":"(SUM(aem2csp2!$D212,aem2csp2!$E212) * Emissions!AJ195)/1000","v":0},{"$f":"(SUM(aem2csp2!$D212,aem2csp2!$E212) * Emissions!AK195)/1000","v":0},{"$f":"(SUM(aem2csp2!$D212,aem2csp2!$E212) * Emissions!AL195)/1000","v":0},{"$f":"(SUM(aem2csp2!$D212,aem2csp2!$E212) * Emissions!AM195)/1000","v":0},{"$f":"(SUM(aem2csp2!$D212,aem2csp2!$E212) * Emissions!AN195)/1000","v":0},{"$f":"(SUM(aem2csp2!$D212,aem2csp2!$E212) * Emissions!AO195)/1000","v":0},{"$f":"(SUM(aem2csp2!$D212,aem2csp2!$E212) * Emissions!AP195)/1000","v":0},{"$f":"(SUM(aem2csp2!$D212,aem2csp2!$E212) * Emissions!AQ195)/1000","v":0},{"$f":"(SUM(aem2csp2!$D212,aem2csp2!$E212) * Emissions!AR195)/1000","v":0},{"$f":"(SUM(aem2csp2!$D212,aem2csp2!$E212) * Emissions!AS195)/1000","v":0}]
["GIIB "," Arrival ",187.227572993986,1906.1003648640699,747.87369805939102,216.47889480728,215.35006561030701,216.47889480728,173.89654903369899,468445.70713910501,183666.351737266,7.8238814566341501,43.050299803033496,27.214602636853201,78.088783896520795,null,"GIIB "," Departure ",49.600015514382797,170.60652838529199,8405.1461096057192,57.349226768657601,57.050179225672501,57.349226768657601,504.84796020937199,1359968.67696428,533211.17382086103,24.7464378502318,184.78205822414401,83.924473140130104,293.45296921450603,null,236.82758850836879,2076.7068932493621,9153.0198076651104,273.82812157593759,272.40024483597949,273.82812157593759,678.74450924307098,1828414.384103385,716877.52555812709,32.570319306865947,227.83235802717752,111.1390757769833,371.54175311102682,null,{"$f":"IFERROR((BW196-BI196)/BI196, 0)","v":0},{"$f":"IFERROR((BX196-BJ196)/BJ196, 0)","v":0},{"$f":"IFERROR((BY196-BK196)/BK196, 0)","v":0},{"$f":"IFERROR((BZ196-BL196)/BL196, 0)","v":0},{"$f":"IFERROR((CA196-BM196)/BM196, 0)","v":0},{"$f":"IFERROR((CB196-BN196)/BN196, 0)","v":0},{"$f":"IFERROR((CC196-BO196)/BO196, 0)","v":0},{"$f":"IFERROR((CD196-BP196)/BP196, 0)","v":0},{"$f":"IFERROR((CE196-BQ196)/BQ196, 0)","v":0},{"$f":"IFERROR((CF196-BR196)/BR196, 0)","v":0},{"$f":"IFERROR((CG196-BS196)/BS196, 0)","v":0},{"$f":"IFERROR((CH196-BT196)/BT196, 0)","v":0},{"$f":"IFERROR((CI196-BU196)/BU196, 0)","v":0},null,{"$f":"(SUM(aem2csp2!$B213,aem2csp2!$C213) * Emissions!AG196)/1000","v":0},{"$f":"(SUM(aem2csp2!$B213,aem2csp2!$C213) * Emissions!AH196)/1000","v":0},{"$f":"(SUM(aem2csp2!$B213,aem2csp2!$C213) * Emissions!AI196)/1000","v":0},{"$f":"(SUM(aem2csp2!$B213,aem2csp2!$C213) * Emissions!AJ196)/1000","v":0},{"$f":"(SUM(aem2csp2!$B213,aem2csp2!$C213) * Emissions!AK196)/1000","v":0},{"$f":"(SUM(aem2csp2!$B213,aem2csp2!$C213) * Emissions!AL196)/1000","v":0},{"$f":"(SUM(aem2csp2!$B213,aem2csp2!$C213) * Emissions!AM196)/1000","v":0},{"$f":"(SUM(aem2csp2!$B213,aem2csp2!$C213) * Emissions!AN196)/1000","v":0},{"$f":"(SUM(aem2csp2!$B213,aem2csp2!$C213) * Emissions!AO196)/1000","v":0},{"$f":"(SUM(aem2csp2!$B213,aem2csp2!$C213) * Emissions!AP196)/1000","v":0},{"$f":"(SUM(aem2csp2!$B213,aem2csp2!$C213) * Emissions!AQ196)/1000","v":0},{"$f":"(SUM(aem2csp2!$B213,aem2csp2!$C213) * Emissions!AR196)/1000","v":0},{"$f":"(SUM(aem2csp2!$B213,aem2csp2!$C213) * Emissions!AS196)/1000","v":0},null,{"$f":"(SUM(aem2csp2!$D213,aem2csp2!$E213) * Emissions!AG196)/1000","v":0},{"$f":"(SUM(aem2csp2!$D213,aem2csp2!$E213) * Emissions!AH196)/1000","v":0},{"$f":"(SUM(aem2csp2!$D213,aem2csp2!$E213) * Emissions!AI196)/1000","v":0},{"$f":"(SUM(aem2csp2!$D213,aem2csp2!$E213) * Emissions!AJ196)/1000","v":0},{"$f":"(SUM(aem2csp2!$D213,aem2csp2!$E213) * Emissions!AK196)/1000","v":0},{"$f":"(SUM(aem2csp2!$D213,aem2csp2!$E213) * Emissions!AL196)/1000","v":0},{"$f":"(SUM(aem2csp2!$D213,aem2csp2!$E213) * Emissions!AM196)/1000","v":0},{"$f":"(SUM(aem2csp2!$D213,aem2csp2!$E213) * Emissions!AN196)/1000","v":0},{"$f":"(SUM(aem2csp2!$D213,aem2csp2!$E213) * Emissions!AO196)/1000","v":0},{"$f":"(SUM(aem2csp2!$D213,aem2csp2!$E213) * Emissions!AP196)/1000","v":0},{"$f":"(SUM(aem2csp2!$D213,aem2csp2!$E213) * Emissions!AQ196)/1000","v":0},{"$f":"(SUM(aem2csp2!$D213,aem2csp2!$E213) * Emissions!AR196)/1000","v":0},{"$f":"(SUM(aem2csp2!$D213,aem2csp2!$E213) * Emissions!AS196)/1000","v":0}]
["GIV "," Arrival ",205.80831007732399,1051.1972438612099,861.26126609292896,237.96257567855099,236.721719827676,237.96257567855099,188.26915594567501,507162.89874368702,198846.43605259599,8.31619659620055,46.497036656308801,57.249016324000003,112.062249576509,null,"GIV "," Departure ",231.42034352370399,315.57319571414303,8335.4412432425397,267.57608081338401,266.18080533998199,267.57608081338401,466.69690385954101,1257196.66297545,492916.726497825,22.8473654383446,178.00193647813799,120.902930125004,321.75223204148602,null,437.22865360102799,1366.7704395753531,9196.7025093354678,505.538656491935,502.90252516765798,505.538656491935,654.96605980521599,1764359.561719137,691763.16255042097,31.163562034545151,224.4989731344468,178.15194644900401,433.81448161799506,null,0,0,0,0,0,0,0,0,0,0,0,0,0,null,{"$f":"(SUM(aem2csp2!$B214,aem2csp2!$C214) * Emissions!AG197)/1000","v":0},{"$f":"(SUM(aem2csp2!$B214,aem2csp2!$C214) * Emissions!AH197)/1000","v":0},{"$f":"(SUM(aem2csp2!$B214,aem2csp2!$C214) * Emissions!AI197)/1000","v":0},{"$f":"(SUM(aem2csp2!$B214,aem2csp2!$C214) * Emissions!AJ197)/1000","v":0},{"$f":"(SUM(aem2csp2!$B214,aem2csp2!$C214) * Emissions!AK197)/1000","v":0},{"$f":"(SUM(aem2csp2!$B214,aem2csp2!$C214) * Emissions!AL197)/1000","v":0},{"$f":"(SUM(aem2csp2!$B214,aem2csp2!$C214) * Emissions!AM197)/1000","v":0},{"$f":"(SUM(aem2csp2!$B214,aem2csp2!$C214) * Emissions!AN197)/1000","v":0},{"$f":"(SUM(aem2csp2!$B214,aem2csp2!$C214) * Emissions!AO197)/1000","v":0},{"$f":"(SUM(aem2csp2!$B214,aem2csp2!$C214) * Emissions!AP197)/1000","v":0},{"$f":"(SUM(aem2csp2!$B214,aem2csp2!$C214) * Emissions!AQ197)/1000","v":0},{"$f":"(SUM(aem2csp2!$B214,aem2csp2!$C214) * Emissions!AR197)/1000","v":0},{"$f":"(SUM(aem2csp2!$B214,aem2csp2!$C214) * Emissions!AS197)/1000","v":0},null,{"$f":"(SUM(aem2csp2!$D214,aem2csp2!$E214) * Emissions!AG197)/1000","v":0},{"$f":"(SUM(aem2csp2!$D214,aem2csp2!$E214) * Emissions!AH197)/1000","v":0},{"$f":"(SUM(aem2csp2!$D214,aem2csp2!$E214) * Emissions!AI197)/1000","v":0},{"$f":"(SUM(aem2csp2!$D214,aem2csp2!$E214) * Emissions!AJ197)/1000","v":0},{"$f":"(SUM(aem2csp2!$D214,aem2csp2!$E214) * Emissions!AK197)/1000","v":0},{"$f":"(SUM(aem2csp2!$D214,aem2csp2!$E214) * Emissions!AL197)/1000","v":0},{"$f":"(SUM(aem2csp2!$D214,aem2csp2!$E214) * Emissions!AM197)/1000","v":0},{"$f":"(SUM(aem2csp2!$D214,aem2csp2!$E214) * Emissions!AN197)/1000","v":0},{"$f":"(SUM(aem2csp2!$D214,aem2csp2!$E214) * Emissions!AO197)/1000","v":0},{"$f":"(SUM(aem2csp2!$D214,aem2csp2!$E214) * Emissions!AP197)/1000","v":0},{"$f":"(SUM(aem2csp2!$D214,aem2csp2!$E214) * Emissions!AQ197)/1000","v":0},{"$f":"(SUM(aem2csp2!$D214,aem2csp2!$E214) * Emissions!AR197)/1000","v":0},{"$f":"(SUM(aem2csp2!$D214,aem2csp2!$E214) * Emissions!AS197)/1000","v":0}]
["GV "," Arrival ",79.798278727250903,1310.1662076078601,364.51954743188298,92.265486916039904,91.784368534516204,92.265486916039904,85.357313671064801,229937.09411903101,90152.832147461697,3.5893872939971501,13.289997948832299,3.2907596248997102,20.1701448677291,null,"GV "," Departure ",4.0971857843555197,160.62057227706001,3706.0775971183202,4.7373057089506299,4.7126030283312996,4.7373057089506299,301.29642631521,811637.82874358504,318223.76993845101,14.8567136940806,111.893784476543,54.182740538181697,180.93323870880499,null,83.89546451160642,1470.7867798849202,4070.5971445502032,97.002792624990533,96.496971562847506,97.002792624990533,386.65373998627479,1041574.922862616,408376.60208591272,18.446100988077749,125.1837824253753,57.473500163081411,201.1033835765341,null,0,0,0,0,0,0,0,0,0,0,0,0,0,null,{"$f":"(SUM(aem2csp2!$B215,aem2csp2!$C215) * Emissions!AG198)/1000","v":0},{"$f":"(SUM(aem2csp2!$B215,aem2csp2!$C215) * Emissions!AH198)/1000","v":0},{"$f":"(SUM(aem2csp2!$B215,aem2csp2!$C215) * Emissions!AI198)/1000","v":0},{"$f":"(SUM(aem2csp2!$B215,aem2csp2!$C215) * Emissions!AJ198)/1000","v":0},{"$f":"(SUM(aem2csp2!$B215,aem2csp2!$C215) * Emissions!AK198)/1000","v":0},{"$f":"(SUM(aem2csp2!$B215,aem2csp2!$C215) * Emissions!AL198)/1000","v":0},{"$f":"(SUM(aem2csp2!$B215,aem2csp2!$C215) * Emissions!AM198)/1000","v":0},{"$f":"(SUM(aem2csp2!$B215,aem2csp2!$C215) * Emissions!AN198)/1000","v":0},{"$f":"(SUM(aem2csp2!$B215,aem2csp2!$C215) * Emissions!AO198)/1000","v":0},{"$f":"(SUM(aem2csp2!$B215,aem2csp2!$C215) * Emissions!AP198)/1000","v":0},{"$f":"(SUM(aem2csp2!$B215,aem2csp2!$C215) * Emissions!AQ198)/1000","v":0},{"$f":"(SUM(aem2csp2!$B215,aem2csp2!$C215) * Emissions!AR198)/1000","v":0},{"$f":"(SUM(aem2csp2!$B215,aem2csp2!$C215) * Emissions!AS198)/1000","v":0},null,{"$f":"(SUM(aem2csp2!$D215,aem2csp2!$E215) * Emissions!AG198)/1000","v":0},{"$f":"(SUM(aem2csp2!$D215,aem2csp2!$E215) * Emissions!AH198)/1000","v":0},{"$f":"(SUM(aem2csp2!$D215,aem2csp2!$E215) * Emissions!AI198)/1000","v":0},{"$f":"(SUM(aem2csp2!$D215,aem2csp2!$E215) * Emissions!AJ198)/1000","v":0},{"$f":"(SUM(aem2csp2!$D215,aem2csp2!$E215) * Emissions!AK198)/1000","v":0},{"$f":"(SUM(aem2csp2!$D215,aem2csp2!$E215) * Emissions!AL198)/1000","v":0},{"$f":"(SUM(aem2csp2!$D215,aem2csp2!$E215) * Emissions!AM198)/1000","v":0},{"$f":"(SUM(aem2csp2!$D215,aem2csp2!$E215) * Emissions!AN198)/1000","v":0},{"$f":"(SUM(aem2csp2!$D215,aem2csp2!$E215) * Emissions!AO198)/1000","v":0},{"$f":"(SUM(aem2csp2!$D215,aem2csp2!$E215) * Emissions!AP198)/1000","v":0},{"$f":"(SUM(aem2csp2!$D215,aem2csp2!$E215) * Emissions!AQ198)/1000","v":0},{"$f":"(SUM(aem2csp2!$D215,aem2csp2!$E215) * Emissions!AR198)/1000","v":0},{"$f":"(SUM(aem2csp2!$D215,aem2csp2!$E215) * Emissions!AS198)/1000","v":0}]
["HS748A "," Arrival ",2475.4867586494302,6955.2500627381696,68.586890691540702,2862.24207819912,2847.3169168823501,2862.24207819912,74.676756863968905,201165.614673687,78872.223566196699,3.41714916910168,32.382603322753397,15.3398849873992,51.139637479254297,null,"HS748A "," Departure ",286.84379539681203,2484.34589335076,330.79275172158299,331.65856298218301,329.92912940551298,331.65856298218301,161.22503725555001,434310.95674629498,170282.93296201801,8.0774380588106407,65.245698781454493,37.7689958333455,111.092132673611,null,2762.330554046242,9439.5959560889296,399.37964241312369,3193.9006411813029,3177.246046287863,3193.9006411813029,235.90179411951891,635476.57141998201,249155.15652821469,11.494587227912321,97.62830210420789,53.108880820744702,162.23177015286529,null,0,0,0,0,0,0,0,0,0,0,0,0,0,null,{"$f":"(SUM(aem2csp2!$B216,aem2csp2!$C216) * Emissions!AG199)/1000","v":0},{"$f":"(SUM(aem2csp2!$B216,aem2csp2!$C216) * Emissions!AH199)/1000","v":0},{"$f":"(SUM(aem2csp2!$B216,aem2csp2!$C216) * Emissions!AI199)/1000","v":0},{"$f":"(SUM(aem2csp2!$B216,aem2csp2!$C216) * Emissions!AJ199)/1000","v":0},{"$f":"(SUM(aem2csp2!$B216,aem2csp2!$C216) * Emissions!AK199)/1000","v":0},{"$f":"(SUM(aem2csp2!$B216,aem2csp2!$C216) * Emissions!AL199)/1000","v":0},{"$f":"(SUM(aem2csp2!$B216,aem2csp2!$C216) * Emissions!AM199)/1000","v":0},{"$f":"(SUM(aem2csp2!$B216,aem2csp2!$C216) * Emissions!AN199)/1000","v":0},{"$f":"(SUM(aem2csp2!$B216,aem2csp2!$C216) * Emissions!AO199)/1000","v":0},{"$f":"(SUM(aem2csp2!$B216,aem2csp2!$C216) * Emissions!AP199)/1000","v":0},{"$f":"(SUM(aem2csp2!$B216,aem2csp2!$C216) * Emissions!AQ199)/1000","v":0},{"$f":"(SUM(aem2csp2!$B216,aem2csp2!$C216) * Emissions!AR199)/1000","v":0},{"$f":"(SUM(aem2csp2!$B216,aem2csp2!$C216) * Emissions!AS199)/1000","v":0},null,{"$f":"(SUM(aem2csp2!$D216,aem2csp2!$E216) * Emissions!AG199)/1000","v":0},{"$f":"(SUM(aem2csp2!$D216,aem2csp2!$E216) * Emissions!AH199)/1000","v":0},{"$f":"(SUM(aem2csp2!$D216,aem2csp2!$E216) * Emissions!AI199)/1000","v":0},{"$f":"(SUM(aem2csp2!$D216,aem2csp2!$E216) * Emissions!AJ199)/1000","v":0},{"$f":"(SUM(aem2csp2!$D216,aem2csp2!$E216) * Emissions!AK199)/1000","v":0},{"$f":"(SUM(aem2csp2!$D216,aem2csp2!$E216) * Emissions!AL199)/1000","v":0},{"$f":"(SUM(aem2csp2!$D216,aem2csp2!$E216) * Emissions!AM199)/1000","v":0},{"$f":"(SUM(aem2csp2!$D216,aem2csp2!$E216) * Emissions!AN199)/1000","v":0},{"$f":"(SUM(aem2csp2!$D216,aem2csp2!$E216) * Emissions!AO199)/1000","v":0},{"$f":"(SUM(aem2csp2!$D216,aem2csp2!$E216) * Emissions!AP199)/1000","v":0},{"$f":"(SUM(aem2csp2!$D216,aem2csp2!$E216) * Emissions!AQ199)/1000","v":0},{"$f":"(SUM(aem2csp2!$D216,aem2csp2!$E216) * Emissions!AR199)/1000","v":0},{"$f":"(SUM(aem2csp2!$D216,aem2csp2!$E216) * Emissions!AS199)/1000","v":0}]
["IA1125 "," Arrival ",32.999968057624301,907.32434918712102,975.31873770440995,38.155686684137599,37.956723855923201,38.155686684137599,112.024486762718,301773.61316289002,118318.212197304,5.0650813668106203,32.6766163465768,6.9629151161404002,44.704612829527903,null,"IA1125 "," Departure ",13.809073246117,675.88149514805696,1339.79072931321,15.966520672295401,15.8832632502497,15.966520672295401,116.29205697636201,313269.67192658997,122825.541734768,5.8041983015830603,45.506426167931899,11.3040088328544,62.614633302369398,null,46.809041303741303,1583.205844335178,2315.1094670176199,54.122207356433002,53.839987106172899,54.122207356433002,228.31654373908,615043.28508947999,241143.75393207202,10.869279668393681,78.183042514508699,18.266923948994801,107.3192461318973,null,0,0,0,0,0,0,0,0,0,0,0,0,0,null,{"$f":"(SUM(aem2csp2!$B217,aem2csp2!$C217) * Emissions!AG200)/1000","v":0},{"$f":"(SUM(aem2csp2!$B217,aem2csp2!$C217) * Emissions!AH200)/1000","v":0},{"$f":"(SUM(aem2csp2!$B217,aem2csp2!$C217) * Emissions!AI200)/1000","v":0},{"$f":"(SUM(aem2csp2!$B217,aem2csp2!$C217) * Emissions!AJ200)/1000","v":0},{"$f":"(SUM(aem2csp2!$B217,aem2csp2!$C217) * Emissions!AK200)/1000","v":0},{"$f":"(SUM(aem2csp2!$B217,aem2csp2!$C217) * Emissions!AL200)/1000","v":0},{"$f":"(SUM(aem2csp2!$B217,aem2csp2!$C217) * Emissions!AM200)/1000","v":0},{"$f":"(SUM(aem2csp2!$B217,aem2csp2!$C217) * Emissions!AN200)/1000","v":0},{"$f":"(SUM(aem2csp2!$B217,aem2csp2!$C217) * Emissions!AO200)/1000","v":0},{"$f":"(SUM(aem2csp2!$B217,aem2csp2!$C217) * Emissions!AP200)/1000","v":0},{"$f":"(SUM(aem2csp2!$B217,aem2csp2!$C217) * Emissions!AQ200)/1000","v":0},{"$f":"(SUM(aem2csp2!$B217,aem2csp2!$C217) * Emissions!AR200)/1000","v":0},{"$f":"(SUM(aem2csp2!$B217,aem2csp2!$C217) * Emissions!AS200)/1000","v":0},null,{"$f":"(SUM(aem2csp2!$D217,aem2csp2!$E217) * Emissions!AG200)/1000","v":0},{"$f":"(SUM(aem2csp2!$D217,aem2csp2!$E217) * Emissions!AH200)/1000","v":0},{"$f":"(SUM(aem2csp2!$D217,aem2csp2!$E217) * Emissions!AI200)/1000","v":0},{"$f":"(SUM(aem2csp2!$D217,aem2csp2!$E217) * Emissions!AJ200)/1000","v":0},{"$f":"(SUM(aem2csp2!$D217,aem2csp2!$E217) * Emissions!AK200)/1000","v":0},{"$f":"(SUM(aem2csp2!$D217,aem2csp2!$E217) * Emissions!AL200)/1000","v":0},{"$f":"(SUM(aem2csp2!$D217,aem2csp2!$E217) * Emissions!AM200)/1000","v":0},{"$f":"(SUM(aem2csp2!$D217,aem2csp2!$E217) * Emissions!AN200)/1000","v":0},{"$f":"(SUM(aem2csp2!$D217,aem2csp2!$E217) * Emissions!AO200)/1000","v":0},{"$f":"(SUM(aem2csp2!$D217,aem2csp2!$E217) * Emissions!AP200)/1000","v":0},{"$f":"(SUM(aem2csp2!$D217,aem2csp2!$E217) * Emissions!AQ200)/1000","v":0},{"$f":"(SUM(aem2csp2!$D217,aem2csp2!$E217) * Emissions!AR200)/1000","v":0},{"$f":"(SUM(aem2csp2!$D217,aem2csp2!$E217) * Emissions!AS200)/1000","v":0}]
["JAGUAR "," Arrival ",2832.11857515057,5367.5364479453301,603.31082913641899,3274.5919273944501,3257.51656778906,3274.5919273944501,241.16351679778899,649650.69629185903,254712.491699851,12.4380062655167,157.18916332055099,26.437542133776901,196.06471171984401,null,"JAGUAR "," Departure ",505.86655678014802,1395.80929607811,8258.1330537493104,584.90013719959904,581.850175434172,584.90013719959904,873.42893983421595,2352858.8671251298,922499.65725318005,43.414607628901301,352.60134070936601,83.566913473940701,479.58286181220802,null,3337.9851319307181,6763.3457440234397,8861.4438828857292,3859.4920645940492,3839.3667432232319,3859.4920645940492,1114.592456632005,3002509.5634169886,1177212.1489530311,55.852613894417999,509.79050402991697,110.0044556077176,675.64757353205209,null,0,0,0,0,0,0,0,0,0,0,0,0,0,null,{"$f":"(SUM(aem2csp2!$B218,aem2csp2!$C218) * Emissions!AG201)/1000","v":0},{"$f":"(SUM(aem2csp2!$B218,aem2csp2!$C218) * Emissions!AH201)/1000","v":0},{"$f":"(SUM(aem2csp2!$B218,aem2csp2!$C218) * Emissions!AI201)/1000","v":0},{"$f":"(SUM(aem2csp2!$B218,aem2csp2!$C218) * Emissions!AJ201)/1000","v":0},{"$f":"(SUM(aem2csp2!$B218,aem2csp2!$C218) * Emissions!AK201)/1000","v":0},{"$f":"(SUM(aem2csp2!$B218,aem2csp2!$C218) * Emissions!AL201)/1000","v":0},{"$f":"(SUM(aem2csp2!$B218,aem2csp2!$C218) * Emissions!AM201)/1000","v":0},{"$f":"(SUM(aem2csp2!$B218,aem2csp2!$C218) * Emissions!AN201)/1000","v":0},{"$f":"(SUM(aem2csp2!$B218,aem2csp2!$C218) * Emissions!AO201)/1000","v":0},{"$f":"(SUM(aem2csp2!$B218,aem2csp2!$C218) * Emissions!AP201)/1000","v":0},{"$f":"(SUM(aem2csp2!$B218,aem2csp2!$C218) * Emissions!AQ201)/1000","v":0},{"$f":"(SUM(aem2csp2!$B218,aem2csp2!$C218) * Emissions!AR201)/1000","v":0},{"$f":"(SUM(aem2csp2!$B218,aem2csp2!$C218) * Emissions!AS201)/1000","v":0},null,{"$f":"(SUM(aem2csp2!$D218,aem2csp2!$E218) * Emissions!AG201)/1000","v":0},{"$f":"(SUM(aem2csp2!$D218,aem2csp2!$E218) * Emissions!AH201)/1000","v":0},{"$f":"(SUM(aem2csp2!$D218,aem2csp2!$E218) * Emissions!AI201)/1000","v":0},{"$f":"(SUM(aem2csp2!$D218,aem2csp2!$E218) * Emissions!AJ201)/1000","v":0},{"$f":"(SUM(aem2csp2!$D218,aem2csp2!$E218) * Emissions!AK201)/1000","v":0},{"$f":"(SUM(aem2csp2!$D218,aem2csp2!$E218) * Emissions!AL201)/1000","v":0},{"$f":"(SUM(aem2csp2!$D218,aem2csp2!$E218) * Emissions!AM201)/1000","v":0},{"$f":"(SUM(aem2csp2!$D218,aem2csp2!$E218) * Emissions!AN201)/1000","v":0},{"$f":"(SUM(aem2csp2!$D218,aem2csp2!$E218) * Emissions!AO201)/1000","v":0},{"$f":"(SUM(aem2csp2!$D218,aem2csp2!$E218) * Emissions!AP201)/1000","v":0},{"$f":"(SUM(aem2csp2!$D218,aem2csp2!$E218) * Emissions!AQ201)/1000","v":0},{"$f":"(SUM(aem2csp2!$D218,aem2csp2!$E218) * Emissions!AR201)/1000","v":0},{"$f":"(SUM(aem2csp2!$D218,aem2csp2!$E218) * Emissions!AS201)/1000","v":0}]
["KC10A "," Arrival ",403.26362704541299,5548.3512824523996,13000.922163392799,466.267136313143,463.835786330838,466.267136313143,1518.0353857953601,4089311.5114278998,1603321.1853046899,78.760976819173294,686.92285082127796,173.551167625836,939.234995266287,null,"KC10A "," Departure ",417.19533325436697,1340.9849997461799,67159.079074905705,482.37544939260101,479.860102611743,482.37544939260101,3203.3813448106298,8629327.3077847697,3383352.7352550798,161.32458568982301,1302.40155828468,385.60175738830497,1849.3279013628101,null,820.45896029977996,6889.3362821985793,80160.001238298501,948.64258570574407,943.69588894258095,948.64258570574407,4721.4167306059899,12718638.81921267,4986673.9205597695,240.0855625089963,1989.324409105958,559.15292501414092,2788.5628966290969,null,0,0,0,0,0,0,0,0,0,0,0,0,0,null,{"$f":"(SUM(aem2csp2!$B219,aem2csp2!$C219) * Emissions!AG202)/1000","v":0},{"$f":"(SUM(aem2csp2!$B219,aem2csp2!$C219) * Emissions!AH202)/1000","v":0},{"$f":"(SUM(aem2csp2!$B219,aem2csp2!$C219) * Emissions!AI202)/1000","v":0},{"$f":"(SUM(aem2csp2!$B219,aem2csp2!$C219) * Emissions!AJ202)/1000","v":0},{"$f":"(SUM(aem2csp2!$B219,aem2csp2!$C219) * Emissions!AK202)/1000","v":0},{"$f":"(SUM(aem2csp2!$B219,aem2csp2!$C219) * Emissions!AL202)/1000","v":0},{"$f":"(SUM(aem2csp2!$B219,aem2csp2!$C219) * Emissions!AM202)/1000","v":0},{"$f":"(SUM(aem2csp2!$B219,aem2csp2!$C219) * Emissions!AN202)/1000","v":0},{"$f":"(SUM(aem2csp2!$B219,aem2csp2!$C219) * Emissions!AO202)/1000","v":0},{"$f":"(SUM(aem2csp2!$B219,aem2csp2!$C219) * Emissions!AP202)/1000","v":0},{"$f":"(SUM(aem2csp2!$B219,aem2csp2!$C219) * Emissions!AQ202)/1000","v":0},{"$f":"(SUM(aem2csp2!$B219,aem2csp2!$C219) * Emissions!AR202)/1000","v":0},{"$f":"(SUM(aem2csp2!$B219,aem2csp2!$C219) * Emissions!AS202)/1000","v":0},null,{"$f":"(SUM(aem2csp2!$D219,aem2csp2!$E219) * Emissions!AG202)/1000","v":0},{"$f":"(SUM(aem2csp2!$D219,aem2csp2!$E219) * Emissions!AH202)/1000","v":0},{"$f":"(SUM(aem2csp2!$D219,aem2csp2!$E219) * Emissions!AI202)/1000","v":0},{"$f":"(SUM(aem2csp2!$D219,aem2csp2!$E219) * Emissions!AJ202)/1000","v":0},{"$f":"(SUM(aem2csp2!$D219,aem2csp2!$E219) * Emissions!AK202)/1000","v":0},{"$f":"(SUM(aem2csp2!$D219,aem2csp2!$E219) * Emissions!AL202)/1000","v":0},{"$f":"(SUM(aem2csp2!$D219,aem2csp2!$E219) * Emissions!AM202)/1000","v":0},{"$f":"(SUM(aem2csp2!$D219,aem2csp2!$E219) * Emissions!AN202)/1000","v":0},{"$f":"(SUM(aem2csp2!$D219,aem2csp2!$E219) * Emissions!AO202)/1000","v":0},{"$f":"(SUM(aem2csp2!$D219,aem2csp2!$E219) * Emissions!AP202)/1000","v":0},{"$f":"(SUM(aem2csp2!$D219,aem2csp2!$E219) * Emissions!AQ202)/1000","v":0},{"$f":"(SUM(aem2csp2!$D219,aem2csp2!$E219) * Emissions!AR202)/1000","v":0},{"$f":"(SUM(aem2csp2!$D219,aem2csp2!$E219) * Emissions!AS202)/1000","v":0}]
["KC135 "," Arrival ",10968.438588024401,14742.210677106201,1151.2188091161199,12682.082159839299,12615.951442416799,12682.082159839299,433.07767066881001,1166632.55717221,457408.70783582499,17.787888208887999,131.28861859898601,13.5351629235803,162.61166973145399,null,"KC135 "," Departure ",1804.5056065762501,2702.13088035191,18060.287886240301,2086.4308239348602,2075.5511304034599,2086.4308239348602,2527.6570090748701,6809048.7223627297,2669665.06166805,121.006533556985,891.59161838342402,207.26330762877899,1219.8614595691899,null,12772.944194600652,17444.341557458112,19211.50669535642,14768.512983774159,14691.50257282026,14768.512983774159,2960.7346797436803,7975681.2795349397,3127073.7695038752,138.79442176587301,1022.88023698241,220.79847055235928,1382.4731293006439,null,0,0,0,0,0,0,0,0,0,0,0,0,0,null,{"$f":"(SUM(aem2csp2!$B220,aem2csp2!$C220) * Emissions!AG203)/1000","v":0},{"$f":"(SUM(aem2csp2!$B220,aem2csp2!$C220) * Emissions!AH203)/1000","v":0},{"$f":"(SUM(aem2csp2!$B220,aem2csp2!$C220) * Emissions!AI203)/1000","v":0},{"$f":"(SUM(aem2csp2!$B220,aem2csp2!$C220) * Emissions!AJ203)/1000","v":0},{"$f":"(SUM(aem2csp2!$B220,aem2csp2!$C220) * Emissions!AK203)/1000","v":0},{"$f":"(SUM(aem2csp2!$B220,aem2csp2!$C220) * Emissions!AL203)/1000","v":0},{"$f":"(SUM(aem2csp2!$B220,aem2csp2!$C220) * Emissions!AM203)/1000","v":0},{"$f":"(SUM(aem2csp2!$B220,aem2csp2!$C220) * Emissions!AN203)/1000","v":0},{"$f":"(SUM(aem2csp2!$B220,aem2csp2!$C220) * Emissions!AO203)/1000","v":0},{"$f":"(SUM(aem2csp2!$B220,aem2csp2!$C220) * Emissions!AP203)/1000","v":0},{"$f":"(SUM(aem2csp2!$B220,aem2csp2!$C220) * Emissions!AQ203)/1000","v":0},{"$f":"(SUM(aem2csp2!$B220,aem2csp2!$C220) * Emissions!AR203)/1000","v":0},{"$f":"(SUM(aem2csp2!$B220,aem2csp2!$C220) * Emissions!AS203)/1000","v":0},null,{"$f":"(SUM(aem2csp2!$D220,aem2csp2!$E220) * Emissions!AG203)/1000","v":0},{"$f":"(SUM(aem2csp2!$D220,aem2csp2!$E220) * Emissions!AH203)/1000","v":0},{"$f":"(SUM(aem2csp2!$D220,aem2csp2!$E220) * Emissions!AI203)/1000","v":0},{"$f":"(SUM(aem2csp2!$D220,aem2csp2!$E220) * Emissions!AJ203)/1000","v":0},{"$f":"(SUM(aem2csp2!$D220,aem2csp2!$E220) * Emissions!AK203)/1000","v":0},{"$f":"(SUM(aem2csp2!$D220,aem2csp2!$E220) * Emissions!AL203)/1000","v":0},{"$f":"(SUM(aem2csp2!$D220,aem2csp2!$E220) * Emissions!AM203)/1000","v":0},{"$f":"(SUM(aem2csp2!$D220,aem2csp2!$E220) * Emissions!AN203)/1000","v":0},{"$f":"(SUM(aem2csp2!$D220,aem2csp2!$E220) * Emissions!AO203)/1000","v":0},{"$f":"(SUM(aem2csp2!$D220,aem2csp2!$E220) * Emissions!AP203)/1000","v":0},{"$f":"(SUM(aem2csp2!$D220,aem2csp2!$E220) * Emissions!AQ203)/1000","v":0},{"$f":"(SUM(aem2csp2!$D220,aem2csp2!$E220) * Emissions!AR203)/1000","v":0},{"$f":"(SUM(aem2csp2!$D220,aem2csp2!$E220) * Emissions!AS203)/1000","v":0}]
["KC-135 "," Arrival ",32.657534417049597,5217.0411231236803,5385.2439476909603,37.759753249382101,37.562855016063203,37.759753249382101,913.02769889583396,2459530.7291806298,964323.14167874597,45.304349663983899,347.85543426782101,86.769391605993107,479.92917553779802,null,"KC-135 "," Departure ",44.714266294310498,1966.8408370332299,17942.760339921999,51.700157165534897,51.430566695995203,51.700157165534897,1551.42692565688,4179262.2527727601,1638588.7184405399,79.858631268046295,676.88799619351596,168.909459826627,925.65608728818995,null,77.371800711360095,7183.8819601569103,23328.004287612959,89.459910414917005,88.993421712058407,89.459910414917005,2464.454624552714,6638792.9819533899,2602911.860119286,125.16298093203019,1024.7434304613371,255.67885143262009,1405.5852628259879,null,0,0,0,0,0,0,0,0,0,0,0,0,0,null,{"$f":"(SUM(aem2csp2!$B221,aem2csp2!$C221) * Emissions!AG204)/1000","v":0},{"$f":"(SUM(aem2csp2!$B221,aem2csp2!$C221) * Emissions!AH204)/1000","v":0},{"$f":"(SUM(aem2csp2!$B221,aem2csp2!$C221) * Emissions!AI204)/1000","v":0},{"$f":"(SUM(aem2csp2!$B221,aem2csp2!$C221) * Emissions!AJ204)/1000","v":0},{"$f":"(SUM(aem2csp2!$B221,aem2csp2!$C221) * Emissions!AK204)/1000","v":0},{"$f":"(SUM(aem2csp2!$B221,aem2csp2!$C221) * Emissions!AL204)/1000","v":0},{"$f":"(SUM(aem2csp2!$B221,aem2csp2!$C221) * Emissions!AM204)/1000","v":0},{"$f":"(SUM(aem2csp2!$B221,aem2csp2!$C221) * Emissions!AN204)/1000","v":0},{"$f":"(SUM(aem2csp2!$B221,aem2csp2!$C221) * Emissions!AO204)/1000","v":0},{"$f":"(SUM(aem2csp2!$B221,aem2csp2!$C221) * Emissions!AP204)/1000","v":0},{"$f":"(SUM(aem2csp2!$B221,aem2csp2!$C221) * Emissions!AQ204)/1000","v":0},{"$f":"(SUM(aem2csp2!$B221,aem2csp2!$C221) * Emissions!AR204)/1000","v":0},{"$f":"(SUM(aem2csp2!$B221,aem2csp2!$C221) * Emissions!AS204)/1000","v":0},null,{"$f":"(SUM(aem2csp2!$D221,aem2csp2!$E221) * Emissions!AG204)/1000","v":0},{"$f":"(SUM(aem2csp2!$D221,aem2csp2!$E221) * Emissions!AH204)/1000","v":0},{"$f":"(SUM(aem2csp2!$D221,aem2csp2!$E221) * Emissions!AI204)/1000","v":0},{"$f":"(SUM(aem2csp2!$D221,aem2csp2!$E221) * Emissions!AJ204)/1000","v":0},{"$f":"(SUM(aem2csp2!$D221,aem2csp2!$E221) * Emissions!AK204)/1000","v":0},{"$f":"(SUM(aem2csp2!$D221,aem2csp2!$E221) * Emissions!AL204)/1000","v":0},{"$f":"(SUM(aem2csp2!$D221,aem2csp2!$E221) * Emissions!AM204)/1000","v":0},{"$f":"(SUM(aem2csp2!$D221,aem2csp2!$E221) * Emissions!AN204)/1000","v":0},{"$f":"(SUM(aem2csp2!$D221,aem2csp2!$E221) * Emissions!AO204)/1000","v":0},{"$f":"(SUM(aem2csp2!$D221,aem2csp2!$E221) * Emissions!AP204)/1000","v":0},{"$f":"(SUM(aem2csp2!$D221,aem2csp2!$E221) * Emissions!AQ204)/1000","v":0},{"$f":"(SUM(aem2csp2!$D221,aem2csp2!$E221) * Emissions!AR204)/1000","v":0},{"$f":"(SUM(aem2csp2!$D221,aem2csp2!$E221) * Emissions!AS204)/1000","v":0}]
["KC135B "," Arrival ",0,0,0,0,0,0,459.30800295158201,1237292.3064482899,485112.70462014002,18.7554004652198,35.887925858427103,13.5351629235803,68.178489247227105,null,"KC135B "," Departure ",0,0,0,0,0,0,2102.0552731694202,5662554.9751105802,2220152.2992747398,99.335563354890397,541.247932227359,162.69207242685599,803.27556800910497,null,0,0,0,0,0,0,2561.3632761210019,6899847.2815588703,2705265.0038948799,118.0909638201102,577.13585808578614,176.22723535043627,871.45405725633213,null,0,0,0,0,0,0,0,0,0,0,0,0,0,null,{"$f":"(SUM(aem2csp2!$B222,aem2csp2!$C222) * Emissions!AG205)/1000","v":0},{"$f":"(SUM(aem2csp2!$B222,aem2csp2!$C222) * Emissions!AH205)/1000","v":0},{"$f":"(SUM(aem2csp2!$B222,aem2csp2!$C222) * Emissions!AI205)/1000","v":0},{"$f":"(SUM(aem2csp2!$B222,aem2csp2!$C222) * Emissions!AJ205)/1000","v":0},{"$f":"(SUM(aem2csp2!$B222,aem2csp2!$C222) * Emissions!AK205)/1000","v":0},{"$f":"(SUM(aem2csp2!$B222,aem2csp2!$C222) * Emissions!AL205)/1000","v":0},{"$f":"(SUM(aem2csp2!$B222,aem2csp2!$C222) * Emissions!AM205)/1000","v":0},{"$f":"(SUM(aem2csp2!$B222,aem2csp2!$C222) * Emissions!AN205)/1000","v":0},{"$f":"(SUM(aem2csp2!$B222,aem2csp2!$C222) * Emissions!AO205)/1000","v":0},{"$f":"(SUM(aem2csp2!$B222,aem2csp2!$C222) * Emissions!AP205)/1000","v":0},{"$f":"(SUM(aem2csp2!$B222,aem2csp2!$C222) * Emissions!AQ205)/1000","v":0},{"$f":"(SUM(aem2csp2!$B222,aem2csp2!$C222) * Emissions!AR205)/1000","v":0},{"$f":"(SUM(aem2csp2!$B222,aem2csp2!$C222) * Emissions!AS205)/1000","v":0},null,{"$f":"(SUM(aem2csp2!$D222,aem2csp2!$E222) * Emissions!AG205)/1000","v":0},{"$f":"(SUM(aem2csp2!$D222,aem2csp2!$E222) * Emissions!AH205)/1000","v":0},{"$f":"(SUM(aem2csp2!$D222,aem2csp2!$E222) * Emissions!AI205)/1000","v":0},{"$f":"(SUM(aem2csp2!$D222,aem2csp2!$E222) * Emissions!AJ205)/1000","v":0},{"$f":"(SUM(aem2csp2!$D222,aem2csp2!$E222) * Emissions!AK205)/1000","v":0},{"$f":"(SUM(aem2csp2!$D222,aem2csp2!$E222) * Emissions!AL205)/1000","v":0},{"$f":"(SUM(aem2csp2!$D222,aem2csp2!$E222) * Emissions!AM205)/1000","v":0},{"$f":"(SUM(aem2csp2!$D222,aem2csp2!$E222) * Emissions!AN205)/1000","v":0},{"$f":"(SUM(aem2csp2!$D222,aem2csp2!$E222) * Emissions!AO205)/1000","v":0},{"$f":"(SUM(aem2csp2!$D222,aem2csp2!$E222) * Emissions!AP205)/1000","v":0},{"$f":"(SUM(aem2csp2!$D222,aem2csp2!$E222) * Emissions!AQ205)/1000","v":0},{"$f":"(SUM(aem2csp2!$D222,aem2csp2!$E222) * Emissions!AR205)/1000","v":0},{"$f":"(SUM(aem2csp2!$D222,aem2csp2!$E222) * Emissions!AS205)/1000","v":0}]
["KC135R "," Arrival ",80.702057117949295,2422.2634751103201,4575.8150593432401,93.310466264115803,92.823898837781499,93.310466264115803,577.24327030276902,1554988.48856321,609673.77507216996,24.403826705525301,94.5928576323643,28.774405559135499,147.77108989702501,null,"KC135R "," Departure ",109.474518454898,2189.49036909796,42310.927709099698,126.57816573543199,125.918123890205,126.57816573543199,2704.0820789857698,7284305.80532795,2856001.9908686802,128.25217861163301,856.75781070910898,240.156597499664,1225.16658682041,null,190.1765755728473,4611.7538442082805,46886.742768442942,219.88863199954778,218.74202272798649,219.88863199954778,3281.3253492885387,8839294.2938911598,3465675.7659408501,152.6560053171583,951.35066834147324,268.93100305879949,1372.9376767174349,null,0,0,0,0,0,0,0,0,0,0,0,0,0,null,{"$f":"(SUM(aem2csp2!$B223,aem2csp2!$C223) * Emissions!AG206)/1000","v":0},{"$f":"(SUM(aem2csp2!$B223,aem2csp2!$C223) * Emissions!AH206)/1000","v":0},{"$f":"(SUM(aem2csp2!$B223,aem2csp2!$C223) * Emissions!AI206)/1000","v":0},{"$f":"(SUM(aem2csp2!$B223,aem2csp2!$C223) * Emissions!AJ206)/1000","v":0},{"$f":"(SUM(aem2csp2!$B223,aem2csp2!$C223) * Emissions!AK206)/1000","v":0},{"$f":"(SUM(aem2csp2!$B223,aem2csp2!$C223) * Emissions!AL206)/1000","v":0},{"$f":"(SUM(aem2csp2!$B223,aem2csp2!$C223) * Emissions!AM206)/1000","v":0},{"$f":"(SUM(aem2csp2!$B223,aem2csp2!$C223) * Emissions!AN206)/1000","v":0},{"$f":"(SUM(aem2csp2!$B223,aem2csp2!$C223) * Emissions!AO206)/1000","v":0},{"$f":"(SUM(aem2csp2!$B223,aem2csp2!$C223) * Emissions!AP206)/1000","v":0},{"$f":"(SUM(aem2csp2!$B223,aem2csp2!$C223) * Emissions!AQ206)/1000","v":0},{"$f":"(SUM(aem2csp2!$B223,aem2csp2!$C223) * Emissions!AR206)/1000","v":0},{"$f":"(SUM(aem2csp2!$B223,aem2csp2!$C223) * Emissions!AS206)/1000","v":0},null,{"$f":"(SUM(aem2csp2!$D223,aem2csp2!$E223) * Emissions!AG206)/1000","v":0},{"$f":"(SUM(aem2csp2!$D223,aem2csp2!$E223) * Emissions!AH206)/1000","v":0},{"$f":"(SUM(aem2csp2!$D223,aem2csp2!$E223) * Emissions!AI206)/1000","v":0},{"$f":"(SUM(aem2csp2!$D223,aem2csp2!$E223) * Emissions!AJ206)/1000","v":0},{"$f":"(SUM(aem2csp2!$D223,aem2csp2!$E223) * Emissions!AK206)/1000","v":0},{"$f":"(SUM(aem2csp2!$D223,aem2csp2!$E223) * Emissions!AL206)/1000","v":0},{"$f":"(SUM(aem2csp2!$D223,aem2csp2!$E223) * Emissions!AM206)/1000","v":0},{"$f":"(SUM(aem2csp2!$D223,aem2csp2!$E223) * Emissions!AN206)/1000","v":0},{"$f":"(SUM(aem2csp2!$D223,aem2csp2!$E223) * Emissions!AO206)/1000","v":0},{"$f":"(SUM(aem2csp2!$D223,aem2csp2!$E223) * Emissions!AP206)/1000","v":0},{"$f":"(SUM(aem2csp2!$D223,aem2csp2!$E223) * Emissions!AQ206)/1000","v":0},{"$f":"(SUM(aem2csp2!$D223,aem2csp2!$E223) * Emissions!AR206)/1000","v":0},{"$f":"(SUM(aem2csp2!$D223,aem2csp2!$E223) * Emissions!AS206)/1000","v":0}]
["L1011 "," Arrival ",19384.839322873901,28036.108538205201,811.70721936270695,22413.411259501001,22296.5365264883,22413.411259501001,348.85406298811,939749.46100365999,368453.27520175203,15.447375111078101,164.666894351281,31.1393426906047,211.253612152963,null,"L1011 "," Departure ",2165.27290225762,9583.52033994253,15609.9744925346,2503.5622549673099,2490.5074295887798,2503.5622549673099,1173.3016947580199,3160661.58381281,1239219.77152978,58.342002729125497,465.86850632643302,142.089909903143,666.30041895870102,null,21550.112225131521,37619.628878147734,16421.681711897309,24916.973514468311,24787.043956077079,24916.973514468311,1522.1557577461299,4100411.0448164698,1607673.0467315321,73.789377840203599,630.53540067771405,173.2292525937477,877.55403111166402,null,0,0,0,0,0,0,0,0,0,0,0,0,0,null,{"$f":"(SUM(aem2csp2!$B224,aem2csp2!$C224) * Emissions!AG207)/1000","v":0},{"$f":"(SUM(aem2csp2!$B224,aem2csp2!$C224) * Emissions!AH207)/1000","v":0},{"$f":"(SUM(aem2csp2!$B224,aem2csp2!$C224) * Emissions!AI207)/1000","v":0},{"$f":"(SUM(aem2csp2!$B224,aem2csp2!$C224) * Emissions!AJ207)/1000","v":0},{"$f":"(SUM(aem2csp2!$B224,aem2csp2!$C224) * Emissions!AK207)/1000","v":0},{"$f":"(SUM(aem2csp2!$B224,aem2csp2!$C224) * Emissions!AL207)/1000","v":0},{"$f":"(SUM(aem2csp2!$B224,aem2csp2!$C224) * Emissions!AM207)/1000","v":0},{"$f":"(SUM(aem2csp2!$B224,aem2csp2!$C224) * Emissions!AN207)/1000","v":0},{"$f":"(SUM(aem2csp2!$B224,aem2csp2!$C224) * Emissions!AO207)/1000","v":0},{"$f":"(SUM(aem2csp2!$B224,aem2csp2!$C224) * Emissions!AP207)/1000","v":0},{"$f":"(SUM(aem2csp2!$B224,aem2csp2!$C224) * Emissions!AQ207)/1000","v":0},{"$f":"(SUM(aem2csp2!$B224,aem2csp2!$C224) * Emissions!AR207)/1000","v":0},{"$f":"(SUM(aem2csp2!$B224,aem2csp2!$C224) * Emissions!AS207)/1000","v":0},null,{"$f":"(SUM(aem2csp2!$D224,aem2csp2!$E224) * Emissions!AG207)/1000","v":0},{"$f":"(SUM(aem2csp2!$D224,aem2csp2!$E224) * Emissions!AH207)/1000","v":0},{"$f":"(SUM(aem2csp2!$D224,aem2csp2!$E224) * Emissions!AI207)/1000","v":0},{"$f":"(SUM(aem2csp2!$D224,aem2csp2!$E224) * Emissions!AJ207)/1000","v":0},{"$f":"(SUM(aem2csp2!$D224,aem2csp2!$E224) * Emissions!AK207)/1000","v":0},{"$f":"(SUM(aem2csp2!$D224,aem2csp2!$E224) * Emissions!AL207)/1000","v":0},{"$f":"(SUM(aem2csp2!$D224,aem2csp2!$E224) * Emissions!AM207)/1000","v":0},{"$f":"(SUM(aem2csp2!$D224,aem2csp2!$E224) * Emissions!AN207)/1000","v":0},{"$f":"(SUM(aem2csp2!$D224,aem2csp2!$E224) * Emissions!AO207)/1000","v":0},{"$f":"(SUM(aem2csp2!$D224,aem2csp2!$E224) * Emissions!AP207)/1000","v":0},{"$f":"(SUM(aem2csp2!$D224,aem2csp2!$E224) * Emissions!AQ207)/1000","v":0},{"$f":"(SUM(aem2csp2!$D224,aem2csp2!$E224) * Emissions!AR207)/1000","v":0},{"$f":"(SUM(aem2csp2!$D224,aem2csp2!$E224) * Emissions!AS207)/1000","v":0}]
["L10115 "," Arrival ",14974.0374743552,24975.081784116901,1113.0599410068501,17313.4919788515,17223.210774927698,17313.4919788515,360.52125971234801,971178.76911924302,380775.95480206102,15.8656313778909,136.03804974808,22.434229892204499,174.33791101817499,null,"L10115 "," Departure ",2027.76088015048,9834.7237550943391,19705.497748518301,2344.5661728601899,2332.34043255181,2344.5661728601899,1225.5850472275499,3301503.4357948299,1294440.49130846,60.849875823944203,489.819932674808,154.257959709038,704.92776820779,null,17001.798354505681,34809.805539211244,20818.557689525151,19658.058151711688,19555.551207479508,19658.058151711688,1586.1063069398979,4272682.2049140725,1675216.446110521,76.715507201835095,625.85798242288797,176.69218960124249,879.26567922596496,null,0,0,0,0,0,0,0,0,0,0,0,0,0,null,{"$f":"(SUM(aem2csp2!$B225,aem2csp2!$C225) * Emissions!AG208)/1000","v":0},{"$f":"(SUM(aem2csp2!$B225,aem2csp2!$C225) * Emissions!AH208)/1000","v":0},{"$f":"(SUM(aem2csp2!$B225,aem2csp2!$C225) * Emissions!AI208)/1000","v":0},{"$f":"(SUM(aem2csp2!$B225,aem2csp2!$C225) * Emissions!AJ208)/1000","v":0},{"$f":"(SUM(aem2csp2!$B225,aem2csp2!$C225) * Emissions!AK208)/1000","v":0},{"$f":"(SUM(aem2csp2!$B225,aem2csp2!$C225) * Emissions!AL208)/1000","v":0},{"$f":"(SUM(aem2csp2!$B225,aem2csp2!$C225) * Emissions!AM208)/1000","v":0},{"$f":"(SUM(aem2csp2!$B225,aem2csp2!$C225) * Emissions!AN208)/1000","v":0},{"$f":"(SUM(aem2csp2!$B225,aem2csp2!$C225) * Emissions!AO208)/1000","v":0},{"$f":"(SUM(aem2csp2!$B225,aem2csp2!$C225) * Emissions!AP208)/1000","v":0},{"$f":"(SUM(aem2csp2!$B225,aem2csp2!$C225) * Emissions!AQ208)/1000","v":0},{"$f":"(SUM(aem2csp2!$B225,aem2csp2!$C225) * Emissions!AR208)/1000","v":0},{"$f":"(SUM(aem2csp2!$B225,aem2csp2!$C225) * Emissions!AS208)/1000","v":0},null,{"$f":"(SUM(aem2csp2!$D225,aem2csp2!$E225) * Emissions!AG208)/1000","v":0},{"$f":"(SUM(aem2csp2!$D225,aem2csp2!$E225) * Emissions!AH208)/1000","v":0},{"$f":"(SUM(aem2csp2!$D225,aem2csp2!$E225) * Emissions!AI208)/1000","v":0},{"$f":"(SUM(aem2csp2!$D225,aem2csp2!$E225) * Emissions!AJ208)/1000","v":0},{"$f":"(SUM(aem2csp2!$D225,aem2csp2!$E225) * Emissions!AK208)/1000","v":0},{"$f":"(SUM(aem2csp2!$D225,aem2csp2!$E225) * Emissions!AL208)/1000","v":0},{"$f":"(SUM(aem2csp2!$D225,aem2csp2!$E225) * Emissions!AM208)/1000","v":0},{"$f":"(SUM(aem2csp2!$D225,aem2csp2!$E225) * Emissions!AN208)/1000","v":0},{"$f":"(SUM(aem2csp2!$D225,aem2csp2!$E225) * Emissions!AO208)/1000","v":0},{"$f":"(SUM(aem2csp2!$D225,aem2csp2!$E225) * Emissions!AP208)/1000","v":0},{"$f":"(SUM(aem2csp2!$D225,aem2csp2!$E225) * Emissions!AQ208)/1000","v":0},{"$f":"(SUM(aem2csp2!$D225,aem2csp2!$E225) * Emissions!AR208)/1000","v":0},{"$f":"(SUM(aem2csp2!$D225,aem2csp2!$E225) * Emissions!AS208)/1000","v":0}]
["L188 "," Arrival ",42.312151368317501,9.27197205945696E-3,147.19667523536401,48.922750098490702,48.667642418102098,48.922750098490702,105.181037459588,283338.60415386001,111090.28631959599,4.6566197021325104,24.220005575761899,26.800071423610198,55.676696701504603,null,"L188 "," Departure ",69.423277011764398,2.41351477448624E-2,1288.6917982490099,80.269556674160995,79.850991070883595,80.269556674160995,264.91236277148499,713625.77232243505,279795.588070634,13.418059759532101,111.230770750677,59.240342553539698,183.88917306374901,null,111.7354283800819,3.340711980431936E-2,1435.8884734843739,129.1923067726517,128.5186334889857,129.1923067726517,370.09340023107302,996964.37647629506,390885.87439022999,18.074679461664612,135.4507763264389,86.040413977149896,239.56586976525361,null,0,0,0,0,0,0,0,0,0,0,0,0,0,null,{"$f":"(SUM(aem2csp2!$B226,aem2csp2!$C226) * Emissions!AG209)/1000","v":0},{"$f":"(SUM(aem2csp2!$B226,aem2csp2!$C226) * Emissions!AH209)/1000","v":0},{"$f":"(SUM(aem2csp2!$B226,aem2csp2!$C226) * Emissions!AI209)/1000","v":0},{"$f":"(SUM(aem2csp2!$B226,aem2csp2!$C226) * Emissions!AJ209)/1000","v":0},{"$f":"(SUM(aem2csp2!$B226,aem2csp2!$C226) * Emissions!AK209)/1000","v":0},{"$f":"(SUM(aem2csp2!$B226,aem2csp2!$C226) * Emissions!AL209)/1000","v":0},{"$f":"(SUM(aem2csp2!$B226,aem2csp2!$C226) * Emissions!AM209)/1000","v":0},{"$f":"(SUM(aem2csp2!$B226,aem2csp2!$C226) * Emissions!AN209)/1000","v":0},{"$f":"(SUM(aem2csp2!$B226,aem2csp2!$C226) * Emissions!AO209)/1000","v":0},{"$f":"(SUM(aem2csp2!$B226,aem2csp2!$C226) * Emissions!AP209)/1000","v":0},{"$f":"(SUM(aem2csp2!$B226,aem2csp2!$C226) * Emissions!AQ209)/1000","v":0},{"$f":"(SUM(aem2csp2!$B226,aem2csp2!$C226) * Emissions!AR209)/1000","v":0},{"$f":"(SUM(aem2csp2!$B226,aem2csp2!$C226) * Emissions!AS209)/1000","v":0},null,{"$f":"(SUM(aem2csp2!$D226,aem2csp2!$E226) * Emissions!AG209)/1000","v":0},{"$f":"(SUM(aem2csp2!$D226,aem2csp2!$E226) * Emissions!AH209)/1000","v":0},{"$f":"(SUM(aem2csp2!$D226,aem2csp2!$E226) * Emissions!AI209)/1000","v":0},{"$f":"(SUM(aem2csp2!$D226,aem2csp2!$E226) * Emissions!AJ209)/1000","v":0},{"$f":"(SUM(aem2csp2!$D226,aem2csp2!$E226) * Emissions!AK209)/1000","v":0},{"$f":"(SUM(aem2csp2!$D226,aem2csp2!$E226) * Emissions!AL209)/1000","v":0},{"$f":"(SUM(aem2csp2!$D226,aem2csp2!$E226) * Emissions!AM209)/1000","v":0},{"$f":"(SUM(aem2csp2!$D226,aem2csp2!$E226) * Emissions!AN209)/1000","v":0},{"$f":"(SUM(aem2csp2!$D226,aem2csp2!$E226) * Emissions!AO209)/1000","v":0},{"$f":"(SUM(aem2csp2!$D226,aem2csp2!$E226) * Emissions!AP209)/1000","v":0},{"$f":"(SUM(aem2csp2!$D226,aem2csp2!$E226) * Emissions!AQ209)/1000","v":0},{"$f":"(SUM(aem2csp2!$D226,aem2csp2!$E226) * Emissions!AR209)/1000","v":0},{"$f":"(SUM(aem2csp2!$D226,aem2csp2!$E226) * Emissions!AS209)/1000","v":0}]
["LEAR25 "," Arrival ",538.77325965899001,4688.7996247621304,26.316212322722802,622.947987508442,619.69962522757999,622.947987508442,34.597667849488303,93199.830998237303,36541.423437343801,1.4303793199203001,4.6076671273059198,1.1510136840946099,7.1890601313208196,null,"LEAR25 "," Departure ",1.1631463515481699,5139.8925912795803,155.20503078297699,1.34486941563011,1.3378565940623099,1.34486941563011,86.342418174295105,232590.786663167,91193.281490439796,4.1539697502175699,29.3972589343051,7.2328986874367303,40.7841273719594,null,539.93640601053824,9828.6922160417107,181.5212431056998,624.29285692407211,621.03748182164225,624.29285692407211,120.94008602378341,325790.61766140431,127734.7049277836,5.5843490701378702,34.004926061611016,8.3839123715313395,47.973187503280222,null,0,0,0,0,0,0,0,0,0,0,0,0,0,null,{"$f":"(SUM(aem2csp2!$B227,aem2csp2!$C227) * Emissions!AG210)/1000","v":0},{"$f":"(SUM(aem2csp2!$B227,aem2csp2!$C227) * Emissions!AH210)/1000","v":0},{"$f":"(SUM(aem2csp2!$B227,aem2csp2!$C227) * Emissions!AI210)/1000","v":0},{"$f":"(SUM(aem2csp2!$B227,aem2csp2!$C227) * Emissions!AJ210)/1000","v":0},{"$f":"(SUM(aem2csp2!$B227,aem2csp2!$C227) * Emissions!AK210)/1000","v":0},{"$f":"(SUM(aem2csp2!$B227,aem2csp2!$C227) * Emissions!AL210)/1000","v":0},{"$f":"(SUM(aem2csp2!$B227,aem2csp2!$C227) * Emissions!AM210)/1000","v":0},{"$f":"(SUM(aem2csp2!$B227,aem2csp2!$C227) * Emissions!AN210)/1000","v":0},{"$f":"(SUM(aem2csp2!$B227,aem2csp2!$C227) * Emissions!AO210)/1000","v":0},{"$f":"(SUM(aem2csp2!$B227,aem2csp2!$C227) * Emissions!AP210)/1000","v":0},{"$f":"(SUM(aem2csp2!$B227,aem2csp2!$C227) * Emissions!AQ210)/1000","v":0},{"$f":"(SUM(aem2csp2!$B227,aem2csp2!$C227) * Emissions!AR210)/1000","v":0},{"$f":"(SUM(aem2csp2!$B227,aem2csp2!$C227) * Emissions!AS210)/1000","v":0},null,{"$f":"(SUM(aem2csp2!$D227,aem2csp2!$E227) * Emissions!AG210)/1000","v":0},{"$f":"(SUM(aem2csp2!$D227,aem2csp2!$E227) * Emissions!AH210)/1000","v":0},{"$f":"(SUM(aem2csp2!$D227,aem2csp2!$E227) * Emissions!AI210)/1000","v":0},{"$f":"(SUM(aem2csp2!$D227,aem2csp2!$E227) * Emissions!AJ210)/1000","v":0},{"$f":"(SUM(aem2csp2!$D227,aem2csp2!$E227) * Emissions!AK210)/1000","v":0},{"$f":"(SUM(aem2csp2!$D227,aem2csp2!$E227) * Emissions!AL210)/1000","v":0},{"$f":"(SUM(aem2csp2!$D227,aem2csp2!$E227) * Emissions!AM210)/1000","v":0},{"$f":"(SUM(aem2csp2!$D227,aem2csp2!$E227) * Emissions!AN210)/1000","v":0},{"$f":"(SUM(aem2csp2!$D227,aem2csp2!$E227) * Emissions!AO210)/1000","v":0},{"$f":"(SUM(aem2csp2!$D227,aem2csp2!$E227) * Emissions!AP210)/1000","v":0},{"$f":"(SUM(aem2csp2!$D227,aem2csp2!$E227) * Emissions!AQ210)/1000","v":0},{"$f":"(SUM(aem2csp2!$D227,aem2csp2!$E227) * Emissions!AR210)/1000","v":0},{"$f":"(SUM(aem2csp2!$D227,aem2csp2!$E227) * Emissions!AS210)/1000","v":0}]
["LEAR35 "," Arrival ",149.616982089206,1000.51557129875,143.11227139378801,172.99224900016301,172.09018091775201,172.99224900016301,35.475688363080501,95565.058730805104,37468.772630746702,1.4657990583291201,6.6315654064249596,1.1736535039326399,9.2710179686867296,null,"LEAR35 "," Departure ",6.8966168759227502,475.357087738975,1537.34761094604,7.97410325484989,7.9325222934274704,7.97410325484989,107.956301987152,290814.66254223499,114021.469909586,5.2703057577414203,38.740875314371102,9.6142612859229093,53.6254423580354,null,156.51359896512875,1475.872659037725,1680.459882339828,180.96635225501291,180.02270321117948,180.96635225501291,143.4319903502325,386379.72127304011,151490.24254033269,6.7361048160705401,45.372440720796064,10.787914789855549,62.896460326722128,null,0,0,0,0,0,0,0,0,0,0,0,0,0,null,{"$f":"(SUM(aem2csp2!$B228,aem2csp2!$C228) * Emissions!AG211)/1000","v":0},{"$f":"(SUM(aem2csp2!$B228,aem2csp2!$C228) * Emissions!AH211)/1000","v":0},{"$f":"(SUM(aem2csp2!$B228,aem2csp2!$C228) * Emissions!AI211)/1000","v":0},{"$f":"(SUM(aem2csp2!$B228,aem2csp2!$C228) * Emissions!AJ211)/1000","v":0},{"$f":"(SUM(aem2csp2!$B228,aem2csp2!$C228) * Emissions!AK211)/1000","v":0},{"$f":"(SUM(aem2csp2!$B228,aem2csp2!$C228) * Emissions!AL211)/1000","v":0},{"$f":"(SUM(aem2csp2!$B228,aem2csp2!$C228) * Emissions!AM211)/1000","v":0},{"$f":"(SUM(aem2csp2!$B228,aem2csp2!$C228) * Emissions!AN211)/1000","v":0},{"$f":"(SUM(aem2csp2!$B228,aem2csp2!$C228) * Emissions!AO211)/1000","v":0},{"$f":"(SUM(aem2csp2!$B228,aem2csp2!$C228) * Emissions!AP211)/1000","v":0},{"$f":"(SUM(aem2csp2!$B228,aem2csp2!$C228) * Emissions!AQ211)/1000","v":0},{"$f":"(SUM(aem2csp2!$B228,aem2csp2!$C228) * Emissions!AR211)/1000","v":0},{"$f":"(SUM(aem2csp2!$B228,aem2csp2!$C228) * Emissions!AS211)/1000","v":0},null,{"$f":"(SUM(aem2csp2!$D228,aem2csp2!$E228) * Emissions!AG211)/1000","v":0},{"$f":"(SUM(aem2csp2!$D228,aem2csp2!$E228) * Emissions!AH211)/1000","v":0},{"$f":"(SUM(aem2csp2!$D228,aem2csp2!$E228) * Emissions!AI211)/1000","v":0},{"$f":"(SUM(aem2csp2!$D228,aem2csp2!$E228) * Emissions!AJ211)/1000","v":0},{"$f":"(SUM(aem2csp2!$D228,aem2csp2!$E228) * Emissions!AK211)/1000","v":0},{"$f":"(SUM(aem2csp2!$D228,aem2csp2!$E228) * Emissions!AL211)/1000","v":0},{"$f":"(SUM(aem2csp2!$D228,aem2csp2!$E228) * Emissions!AM211)/1000","v":0},{"$f":"(SUM(aem2csp2!$D228,aem2csp2!$E228) * Emissions!AN211)/1000","v":0},{"$f":"(SUM(aem2csp2!$D228,aem2csp2!$E228) * Emissions!AO211)/1000","v":0},{"$f":"(SUM(aem2csp2!$D228,aem2csp2!$E228) * Emissions!AP211)/1000","v":0},{"$f":"(SUM(aem2csp2!$D228,aem2csp2!$E228) * Emissions!AQ211)/1000","v":0},{"$f":"(SUM(aem2csp2!$D228,aem2csp2!$E228) * Emissions!AR211)/1000","v":0},{"$f":"(SUM(aem2csp2!$D228,aem2csp2!$E228) * Emissions!AS211)/1000","v":0}]
["MD11GE "," Arrival ",133.02023304425401,2096.8799974987601,7253.2004797562604,153.80252265168099,153.00051939731401,153.80252265168099,782.904457509586,2109002.3594968799,826889.35616406903,35.065667450771599,187.42517361387999,46.179432970454997,268.67027403510701,null,"MD11GE "," Departure ",104.052498137803,153.83035739745301,41745.075480130698,120.309041230437,119.681689734941,120.309041230437,2295.3273046087002,6183194.7114416296,2424282.6808409798,109.02754526063001,731.80440818778902,208.93482739046601,1049.7667808388801,null,237.072731182057,2250.7103548962132,48998.27595988696,274.11156388211799,272.68220913225502,274.11156388211799,3078.231762118286,8292197.070938509,3251172.0370050487,144.09321271140161,919.22958180166904,255.11426036092101,1318.4370548739871,null,0,0,0,0,0,0,0,0,0,0,0,0,0,null,{"$f":"(SUM(aem2csp2!$B229,aem2csp2!$C229) * Emissions!AG212)/1000","v":0},{"$f":"(SUM(aem2csp2!$B229,aem2csp2!$C229) * Emissions!AH212)/1000","v":0},{"$f":"(SUM(aem2csp2!$B229,aem2csp2!$C229) * Emissions!AI212)/1000","v":0},{"$f":"(SUM(aem2csp2!$B229,aem2csp2!$C229) * Emissions!AJ212)/1000","v":0},{"$f":"(SUM(aem2csp2!$B229,aem2csp2!$C229) * Emissions!AK212)/1000","v":0},{"$f":"(SUM(aem2csp2!$B229,aem2csp2!$C229) * Emissions!AL212)/1000","v":0},{"$f":"(SUM(aem2csp2!$B229,aem2csp2!$C229) * Emissions!AM212)/1000","v":0},{"$f":"(SUM(aem2csp2!$B229,aem2csp2!$C229) * Emissions!AN212)/1000","v":0},{"$f":"(SUM(aem2csp2!$B229,aem2csp2!$C229) * Emissions!AO212)/1000","v":0},{"$f":"(SUM(aem2csp2!$B229,aem2csp2!$C229) * Emissions!AP212)/1000","v":0},{"$f":"(SUM(aem2csp2!$B229,aem2csp2!$C229) * Emissions!AQ212)/1000","v":0},{"$f":"(SUM(aem2csp2!$B229,aem2csp2!$C229) * Emissions!AR212)/1000","v":0},{"$f":"(SUM(aem2csp2!$B229,aem2csp2!$C229) * Emissions!AS212)/1000","v":0},null,{"$f":"(SUM(aem2csp2!$D229,aem2csp2!$E229) * Emissions!AG212)/1000","v":0},{"$f":"(SUM(aem2csp2!$D229,aem2csp2!$E229) * Emissions!AH212)/1000","v":0},{"$f":"(SUM(aem2csp2!$D229,aem2csp2!$E229) * Emissions!AI212)/1000","v":0},{"$f":"(SUM(aem2csp2!$D229,aem2csp2!$E229) * Emissions!AJ212)/1000","v":0},{"$f":"(SUM(aem2csp2!$D229,aem2csp2!$E229) * Emissions!AK212)/1000","v":0},{"$f":"(SUM(aem2csp2!$D229,aem2csp2!$E229) * Emissions!AL212)/1000","v":0},{"$f":"(SUM(aem2csp2!$D229,aem2csp2!$E229) * Emissions!AM212)/1000","v":0},{"$f":"(SUM(aem2csp2!$D229,aem2csp2!$E229) * Emissions!AN212)/1000","v":0},{"$f":"(SUM(aem2csp2!$D229,aem2csp2!$E229) * Emissions!AO212)/1000","v":0},{"$f":"(SUM(aem2csp2!$D229,aem2csp2!$E229) * Emissions!AP212)/1000","v":0},{"$f":"(SUM(aem2csp2!$D229,aem2csp2!$E229) * Emissions!AQ212)/1000","v":0},{"$f":"(SUM(aem2csp2!$D229,aem2csp2!$E229) * Emissions!AR212)/1000","v":0},{"$f":"(SUM(aem2csp2!$D229,aem2csp2!$E229) * Emissions!AS212)/1000","v":0}]
["MD11PW "," Arrival ",172.01410978375401,2159.4000287572399,6798.5607281725997,198.88857064040101,197.85146618879699,198.88857064040101,778.76008708354198,2097838.1785763102,822512.14798697201,34.9144644336317,188.18485683037301,46.191844202784601,269.29116546678898,null,"MD11PW "," Departure ",135.399370695703,992.38325576758496,41255.759825946101,156.553362611544,155.73701510220599,156.553362611544,2110.26647844437,5684674.4701946601,2228824.8239717302,100.035019896788,670.88244694560296,187.87524591577599,958.792712758167,null,307.41348047945701,3151.7832845248249,48054.320554118698,355.44193325194499,353.58848129100295,355.44193325194499,2889.0265655279118,7782512.6487709703,3051336.9719587024,134.94948433041969,859.06730377597592,234.0670901185606,1228.0838782249559,null,0,0,0,0,0,0,0,0,0,0,0,0,0,null,{"$f":"(SUM(aem2csp2!$B230,aem2csp2!$C230) * Emissions!AG213)/1000","v":0},{"$f":"(SUM(aem2csp2!$B230,aem2csp2!$C230) * Emissions!AH213)/1000","v":0},{"$f":"(SUM(aem2csp2!$B230,aem2csp2!$C230) * Emissions!AI213)/1000","v":0},{"$f":"(SUM(aem2csp2!$B230,aem2csp2!$C230) * Emissions!AJ213)/1000","v":0},{"$f":"(SUM(aem2csp2!$B230,aem2csp2!$C230) * Emissions!AK213)/1000","v":0},{"$f":"(SUM(aem2csp2!$B230,aem2csp2!$C230) * Emissions!AL213)/1000","v":0},{"$f":"(SUM(aem2csp2!$B230,aem2csp2!$C230) * Emissions!AM213)/1000","v":0},{"$f":"(SUM(aem2csp2!$B230,aem2csp2!$C230) * Emissions!AN213)/1000","v":0},{"$f":"(SUM(aem2csp2!$B230,aem2csp2!$C230) * Emissions!AO213)/1000","v":0},{"$f":"(SUM(aem2csp2!$B230,aem2csp2!$C230) * Emissions!AP213)/1000","v":0},{"$f":"(SUM(aem2csp2!$B230,aem2csp2!$C230) * Emissions!AQ213)/1000","v":0},{"$f":"(SUM(aem2csp2!$B230,aem2csp2!$C230) * Emissions!AR213)/1000","v":0},{"$f":"(SUM(aem2csp2!$B230,aem2csp2!$C230) * Emissions!AS213)/1000","v":0},null,{"$f":"(SUM(aem2csp2!$D230,aem2csp2!$E230) * Emissions!AG213)/1000","v":0},{"$f":"(SUM(aem2csp2!$D230,aem2csp2!$E230) * Emissions!AH213)/1000","v":0},{"$f":"(SUM(aem2csp2!$D230,aem2csp2!$E230) * Emissions!AI213)/1000","v":0},{"$f":"(SUM(aem2csp2!$D230,aem2csp2!$E230) * Emissions!AJ213)/1000","v":0},{"$f":"(SUM(aem2csp2!$D230,aem2csp2!$E230) * Emissions!AK213)/1000","v":0},{"$f":"(SUM(aem2csp2!$D230,aem2csp2!$E230) * Emissions!AL213)/1000","v":0},{"$f":"(SUM(aem2csp2!$D230,aem2csp2!$E230) * Emissions!AM213)/1000","v":0},{"$f":"(SUM(aem2csp2!$D230,aem2csp2!$E230) * Emissions!AN213)/1000","v":0},{"$f":"(SUM(aem2csp2!$D230,aem2csp2!$E230) * Emissions!AO213)/1000","v":0},{"$f":"(SUM(aem2csp2!$D230,aem2csp2!$E230) * Emissions!AP213)/1000","v":0},{"$f":"(SUM(aem2csp2!$D230,aem2csp2!$E230) * Emissions!AQ213)/1000","v":0},{"$f":"(SUM(aem2csp2!$D230,aem2csp2!$E230) * Emissions!AR213)/1000","v":0},{"$f":"(SUM(aem2csp2!$D230,aem2csp2!$E230) * Emissions!AS213)/1000","v":0}]
["MD81 "," Arrival ",2.5172798727786001E-2,1492.4449778420501,1709.31401294999,2.9105646997689999E-2,2.8953875601420601E-2,2.9105646997689999E-2,287.17438412924997,773595.61298478697,303308.32749989902,11.2824756778543,20.5975897147033,5.1490888253363396,37.029154217893897,null,"MD81 "," Departure ",6.4808233747918206E-2,289.40448572915898,8895.7070766200904,7.4933486514893899E-2,7.4542745849461994E-2,7.4933486514893899E-2,720.28728295587996,1940323.0684134201,760754.24267112697,33.972697467870901,221.03974261629301,65.362334512295405,320.37477459645999,null,8.9981032475704215E-2,1781.8494635712091,10605.02108957008,0.1040391335125839,0.10349662145088259,0.1040391335125839,1007.4616670851299,2713918.6813982073,1064062.570171026,45.255173145725202,241.63733233099632,70.51142333763174,357.40392881435389,null,0,0,0,0,0,0,0,0,0,0,0,0,0,null,{"$f":"(SUM(aem2csp2!$B231,aem2csp2!$C231) * Emissions!AG214)/1000","v":0},{"$f":"(SUM(aem2csp2!$B231,aem2csp2!$C231) * Emissions!AH214)/1000","v":0},{"$f":"(SUM(aem2csp2!$B231,aem2csp2!$C231) * Emissions!AI214)/1000","v":0},{"$f":"(SUM(aem2csp2!$B231,aem2csp2!$C231) * Emissions!AJ214)/1000","v":0},{"$f":"(SUM(aem2csp2!$B231,aem2csp2!$C231) * Emissions!AK214)/1000","v":0},{"$f":"(SUM(aem2csp2!$B231,aem2csp2!$C231) * Emissions!AL214)/1000","v":0},{"$f":"(SUM(aem2csp2!$B231,aem2csp2!$C231) * Emissions!AM214)/1000","v":0},{"$f":"(SUM(aem2csp2!$B231,aem2csp2!$C231) * Emissions!AN214)/1000","v":0},{"$f":"(SUM(aem2csp2!$B231,aem2csp2!$C231) * Emissions!AO214)/1000","v":0},{"$f":"(SUM(aem2csp2!$B231,aem2csp2!$C231) * Emissions!AP214)/1000","v":0},{"$f":"(SUM(aem2csp2!$B231,aem2csp2!$C231) * Emissions!AQ214)/1000","v":0},{"$f":"(SUM(aem2csp2!$B231,aem2csp2!$C231) * Emissions!AR214)/1000","v":0},{"$f":"(SUM(aem2csp2!$B231,aem2csp2!$C231) * Emissions!AS214)/1000","v":0},null,{"$f":"(SUM(aem2csp2!$D231,aem2csp2!$E231) * Emissions!AG214)/1000","v":0},{"$f":"(SUM(aem2csp2!$D231,aem2csp2!$E231) * Emissions!AH214)/1000","v":0},{"$f":"(SUM(aem2csp2!$D231,aem2csp2!$E231) * Emissions!AI214)/1000","v":0},{"$f":"(SUM(aem2csp2!$D231,aem2csp2!$E231) * Emissions!AJ214)/1000","v":0},{"$f":"(SUM(aem2csp2!$D231,aem2csp2!$E231) * Emissions!AK214)/1000","v":0},{"$f":"(SUM(aem2csp2!$D231,aem2csp2!$E231) * Emissions!AL214)/1000","v":0},{"$f":"(SUM(aem2csp2!$D231,aem2csp2!$E231) * Emissions!AM214)/1000","v":0},{"$f":"(SUM(aem2csp2!$D231,aem2csp2!$E231) * Emissions!AN214)/1000","v":0},{"$f":"(SUM(aem2csp2!$D231,aem2csp2!$E231) * Emissions!AO214)/1000","v":0},{"$f":"(SUM(aem2csp2!$D231,aem2csp2!$E231) * Emissions!AP214)/1000","v":0},{"$f":"(SUM(aem2csp2!$D231,aem2csp2!$E231) * Emissions!AQ214)/1000","v":0},{"$f":"(SUM(aem2csp2!$D231,aem2csp2!$E231) * Emissions!AR214)/1000","v":0},{"$f":"(SUM(aem2csp2!$D231,aem2csp2!$E231) * Emissions!AS214)/1000","v":0}]
["MD82 "," Arrival ",2.5577022698502899E-2,1476.95442307299,1762.55842065664,2.95730245160549E-2,2.94188159797159E-2,2.95730245160549E-2,291.84396561388098,786174.61706949596,308240.25398255698,11.458410373751899,20.707940756285101,5.1766711729429202,37.343022302980003,null,"MD82 "," Departure ",7.0826698085863796E-2,315.17880648209399,9960.2280175739397,8.1892239905118902E-2,8.1465212820133595E-2,8.1892239905118902E-2,787.11386962167103,2120341.7509019598,831335.26017930906,37.2985547360515,246.739781144284,73.099169428565801,357.13750530890098,null,9.6403720784366695E-2,1792.133229555084,11722.78643823058,0.1114652644211738,0.11088402879984949,0.1114652644211738,1078.957835235552,2906516.3679714557,1139575.5141618662,48.756965109803403,267.44772190056909,78.275840601508719,394.48052761188097,null,0,0,0,0,0,0,0,0,0,0,0,0,0,null,{"$f":"(SUM(aem2csp2!$B232,aem2csp2!$C232) * Emissions!AG215)/1000","v":0},{"$f":"(SUM(aem2csp2!$B232,aem2csp2!$C232) * Emissions!AH215)/1000","v":0},{"$f":"(SUM(aem2csp2!$B232,aem2csp2!$C232) * Emissions!AI215)/1000","v":0},{"$f":"(SUM(aem2csp2!$B232,aem2csp2!$C232) * Emissions!AJ215)/1000","v":0},{"$f":"(SUM(aem2csp2!$B232,aem2csp2!$C232) * Emissions!AK215)/1000","v":0},{"$f":"(SUM(aem2csp2!$B232,aem2csp2!$C232) * Emissions!AL215)/1000","v":0},{"$f":"(SUM(aem2csp2!$B232,aem2csp2!$C232) * Emissions!AM215)/1000","v":0},{"$f":"(SUM(aem2csp2!$B232,aem2csp2!$C232) * Emissions!AN215)/1000","v":0},{"$f":"(SUM(aem2csp2!$B232,aem2csp2!$C232) * Emissions!AO215)/1000","v":0},{"$f":"(SUM(aem2csp2!$B232,aem2csp2!$C232) * Emissions!AP215)/1000","v":0},{"$f":"(SUM(aem2csp2!$B232,aem2csp2!$C232) * Emissions!AQ215)/1000","v":0},{"$f":"(SUM(aem2csp2!$B232,aem2csp2!$C232) * Emissions!AR215)/1000","v":0},{"$f":"(SUM(aem2csp2!$B232,aem2csp2!$C232) * Emissions!AS215)/1000","v":0},null,{"$f":"(SUM(aem2csp2!$D232,aem2csp2!$E232) * Emissions!AG215)/1000","v":0},{"$f":"(SUM(aem2csp2!$D232,aem2csp2!$E232) * Emissions!AH215)/1000","v":0},{"$f":"(SUM(aem2csp2!$D232,aem2csp2!$E232) * Emissions!AI215)/1000","v":0},{"$f":"(SUM(aem2csp2!$D232,aem2csp2!$E232) * Emissions!AJ215)/1000","v":0},{"$f":"(SUM(aem2csp2!$D232,aem2csp2!$E232) * Emissions!AK215)/1000","v":0},{"$f":"(SUM(aem2csp2!$D232,aem2csp2!$E232) * Emissions!AL215)/1000","v":0},{"$f":"(SUM(aem2csp2!$D232,aem2csp2!$E232) * Emissions!AM215)/1000","v":0},{"$f":"(SUM(aem2csp2!$D232,aem2csp2!$E232) * Emissions!AN215)/1000","v":0},{"$f":"(SUM(aem2csp2!$D232,aem2csp2!$E232) * Emissions!AO215)/1000","v":0},{"$f":"(SUM(aem2csp2!$D232,aem2csp2!$E232) * Emissions!AP215)/1000","v":0},{"$f":"(SUM(aem2csp2!$D232,aem2csp2!$E232) * Emissions!AQ215)/1000","v":0},{"$f":"(SUM(aem2csp2!$D232,aem2csp2!$E232) * Emissions!AR215)/1000","v":0},{"$f":"(SUM(aem2csp2!$D232,aem2csp2!$E232) * Emissions!AS215)/1000","v":0}]
["MD83 "," Arrival ",2.6173491581216402E-2,1500.15072937216,1846.4826866576,3.02626821474173E-2,3.0104877391359499E-2,3.02626821474173E-2,298.73569858552702,804739.69350865704,315519.17618707102,11.7219129210142,20.985562408774101,9.8240280576406196,42.531503387428799,null,"MD83 "," Departure ",6.9392392276406201E-2,305.32652601618702,10476.8296880699,8.0233846691545499E-2,7.9815467297972495E-2,8.0233846691545499E-2,771.42784822887597,2078086.4593255699,814767.97153271805,36.076231760434702,227.52373114315901,78.866982860225406,342.46694576381901,null,9.5565883857622602E-2,1805.477255388347,12323.3123747275,0.1104965288389628,0.109920344689332,0.1104965288389628,1070.1635468144029,2882826.1528342268,1130287.1477197891,47.798144681448903,248.50929355193313,88.691010917866024,384.99844915124783,null,0,0,0,0,0,0,0,0,0,0,0,0,0,null,{"$f":"(SUM(aem2csp2!$B233,aem2csp2!$C233) * Emissions!AG216)/1000","v":0},{"$f":"(SUM(aem2csp2!$B233,aem2csp2!$C233) * Emissions!AH216)/1000","v":0},{"$f":"(SUM(aem2csp2!$B233,aem2csp2!$C233) * Emissions!AI216)/1000","v":0},{"$f":"(SUM(aem2csp2!$B233,aem2csp2!$C233) * Emissions!AJ216)/1000","v":0},{"$f":"(SUM(aem2csp2!$B233,aem2csp2!$C233) * Emissions!AK216)/1000","v":0},{"$f":"(SUM(aem2csp2!$B233,aem2csp2!$C233) * Emissions!AL216)/1000","v":0},{"$f":"(SUM(aem2csp2!$B233,aem2csp2!$C233) * Emissions!AM216)/1000","v":0},{"$f":"(SUM(aem2csp2!$B233,aem2csp2!$C233) * Emissions!AN216)/1000","v":0},{"$f":"(SUM(aem2csp2!$B233,aem2csp2!$C233) * Emissions!AO216)/1000","v":0},{"$f":"(SUM(aem2csp2!$B233,aem2csp2!$C233) * Emissions!AP216)/1000","v":0},{"$f":"(SUM(aem2csp2!$B233,aem2csp2!$C233) * Emissions!AQ216)/1000","v":0},{"$f":"(SUM(aem2csp2!$B233,aem2csp2!$C233) * Emissions!AR216)/1000","v":0},{"$f":"(SUM(aem2csp2!$B233,aem2csp2!$C233) * Emissions!AS216)/1000","v":0},null,{"$f":"(SUM(aem2csp2!$D233,aem2csp2!$E233) * Emissions!AG216)/1000","v":0},{"$f":"(SUM(aem2csp2!$D233,aem2csp2!$E233) * Emissions!AH216)/1000","v":0},{"$f":"(SUM(aem2csp2!$D233,aem2csp2!$E233) * Emissions!AI216)/1000","v":0},{"$f":"(SUM(aem2csp2!$D233,aem2csp2!$E233) * Emissions!AJ216)/1000","v":0},{"$f":"(SUM(aem2csp2!$D233,aem2csp2!$E233) * Emissions!AK216)/1000","v":0},{"$f":"(SUM(aem2csp2!$D233,aem2csp2!$E233) * Emissions!AL216)/1000","v":0},{"$f":"(SUM(aem2csp2!$D233,aem2csp2!$E233) * Emissions!AM216)/1000","v":0},{"$f":"(SUM(aem2csp2!$D233,aem2csp2!$E233) * Emissions!AN216)/1000","v":0},{"$f":"(SUM(aem2csp2!$D233,aem2csp2!$E233) * Emissions!AO216)/1000","v":0},{"$f":"(SUM(aem2csp2!$D233,aem2csp2!$E233) * Emissions!AP216)/1000","v":0},{"$f":"(SUM(aem2csp2!$D233,aem2csp2!$E233) * Emissions!AQ216)/1000","v":0},{"$f":"(SUM(aem2csp2!$D233,aem2csp2!$E233) * Emissions!AR216)/1000","v":0},{"$f":"(SUM(aem2csp2!$D233,aem2csp2!$E233) * Emissions!AS216)/1000","v":0}]
["MD9025 "," Arrival ",17.620027740923199,786.38713048338195,2315.61310113533,20.372876018380001,20.266641656382198,20.372876018380001,312.19149386595802,840987.16115701699,329730.94084032701,14.1247747106507,78.476483797792696,45.397496656552299,137.998755164996,null,"MD9025 "," Departure ",22.162134803403301,310.81042712089999,13432.769416143101,25.624614858222799,25.490995304044599,25.624614858222799,600.60243078392796,1617913.82268041,634345.29275932303,29.1837809362159,210.92229360439899,85.316261014105706,325.42233555472001,null,39.782162544326496,1097.1975576042819,15748.382517278431,45.997490876602797,45.757636960426794,45.997490876602797,912.79392464988598,2458900.9838374271,964076.23359964998,43.308555646866601,289.39877740219168,130.713757670658,463.42109071971601,null,0,0,0,0,0,0,0,0,0,0,0,0,0,null,{"$f":"(SUM(aem2csp2!$B234,aem2csp2!$C234) * Emissions!AG217)/1000","v":0},{"$f":"(SUM(aem2csp2!$B234,aem2csp2!$C234) * Emissions!AH217)/1000","v":0},{"$f":"(SUM(aem2csp2!$B234,aem2csp2!$C234) * Emissions!AI217)/1000","v":0},{"$f":"(SUM(aem2csp2!$B234,aem2csp2!$C234) * Emissions!AJ217)/1000","v":0},{"$f":"(SUM(aem2csp2!$B234,aem2csp2!$C234) * Emissions!AK217)/1000","v":0},{"$f":"(SUM(aem2csp2!$B234,aem2csp2!$C234) * Emissions!AL217)/1000","v":0},{"$f":"(SUM(aem2csp2!$B234,aem2csp2!$C234) * Emissions!AM217)/1000","v":0},{"$f":"(SUM(aem2csp2!$B234,aem2csp2!$C234) * Emissions!AN217)/1000","v":0},{"$f":"(SUM(aem2csp2!$B234,aem2csp2!$C234) * Emissions!AO217)/1000","v":0},{"$f":"(SUM(aem2csp2!$B234,aem2csp2!$C234) * Emissions!AP217)/1000","v":0},{"$f":"(SUM(aem2csp2!$B234,aem2csp2!$C234) * Emissions!AQ217)/1000","v":0},{"$f":"(SUM(aem2csp2!$B234,aem2csp2!$C234) * Emissions!AR217)/1000","v":0},{"$f":"(SUM(aem2csp2!$B234,aem2csp2!$C234) * Emissions!AS217)/1000","v":0},null,{"$f":"(SUM(aem2csp2!$D234,aem2csp2!$E234) * Emissions!AG217)/1000","v":0},{"$f":"(SUM(aem2csp2!$D234,aem2csp2!$E234) * Emissions!AH217)/1000","v":0},{"$f":"(SUM(aem2csp2!$D234,aem2csp2!$E234) * Emissions!AI217)/1000","v":0},{"$f":"(SUM(aem2csp2!$D234,aem2csp2!$E234) * Emissions!AJ217)/1000","v":0},{"$f":"(SUM(aem2csp2!$D234,aem2csp2!$E234) * Emissions!AK217)/1000","v":0},{"$f":"(SUM(aem2csp2!$D234,aem2csp2!$E234) * Emissions!AL217)/1000","v":0},{"$f":"(SUM(aem2csp2!$D234,aem2csp2!$E234) * Emissions!AM217)/1000","v":0},{"$f":"(SUM(aem2csp2!$D234,aem2csp2!$E234) * Emissions!AN217)/1000","v":0},{"$f":"(SUM(aem2csp2!$D234,aem2csp2!$E234) * Emissions!AO217)/1000","v":0},{"$f":"(SUM(aem2csp2!$D234,aem2csp2!$E234) * Emissions!AP217)/1000","v":0},{"$f":"(SUM(aem2csp2!$D234,aem2csp2!$E234) * Emissions!AQ217)/1000","v":0},{"$f":"(SUM(aem2csp2!$D234,aem2csp2!$E234) * Emissions!AR217)/1000","v":0},{"$f":"(SUM(aem2csp2!$D234,aem2csp2!$E234) * Emissions!AS217)/1000","v":0}]
["MD9028 "," Arrival ",18.010751001002099,766.89139379743494,2457.4298606624702,20.824643555419499,20.716053451599699,20.824643555419499,323.22651661455097,870713.50744442304,341385.92986014299,14.619737803571301,81.092850649103795,48.579698348953002,144.29228680162799,null,"MD9028 "," Departure ",22.455029712808699,275.341435764202,14484.2708468161,25.9632699252561,25.827884454230801,25.9632699252561,594.38061779228303,1601153.38894694,627773.92777412396,28.8175268377985,206.88115683621899,81.051863189782694,316.75054686380003,null,40.465780713810801,1042.2328295616369,16941.700707478569,46.787913480675599,46.543937905830504,46.787913480675599,917.60713440683401,2471866.8963913629,969159.85763426695,43.437264641369801,287.97400748532277,129.6315615387357,461.04283366542802,null,0,0,0,0,0,0,0,0,0,0,0,0,0,null,{"$f":"(SUM(aem2csp2!$B235,aem2csp2!$C235) * Emissions!AG218)/1000","v":0},{"$f":"(SUM(aem2csp2!$B235,aem2csp2!$C235) * Emissions!AH218)/1000","v":0},{"$f":"(SUM(aem2csp2!$B235,aem2csp2!$C235) * Emissions!AI218)/1000","v":0},{"$f":"(SUM(aem2csp2!$B235,aem2csp2!$C235) * Emissions!AJ218)/1000","v":0},{"$f":"(SUM(aem2csp2!$B235,aem2csp2!$C235) * Emissions!AK218)/1000","v":0},{"$f":"(SUM(aem2csp2!$B235,aem2csp2!$C235) * Emissions!AL218)/1000","v":0},{"$f":"(SUM(aem2csp2!$B235,aem2csp2!$C235) * Emissions!AM218)/1000","v":0},{"$f":"(SUM(aem2csp2!$B235,aem2csp2!$C235) * Emissions!AN218)/1000","v":0},{"$f":"(SUM(aem2csp2!$B235,aem2csp2!$C235) * Emissions!AO218)/1000","v":0},{"$f":"(SUM(aem2csp2!$B235,aem2csp2!$C235) * Emissions!AP218)/1000","v":0},{"$f":"(SUM(aem2csp2!$B235,aem2csp2!$C235) * Emissions!AQ218)/1000","v":0},{"$f":"(SUM(aem2csp2!$B235,aem2csp2!$C235) * Emissions!AR218)/1000","v":0},{"$f":"(SUM(aem2csp2!$B235,aem2csp2!$C235) * Emissions!AS218)/1000","v":0},null,{"$f":"(SUM(aem2csp2!$D235,aem2csp2!$E235) * Emissions!AG218)/1000","v":0},{"$f":"(SUM(aem2csp2!$D235,aem2csp2!$E235) * Emissions!AH218)/1000","v":0},{"$f":"(SUM(aem2csp2!$D235,aem2csp2!$E235) * Emissions!AI218)/1000","v":0},{"$f":"(SUM(aem2csp2!$D235,aem2csp2!$E235) * Emissions!AJ218)/1000","v":0},{"$f":"(SUM(aem2csp2!$D235,aem2csp2!$E235) * Emissions!AK218)/1000","v":0},{"$f":"(SUM(aem2csp2!$D235,aem2csp2!$E235) * Emissions!AL218)/1000","v":0},{"$f":"(SUM(aem2csp2!$D235,aem2csp2!$E235) * Emissions!AM218)/1000","v":0},{"$f":"(SUM(aem2csp2!$D235,aem2csp2!$E235) * Emissions!AN218)/1000","v":0},{"$f":"(SUM(aem2csp2!$D235,aem2csp2!$E235) * Emissions!AO218)/1000","v":0},{"$f":"(SUM(aem2csp2!$D235,aem2csp2!$E235) * Emissions!AP218)/1000","v":0},{"$f":"(SUM(aem2csp2!$D235,aem2csp2!$E235) * Emissions!AQ218)/1000","v":0},{"$f":"(SUM(aem2csp2!$D235,aem2csp2!$E235) * Emissions!AR218)/1000","v":0},{"$f":"(SUM(aem2csp2!$D235,aem2csp2!$E235) * Emissions!AS218)/1000","v":0}]
["MU3001 "," Arrival ",2385.4932234029202,3287.9946083404202,80.210260523525506,2758.1884885572199,2743.8059146836299,2758.1884885572199,42.351852194029803,114088.194733747,44731.2509938652,1.9085351847457099,25.632172111271501,2.5849007625301401,30.1256080585474,null,"MU3001 "," Departure ",82.677953729454302,935.80404041430904,676.43606090265905,95.595065203641596,95.096584736137203,95.595065203641596,89.588727592451903,241335.754400773,94621.974070921206,4.4010445718670699,33.608486279049202,10.613428581190799,48.622959432107102,null,2468.1711771323744,4223.7986487547296,756.64632142618461,2853.7835537608617,2838.9024994197671,2853.7835537608617,131.94057978648169,355423.94913452002,139353.22506478641,6.3095797566127798,59.240658390320704,13.198329343720939,78.748567490654494,null,0,0,0,0,0,0,0,0,0,0,0,0,0,null,{"$f":"(SUM(aem2csp2!$B236,aem2csp2!$C236) * Emissions!AG219)/1000","v":0},{"$f":"(SUM(aem2csp2!$B236,aem2csp2!$C236) * Emissions!AH219)/1000","v":0},{"$f":"(SUM(aem2csp2!$B236,aem2csp2!$C236) * Emissions!AI219)/1000","v":0},{"$f":"(SUM(aem2csp2!$B236,aem2csp2!$C236) * Emissions!AJ219)/1000","v":0},{"$f":"(SUM(aem2csp2!$B236,aem2csp2!$C236) * Emissions!AK219)/1000","v":0},{"$f":"(SUM(aem2csp2!$B236,aem2csp2!$C236) * Emissions!AL219)/1000","v":0},{"$f":"(SUM(aem2csp2!$B236,aem2csp2!$C236) * Emissions!AM219)/1000","v":0},{"$f":"(SUM(aem2csp2!$B236,aem2csp2!$C236) * Emissions!AN219)/1000","v":0},{"$f":"(SUM(aem2csp2!$B236,aem2csp2!$C236) * Emissions!AO219)/1000","v":0},{"$f":"(SUM(aem2csp2!$B236,aem2csp2!$C236) * Emissions!AP219)/1000","v":0},{"$f":"(SUM(aem2csp2!$B236,aem2csp2!$C236) * Emissions!AQ219)/1000","v":0},{"$f":"(SUM(aem2csp2!$B236,aem2csp2!$C236) * Emissions!AR219)/1000","v":0},{"$f":"(SUM(aem2csp2!$B236,aem2csp2!$C236) * Emissions!AS219)/1000","v":0},null,{"$f":"(SUM(aem2csp2!$D236,aem2csp2!$E236) * Emissions!AG219)/1000","v":0},{"$f":"(SUM(aem2csp2!$D236,aem2csp2!$E236) * Emissions!AH219)/1000","v":0},{"$f":"(SUM(aem2csp2!$D236,aem2csp2!$E236) * Emissions!AI219)/1000","v":0},{"$f":"(SUM(aem2csp2!$D236,aem2csp2!$E236) * Emissions!AJ219)/1000","v":0},{"$f":"(SUM(aem2csp2!$D236,aem2csp2!$E236) * Emissions!AK219)/1000","v":0},{"$f":"(SUM(aem2csp2!$D236,aem2csp2!$E236) * Emissions!AL219)/1000","v":0},{"$f":"(SUM(aem2csp2!$D236,aem2csp2!$E236) * Emissions!AM219)/1000","v":0},{"$f":"(SUM(aem2csp2!$D236,aem2csp2!$E236) * Emissions!AN219)/1000","v":0},{"$f":"(SUM(aem2csp2!$D236,aem2csp2!$E236) * Emissions!AO219)/1000","v":0},{"$f":"(SUM(aem2csp2!$D236,aem2csp2!$E236) * Emissions!AP219)/1000","v":0},{"$f":"(SUM(aem2csp2!$D236,aem2csp2!$E236) * Emissions!AQ219)/1000","v":0},{"$f":"(SUM(aem2csp2!$D236,aem2csp2!$E236) * Emissions!AR219)/1000","v":0},{"$f":"(SUM(aem2csp2!$D236,aem2csp2!$E236) * Emissions!AS219)/1000","v":0}]
["OV10A "," Arrival ",231.29735714932599,927.83067084873005,160.19091059809099,267.43387977976499,266.03934581365297,267.43387977976499,42.083887369542097,113366.346184175,44448.231451608197,1.9306149098680101,18.815862653451902,7.0037185220824396,27.750196085402401,null,"OV10A "," Departure ",3.3350659276111401,648.55323174943101,427.480999487308,3.8561167811637702,3.8360090602083901,3.8561167811637702,70.073559781492705,188765.43810673599,74010.411073861396,3.82520477832088,37.096019592126801,13.1229523588195,54.0441767292672,null,234.63242307693713,1576.3839025981611,587.67191008539896,271.28999656092878,269.87535487386134,271.28999656092878,112.1574471510348,302131.78429091099,118458.64252546959,5.7558196881888897,55.911882245578703,20.126670880901941,81.7943728146696,null,0,0,0,0,0,0,0,0,0,0,0,0,0,null,{"$f":"(SUM(aem2csp2!$B237,aem2csp2!$C237) * Emissions!AG220)/1000","v":0},{"$f":"(SUM(aem2csp2!$B237,aem2csp2!$C237) * Emissions!AH220)/1000","v":0},{"$f":"(SUM(aem2csp2!$B237,aem2csp2!$C237) * Emissions!AI220)/1000","v":0},{"$f":"(SUM(aem2csp2!$B237,aem2csp2!$C237) * Emissions!AJ220)/1000","v":0},{"$f":"(SUM(aem2csp2!$B237,aem2csp2!$C237) * Emissions!AK220)/1000","v":0},{"$f":"(SUM(aem2csp2!$B237,aem2csp2!$C237) * Emissions!AL220)/1000","v":0},{"$f":"(SUM(aem2csp2!$B237,aem2csp2!$C237) * Emissions!AM220)/1000","v":0},{"$f":"(SUM(aem2csp2!$B237,aem2csp2!$C237) * Emissions!AN220)/1000","v":0},{"$f":"(SUM(aem2csp2!$B237,aem2csp2!$C237) * Emissions!AO220)/1000","v":0},{"$f":"(SUM(aem2csp2!$B237,aem2csp2!$C237) * Emissions!AP220)/1000","v":0},{"$f":"(SUM(aem2csp2!$B237,aem2csp2!$C237) * Emissions!AQ220)/1000","v":0},{"$f":"(SUM(aem2csp2!$B237,aem2csp2!$C237) * Emissions!AR220)/1000","v":0},{"$f":"(SUM(aem2csp2!$B237,aem2csp2!$C237) * Emissions!AS220)/1000","v":0},null,{"$f":"(SUM(aem2csp2!$D237,aem2csp2!$E237) * Emissions!AG220)/1000","v":0},{"$f":"(SUM(aem2csp2!$D237,aem2csp2!$E237) * Emissions!AH220)/1000","v":0},{"$f":"(SUM(aem2csp2!$D237,aem2csp2!$E237) * Emissions!AI220)/1000","v":0},{"$f":"(SUM(aem2csp2!$D237,aem2csp2!$E237) * Emissions!AJ220)/1000","v":0},{"$f":"(SUM(aem2csp2!$D237,aem2csp2!$E237) * Emissions!AK220)/1000","v":0},{"$f":"(SUM(aem2csp2!$D237,aem2csp2!$E237) * Emissions!AL220)/1000","v":0},{"$f":"(SUM(aem2csp2!$D237,aem2csp2!$E237) * Emissions!AM220)/1000","v":0},{"$f":"(SUM(aem2csp2!$D237,aem2csp2!$E237) * Emissions!AN220)/1000","v":0},{"$f":"(SUM(aem2csp2!$D237,aem2csp2!$E237) * Emissions!AO220)/1000","v":0},{"$f":"(SUM(aem2csp2!$D237,aem2csp2!$E237) * Emissions!AP220)/1000","v":0},{"$f":"(SUM(aem2csp2!$D237,aem2csp2!$E237) * Emissions!AQ220)/1000","v":0},{"$f":"(SUM(aem2csp2!$D237,aem2csp2!$E237) * Emissions!AR220)/1000","v":0},{"$f":"(SUM(aem2csp2!$D237,aem2csp2!$E237) * Emissions!AS220)/1000","v":0}]
["P3A "," Arrival ",265.447873056628,964.76381692440202,1754.9013359539299,306.91986906270301,305.31943540547502,306.91986906270301,304.19135112956201,819436.23020301305,321281.33653284499,15.582964502866499,135.48346263934801,68.435666587879396,219.502093730094,null,"P3A "," Departure ",18.764013117272899,462.09605263629101,4143.5837619368704,21.695590862073502,21.5824592035232,21.695590862073502,466.29689943476001,1256119.12373349,492494.24914685602,24.302774763660601,212.57926440752101,92.842410542482298,329.724449713664,null,284.21188617390089,1426.8598695606929,5898.4850978907998,328.61545992477653,326.90189460899819,328.61545992477653,770.48825056432202,2075555.3539365032,813775.58567970106,39.885739266527096,348.06272704686899,161.27807713036168,549.22654344375803,null,0,0,0,0,0,0,0,0,0,0,0,0,0,null,{"$f":"(SUM(aem2csp2!$B238,aem2csp2!$C238) * Emissions!AG221)/1000","v":0},{"$f":"(SUM(aem2csp2!$B238,aem2csp2!$C238) * Emissions!AH221)/1000","v":0},{"$f":"(SUM(aem2csp2!$B238,aem2csp2!$C238) * Emissions!AI221)/1000","v":0},{"$f":"(SUM(aem2csp2!$B238,aem2csp2!$C238) * Emissions!AJ221)/1000","v":0},{"$f":"(SUM(aem2csp2!$B238,aem2csp2!$C238) * Emissions!AK221)/1000","v":0},{"$f":"(SUM(aem2csp2!$B238,aem2csp2!$C238) * Emissions!AL221)/1000","v":0},{"$f":"(SUM(aem2csp2!$B238,aem2csp2!$C238) * Emissions!AM221)/1000","v":0},{"$f":"(SUM(aem2csp2!$B238,aem2csp2!$C238) * Emissions!AN221)/1000","v":0},{"$f":"(SUM(aem2csp2!$B238,aem2csp2!$C238) * Emissions!AO221)/1000","v":0},{"$f":"(SUM(aem2csp2!$B238,aem2csp2!$C238) * Emissions!AP221)/1000","v":0},{"$f":"(SUM(aem2csp2!$B238,aem2csp2!$C238) * Emissions!AQ221)/1000","v":0},{"$f":"(SUM(aem2csp2!$B238,aem2csp2!$C238) * Emissions!AR221)/1000","v":0},{"$f":"(SUM(aem2csp2!$B238,aem2csp2!$C238) * Emissions!AS221)/1000","v":0},null,{"$f":"(SUM(aem2csp2!$D238,aem2csp2!$E238) * Emissions!AG221)/1000","v":0},{"$f":"(SUM(aem2csp2!$D238,aem2csp2!$E238) * Emissions!AH221)/1000","v":0},{"$f":"(SUM(aem2csp2!$D238,aem2csp2!$E238) * Emissions!AI221)/1000","v":0},{"$f":"(SUM(aem2csp2!$D238,aem2csp2!$E238) * Emissions!AJ221)/1000","v":0},{"$f":"(SUM(aem2csp2!$D238,aem2csp2!$E238) * Emissions!AK221)/1000","v":0},{"$f":"(SUM(aem2csp2!$D238,aem2csp2!$E238) * Emissions!AL221)/1000","v":0},{"$f":"(SUM(aem2csp2!$D238,aem2csp2!$E238) * Emissions!AM221)/1000","v":0},{"$f":"(SUM(aem2csp2!$D238,aem2csp2!$E238) * Emissions!AN221)/1000","v":0},{"$f":"(SUM(aem2csp2!$D238,aem2csp2!$E238) * Emissions!AO221)/1000","v":0},{"$f":"(SUM(aem2csp2!$D238,aem2csp2!$E238) * Emissions!AP221)/1000","v":0},{"$f":"(SUM(aem2csp2!$D238,aem2csp2!$E238) * Emissions!AQ221)/1000","v":0},{"$f":"(SUM(aem2csp2!$D238,aem2csp2!$E238) * Emissions!AR221)/1000","v":0},{"$f":"(SUM(aem2csp2!$D238,aem2csp2!$E238) * Emissions!AS221)/1000","v":0}]
["PA28 "," Arrival ",39.371068497589398,3044.4103473054702,10.4516720516867,38.572130070391403,32.863424585622802,34.3484818276835,3.63763412390928,9799.1253935568293,3842.0025711029498,0.16763634268368299,2.2746311644106298,0.249711294948469,2.69197880204278,null,"PA28 "," Departure ",120.401360317632,11931.0855234631,57.429337082239201,117.95811259499099,100.500219470731,105.04169926583999,12.396732343338901,33394.544521203999,13093.201766316701,0.64461302553405697,8.45149585108304,1.3981828706955,10.4942917473126,null,159.77242881522139,14975.495870768569,67.8810091339259,156.53024266538239,133.36364405635379,139.39018109352349,16.03436646724818,43193.669914760831,16935.204337419651,0.81224936821773996,10.72612701549367,1.647894165643969,13.186270549355379,null,0,0,0,0,0,0,0,0,0,0,0,0,0,null,{"$f":"(SUM(aem2csp2!$B239,aem2csp2!$C239) * Emissions!AG222)/1000","v":0},{"$f":"(SUM(aem2csp2!$B239,aem2csp2!$C239) * Emissions!AH222)/1000","v":0},{"$f":"(SUM(aem2csp2!$B239,aem2csp2!$C239) * Emissions!AI222)/1000","v":0},{"$f":"(SUM(aem2csp2!$B239,aem2csp2!$C239) * Emissions!AJ222)/1000","v":0},{"$f":"(SUM(aem2csp2!$B239,aem2csp2!$C239) * Emissions!AK222)/1000","v":0},{"$f":"(SUM(aem2csp2!$B239,aem2csp2!$C239) * Emissions!AL222)/1000","v":0},{"$f":"(SUM(aem2csp2!$B239,aem2csp2!$C239) * Emissions!AM222)/1000","v":0},{"$f":"(SUM(aem2csp2!$B239,aem2csp2!$C239) * Emissions!AN222)/1000","v":0},{"$f":"(SUM(aem2csp2!$B239,aem2csp2!$C239) * Emissions!AO222)/1000","v":0},{"$f":"(SUM(aem2csp2!$B239,aem2csp2!$C239) * Emissions!AP222)/1000","v":0},{"$f":"(SUM(aem2csp2!$B239,aem2csp2!$C239) * Emissions!AQ222)/1000","v":0},{"$f":"(SUM(aem2csp2!$B239,aem2csp2!$C239) * Emissions!AR222)/1000","v":0},{"$f":"(SUM(aem2csp2!$B239,aem2csp2!$C239) * Emissions!AS222)/1000","v":0},null,{"$f":"(SUM(aem2csp2!$D239,aem2csp2!$E239) * Emissions!AG222)/1000","v":0},{"$f":"(SUM(aem2csp2!$D239,aem2csp2!$E239) * Emissions!AH222)/1000","v":0},{"$f":"(SUM(aem2csp2!$D239,aem2csp2!$E239) * Emissions!AI222)/1000","v":0},{"$f":"(SUM(aem2csp2!$D239,aem2csp2!$E239) * Emissions!AJ222)/1000","v":0},{"$f":"(SUM(aem2csp2!$D239,aem2csp2!$E239) * Emissions!AK222)/1000","v":0},{"$f":"(SUM(aem2csp2!$D239,aem2csp2!$E239) * Emissions!AL222)/1000","v":0},{"$f":"(SUM(aem2csp2!$D239,aem2csp2!$E239) * Emissions!AM222)/1000","v":0},{"$f":"(SUM(aem2csp2!$D239,aem2csp2!$E239) * Emissions!AN222)/1000","v":0},{"$f":"(SUM(aem2csp2!$D239,aem2csp2!$E239) * Emissions!AO222)/1000","v":0},{"$f":"(SUM(aem2csp2!$D239,aem2csp2!$E239) * Emissions!AP222)/1000","v":0},{"$f":"(SUM(aem2csp2!$D239,aem2csp2!$E239) * Emissions!AQ222)/1000","v":0},{"$f":"(SUM(aem2csp2!$D239,aem2csp2!$E239) * Emissions!AR222)/1000","v":0},{"$f":"(SUM(aem2csp2!$D239,aem2csp2!$E239) * Emissions!AS222)/1000","v":0}]
["PA30 "," Arrival ",327.14099558990898,32417.799818184201,8.7020584898412991,320.50247846394899,273.06786042885301,285.40745707214597,35.099218781540102,94550.918080395204,37071.152350379998,1.6377198590415001,22.033025187649201,2.56027271141014,26.231017758100901,null,"PA30 "," Departure ",321.41786416925697,31850.6702586703,7.9059921307856298,314.89548383587902,268.29070540072001,280.41442835585002,33.556387204445997,90394.810134927699,35441.641881745003,1.71543868784626,28.3436011661564,3.5649484644749898,33.623988318477601,null,648.5588597591659,64268.470076854501,16.60805062062693,635.39796229982801,541.35856582957308,565.82188542799599,68.655605985986099,184945.72821532289,72512.794232125001,3.35315854688776,50.376626353805605,6.1252211758851303,59.855006076578505,null,0,0,0,0,0,0,0,0,0,0,0,0,0,null,{"$f":"(SUM(aem2csp2!$B240,aem2csp2!$C240) * Emissions!AG223)/1000","v":0},{"$f":"(SUM(aem2csp2!$B240,aem2csp2!$C240) * Emissions!AH223)/1000","v":0},{"$f":"(SUM(aem2csp2!$B240,aem2csp2!$C240) * Emissions!AI223)/1000","v":0},{"$f":"(SUM(aem2csp2!$B240,aem2csp2!$C240) * Emissions!AJ223)/1000","v":0},{"$f":"(SUM(aem2csp2!$B240,aem2csp2!$C240) * Emissions!AK223)/1000","v":0},{"$f":"(SUM(aem2csp2!$B240,aem2csp2!$C240) * Emissions!AL223)/1000","v":0},{"$f":"(SUM(aem2csp2!$B240,aem2csp2!$C240) * Emissions!AM223)/1000","v":0},{"$f":"(SUM(aem2csp2!$B240,aem2csp2!$C240) * Emissions!AN223)/1000","v":0},{"$f":"(SUM(aem2csp2!$B240,aem2csp2!$C240) * Emissions!AO223)/1000","v":0},{"$f":"(SUM(aem2csp2!$B240,aem2csp2!$C240) * Emissions!AP223)/1000","v":0},{"$f":"(SUM(aem2csp2!$B240,aem2csp2!$C240) * Emissions!AQ223)/1000","v":0},{"$f":"(SUM(aem2csp2!$B240,aem2csp2!$C240) * Emissions!AR223)/1000","v":0},{"$f":"(SUM(aem2csp2!$B240,aem2csp2!$C240) * Emissions!AS223)/1000","v":0},null,{"$f":"(SUM(aem2csp2!$D240,aem2csp2!$E240) * Emissions!AG223)/1000","v":0},{"$f":"(SUM(aem2csp2!$D240,aem2csp2!$E240) * Emissions!AH223)/1000","v":0},{"$f":"(SUM(aem2csp2!$D240,aem2csp2!$E240) * Emissions!AI223)/1000","v":0},{"$f":"(SUM(aem2csp2!$D240,aem2csp2!$E240) * Emissions!AJ223)/1000","v":0},{"$f":"(SUM(aem2csp2!$D240,aem2csp2!$E240) * Emissions!AK223)/1000","v":0},{"$f":"(SUM(aem2csp2!$D240,aem2csp2!$E240) * Emissions!AL223)/1000","v":0},{"$f":"(SUM(aem2csp2!$D240,aem2csp2!$E240) * Emissions!AM223)/1000","v":0},{"$f":"(SUM(aem2csp2!$D240,aem2csp2!$E240) * Emissions!AN223)/1000","v":0},{"$f":"(SUM(aem2csp2!$D240,aem2csp2!$E240) * Emissions!AO223)/1000","v":0},{"$f":"(SUM(aem2csp2!$D240,aem2csp2!$E240) * Emissions!AP223)/1000","v":0},{"$f":"(SUM(aem2csp2!$D240,aem2csp2!$E240) * Emissions!AQ223)/1000","v":0},{"$f":"(SUM(aem2csp2!$D240,aem2csp2!$E240) * Emissions!AR223)/1000","v":0},{"$f":"(SUM(aem2csp2!$D240,aem2csp2!$E240) * Emissions!AS223)/1000","v":0}]
["PA31 "," Arrival ",47.515099626290599,445.99400329294201,19.547050798201699,54.9385760295444,54.652098824838397,54.9385760295444,10.337571561322701,27847.539511588999,10918.353843371,0.48436936843473199,4.5268595275919798,1.4771347474459899,6.4883636434726997,null,"PA31 "," Departure ",13.825733022487601,368.50636709998099,242.45882598371,15.9857832729839,15.9024254061069,15.9857832729839,47.596764071100303,128217.034361613,50270.830905012801,2.4276857071048101,20.5027599384151,7.8568417340193903,30.787287379539301,null,61.340832648778203,814.50037039292306,262.0058767819117,70.924359302528302,70.554524230945304,70.924359302528302,57.934335632423,156064.573873202,61189.184748383799,2.9120550755395422,25.02961946600708,9.3339764814653812,37.275651023012003,null,0,0,0,0,0,0,0,0,0,0,0,0,0,null,{"$f":"(SUM(aem2csp2!$B241,aem2csp2!$C241) * Emissions!AG224)/1000","v":0},{"$f":"(SUM(aem2csp2!$B241,aem2csp2!$C241) * Emissions!AH224)/1000","v":0},{"$f":"(SUM(aem2csp2!$B241,aem2csp2!$C241) * Emissions!AI224)/1000","v":0},{"$f":"(SUM(aem2csp2!$B241,aem2csp2!$C241) * Emissions!AJ224)/1000","v":0},{"$f":"(SUM(aem2csp2!$B241,aem2csp2!$C241) * Emissions!AK224)/1000","v":0},{"$f":"(SUM(aem2csp2!$B241,aem2csp2!$C241) * Emissions!AL224)/1000","v":0},{"$f":"(SUM(aem2csp2!$B241,aem2csp2!$C241) * Emissions!AM224)/1000","v":0},{"$f":"(SUM(aem2csp2!$B241,aem2csp2!$C241) * Emissions!AN224)/1000","v":0},{"$f":"(SUM(aem2csp2!$B241,aem2csp2!$C241) * Emissions!AO224)/1000","v":0},{"$f":"(SUM(aem2csp2!$B241,aem2csp2!$C241) * Emissions!AP224)/1000","v":0},{"$f":"(SUM(aem2csp2!$B241,aem2csp2!$C241) * Emissions!AQ224)/1000","v":0},{"$f":"(SUM(aem2csp2!$B241,aem2csp2!$C241) * Emissions!AR224)/1000","v":0},{"$f":"(SUM(aem2csp2!$B241,aem2csp2!$C241) * Emissions!AS224)/1000","v":0},null,{"$f":"(SUM(aem2csp2!$D241,aem2csp2!$E241) * Emissions!AG224)/1000","v":0},{"$f":"(SUM(aem2csp2!$D241,aem2csp2!$E241) * Emissions!AH224)/1000","v":0},{"$f":"(SUM(aem2csp2!$D241,aem2csp2!$E241) * Emissions!AI224)/1000","v":0},{"$f":"(SUM(aem2csp2!$D241,aem2csp2!$E241) * Emissions!AJ224)/1000","v":0},{"$f":"(SUM(aem2csp2!$D241,aem2csp2!$E241) * Emissions!AK224)/1000","v":0},{"$f":"(SUM(aem2csp2!$D241,aem2csp2!$E241) * Emissions!AL224)/1000","v":0},{"$f":"(SUM(aem2csp2!$D241,aem2csp2!$E241) * Emissions!AM224)/1000","v":0},{"$f":"(SUM(aem2csp2!$D241,aem2csp2!$E241) * Emissions!AN224)/1000","v":0},{"$f":"(SUM(aem2csp2!$D241,aem2csp2!$E241) * Emissions!AO224)/1000","v":0},{"$f":"(SUM(aem2csp2!$D241,aem2csp2!$E241) * Emissions!AP224)/1000","v":0},{"$f":"(SUM(aem2csp2!$D241,aem2csp2!$E241) * Emissions!AQ224)/1000","v":0},{"$f":"(SUM(aem2csp2!$D241,aem2csp2!$E241) * Emissions!AR224)/1000","v":0},{"$f":"(SUM(aem2csp2!$D241,aem2csp2!$E241) * Emissions!AS224)/1000","v":0}]
["PA42 "," Arrival ",4.9983469478386304E-3,202.271965740908,266.86277494471398,5.77925892980625E-3,5.7491229841167696E-3,5.77925892980625E-3,56.375273767250597,151864.74448059799,59542.532146592399,2.6053996418581402,15.701169499276901,8.9720004571814904,27.278569598316601,null,"PA42 "," Departure ",4.7787543921591303E-3,99.702464304041399,323.02679350966997,5.5253585400226804E-3,5.4965465579157298E-3,5.5253585400226804E-3,52.339808340210901,140993.93383996401,55280.347435827302,2.5790507096103701,19.357914372326199,10.038338291760301,31.9753033736968,null,9.7771013399977607E-3,301.97443004494937,589.88956845438395,1.130461746982893E-2,1.1245669542032499E-2,1.130461746982893E-2,108.7150821074615,292858.678320562,114822.8795824197,5.1844503514685103,35.0590838716031,19.010338748941791,59.253872972013397,null,0,0,0,0,0,0,0,0,0,0,0,0,0,null,{"$f":"(SUM(aem2csp2!$B242,aem2csp2!$C242) * Emissions!AG225)/1000","v":0},{"$f":"(SUM(aem2csp2!$B242,aem2csp2!$C242) * Emissions!AH225)/1000","v":0},{"$f":"(SUM(aem2csp2!$B242,aem2csp2!$C242) * Emissions!AI225)/1000","v":0},{"$f":"(SUM(aem2csp2!$B242,aem2csp2!$C242) * Emissions!AJ225)/1000","v":0},{"$f":"(SUM(aem2csp2!$B242,aem2csp2!$C242) * Emissions!AK225)/1000","v":0},{"$f":"(SUM(aem2csp2!$B242,aem2csp2!$C242) * Emissions!AL225)/1000","v":0},{"$f":"(SUM(aem2csp2!$B242,aem2csp2!$C242) * Emissions!AM225)/1000","v":0},{"$f":"(SUM(aem2csp2!$B242,aem2csp2!$C242) * Emissions!AN225)/1000","v":0},{"$f":"(SUM(aem2csp2!$B242,aem2csp2!$C242) * Emissions!AO225)/1000","v":0},{"$f":"(SUM(aem2csp2!$B242,aem2csp2!$C242) * Emissions!AP225)/1000","v":0},{"$f":"(SUM(aem2csp2!$B242,aem2csp2!$C242) * Emissions!AQ225)/1000","v":0},{"$f":"(SUM(aem2csp2!$B242,aem2csp2!$C242) * Emissions!AR225)/1000","v":0},{"$f":"(SUM(aem2csp2!$B242,aem2csp2!$C242) * Emissions!AS225)/1000","v":0},null,{"$f":"(SUM(aem2csp2!$D242,aem2csp2!$E242) * Emissions!AG225)/1000","v":0},{"$f":"(SUM(aem2csp2!$D242,aem2csp2!$E242) * Emissions!AH225)/1000","v":0},{"$f":"(SUM(aem2csp2!$D242,aem2csp2!$E242) * Emissions!AI225)/1000","v":0},{"$f":"(SUM(aem2csp2!$D242,aem2csp2!$E242) * Emissions!AJ225)/1000","v":0},{"$f":"(SUM(aem2csp2!$D242,aem2csp2!$E242) * Emissions!AK225)/1000","v":0},{"$f":"(SUM(aem2csp2!$D242,aem2csp2!$E242) * Emissions!AL225)/1000","v":0},{"$f":"(SUM(aem2csp2!$D242,aem2csp2!$E242) * Emissions!AM225)/1000","v":0},{"$f":"(SUM(aem2csp2!$D242,aem2csp2!$E242) * Emissions!AN225)/1000","v":0},{"$f":"(SUM(aem2csp2!$D242,aem2csp2!$E242) * Emissions!AO225)/1000","v":0},{"$f":"(SUM(aem2csp2!$D242,aem2csp2!$E242) * Emissions!AP225)/1000","v":0},{"$f":"(SUM(aem2csp2!$D242,aem2csp2!$E242) * Emissions!AQ225)/1000","v":0},{"$f":"(SUM(aem2csp2!$D242,aem2csp2!$E242) * Emissions!AR225)/1000","v":0},{"$f":"(SUM(aem2csp2!$D242,aem2csp2!$E242) * Emissions!AS225)/1000","v":0}]
["S3A&B "," Arrival ",326.17005015304397,5614.9407962587602,811.14547179738804,377.128917750987,375.162379009375,377.128917750987,237.57658418996701,639988.15157047997,250924.03914189601,12.589668158586701,119.261018058562,28.556697240808099,160.407383457957,null,"S3A&B "," Departure ",137.73313849052701,1341.2584200625099,2021.9090730639,159.251744398379,158.42132617721401,159.251744398379,352.33681827288302,949131.37094513699,372131.69757817202,19.469472132214399,195.711002310244,48.309268283715603,263.48974272617397,null,463.90318864357096,6956.1992163212699,2833.0545448612879,536.380662149366,533.58370518658899,536.380662149366,589.91340246285006,1589119.5225156168,623055.73672006803,32.059140290801096,314.972020368806,76.865965524523702,423.89712618413097,null,0,0,0,0,0,0,0,0,0,0,0,0,0,null,{"$f":"(SUM(aem2csp2!$B243,aem2csp2!$C243) * Emissions!AG226)/1000","v":0},{"$f":"(SUM(aem2csp2!$B243,aem2csp2!$C243) * Emissions!AH226)/1000","v":0},{"$f":"(SUM(aem2csp2!$B243,aem2csp2!$C243) * Emissions!AI226)/1000","v":0},{"$f":"(SUM(aem2csp2!$B243,aem2csp2!$C243) * Emissions!AJ226)/1000","v":0},{"$f":"(SUM(aem2csp2!$B243,aem2csp2!$C243) * Emissions!AK226)/1000","v":0},{"$f":"(SUM(aem2csp2!$B243,aem2csp2!$C243) * Emissions!AL226)/1000","v":0},{"$f":"(SUM(aem2csp2!$B243,aem2csp2!$C243) * Emissions!AM226)/1000","v":0},{"$f":"(SUM(aem2csp2!$B243,aem2csp2!$C243) * Emissions!AN226)/1000","v":0},{"$f":"(SUM(aem2csp2!$B243,aem2csp2!$C243) * Emissions!AO226)/1000","v":0},{"$f":"(SUM(aem2csp2!$B243,aem2csp2!$C243) * Emissions!AP226)/1000","v":0},{"$f":"(SUM(aem2csp2!$B243,aem2csp2!$C243) * Emissions!AQ226)/1000","v":0},{"$f":"(SUM(aem2csp2!$B243,aem2csp2!$C243) * Emissions!AR226)/1000","v":0},{"$f":"(SUM(aem2csp2!$B243,aem2csp2!$C243) * Emissions!AS226)/1000","v":0},null,{"$f":"(SUM(aem2csp2!$D243,aem2csp2!$E243) * Emissions!AG226)/1000","v":0},{"$f":"(SUM(aem2csp2!$D243,aem2csp2!$E243) * Emissions!AH226)/1000","v":0},{"$f":"(SUM(aem2csp2!$D243,aem2csp2!$E243) * Emissions!AI226)/1000","v":0},{"$f":"(SUM(aem2csp2!$D243,aem2csp2!$E243) * Emissions!AJ226)/1000","v":0},{"$f":"(SUM(aem2csp2!$D243,aem2csp2!$E243) * Emissions!AK226)/1000","v":0},{"$f":"(SUM(aem2csp2!$D243,aem2csp2!$E243) * Emissions!AL226)/1000","v":0},{"$f":"(SUM(aem2csp2!$D243,aem2csp2!$E243) * Emissions!AM226)/1000","v":0},{"$f":"(SUM(aem2csp2!$D243,aem2csp2!$E243) * Emissions!AN226)/1000","v":0},{"$f":"(SUM(aem2csp2!$D243,aem2csp2!$E243) * Emissions!AO226)/1000","v":0},{"$f":"(SUM(aem2csp2!$D243,aem2csp2!$E243) * Emissions!AP226)/1000","v":0},{"$f":"(SUM(aem2csp2!$D243,aem2csp2!$E243) * Emissions!AQ226)/1000","v":0},{"$f":"(SUM(aem2csp2!$D243,aem2csp2!$E243) * Emissions!AR226)/1000","v":0},{"$f":"(SUM(aem2csp2!$D243,aem2csp2!$E243) * Emissions!AS226)/1000","v":0}]
["SABR80 "," Arrival ",329.41680826779998,6915.2862015345199,130.69880721561,380.88293003213499,378.89681599348199,380.88293003213499,97.3134404355676,262144.72726623598,102780.674367142,4.2441675941460097,24.1759388344169,4.8861001055639504,33.3062065341269,null,"SABR80 "," Departure ",23.780788001008101,5622.6011240654898,1258.8375274583,27.496156798816202,27.352778089188799,27.496156798816202,265.57878168615599,715420.98379424599,280499.44752883702,12.803851194080901,91.101884096570899,22.447108397979498,126.352843688631,null,353.19759626880807,12537.88732560001,1389.53633467391,408.37908683095122,406.2495940826708,408.37908683095122,362.89222212172359,977565.71106048196,383280.12189597904,17.048018788226912,115.2778229309878,27.33320850354345,159.65905022275791,null,0,0,0,0,0,0,0,0,0,0,0,0,0,null,{"$f":"(SUM(aem2csp2!$B244,aem2csp2!$C244) * Emissions!AG227)/1000","v":0},{"$f":"(SUM(aem2csp2!$B244,aem2csp2!$C244) * Emissions!AH227)/1000","v":0},{"$f":"(SUM(aem2csp2!$B244,aem2csp2!$C244) * Emissions!AI227)/1000","v":0},{"$f":"(SUM(aem2csp2!$B244,aem2csp2!$C244) * Emissions!AJ227)/1000","v":0},{"$f":"(SUM(aem2csp2!$B244,aem2csp2!$C244) * Emissions!AK227)/1000","v":0},{"$f":"(SUM(aem2csp2!$B244,aem2csp2!$C244) * Emissions!AL227)/1000","v":0},{"$f":"(SUM(aem2csp2!$B244,aem2csp2!$C244) * Emissions!AM227)/1000","v":0},{"$f":"(SUM(aem2csp2!$B244,aem2csp2!$C244) * Emissions!AN227)/1000","v":0},{"$f":"(SUM(aem2csp2!$B244,aem2csp2!$C244) * Emissions!AO227)/1000","v":0},{"$f":"(SUM(aem2csp2!$B244,aem2csp2!$C244) * Emissions!AP227)/1000","v":0},{"$f":"(SUM(aem2csp2!$B244,aem2csp2!$C244) * Emissions!AQ227)/1000","v":0},{"$f":"(SUM(aem2csp2!$B244,aem2csp2!$C244) * Emissions!AR227)/1000","v":0},{"$f":"(SUM(aem2csp2!$B244,aem2csp2!$C244) * Emissions!AS227)/1000","v":0},null,{"$f":"(SUM(aem2csp2!$D244,aem2csp2!$E244) * Emissions!AG227)/1000","v":0},{"$f":"(SUM(aem2csp2!$D244,aem2csp2!$E244) * Emissions!AH227)/1000","v":0},{"$f":"(SUM(aem2csp2!$D244,aem2csp2!$E244) * Emissions!AI227)/1000","v":0},{"$f":"(SUM(aem2csp2!$D244,aem2csp2!$E244) * Emissions!AJ227)/1000","v":0},{"$f":"(SUM(aem2csp2!$D244,aem2csp2!$E244) * Emissions!AK227)/1000","v":0},{"$f":"(SUM(aem2csp2!$D244,aem2csp2!$E244) * Emissions!AL227)/1000","v":0},{"$f":"(SUM(aem2csp2!$D244,aem2csp2!$E244) * Emissions!AM227)/1000","v":0},{"$f":"(SUM(aem2csp2!$D244,aem2csp2!$E244) * Emissions!AN227)/1000","v":0},{"$f":"(SUM(aem2csp2!$D244,aem2csp2!$E244) * Emissions!AO227)/1000","v":0},{"$f":"(SUM(aem2csp2!$D244,aem2csp2!$E244) * Emissions!AP227)/1000","v":0},{"$f":"(SUM(aem2csp2!$D244,aem2csp2!$E244) * Emissions!AQ227)/1000","v":0},{"$f":"(SUM(aem2csp2!$D244,aem2csp2!$E244) * Emissions!AR227)/1000","v":0},{"$f":"(SUM(aem2csp2!$D244,aem2csp2!$E244) * Emissions!AS227)/1000","v":0}]
["SD330 "," Arrival ",5.9167269775570403E-3,186.03320388366001,331.46267847884798,6.8411211900882996E-3,6.8054481636425903E-3,6.8411211900882996E-3,66.784192057138796,179904.47911566999,70536.241098600294,3.0632937111101901,17.908922133815501,11.518945486745899,32.491161331671599,null,"SD330 "," Departure ",8.2870583917407994E-3,179.717209347135,626.92192388021795,9.5817790785818896E-3,9.5318148915766298E-3,9.5817790785818896E-3,90.854321358630798,244745.03405607899,95958.671038786095,4.4477553140893002,32.7337998711156,19.146230424869401,56.327785610074301,null,1.4203785369297839E-2,365.750413230795,958.38460235906587,1.6422900268670187E-2,1.6337263055219219E-2,1.6422900268670187E-2,157.63851341576958,424649.51317174896,166494.91213738639,7.5110490251994904,50.642722004931102,30.6651759116153,88.818946941745907,null,0,0,0,0,0,0,0,0,0,0,0,0,0,null,{"$f":"(SUM(aem2csp2!$B245,aem2csp2!$C245) * Emissions!AG228)/1000","v":0},{"$f":"(SUM(aem2csp2!$B245,aem2csp2!$C245) * Emissions!AH228)/1000","v":0},{"$f":"(SUM(aem2csp2!$B245,aem2csp2!$C245) * Emissions!AI228)/1000","v":0},{"$f":"(SUM(aem2csp2!$B245,aem2csp2!$C245) * Emissions!AJ228)/1000","v":0},{"$f":"(SUM(aem2csp2!$B245,aem2csp2!$C245) * Emissions!AK228)/1000","v":0},{"$f":"(SUM(aem2csp2!$B245,aem2csp2!$C245) * Emissions!AL228)/1000","v":0},{"$f":"(SUM(aem2csp2!$B245,aem2csp2!$C245) * Emissions!AM228)/1000","v":0},{"$f":"(SUM(aem2csp2!$B245,aem2csp2!$C245) * Emissions!AN228)/1000","v":0},{"$f":"(SUM(aem2csp2!$B245,aem2csp2!$C245) * Emissions!AO228)/1000","v":0},{"$f":"(SUM(aem2csp2!$B245,aem2csp2!$C245) * Emissions!AP228)/1000","v":0},{"$f":"(SUM(aem2csp2!$B245,aem2csp2!$C245) * Emissions!AQ228)/1000","v":0},{"$f":"(SUM(aem2csp2!$B245,aem2csp2!$C245) * Emissions!AR228)/1000","v":0},{"$f":"(SUM(aem2csp2!$B245,aem2csp2!$C245) * Emissions!AS228)/1000","v":0},null,{"$f":"(SUM(aem2csp2!$D245,aem2csp2!$E245) * Emissions!AG228)/1000","v":0},{"$f":"(SUM(aem2csp2!$D245,aem2csp2!$E245) * Emissions!AH228)/1000","v":0},{"$f":"(SUM(aem2csp2!$D245,aem2csp2!$E245) * Emissions!AI228)/1000","v":0},{"$f":"(SUM(aem2csp2!$D245,aem2csp2!$E245) * Emissions!AJ228)/1000","v":0},{"$f":"(SUM(aem2csp2!$D245,aem2csp2!$E245) * Emissions!AK228)/1000","v":0},{"$f":"(SUM(aem2csp2!$D245,aem2csp2!$E245) * Emissions!AL228)/1000","v":0},{"$f":"(SUM(aem2csp2!$D245,aem2csp2!$E245) * Emissions!AM228)/1000","v":0},{"$f":"(SUM(aem2csp2!$D245,aem2csp2!$E245) * Emissions!AN228)/1000","v":0},{"$f":"(SUM(aem2csp2!$D245,aem2csp2!$E245) * Emissions!AO228)/1000","v":0},{"$f":"(SUM(aem2csp2!$D245,aem2csp2!$E245) * Emissions!AP228)/1000","v":0},{"$f":"(SUM(aem2csp2!$D245,aem2csp2!$E245) * Emissions!AQ228)/1000","v":0},{"$f":"(SUM(aem2csp2!$D245,aem2csp2!$E245) * Emissions!AR228)/1000","v":0},{"$f":"(SUM(aem2csp2!$D245,aem2csp2!$E245) * Emissions!AS228)/1000","v":0}]
["SF340 "," Arrival ",150.586110344589,237.414390361502,207.63320422111201,174.11278808688499,173.204876953406,174.11278808688499,48.4867424020646,130614.47428151801,51210.809726224303,2.2560551390867101,17.178421892048299,9.2795290401850306,28.71400607132,null,"SF340 "," Departure ",45.950925318015699,110.539269153341,797.63859017979905,53.130024435745902,52.852977923325703,53.130024435745902,60.5514588735901,163114.62836934501,63953.342406618001,2.9804508737687199,23.987531607033901,13.972223813417401,40.940206294220097,null,196.53703566260469,347.95365951484303,1005.2717944009111,227.24281252263089,226.05785487673171,227.24281252263089,109.0382012756547,293729.102650863,115164.15213284231,5.2365060128554299,41.1659534990822,23.251752853602433,69.654212365540104,null,0,0,0,0,0,0,0,0,0,0,0,0,0,null,{"$f":"(SUM(aem2csp2!$B246,aem2csp2!$C246) * Emissions!AG229)/1000","v":0},{"$f":"(SUM(aem2csp2!$B246,aem2csp2!$C246) * Emissions!AH229)/1000","v":0},{"$f":"(SUM(aem2csp2!$B246,aem2csp2!$C246) * Emissions!AI229)/1000","v":0},{"$f":"(SUM(aem2csp2!$B246,aem2csp2!$C246) * Emissions!AJ229)/1000","v":0},{"$f":"(SUM(aem2csp2!$B246,aem2csp2!$C246) * Emissions!AK229)/1000","v":0},{"$f":"(SUM(aem2csp2!$B246,aem2csp2!$C246) * Emissions!AL229)/1000","v":0},{"$f":"(SUM(aem2csp2!$B246,aem2csp2!$C246) * Emissions!AM229)/1000","v":0},{"$f":"(SUM(aem2csp2!$B246,aem2csp2!$C246) * Emissions!AN229)/1000","v":0},{"$f":"(SUM(aem2csp2!$B246,aem2csp2!$C246) * Emissions!AO229)/1000","v":0},{"$f":"(SUM(aem2csp2!$B246,aem2csp2!$C246) * Emissions!AP229)/1000","v":0},{"$f":"(SUM(aem2csp2!$B246,aem2csp2!$C246) * Emissions!AQ229)/1000","v":0},{"$f":"(SUM(aem2csp2!$B246,aem2csp2!$C246) * Emissions!AR229)/1000","v":0},{"$f":"(SUM(aem2csp2!$B246,aem2csp2!$C246) * Emissions!AS229)/1000","v":0},null,{"$f":"(SUM(aem2csp2!$D246,aem2csp2!$E246) * Emissions!AG229)/1000","v":0},{"$f":"(SUM(aem2csp2!$D246,aem2csp2!$E246) * Emissions!AH229)/1000","v":0},{"$f":"(SUM(aem2csp2!$D246,aem2csp2!$E246) * Emissions!AI229)/1000","v":0},{"$f":"(SUM(aem2csp2!$D246,aem2csp2!$E246) * Emissions!AJ229)/1000","v":0},{"$f":"(SUM(aem2csp2!$D246,aem2csp2!$E246) * Emissions!AK229)/1000","v":0},{"$f":"(SUM(aem2csp2!$D246,aem2csp2!$E246) * Emissions!AL229)/1000","v":0},{"$f":"(SUM(aem2csp2!$D246,aem2csp2!$E246) * Emissions!AM229)/1000","v":0},{"$f":"(SUM(aem2csp2!$D246,aem2csp2!$E246) * Emissions!AN229)/1000","v":0},{"$f":"(SUM(aem2csp2!$D246,aem2csp2!$E246) * Emissions!AO229)/1000","v":0},{"$f":"(SUM(aem2csp2!$D246,aem2csp2!$E246) * Emissions!AP229)/1000","v":0},{"$f":"(SUM(aem2csp2!$D246,aem2csp2!$E246) * Emissions!AQ229)/1000","v":0},{"$f":"(SUM(aem2csp2!$D246,aem2csp2!$E246) * Emissions!AR229)/1000","v":0},{"$f":"(SUM(aem2csp2!$D246,aem2csp2!$E246) * Emissions!AS229)/1000","v":0}]
["SR71 "," Arrival ",2894.17923952807,5485.1561270621196,456.49174124249402,3346.3485806512799,3328.89904597747,3346.3485806512799,194.460627953119,523841.59937849297,205385.75544570401,10.9358772409345,130.20810668587399,28.083202691765301,169.227186618574,null,"SR71 "," Departure ",468.89948338330998,1293.8081180905101,5282.1588227067195,542.157548246293,539.33046771096303,542.157548246293,601.69321863922801,1620852.20697299,635497.36292411597,31.8295977747532,297.01532135100098,71.910413790271704,400.75533291602602,null,3363.0787229113798,6778.9642451526297,5738.6505639492134,3888.506128897573,3868.2295136884331,3888.506128897573,796.15384659234701,2144693.8063514829,840883.11836981995,42.765475015687699,427.22342803687496,99.993616482036998,569.98251953459999,null,0,0,0,0,0,0,0,0,0,0,0,0,0,null,{"$f":"(SUM(aem2csp2!$B247,aem2csp2!$C247) * Emissions!AG230)/1000","v":0},{"$f":"(SUM(aem2csp2!$B247,aem2csp2!$C247) * Emissions!AH230)/1000","v":0},{"$f":"(SUM(aem2csp2!$B247,aem2csp2!$C247) * Emissions!AI230)/1000","v":0},{"$f":"(SUM(aem2csp2!$B247,aem2csp2!$C247) * Emissions!AJ230)/1000","v":0},{"$f":"(SUM(aem2csp2!$B247,aem2csp2!$C247) * Emissions!AK230)/1000","v":0},{"$f":"(SUM(aem2csp2!$B247,aem2csp2!$C247) * Emissions!AL230)/1000","v":0},{"$f":"(SUM(aem2csp2!$B247,aem2csp2!$C247) * Emissions!AM230)/1000","v":0},{"$f":"(SUM(aem2csp2!$B247,aem2csp2!$C247) * Emissions!AN230)/1000","v":0},{"$f":"(SUM(aem2csp2!$B247,aem2csp2!$C247) * Emissions!AO230)/1000","v":0},{"$f":"(SUM(aem2csp2!$B247,aem2csp2!$C247) * Emissions!AP230)/1000","v":0},{"$f":"(SUM(aem2csp2!$B247,aem2csp2!$C247) * Emissions!AQ230)/1000","v":0},{"$f":"(SUM(aem2csp2!$B247,aem2csp2!$C247) * Emissions!AR230)/1000","v":0},{"$f":"(SUM(aem2csp2!$B247,aem2csp2!$C247) * Emissions!AS230)/1000","v":0},null,{"$f":"(SUM(aem2csp2!$D247,aem2csp2!$E247) * Emissions!AG230)/1000","v":0},{"$f":"(SUM(aem2csp2!$D247,aem2csp2!$E247) * Emissions!AH230)/1000","v":0},{"$f":"(SUM(aem2csp2!$D247,aem2csp2!$E247) * Emissions!AI230)/1000","v":0},{"$f":"(SUM(aem2csp2!$D247,aem2csp2!$E247) * Emissions!AJ230)/1000","v":0},{"$f":"(SUM(aem2csp2!$D247,aem2csp2!$E247) * Emissions!AK230)/1000","v":0},{"$f":"(SUM(aem2csp2!$D247,aem2csp2!$E247) * Emissions!AL230)/1000","v":0},{"$f":"(SUM(aem2csp2!$D247,aem2csp2!$E247) * Emissions!AM230)/1000","v":0},{"$f":"(SUM(aem2csp2!$D247,aem2csp2!$E247) * Emissions!AN230)/1000","v":0},{"$f":"(SUM(aem2csp2!$D247,aem2csp2!$E247) * Emissions!AO230)/1000","v":0},{"$f":"(SUM(aem2csp2!$D247,aem2csp2!$E247) * Emissions!AP230)/1000","v":0},{"$f":"(SUM(aem2csp2!$D247,aem2csp2!$E247) * Emissions!AQ230)/1000","v":0},{"$f":"(SUM(aem2csp2!$D247,aem2csp2!$E247) * Emissions!AR230)/1000","v":0},{"$f":"(SUM(aem2csp2!$D247,aem2csp2!$E247) * Emissions!AS230)/1000","v":0}]
["T1 "," Arrival ",481.71625898783998,1589.2519313615801,189.978283774,556.976740598643,554.072385384791,556.976740598643,45.493498532943697,122551.21915252499,48049.400346013797,2.1878528041309599,28.262748583753599,3.80458152102584,34.255182908910399,null,"T1 "," Departure ",63.403879715652799,841.88224470720297,863.93602894706305,73.309724565938197,72.927451007189106,73.309724565938197,100.403478186589,270468.72752620297,106044.31567350699,5.5211201014929596,55.396575893660099,14.147208326499101,75.064904321652094,null,545.12013870349278,2431.1341760687828,1053.914312721063,630.28646516458116,626.99983639198012,630.28646516458116,145.89697671953269,393019.94667872798,154093.7160195208,7.70897290562392,83.659324477413691,17.951789847524942,109.32008723056249,null,0,0,0,0,0,0,0,0,0,0,0,0,0,null,{"$f":"(SUM(aem2csp2!$B248,aem2csp2!$C248) * Emissions!AG231)/1000","v":0},{"$f":"(SUM(aem2csp2!$B248,aem2csp2!$C248) * Emissions!AH231)/1000","v":0},{"$f":"(SUM(aem2csp2!$B248,aem2csp2!$C248) * Emissions!AI231)/1000","v":0},{"$f":"(SUM(aem2csp2!$B248,aem2csp2!$C248) * Emissions!AJ231)/1000","v":0},{"$f":"(SUM(aem2csp2!$B248,aem2csp2!$C248) * Emissions!AK231)/1000","v":0},{"$f":"(SUM(aem2csp2!$B248,aem2csp2!$C248) * Emissions!AL231)/1000","v":0},{"$f":"(SUM(aem2csp2!$B248,aem2csp2!$C248) * Emissions!AM231)/1000","v":0},{"$f":"(SUM(aem2csp2!$B248,aem2csp2!$C248) * Emissions!AN231)/1000","v":0},{"$f":"(SUM(aem2csp2!$B248,aem2csp2!$C248) * Emissions!AO231)/1000","v":0},{"$f":"(SUM(aem2csp2!$B248,aem2csp2!$C248) * Emissions!AP231)/1000","v":0},{"$f":"(SUM(aem2csp2!$B248,aem2csp2!$C248) * Emissions!AQ231)/1000","v":0},{"$f":"(SUM(aem2csp2!$B248,aem2csp2!$C248) * Emissions!AR231)/1000","v":0},{"$f":"(SUM(aem2csp2!$B248,aem2csp2!$C248) * Emissions!AS231)/1000","v":0},null,{"$f":"(SUM(aem2csp2!$D248,aem2csp2!$E248) * Emissions!AG231)/1000","v":0},{"$f":"(SUM(aem2csp2!$D248,aem2csp2!$E248) * Emissions!AH231)/1000","v":0},{"$f":"(SUM(aem2csp2!$D248,aem2csp2!$E248) * Emissions!AI231)/1000","v":0},{"$f":"(SUM(aem2csp2!$D248,aem2csp2!$E248) * Emissions!AJ231)/1000","v":0},{"$f":"(SUM(aem2csp2!$D248,aem2csp2!$E248) * Emissions!AK231)/1000","v":0},{"$f":"(SUM(aem2csp2!$D248,aem2csp2!$E248) * Emissions!AL231)/1000","v":0},{"$f":"(SUM(aem2csp2!$D248,aem2csp2!$E248) * Emissions!AM231)/1000","v":0},{"$f":"(SUM(aem2csp2!$D248,aem2csp2!$E248) * Emissions!AN231)/1000","v":0},{"$f":"(SUM(aem2csp2!$D248,aem2csp2!$E248) * Emissions!AO231)/1000","v":0},{"$f":"(SUM(aem2csp2!$D248,aem2csp2!$E248) * Emissions!AP231)/1000","v":0},{"$f":"(SUM(aem2csp2!$D248,aem2csp2!$E248) * Emissions!AQ231)/1000","v":0},{"$f":"(SUM(aem2csp2!$D248,aem2csp2!$E248) * Emissions!AR231)/1000","v":0},{"$f":"(SUM(aem2csp2!$D248,aem2csp2!$E248) * Emissions!AS231)/1000","v":0}]
["T29 "," Arrival ",403.78835638246397,27897.643301016698,139.787337950367,395.594470702455,337.046178956007,352.27687616053601,78.767003616939405,212183.99625294001,83192.267310582305,4.1508622163458302,43.689937957802599,9.2949396940276792,57.135739868176103,null,"T29 "," Departure ",13954.588889455899,94228.807395197204,374.33840351110302,13671.4150329928,11648.034891917699,12174.39508688,212.66291210323601,572875.24563328899,224610.67475384401,11.008949256472301,393.31112321095401,23.618100368550301,427.93817283597599,null,14358.377245838363,122126.4506962139,514.12574146147006,14067.009503695255,11985.081070873706,12526.671963040537,291.42991572017542,785059.24188622902,307802.94206442632,15.159811472818131,437.00106116875662,32.913040062577977,485.07391270415212,null,0,0,0,0,0,0,0,0,0,0,0,0,0,null,{"$f":"(SUM(aem2csp2!$B249,aem2csp2!$C249) * Emissions!AG232)/1000","v":0},{"$f":"(SUM(aem2csp2!$B249,aem2csp2!$C249) * Emissions!AH232)/1000","v":0},{"$f":"(SUM(aem2csp2!$B249,aem2csp2!$C249) * Emissions!AI232)/1000","v":0},{"$f":"(SUM(aem2csp2!$B249,aem2csp2!$C249) * Emissions!AJ232)/1000","v":0},{"$f":"(SUM(aem2csp2!$B249,aem2csp2!$C249) * Emissions!AK232)/1000","v":0},{"$f":"(SUM(aem2csp2!$B249,aem2csp2!$C249) * Emissions!AL232)/1000","v":0},{"$f":"(SUM(aem2csp2!$B249,aem2csp2!$C249) * Emissions!AM232)/1000","v":0},{"$f":"(SUM(aem2csp2!$B249,aem2csp2!$C249) * Emissions!AN232)/1000","v":0},{"$f":"(SUM(aem2csp2!$B249,aem2csp2!$C249) * Emissions!AO232)/1000","v":0},{"$f":"(SUM(aem2csp2!$B249,aem2csp2!$C249) * Emissions!AP232)/1000","v":0},{"$f":"(SUM(aem2csp2!$B249,aem2csp2!$C249) * Emissions!AQ232)/1000","v":0},{"$f":"(SUM(aem2csp2!$B249,aem2csp2!$C249) * Emissions!AR232)/1000","v":0},{"$f":"(SUM(aem2csp2!$B249,aem2csp2!$C249) * Emissions!AS232)/1000","v":0},null,{"$f":"(SUM(aem2csp2!$D249,aem2csp2!$E249) * Emissions!AG232)/1000","v":0},{"$f":"(SUM(aem2csp2!$D249,aem2csp2!$E249) * Emissions!AH232)/1000","v":0},{"$f":"(SUM(aem2csp2!$D249,aem2csp2!$E249) * Emissions!AI232)/1000","v":0},{"$f":"(SUM(aem2csp2!$D249,aem2csp2!$E249) * Emissions!AJ232)/1000","v":0},{"$f":"(SUM(aem2csp2!$D249,aem2csp2!$E249) * Emissions!AK232)/1000","v":0},{"$f":"(SUM(aem2csp2!$D249,aem2csp2!$E249) * Emissions!AL232)/1000","v":0},{"$f":"(SUM(aem2csp2!$D249,aem2csp2!$E249) * Emissions!AM232)/1000","v":0},{"$f":"(SUM(aem2csp2!$D249,aem2csp2!$E249) * Emissions!AN232)/1000","v":0},{"$f":"(SUM(aem2csp2!$D249,aem2csp2!$E249) * Emissions!AO232)/1000","v":0},{"$f":"(SUM(aem2csp2!$D249,aem2csp2!$E249) * Emissions!AP232)/1000","v":0},{"$f":"(SUM(aem2csp2!$D249,aem2csp2!$E249) * Emissions!AQ232)/1000","v":0},{"$f":"(SUM(aem2csp2!$D249,aem2csp2!$E249) * Emissions!AR232)/1000","v":0},{"$f":"(SUM(aem2csp2!$D249,aem2csp2!$E249) * Emissions!AS232)/1000","v":0}]
["T-2C "," Arrival ",496.12994287805799,13546.414648666499,768.71014662192601,573.64233268403598,570.65107474025501,573.64233268403598,225.26152298862399,606813.61426665599,237917.096940683,11.755860927364701,111.497836423409,25.724136266802201,148.97783361757601,null,"T-2C "," Departure ",145.72030196461901,8699.5537938695106,1226.4171073376101,168.48677476205401,167.608200475058,168.48677476205401,259.108199399672,697990.41078036604,273665.33696840302,13.988071985248901,134.99342956266699,33.065689069112203,182.04719061702801,null,641.85024484267706,22245.96844253601,1995.1272539595361,742.12910744608996,738.25927521531298,742.12910744608996,484.369722388296,1304804.0250470219,511582.43390908604,25.743932912613602,246.49126598607597,58.789825335914401,331.02502423460402,null,0,0,0,0,0,0,0,0,0,0,0,0,0,null,{"$f":"(SUM(aem2csp2!$B250,aem2csp2!$C250) * Emissions!AG233)/1000","v":0},{"$f":"(SUM(aem2csp2!$B250,aem2csp2!$C250) * Emissions!AH233)/1000","v":0},{"$f":"(SUM(aem2csp2!$B250,aem2csp2!$C250) * Emissions!AI233)/1000","v":0},{"$f":"(SUM(aem2csp2!$B250,aem2csp2!$C250) * Emissions!AJ233)/1000","v":0},{"$f":"(SUM(aem2csp2!$B250,aem2csp2!$C250) * Emissions!AK233)/1000","v":0},{"$f":"(SUM(aem2csp2!$B250,aem2csp2!$C250) * Emissions!AL233)/1000","v":0},{"$f":"(SUM(aem2csp2!$B250,aem2csp2!$C250) * Emissions!AM233)/1000","v":0},{"$f":"(SUM(aem2csp2!$B250,aem2csp2!$C250) * Emissions!AN233)/1000","v":0},{"$f":"(SUM(aem2csp2!$B250,aem2csp2!$C250) * Emissions!AO233)/1000","v":0},{"$f":"(SUM(aem2csp2!$B250,aem2csp2!$C250) * Emissions!AP233)/1000","v":0},{"$f":"(SUM(aem2csp2!$B250,aem2csp2!$C250) * Emissions!AQ233)/1000","v":0},{"$f":"(SUM(aem2csp2!$B250,aem2csp2!$C250) * Emissions!AR233)/1000","v":0},{"$f":"(SUM(aem2csp2!$B250,aem2csp2!$C250) * Emissions!AS233)/1000","v":0},null,{"$f":"(SUM(aem2csp2!$D250,aem2csp2!$E250) * Emissions!AG233)/1000","v":0},{"$f":"(SUM(aem2csp2!$D250,aem2csp2!$E250) * Emissions!AH233)/1000","v":0},{"$f":"(SUM(aem2csp2!$D250,aem2csp2!$E250) * Emissions!AI233)/1000","v":0},{"$f":"(SUM(aem2csp2!$D250,aem2csp2!$E250) * Emissions!AJ233)/1000","v":0},{"$f":"(SUM(aem2csp2!$D250,aem2csp2!$E250) * Emissions!AK233)/1000","v":0},{"$f":"(SUM(aem2csp2!$D250,aem2csp2!$E250) * Emissions!AL233)/1000","v":0},{"$f":"(SUM(aem2csp2!$D250,aem2csp2!$E250) * Emissions!AM233)/1000","v":0},{"$f":"(SUM(aem2csp2!$D250,aem2csp2!$E250) * Emissions!AN233)/1000","v":0},{"$f":"(SUM(aem2csp2!$D250,aem2csp2!$E250) * Emissions!AO233)/1000","v":0},{"$f":"(SUM(aem2csp2!$D250,aem2csp2!$E250) * Emissions!AP233)/1000","v":0},{"$f":"(SUM(aem2csp2!$D250,aem2csp2!$E250) * Emissions!AQ233)/1000","v":0},{"$f":"(SUM(aem2csp2!$D250,aem2csp2!$E250) * Emissions!AR233)/1000","v":0},{"$f":"(SUM(aem2csp2!$D250,aem2csp2!$E250) * Emissions!AS233)/1000","v":0}]
["T3 "," Arrival ",6.7213557944032196,3672.7408447989201,262.43387717535001,7.7714604249324397,7.7309361445466296,7.7714604249324397,105.967949203936,285458.40141599899,111921.40809876101,5.4099017894300001,44.949062609707099,11.203342726495499,61.5623071256326,null,"T3 "," Departure ",24.711408751659999,4060.9605262423402,528.15421906900497,28.5721721974259,28.423182605502401,28.5721721974259,137.76506882821599,371114.06433830399,145504.94376750599,6.3748097806850597,39.695059776743797,9.6515771664182104,55.721446723847002,null,31.432764546063218,7733.7013710412602,790.58809624435503,36.343632622358342,36.15411875004903,36.343632622358342,243.73301803215199,656572.46575430292,257426.35186626698,11.784711570115061,84.644122386450903,20.85491989291371,117.28375384947961,null,0,0,0,0,0,0,0,0,0,0,0,0,0,null,{"$f":"(SUM(aem2csp2!$B251,aem2csp2!$C251) * Emissions!AG234)/1000","v":0},{"$f":"(SUM(aem2csp2!$B251,aem2csp2!$C251) * Emissions!AH234)/1000","v":0},{"$f":"(SUM(aem2csp2!$B251,aem2csp2!$C251) * Emissions!AI234)/1000","v":0},{"$f":"(SUM(aem2csp2!$B251,aem2csp2!$C251) * Emissions!AJ234)/1000","v":0},{"$f":"(SUM(aem2csp2!$B251,aem2csp2!$C251) * Emissions!AK234)/1000","v":0},{"$f":"(SUM(aem2csp2!$B251,aem2csp2!$C251) * Emissions!AL234)/1000","v":0},{"$f":"(SUM(aem2csp2!$B251,aem2csp2!$C251) * Emissions!AM234)/1000","v":0},{"$f":"(SUM(aem2csp2!$B251,aem2csp2!$C251) * Emissions!AN234)/1000","v":0},{"$f":"(SUM(aem2csp2!$B251,aem2csp2!$C251) * Emissions!AO234)/1000","v":0},{"$f":"(SUM(aem2csp2!$B251,aem2csp2!$C251) * Emissions!AP234)/1000","v":0},{"$f":"(SUM(aem2csp2!$B251,aem2csp2!$C251) * Emissions!AQ234)/1000","v":0},{"$f":"(SUM(aem2csp2!$B251,aem2csp2!$C251) * Emissions!AR234)/1000","v":0},{"$f":"(SUM(aem2csp2!$B251,aem2csp2!$C251) * Emissions!AS234)/1000","v":0},null,{"$f":"(SUM(aem2csp2!$D251,aem2csp2!$E251) * Emissions!AG234)/1000","v":0},{"$f":"(SUM(aem2csp2!$D251,aem2csp2!$E251) * Emissions!AH234)/1000","v":0},{"$f":"(SUM(aem2csp2!$D251,aem2csp2!$E251) * Emissions!AI234)/1000","v":0},{"$f":"(SUM(aem2csp2!$D251,aem2csp2!$E251) * Emissions!AJ234)/1000","v":0},{"$f":"(SUM(aem2csp2!$D251,aem2csp2!$E251) * Emissions!AK234)/1000","v":0},{"$f":"(SUM(aem2csp2!$D251,aem2csp2!$E251) * Emissions!AL234)/1000","v":0},{"$f":"(SUM(aem2csp2!$D251,aem2csp2!$E251) * Emissions!AM234)/1000","v":0},{"$f":"(SUM(aem2csp2!$D251,aem2csp2!$E251) * Emissions!AN234)/1000","v":0},{"$f":"(SUM(aem2csp2!$D251,aem2csp2!$E251) * Emissions!AO234)/1000","v":0},{"$f":"(SUM(aem2csp2!$D251,aem2csp2!$E251) * Emissions!AP234)/1000","v":0},{"$f":"(SUM(aem2csp2!$D251,aem2csp2!$E251) * Emissions!AQ234)/1000","v":0},{"$f":"(SUM(aem2csp2!$D251,aem2csp2!$E251) * Emissions!AR234)/1000","v":0},{"$f":"(SUM(aem2csp2!$D251,aem2csp2!$E251) * Emissions!AS234)/1000","v":0}]
["T33A "," Arrival ",1155.3061078916901,3811.5227149246998,451.168410610379,1335.80425896205,1328.8387076536901,1335.80425896205,107.83753088570499,290494.71477493201,113896.026046463,5.5733830476386998,69.044212986957405,11.9087253992077,86.526321433803801,null,"T33A "," Departure ",120.278963308443,1596.82300733425,1687.6622069131699,139.070632755643,138.34544894113901,139.070632755643,195.58736759460399,526876.831250833,206575.797228932,10.2697428620799,95.231264587082507,23.917552982778599,129.41856043194099,null,1275.5850712001331,5408.3457222589495,2138.8306175235489,1474.8748917176929,1467.1841565948291,1474.8748917176929,303.42489848030897,817371.54602576501,320471.82327539497,15.8431259097186,164.27547757403991,35.826278381986299,215.94488186574478,null,0,0,0,0,0,0,0,0,0,0,0,0,0,null,{"$f":"(SUM(aem2csp2!$B252,aem2csp2!$C252) * Emissions!AG235)/1000","v":0},{"$f":"(SUM(aem2csp2!$B252,aem2csp2!$C252) * Emissions!AH235)/1000","v":0},{"$f":"(SUM(aem2csp2!$B252,aem2csp2!$C252) * Emissions!AI235)/1000","v":0},{"$f":"(SUM(aem2csp2!$B252,aem2csp2!$C252) * Emissions!AJ235)/1000","v":0},{"$f":"(SUM(aem2csp2!$B252,aem2csp2!$C252) * Emissions!AK235)/1000","v":0},{"$f":"(SUM(aem2csp2!$B252,aem2csp2!$C252) * Emissions!AL235)/1000","v":0},{"$f":"(SUM(aem2csp2!$B252,aem2csp2!$C252) * Emissions!AM235)/1000","v":0},{"$f":"(SUM(aem2csp2!$B252,aem2csp2!$C252) * Emissions!AN235)/1000","v":0},{"$f":"(SUM(aem2csp2!$B252,aem2csp2!$C252) * Emissions!AO235)/1000","v":0},{"$f":"(SUM(aem2csp2!$B252,aem2csp2!$C252) * Emissions!AP235)/1000","v":0},{"$f":"(SUM(aem2csp2!$B252,aem2csp2!$C252) * Emissions!AQ235)/1000","v":0},{"$f":"(SUM(aem2csp2!$B252,aem2csp2!$C252) * Emissions!AR235)/1000","v":0},{"$f":"(SUM(aem2csp2!$B252,aem2csp2!$C252) * Emissions!AS235)/1000","v":0},null,{"$f":"(SUM(aem2csp2!$D252,aem2csp2!$E252) * Emissions!AG235)/1000","v":0},{"$f":"(SUM(aem2csp2!$D252,aem2csp2!$E252) * Emissions!AH235)/1000","v":0},{"$f":"(SUM(aem2csp2!$D252,aem2csp2!$E252) * Emissions!AI235)/1000","v":0},{"$f":"(SUM(aem2csp2!$D252,aem2csp2!$E252) * Emissions!AJ235)/1000","v":0},{"$f":"(SUM(aem2csp2!$D252,aem2csp2!$E252) * Emissions!AK235)/1000","v":0},{"$f":"(SUM(aem2csp2!$D252,aem2csp2!$E252) * Emissions!AL235)/1000","v":0},{"$f":"(SUM(aem2csp2!$D252,aem2csp2!$E252) * Emissions!AM235)/1000","v":0},{"$f":"(SUM(aem2csp2!$D252,aem2csp2!$E252) * Emissions!AN235)/1000","v":0},{"$f":"(SUM(aem2csp2!$D252,aem2csp2!$E252) * Emissions!AO235)/1000","v":0},{"$f":"(SUM(aem2csp2!$D252,aem2csp2!$E252) * Emissions!AP235)/1000","v":0},{"$f":"(SUM(aem2csp2!$D252,aem2csp2!$E252) * Emissions!AQ235)/1000","v":0},{"$f":"(SUM(aem2csp2!$D252,aem2csp2!$E252) * Emissions!AR235)/1000","v":0},{"$f":"(SUM(aem2csp2!$D252,aem2csp2!$E252) * Emissions!AS235)/1000","v":0}]
["T34 "," Arrival ",4.7006946562524696,82.262156484418,122.541841550657,5.4351032155114503,5.4067618697941704,5.4351032155114503,25.808320846149901,69522.927142761997,27258.2760303,1.30213364172111,10.554257028991,4.1304044848751298,15.986795155587201,null,"T34 "," Departure ",3.9591138939164697E-3,37.611581992206503,251.298533820578,4.5776622880151999E-3,4.5537920680143399E-3,4.5776622880151999E-3,41.192452602011997,110964.982888787,43506.714368757501,2.1431578600619301,18.619922914066201,7.4484522377870901,28.211533011915201,null,4.7046537701463862,119.87373847662451,373.84037537123498,5.4396808777994652,5.4113156618621847,5.4396808777994652,67.000773448161894,180487.91003154899,70764.990399057497,3.4452915017830401,29.174179943057201,11.57885672266222,44.198328167502403,null,0,0,0,0,0,0,0,0,0,0,0,0,0,null,{"$f":"(SUM(aem2csp2!$B253,aem2csp2!$C253) * Emissions!AG236)/1000","v":0},{"$f":"(SUM(aem2csp2!$B253,aem2csp2!$C253) * Emissions!AH236)/1000","v":0},{"$f":"(SUM(aem2csp2!$B253,aem2csp2!$C253) * Emissions!AI236)/1000","v":0},{"$f":"(SUM(aem2csp2!$B253,aem2csp2!$C253) * Emissions!AJ236)/1000","v":0},{"$f":"(SUM(aem2csp2!$B253,aem2csp2!$C253) * Emissions!AK236)/1000","v":0},{"$f":"(SUM(aem2csp2!$B253,aem2csp2!$C253) * Emissions!AL236)/1000","v":0},{"$f":"(SUM(aem2csp2!$B253,aem2csp2!$C253) * Emissions!AM236)/1000","v":0},{"$f":"(SUM(aem2csp2!$B253,aem2csp2!$C253) * Emissions!AN236)/1000","v":0},{"$f":"(SUM(aem2csp2!$B253,aem2csp2!$C253) * Emissions!AO236)/1000","v":0},{"$f":"(SUM(aem2csp2!$B253,aem2csp2!$C253) * Emissions!AP236)/1000","v":0},{"$f":"(SUM(aem2csp2!$B253,aem2csp2!$C253) * Emissions!AQ236)/1000","v":0},{"$f":"(SUM(aem2csp2!$B253,aem2csp2!$C253) * Emissions!AR236)/1000","v":0},{"$f":"(SUM(aem2csp2!$B253,aem2csp2!$C253) * Emissions!AS236)/1000","v":0},null,{"$f":"(SUM(aem2csp2!$D253,aem2csp2!$E253) * Emissions!AG236)/1000","v":0},{"$f":"(SUM(aem2csp2!$D253,aem2csp2!$E253) * Emissions!AH236)/1000","v":0},{"$f":"(SUM(aem2csp2!$D253,aem2csp2!$E253) * Emissions!AI236)/1000","v":0},{"$f":"(SUM(aem2csp2!$D253,aem2csp2!$E253) * Emissions!AJ236)/1000","v":0},{"$f":"(SUM(aem2csp2!$D253,aem2csp2!$E253) * Emissions!AK236)/1000","v":0},{"$f":"(SUM(aem2csp2!$D253,aem2csp2!$E253) * Emissions!AL236)/1000","v":0},{"$f":"(SUM(aem2csp2!$D253,aem2csp2!$E253) * Emissions!AM236)/1000","v":0},{"$f":"(SUM(aem2csp2!$D253,aem2csp2!$E253) * Emissions!AN236)/1000","v":0},{"$f":"(SUM(aem2csp2!$D253,aem2csp2!$E253) * Emissions!AO236)/1000","v":0},{"$f":"(SUM(aem2csp2!$D253,aem2csp2!$E253) * Emissions!AP236)/1000","v":0},{"$f":"(SUM(aem2csp2!$D253,aem2csp2!$E253) * Emissions!AQ236)/1000","v":0},{"$f":"(SUM(aem2csp2!$D253,aem2csp2!$E253) * Emissions!AR236)/1000","v":0},{"$f":"(SUM(aem2csp2!$D253,aem2csp2!$E253) * Emissions!AS236)/1000","v":0}]
["T37B "," Arrival ",10.465543027184999,5718.67172556897,406.71009004329198,12.100617189305799,12.037518520972201,12.100617189305799,164.32540091837299,442662.773136498,173557.48030739999,8.1210286677615606,61.737751356906102,15.3719839328501,85.230763957517695,null,"T37B "," Departure ",35.802341941901503,5883.9058351415997,753.92263247334301,41.395886787167299,41.180027935515596,41.395886787167299,196.526688591263,529407.19134685397,207567.89087038301,10.213976119618801,89.432386420114895,22.127170781307399,121.773533321041,null,46.267884969086502,11602.57756071057,1160.6327225166351,53.4965039764731,53.217546456487796,53.4965039764731,360.85208950963602,972069.96448335191,381125.371177783,18.335004787380363,151.17013777702101,37.499154714157498,207.00429727855868,null,0,0,0,0,0,0,0,0,0,0,0,0,0,null,{"$f":"(SUM(aem2csp2!$B254,aem2csp2!$C254) * Emissions!AG237)/1000","v":0},{"$f":"(SUM(aem2csp2!$B254,aem2csp2!$C254) * Emissions!AH237)/1000","v":0},{"$f":"(SUM(aem2csp2!$B254,aem2csp2!$C254) * Emissions!AI237)/1000","v":0},{"$f":"(SUM(aem2csp2!$B254,aem2csp2!$C254) * Emissions!AJ237)/1000","v":0},{"$f":"(SUM(aem2csp2!$B254,aem2csp2!$C254) * Emissions!AK237)/1000","v":0},{"$f":"(SUM(aem2csp2!$B254,aem2csp2!$C254) * Emissions!AL237)/1000","v":0},{"$f":"(SUM(aem2csp2!$B254,aem2csp2!$C254) * Emissions!AM237)/1000","v":0},{"$f":"(SUM(aem2csp2!$B254,aem2csp2!$C254) * Emissions!AN237)/1000","v":0},{"$f":"(SUM(aem2csp2!$B254,aem2csp2!$C254) * Emissions!AO237)/1000","v":0},{"$f":"(SUM(aem2csp2!$B254,aem2csp2!$C254) * Emissions!AP237)/1000","v":0},{"$f":"(SUM(aem2csp2!$B254,aem2csp2!$C254) * Emissions!AQ237)/1000","v":0},{"$f":"(SUM(aem2csp2!$B254,aem2csp2!$C254) * Emissions!AR237)/1000","v":0},{"$f":"(SUM(aem2csp2!$B254,aem2csp2!$C254) * Emissions!AS237)/1000","v":0},null,{"$f":"(SUM(aem2csp2!$D254,aem2csp2!$E254) * Emissions!AG237)/1000","v":0},{"$f":"(SUM(aem2csp2!$D254,aem2csp2!$E254) * Emissions!AH237)/1000","v":0},{"$f":"(SUM(aem2csp2!$D254,aem2csp2!$E254) * Emissions!AI237)/1000","v":0},{"$f":"(SUM(aem2csp2!$D254,aem2csp2!$E254) * Emissions!AJ237)/1000","v":0},{"$f":"(SUM(aem2csp2!$D254,aem2csp2!$E254) * Emissions!AK237)/1000","v":0},{"$f":"(SUM(aem2csp2!$D254,aem2csp2!$E254) * Emissions!AL237)/1000","v":0},{"$f":"(SUM(aem2csp2!$D254,aem2csp2!$E254) * Emissions!AM237)/1000","v":0},{"$f":"(SUM(aem2csp2!$D254,aem2csp2!$E254) * Emissions!AN237)/1000","v":0},{"$f":"(SUM(aem2csp2!$D254,aem2csp2!$E254) * Emissions!AO237)/1000","v":0},{"$f":"(SUM(aem2csp2!$D254,aem2csp2!$E254) * Emissions!AP237)/1000","v":0},{"$f":"(SUM(aem2csp2!$D254,aem2csp2!$E254) * Emissions!AQ237)/1000","v":0},{"$f":"(SUM(aem2csp2!$D254,aem2csp2!$E254) * Emissions!AR237)/1000","v":0},{"$f":"(SUM(aem2csp2!$D254,aem2csp2!$E254) * Emissions!AS237)/1000","v":0}]
["T-38A "," Arrival ",381.76610059224703,11763.1679744987,338.670230443175,441.41096425871501,439.10922678558802,441.41096425871501,139.768579910689,376511.15916856501,147621.015496518,6.7507043486726399,57.848853286671698,11.905267980178801,76.504825615523202,null,"T-38A "," Departure ",400.591907759077,13166.7114018677,1150.65485532201,463.178003504912,460.76276180563599,463.178003504912,280.77016658964101,756343.81454091205,296544.31017024,14.362467230997,135.459685032273,29.896944735028999,179.71909699829899,null,782.35800835132409,24929.8793763664,1489.3250857651851,904.58896776362701,899.87198859122395,904.58896776362701,420.53874650033003,1132854.9737094771,444165.325666758,21.11317157966964,193.3085383189447,41.802212715207801,256.2239226138222,null,0,0,0,0,0,0,0,0,0,0,0,0,0,null,{"$f":"(SUM(aem2csp2!$B255,aem2csp2!$C255) * Emissions!AG238)/1000","v":0},{"$f":"(SUM(aem2csp2!$B255,aem2csp2!$C255) * Emissions!AH238)/1000","v":0},{"$f":"(SUM(aem2csp2!$B255,aem2csp2!$C255) * Emissions!AI238)/1000","v":0},{"$f":"(SUM(aem2csp2!$B255,aem2csp2!$C255) * Emissions!AJ238)/1000","v":0},{"$f":"(SUM(aem2csp2!$B255,aem2csp2!$C255) * Emissions!AK238)/1000","v":0},{"$f":"(SUM(aem2csp2!$B255,aem2csp2!$C255) * Emissions!AL238)/1000","v":0},{"$f":"(SUM(aem2csp2!$B255,aem2csp2!$C255) * Emissions!AM238)/1000","v":0},{"$f":"(SUM(aem2csp2!$B255,aem2csp2!$C255) * Emissions!AN238)/1000","v":0},{"$f":"(SUM(aem2csp2!$B255,aem2csp2!$C255) * Emissions!AO238)/1000","v":0},{"$f":"(SUM(aem2csp2!$B255,aem2csp2!$C255) * Emissions!AP238)/1000","v":0},{"$f":"(SUM(aem2csp2!$B255,aem2csp2!$C255) * Emissions!AQ238)/1000","v":0},{"$f":"(SUM(aem2csp2!$B255,aem2csp2!$C255) * Emissions!AR238)/1000","v":0},{"$f":"(SUM(aem2csp2!$B255,aem2csp2!$C255) * Emissions!AS238)/1000","v":0},null,{"$f":"(SUM(aem2csp2!$D255,aem2csp2!$E255) * Emissions!AG238)/1000","v":0},{"$f":"(SUM(aem2csp2!$D255,aem2csp2!$E255) * Emissions!AH238)/1000","v":0},{"$f":"(SUM(aem2csp2!$D255,aem2csp2!$E255) * Emissions!AI238)/1000","v":0},{"$f":"(SUM(aem2csp2!$D255,aem2csp2!$E255) * Emissions!AJ238)/1000","v":0},{"$f":"(SUM(aem2csp2!$D255,aem2csp2!$E255) * Emissions!AK238)/1000","v":0},{"$f":"(SUM(aem2csp2!$D255,aem2csp2!$E255) * Emissions!AL238)/1000","v":0},{"$f":"(SUM(aem2csp2!$D255,aem2csp2!$E255) * Emissions!AM238)/1000","v":0},{"$f":"(SUM(aem2csp2!$D255,aem2csp2!$E255) * Emissions!AN238)/1000","v":0},{"$f":"(SUM(aem2csp2!$D255,aem2csp2!$E255) * Emissions!AO238)/1000","v":0},{"$f":"(SUM(aem2csp2!$D255,aem2csp2!$E255) * Emissions!AP238)/1000","v":0},{"$f":"(SUM(aem2csp2!$D255,aem2csp2!$E255) * Emissions!AQ238)/1000","v":0},{"$f":"(SUM(aem2csp2!$D255,aem2csp2!$E255) * Emissions!AR238)/1000","v":0},{"$f":"(SUM(aem2csp2!$D255,aem2csp2!$E255) * Emissions!AS238)/1000","v":0}]
["T39A "," Arrival ",214.48805235461401,9474.0520267438496,256.604173987656,247.998389236099,246.70520163542699,247.998389236099,168.557867325758,454064.26862428797,178027.73384730401,8.6194003770289598,75.991037302386204,17.926134269123001,102.536571948538,null,"T39A "," Departure ",31.414925870271201,7427.5754656714098,1281.4707888631799,36.323006938018501,36.133600618340203,36.323006938018501,345.24954239670899,930039.53745015105,364646.24653750798,17.196066409825399,134.213379304022,33.294418963390797,184.70386467723799,null,245.9029782248852,16901.62749241526,1538.0749628508358,284.32139617411752,282.8388022537672,284.32139617411752,513.80740972246701,1384103.8060744391,542673.98038481199,25.815466786854358,210.20441660640819,51.220553232513794,287.240436625776,null,0,0,0,0,0,0,0,0,0,0,0,0,0,null,{"$f":"(SUM(aem2csp2!$B256,aem2csp2!$C256) * Emissions!AG239)/1000","v":0},{"$f":"(SUM(aem2csp2!$B256,aem2csp2!$C256) * Emissions!AH239)/1000","v":0},{"$f":"(SUM(aem2csp2!$B256,aem2csp2!$C256) * Emissions!AI239)/1000","v":0},{"$f":"(SUM(aem2csp2!$B256,aem2csp2!$C256) * Emissions!AJ239)/1000","v":0},{"$f":"(SUM(aem2csp2!$B256,aem2csp2!$C256) * Emissions!AK239)/1000","v":0},{"$f":"(SUM(aem2csp2!$B256,aem2csp2!$C256) * Emissions!AL239)/1000","v":0},{"$f":"(SUM(aem2csp2!$B256,aem2csp2!$C256) * Emissions!AM239)/1000","v":0},{"$f":"(SUM(aem2csp2!$B256,aem2csp2!$C256) * Emissions!AN239)/1000","v":0},{"$f":"(SUM(aem2csp2!$B256,aem2csp2!$C256) * Emissions!AO239)/1000","v":0},{"$f":"(SUM(aem2csp2!$B256,aem2csp2!$C256) * Emissions!AP239)/1000","v":0},{"$f":"(SUM(aem2csp2!$B256,aem2csp2!$C256) * Emissions!AQ239)/1000","v":0},{"$f":"(SUM(aem2csp2!$B256,aem2csp2!$C256) * Emissions!AR239)/1000","v":0},{"$f":"(SUM(aem2csp2!$B256,aem2csp2!$C256) * Emissions!AS239)/1000","v":0},null,{"$f":"(SUM(aem2csp2!$D256,aem2csp2!$E256) * Emissions!AG239)/1000","v":0},{"$f":"(SUM(aem2csp2!$D256,aem2csp2!$E256) * Emissions!AH239)/1000","v":0},{"$f":"(SUM(aem2csp2!$D256,aem2csp2!$E256) * Emissions!AI239)/1000","v":0},{"$f":"(SUM(aem2csp2!$D256,aem2csp2!$E256) * Emissions!AJ239)/1000","v":0},{"$f":"(SUM(aem2csp2!$D256,aem2csp2!$E256) * Emissions!AK239)/1000","v":0},{"$f":"(SUM(aem2csp2!$D256,aem2csp2!$E256) * Emissions!AL239)/1000","v":0},{"$f":"(SUM(aem2csp2!$D256,aem2csp2!$E256) * Emissions!AM239)/1000","v":0},{"$f":"(SUM(aem2csp2!$D256,aem2csp2!$E256) * Emissions!AN239)/1000","v":0},{"$f":"(SUM(aem2csp2!$D256,aem2csp2!$E256) * Emissions!AO239)/1000","v":0},{"$f":"(SUM(aem2csp2!$D256,aem2csp2!$E256) * Emissions!AP239)/1000","v":0},{"$f":"(SUM(aem2csp2!$D256,aem2csp2!$E256) * Emissions!AQ239)/1000","v":0},{"$f":"(SUM(aem2csp2!$D256,aem2csp2!$E256) * Emissions!AR239)/1000","v":0},{"$f":"(SUM(aem2csp2!$D256,aem2csp2!$E256) * Emissions!AS239)/1000","v":0}]
["T41 "," Arrival ",74.770149959521305,6577.6032949635301,23.2016023210269,73.252874754920796,62.411391872712002,65.231684969257003,7.2575555664430897,19550.5360417759,7665.2973323856804,0.365710217099454,4.54156226117962,0.73144399542081295,5.6387164736998896,null,"T41 "," Departure ",81.603734921879095,8904.4225768066408,31.963618310528101,79.947789017440101,68.115453576641698,71.193506120030406,9.0171559666857899,24290.579811213898,9523.7550638578596,0.47393022053144102,6.1784004090915303,1.0547030251253799,7.7070336547483498,null,156.37388488140039,15482.025871770171,55.165220631555002,153.20066377236088,130.52684544935369,136.42519108928741,16.27471153312888,43841.115852989795,17189.05239624354,0.83964043763089502,10.719962670271151,1.7861470205461929,13.345750128448239,null,0,0,0,0,0,0,0,0,0,0,0,0,0,null,{"$f":"(SUM(aem2csp2!$B257,aem2csp2!$C257) * Emissions!AG240)/1000","v":0},{"$f":"(SUM(aem2csp2!$B257,aem2csp2!$C257) * Emissions!AH240)/1000","v":0},{"$f":"(SUM(aem2csp2!$B257,aem2csp2!$C257) * Emissions!AI240)/1000","v":0},{"$f":"(SUM(aem2csp2!$B257,aem2csp2!$C257) * Emissions!AJ240)/1000","v":0},{"$f":"(SUM(aem2csp2!$B257,aem2csp2!$C257) * Emissions!AK240)/1000","v":0},{"$f":"(SUM(aem2csp2!$B257,aem2csp2!$C257) * Emissions!AL240)/1000","v":0},{"$f":"(SUM(aem2csp2!$B257,aem2csp2!$C257) * Emissions!AM240)/1000","v":0},{"$f":"(SUM(aem2csp2!$B257,aem2csp2!$C257) * Emissions!AN240)/1000","v":0},{"$f":"(SUM(aem2csp2!$B257,aem2csp2!$C257) * Emissions!AO240)/1000","v":0},{"$f":"(SUM(aem2csp2!$B257,aem2csp2!$C257) * Emissions!AP240)/1000","v":0},{"$f":"(SUM(aem2csp2!$B257,aem2csp2!$C257) * Emissions!AQ240)/1000","v":0},{"$f":"(SUM(aem2csp2!$B257,aem2csp2!$C257) * Emissions!AR240)/1000","v":0},{"$f":"(SUM(aem2csp2!$B257,aem2csp2!$C257) * Emissions!AS240)/1000","v":0},null,{"$f":"(SUM(aem2csp2!$D257,aem2csp2!$E257) * Emissions!AG240)/1000","v":0},{"$f":"(SUM(aem2csp2!$D257,aem2csp2!$E257) * Emissions!AH240)/1000","v":0},{"$f":"(SUM(aem2csp2!$D257,aem2csp2!$E257) * Emissions!AI240)/1000","v":0},{"$f":"(SUM(aem2csp2!$D257,aem2csp2!$E257) * Emissions!AJ240)/1000","v":0},{"$f":"(SUM(aem2csp2!$D257,aem2csp2!$E257) * Emissions!AK240)/1000","v":0},{"$f":"(SUM(aem2csp2!$D257,aem2csp2!$E257) * Emissions!AL240)/1000","v":0},{"$f":"(SUM(aem2csp2!$D257,aem2csp2!$E257) * Emissions!AM240)/1000","v":0},{"$f":"(SUM(aem2csp2!$D257,aem2csp2!$E257) * Emissions!AN240)/1000","v":0},{"$f":"(SUM(aem2csp2!$D257,aem2csp2!$E257) * Emissions!AO240)/1000","v":0},{"$f":"(SUM(aem2csp2!$D257,aem2csp2!$E257) * Emissions!AP240)/1000","v":0},{"$f":"(SUM(aem2csp2!$D257,aem2csp2!$E257) * Emissions!AQ240)/1000","v":0},{"$f":"(SUM(aem2csp2!$D257,aem2csp2!$E257) * Emissions!AR240)/1000","v":0},{"$f":"(SUM(aem2csp2!$D257,aem2csp2!$E257) * Emissions!AS240)/1000","v":0}]
["T42 "," Arrival ",414.887026006719,39117.924644688297,11.1061519765853,406.46792028590301,346.31034947806802,361.95968301459698,33.799460920064199,91049.606559769905,35698.3718904708,1.7627668323760199,22.632288812344001,3.8512343656463002,28.246290010366302,null,"T42 "," Departure ",585.24847422246603,58813.958513699799,8.4961451244555395,573.37230440137205,488.51275391823498,510.58803706942098,41.667011640752897,112243.358714631,44007.934938192797,2.21882552166824,33.421330782117202,5.0890115769597104,40.729167880745102,null,1000.135500229185,97931.883158388096,19.60229710104084,979.84022468727505,834.82310339630294,872.54772008401801,75.466472560817095,203292.96527440089,79706.306828663597,3.9815923540442597,56.053619594461203,8.9402459426060101,68.975457891111404,null,0,0,0,0,0,0,0,0,0,0,0,0,0,null,{"$f":"(SUM(aem2csp2!$B258,aem2csp2!$C258) * Emissions!AG241)/1000","v":0},{"$f":"(SUM(aem2csp2!$B258,aem2csp2!$C258) * Emissions!AH241)/1000","v":0},{"$f":"(SUM(aem2csp2!$B258,aem2csp2!$C258) * Emissions!AI241)/1000","v":0},{"$f":"(SUM(aem2csp2!$B258,aem2csp2!$C258) * Emissions!AJ241)/1000","v":0},{"$f":"(SUM(aem2csp2!$B258,aem2csp2!$C258) * Emissions!AK241)/1000","v":0},{"$f":"(SUM(aem2csp2!$B258,aem2csp2!$C258) * Emissions!AL241)/1000","v":0},{"$f":"(SUM(aem2csp2!$B258,aem2csp2!$C258) * Emissions!AM241)/1000","v":0},{"$f":"(SUM(aem2csp2!$B258,aem2csp2!$C258) * Emissions!AN241)/1000","v":0},{"$f":"(SUM(aem2csp2!$B258,aem2csp2!$C258) * Emissions!AO241)/1000","v":0},{"$f":"(SUM(aem2csp2!$B258,aem2csp2!$C258) * Emissions!AP241)/1000","v":0},{"$f":"(SUM(aem2csp2!$B258,aem2csp2!$C258) * Emissions!AQ241)/1000","v":0},{"$f":"(SUM(aem2csp2!$B258,aem2csp2!$C258) * Emissions!AR241)/1000","v":0},{"$f":"(SUM(aem2csp2!$B258,aem2csp2!$C258) * Emissions!AS241)/1000","v":0},null,{"$f":"(SUM(aem2csp2!$D258,aem2csp2!$E258) * Emissions!AG241)/1000","v":0},{"$f":"(SUM(aem2csp2!$D258,aem2csp2!$E258) * Emissions!AH241)/1000","v":0},{"$f":"(SUM(aem2csp2!$D258,aem2csp2!$E258) * Emissions!AI241)/1000","v":0},{"$f":"(SUM(aem2csp2!$D258,aem2csp2!$E258) * Emissions!AJ241)/1000","v":0},{"$f":"(SUM(aem2csp2!$D258,aem2csp2!$E258) * Emissions!AK241)/1000","v":0},{"$f":"(SUM(aem2csp2!$D258,aem2csp2!$E258) * Emissions!AL241)/1000","v":0},{"$f":"(SUM(aem2csp2!$D258,aem2csp2!$E258) * Emissions!AM241)/1000","v":0},{"$f":"(SUM(aem2csp2!$D258,aem2csp2!$E258) * Emissions!AN241)/1000","v":0},{"$f":"(SUM(aem2csp2!$D258,aem2csp2!$E258) * Emissions!AO241)/1000","v":0},{"$f":"(SUM(aem2csp2!$D258,aem2csp2!$E258) * Emissions!AP241)/1000","v":0},{"$f":"(SUM(aem2csp2!$D258,aem2csp2!$E258) * Emissions!AQ241)/1000","v":0},{"$f":"(SUM(aem2csp2!$D258,aem2csp2!$E258) * Emissions!AR241)/1000","v":0},{"$f":"(SUM(aem2csp2!$D258,aem2csp2!$E258) * Emissions!AS241)/1000","v":0}]
["T-43A "," Arrival ",33.4513837992912,1558.0096564053399,3743.35105422884,38.677628934907503,38.475944438826403,38.677628934907503,507.37343465146103,1366771.8462477501,535878.53369523399,25.8018563697925,212.253036641238,55.258638885814499,293.31353189684501,null,"T-43A "," Departure ",37.464664492234597,812.48669983159402,13804.4473997514,43.317920720282999,43.092039422687101,43.317920720282999,959.069781071021,2583559.73299101,1012951.94602532,50.518540389690401,452.98475865587301,116.761838042843,620.26513708840696,null,70.916048291525797,2370.4963562369339,17547.798453980238,81.995549655190501,81.567983861513511,81.995549655190501,1466.4432157224819,3950331.5792387603,1548830.4797205538,76.320396759482904,665.23779529711101,172.0204769286575,913.57866898525197,null,0,0,0,0,0,0,0,0,0,0,0,0,0,null,{"$f":"(SUM(aem2csp2!$B259,aem2csp2!$C259) * Emissions!AG242)/1000","v":0},{"$f":"(SUM(aem2csp2!$B259,aem2csp2!$C259) * Emissions!AH242)/1000","v":0},{"$f":"(SUM(aem2csp2!$B259,aem2csp2!$C259) * Emissions!AI242)/1000","v":0},{"$f":"(SUM(aem2csp2!$B259,aem2csp2!$C259) * Emissions!AJ242)/1000","v":0},{"$f":"(SUM(aem2csp2!$B259,aem2csp2!$C259) * Emissions!AK242)/1000","v":0},{"$f":"(SUM(aem2csp2!$B259,aem2csp2!$C259) * Emissions!AL242)/1000","v":0},{"$f":"(SUM(aem2csp2!$B259,aem2csp2!$C259) * Emissions!AM242)/1000","v":0},{"$f":"(SUM(aem2csp2!$B259,aem2csp2!$C259) * Emissions!AN242)/1000","v":0},{"$f":"(SUM(aem2csp2!$B259,aem2csp2!$C259) * Emissions!AO242)/1000","v":0},{"$f":"(SUM(aem2csp2!$B259,aem2csp2!$C259) * Emissions!AP242)/1000","v":0},{"$f":"(SUM(aem2csp2!$B259,aem2csp2!$C259) * Emissions!AQ242)/1000","v":0},{"$f":"(SUM(aem2csp2!$B259,aem2csp2!$C259) * Emissions!AR242)/1000","v":0},{"$f":"(SUM(aem2csp2!$B259,aem2csp2!$C259) * Emissions!AS242)/1000","v":0},null,{"$f":"(SUM(aem2csp2!$D259,aem2csp2!$E259) * Emissions!AG242)/1000","v":0},{"$f":"(SUM(aem2csp2!$D259,aem2csp2!$E259) * Emissions!AH242)/1000","v":0},{"$f":"(SUM(aem2csp2!$D259,aem2csp2!$E259) * Emissions!AI242)/1000","v":0},{"$f":"(SUM(aem2csp2!$D259,aem2csp2!$E259) * Emissions!AJ242)/1000","v":0},{"$f":"(SUM(aem2csp2!$D259,aem2csp2!$E259) * Emissions!AK242)/1000","v":0},{"$f":"(SUM(aem2csp2!$D259,aem2csp2!$E259) * Emissions!AL242)/1000","v":0},{"$f":"(SUM(aem2csp2!$D259,aem2csp2!$E259) * Emissions!AM242)/1000","v":0},{"$f":"(SUM(aem2csp2!$D259,aem2csp2!$E259) * Emissions!AN242)/1000","v":0},{"$f":"(SUM(aem2csp2!$D259,aem2csp2!$E259) * Emissions!AO242)/1000","v":0},{"$f":"(SUM(aem2csp2!$D259,aem2csp2!$E259) * Emissions!AP242)/1000","v":0},{"$f":"(SUM(aem2csp2!$D259,aem2csp2!$E259) * Emissions!AQ242)/1000","v":0},{"$f":"(SUM(aem2csp2!$D259,aem2csp2!$E259) * Emissions!AR242)/1000","v":0},{"$f":"(SUM(aem2csp2!$D259,aem2csp2!$E259) * Emissions!AS242)/1000","v":0}]
["T44 "," Arrival ",31.608416760635301,1207.44152025627,258.19554594901098,36.546727693628803,36.356154782070398,36.546727693628803,69.159996392148201,186304.46432481901,73045.522145737094,3.5451385632257799,30.293761453738401,11.642759784026399,45.481659800990599,null,"T44 "," Departure ",8.4288355355632803E-3,488.78799236915,395.27133842696401,9.7457066396394107E-3,9.6948876523670104E-3,9.7457066396394107E-3,79.490688376251896,214133.47150535701,83956.609905587102,4.3476538883703304,42.257451009071801,14.7471072097347,61.352212107176797,null,31.616845596170865,1696.2295126254201,653.46688437597504,36.556473400268445,36.365849669722763,36.556473400268445,148.65068476840008,400437.93583017599,157002.13205132418,7.8927924515961099,72.551212462810199,26.3898669937611,106.8338719081674,null,0,0,0,0,0,0,0,0,0,0,0,0,0,null,{"$f":"(SUM(aem2csp2!$B260,aem2csp2!$C260) * Emissions!AG243)/1000","v":0},{"$f":"(SUM(aem2csp2!$B260,aem2csp2!$C260) * Emissions!AH243)/1000","v":0},{"$f":"(SUM(aem2csp2!$B260,aem2csp2!$C260) * Emissions!AI243)/1000","v":0},{"$f":"(SUM(aem2csp2!$B260,aem2csp2!$C260) * Emissions!AJ243)/1000","v":0},{"$f":"(SUM(aem2csp2!$B260,aem2csp2!$C260) * Emissions!AK243)/1000","v":0},{"$f":"(SUM(aem2csp2!$B260,aem2csp2!$C260) * Emissions!AL243)/1000","v":0},{"$f":"(SUM(aem2csp2!$B260,aem2csp2!$C260) * Emissions!AM243)/1000","v":0},{"$f":"(SUM(aem2csp2!$B260,aem2csp2!$C260) * Emissions!AN243)/1000","v":0},{"$f":"(SUM(aem2csp2!$B260,aem2csp2!$C260) * Emissions!AO243)/1000","v":0},{"$f":"(SUM(aem2csp2!$B260,aem2csp2!$C260) * Emissions!AP243)/1000","v":0},{"$f":"(SUM(aem2csp2!$B260,aem2csp2!$C260) * Emissions!AQ243)/1000","v":0},{"$f":"(SUM(aem2csp2!$B260,aem2csp2!$C260) * Emissions!AR243)/1000","v":0},{"$f":"(SUM(aem2csp2!$B260,aem2csp2!$C260) * Emissions!AS243)/1000","v":0},null,{"$f":"(SUM(aem2csp2!$D260,aem2csp2!$E260) * Emissions!AG243)/1000","v":0},{"$f":"(SUM(aem2csp2!$D260,aem2csp2!$E260) * Emissions!AH243)/1000","v":0},{"$f":"(SUM(aem2csp2!$D260,aem2csp2!$E260) * Emissions!AI243)/1000","v":0},{"$f":"(SUM(aem2csp2!$D260,aem2csp2!$E260) * Emissions!AJ243)/1000","v":0},{"$f":"(SUM(aem2csp2!$D260,aem2csp2!$E260) * Emissions!AK243)/1000","v":0},{"$f":"(SUM(aem2csp2!$D260,aem2csp2!$E260) * Emissions!AL243)/1000","v":0},{"$f":"(SUM(aem2csp2!$D260,aem2csp2!$E260) * Emissions!AM243)/1000","v":0},{"$f":"(SUM(aem2csp2!$D260,aem2csp2!$E260) * Emissions!AN243)/1000","v":0},{"$f":"(SUM(aem2csp2!$D260,aem2csp2!$E260) * Emissions!AO243)/1000","v":0},{"$f":"(SUM(aem2csp2!$D260,aem2csp2!$E260) * Emissions!AP243)/1000","v":0},{"$f":"(SUM(aem2csp2!$D260,aem2csp2!$E260) * Emissions!AQ243)/1000","v":0},{"$f":"(SUM(aem2csp2!$D260,aem2csp2!$E260) * Emissions!AR243)/1000","v":0},{"$f":"(SUM(aem2csp2!$D260,aem2csp2!$E260) * Emissions!AS243)/1000","v":0}]
["TORNAD "," Arrival ",188.98448149606801,1550.3726907918101,1706.5050763676199,218.510292238364,217.37087031948701,218.510292238364,369.65366580190903,995779.81182122801,390421.43493593001,19.064884574437901,165.52555441128399,40.523270245463003,225.113709231185,null,"TORNAD "," Departure ",175.92489659147799,8917.1931959805497,8169.7888705178702,203.410355505871,202.349672207086,203.410355505871,809.41270459203201,2180410.7607478299,854886.88147228898,40.859593956904398,334.02087355060098,82.120950090419896,457.00141759792501,null,364.90937808754597,10467.56588677236,9876.2939468854893,421.920647744235,419.72054252657301,421.920647744235,1179.066370393941,3176190.5725690578,1245308.316408219,59.924478531342302,499.546427961885,122.64422033588289,682.11512682911007,null,0,0,0,0,0,0,0,0,0,0,0,0,0,null,{"$f":"(SUM(aem2csp2!$B261,aem2csp2!$C261) * Emissions!AG244)/1000","v":0},{"$f":"(SUM(aem2csp2!$B261,aem2csp2!$C261) * Emissions!AH244)/1000","v":0},{"$f":"(SUM(aem2csp2!$B261,aem2csp2!$C261) * Emissions!AI244)/1000","v":0},{"$f":"(SUM(aem2csp2!$B261,aem2csp2!$C261) * Emissions!AJ244)/1000","v":0},{"$f":"(SUM(aem2csp2!$B261,aem2csp2!$C261) * Emissions!AK244)/1000","v":0},{"$f":"(SUM(aem2csp2!$B261,aem2csp2!$C261) * Emissions!AL244)/1000","v":0},{"$f":"(SUM(aem2csp2!$B261,aem2csp2!$C261) * Emissions!AM244)/1000","v":0},{"$f":"(SUM(aem2csp2!$B261,aem2csp2!$C261) * Emissions!AN244)/1000","v":0},{"$f":"(SUM(aem2csp2!$B261,aem2csp2!$C261) * Emissions!AO244)/1000","v":0},{"$f":"(SUM(aem2csp2!$B261,aem2csp2!$C261) * Emissions!AP244)/1000","v":0},{"$f":"(SUM(aem2csp2!$B261,aem2csp2!$C261) * Emissions!AQ244)/1000","v":0},{"$f":"(SUM(aem2csp2!$B261,aem2csp2!$C261) * Emissions!AR244)/1000","v":0},{"$f":"(SUM(aem2csp2!$B261,aem2csp2!$C261) * Emissions!AS244)/1000","v":0},null,{"$f":"(SUM(aem2csp2!$D261,aem2csp2!$E261) * Emissions!AG244)/1000","v":0},{"$f":"(SUM(aem2csp2!$D261,aem2csp2!$E261) * Emissions!AH244)/1000","v":0},{"$f":"(SUM(aem2csp2!$D261,aem2csp2!$E261) * Emissions!AI244)/1000","v":0},{"$f":"(SUM(aem2csp2!$D261,aem2csp2!$E261) * Emissions!AJ244)/1000","v":0},{"$f":"(SUM(aem2csp2!$D261,aem2csp2!$E261) * Emissions!AK244)/1000","v":0},{"$f":"(SUM(aem2csp2!$D261,aem2csp2!$E261) * Emissions!AL244)/1000","v":0},{"$f":"(SUM(aem2csp2!$D261,aem2csp2!$E261) * Emissions!AM244)/1000","v":0},{"$f":"(SUM(aem2csp2!$D261,aem2csp2!$E261) * Emissions!AN244)/1000","v":0},{"$f":"(SUM(aem2csp2!$D261,aem2csp2!$E261) * Emissions!AO244)/1000","v":0},{"$f":"(SUM(aem2csp2!$D261,aem2csp2!$E261) * Emissions!AP244)/1000","v":0},{"$f":"(SUM(aem2csp2!$D261,aem2csp2!$E261) * Emissions!AQ244)/1000","v":0},{"$f":"(SUM(aem2csp2!$D261,aem2csp2!$E261) * Emissions!AR244)/1000","v":0},{"$f":"(SUM(aem2csp2!$D261,aem2csp2!$E261) * Emissions!AS244)/1000","v":0}]
["TR1 "," Arrival ",1912.78829713097,3625.1875158538901,417.09134655567101,2211.6309576715598,2200.0984080427802,2211.6309576715598,166.70750679454801,449079.73355259403,176073.41692696,8.3988836017768609,107.899481661962,16.7898225373937,133.08818780113299,null,"TR1 "," Departure ",380.67616889479598,1050.3784609143199,4507.1186332754696,440.15074811903798,437.85558204297098,440.15074811903798,503.56902972796598,1356523.47062136,531860.39085851703,28.384720303934301,296.47423478020397,73.212334432599604,398.07128951673798,null,2293.4644660257659,4675.56597676821,4924.209979831141,2651.7817057905977,2637.9539900857512,2651.7817057905977,670.27653652251399,1805603.204173954,707933.80778547702,36.783603905711161,404.37371644216597,90.002156969993308,531.15947731787094,null,0,0,0,0,0,0,0,0,0,0,0,0,0,null,{"$f":"(SUM(aem2csp2!$B262,aem2csp2!$C262) * Emissions!AG245)/1000","v":0},{"$f":"(SUM(aem2csp2!$B262,aem2csp2!$C262) * Emissions!AH245)/1000","v":0},{"$f":"(SUM(aem2csp2!$B262,aem2csp2!$C262) * Emissions!AI245)/1000","v":0},{"$f":"(SUM(aem2csp2!$B262,aem2csp2!$C262) * Emissions!AJ245)/1000","v":0},{"$f":"(SUM(aem2csp2!$B262,aem2csp2!$C262) * Emissions!AK245)/1000","v":0},{"$f":"(SUM(aem2csp2!$B262,aem2csp2!$C262) * Emissions!AL245)/1000","v":0},{"$f":"(SUM(aem2csp2!$B262,aem2csp2!$C262) * Emissions!AM245)/1000","v":0},{"$f":"(SUM(aem2csp2!$B262,aem2csp2!$C262) * Emissions!AN245)/1000","v":0},{"$f":"(SUM(aem2csp2!$B262,aem2csp2!$C262) * Emissions!AO245)/1000","v":0},{"$f":"(SUM(aem2csp2!$B262,aem2csp2!$C262) * Emissions!AP245)/1000","v":0},{"$f":"(SUM(aem2csp2!$B262,aem2csp2!$C262) * Emissions!AQ245)/1000","v":0},{"$f":"(SUM(aem2csp2!$B262,aem2csp2!$C262) * Emissions!AR245)/1000","v":0},{"$f":"(SUM(aem2csp2!$B262,aem2csp2!$C262) * Emissions!AS245)/1000","v":0},null,{"$f":"(SUM(aem2csp2!$D262,aem2csp2!$E262) * Emissions!AG245)/1000","v":0},{"$f":"(SUM(aem2csp2!$D262,aem2csp2!$E262) * Emissions!AH245)/1000","v":0},{"$f":"(SUM(aem2csp2!$D262,aem2csp2!$E262) * Emissions!AI245)/1000","v":0},{"$f":"(SUM(aem2csp2!$D262,aem2csp2!$E262) * Emissions!AJ245)/1000","v":0},{"$f":"(SUM(aem2csp2!$D262,aem2csp2!$E262) * Emissions!AK245)/1000","v":0},{"$f":"(SUM(aem2csp2!$D262,aem2csp2!$E262) * Emissions!AL245)/1000","v":0},{"$f":"(SUM(aem2csp2!$D262,aem2csp2!$E262) * Emissions!AM245)/1000","v":0},{"$f":"(SUM(aem2csp2!$D262,aem2csp2!$E262) * Emissions!AN245)/1000","v":0},{"$f":"(SUM(aem2csp2!$D262,aem2csp2!$E262) * Emissions!AO245)/1000","v":0},{"$f":"(SUM(aem2csp2!$D262,aem2csp2!$E262) * Emissions!AP245)/1000","v":0},{"$f":"(SUM(aem2csp2!$D262,aem2csp2!$E262) * Emissions!AQ245)/1000","v":0},{"$f":"(SUM(aem2csp2!$D262,aem2csp2!$E262) * Emissions!AR245)/1000","v":0},{"$f":"(SUM(aem2csp2!$D262,aem2csp2!$E262) * Emissions!AS245)/1000","v":0}]
["U2 "," Arrival ",1912.78829713097,3625.1875158538901,417.09134655567101,2211.6309576715598,2200.0984080427802,2211.6309576715598,166.70750679454801,449079.73355259403,176073.41692696,8.3988836017768609,107.899481661962,16.7898225373937,133.08818780113299,null,"U2 "," Departure ",380.67616889479598,1050.3784609143199,4507.1186332754696,440.15074811903798,437.85558204297098,440.15074811903798,503.56902972796598,1356523.47062136,531860.39085851703,28.384720303934301,296.47423478020397,73.212334432599604,398.07128951673798,null,2293.4644660257659,4675.56597676821,4924.209979831141,2651.7817057905977,2637.9539900857512,2651.7817057905977,670.27653652251399,1805603.204173954,707933.80778547702,36.783603905711161,404.37371644216597,90.002156969993308,531.15947731787094,null,0,0,0,0,0,0,0,0,0,0,0,0,0,null,{"$f":"(SUM(aem2csp2!$B263,aem2csp2!$C263) * Emissions!AG246)/1000","v":0},{"$f":"(SUM(aem2csp2!$B263,aem2csp2!$C263) * Emissions!AH246)/1000","v":0},{"$f":"(SUM(aem2csp2!$B263,aem2csp2!$C263) * Emissions!AI246)/1000","v":0},{"$f":"(SUM(aem2csp2!$B263,aem2csp2!$C263) * Emissions!AJ246)/1000","v":0},{"$f":"(SUM(aem2csp2!$B263,aem2csp2!$C263) * Emissions!AK246)/1000","v":0},{"$f":"(SUM(aem2csp2!$B263,aem2csp2!$C263) * Emissions!AL246)/1000","v":0},{"$f":"(SUM(aem2csp2!$B263,aem2csp2!$C263) * Emissions!AM246)/1000","v":0},{"$f":"(SUM(aem2csp2!$B263,aem2csp2!$C263) * Emissions!AN246)/1000","v":0},{"$f":"(SUM(aem2csp2!$B263,aem2csp2!$C263) * Emissions!AO246)/1000","v":0},{"$f":"(SUM(aem2csp2!$B263,aem2csp2!$C263) * Emissions!AP246)/1000","v":0},{"$f":"(SUM(aem2csp2!$B263,aem2csp2!$C263) * Emissions!AQ246)/1000","v":0},{"$f":"(SUM(aem2csp2!$B263,aem2csp2!$C263) * Emissions!AR246)/1000","v":0},{"$f":"(SUM(aem2csp2!$B263,aem2csp2!$C263) * Emissions!AS246)/1000","v":0},null,{"$f":"(SUM(aem2csp2!$D263,aem2csp2!$E263) * Emissions!AG246)/1000","v":0},{"$f":"(SUM(aem2csp2!$D263,aem2csp2!$E263) * Emissions!AH246)/1000","v":0},{"$f":"(SUM(aem2csp2!$D263,aem2csp2!$E263) * Emissions!AI246)/1000","v":0},{"$f":"(SUM(aem2csp2!$D263,aem2csp2!$E263) * Emissions!AJ246)/1000","v":0},{"$f":"(SUM(aem2csp2!$D263,aem2csp2!$E263) * Emissions!AK246)/1000","v":0},{"$f":"(SUM(aem2csp2!$D263,aem2csp2!$E263) * Emissions!AL246)/1000","v":0},{"$f":"(SUM(aem2csp2!$D263,aem2csp2!$E263) * Emissions!AM246)/1000","v":0},{"$f":"(SUM(aem2csp2!$D263,aem2csp2!$E263) * Emissions!AN246)/1000","v":0},{"$f":"(SUM(aem2csp2!$D263,aem2csp2!$E263) * Emissions!AO246)/1000","v":0},{"$f":"(SUM(aem2csp2!$D263,aem2csp2!$E263) * Emissions!AP246)/1000","v":0},{"$f":"(SUM(aem2csp2!$D263,aem2csp2!$E263) * Emissions!AQ246)/1000","v":0},{"$f":"(SUM(aem2csp2!$D263,aem2csp2!$E263) * Emissions!AR246)/1000","v":0},{"$f":"(SUM(aem2csp2!$D263,aem2csp2!$E263) * Emissions!AS246)/1000","v":0}]
["U21 "," Arrival ",7.0726057499663897,120.234297749429,118.29891265806199,8.1775875832643194,8.1349455528113896,8.1775875832643194,25.829714371600001,69580.5574132498,27280.8714802504,1.3204858676305,11.118229844189001,4.0188823203313797,16.457598032150901,null,"U21 "," Departure ",4.0485788234616701E-3,41.704155420602,257.78732831812403,4.6811046857467399E-3,4.6566950653629102E-3,4.6811046857467399E-3,43.282650521970702,116595.596308758,45714.343148631902,2.2848507139997598,20.548142285186501,7.4582218149984696,30.291214814184698,null,7.0766543287898518,161.93845317003101,376.08624097618599,8.1822686879500655,8.139602247876752,8.1822686879500655,69.1123648935707,186176.15372200782,72995.214628882299,3.6053365816302598,31.666372129375503,11.477104135329849,46.748812846335596,null,0,0,0,0,0,0,0,0,0,0,0,0,0,null,{"$f":"(SUM(aem2csp2!$B264,aem2csp2!$C264) * Emissions!AG247)/1000","v":0},{"$f":"(SUM(aem2csp2!$B264,aem2csp2!$C264) * Emissions!AH247)/1000","v":0},{"$f":"(SUM(aem2csp2!$B264,aem2csp2!$C264) * Emissions!AI247)/1000","v":0},{"$f":"(SUM(aem2csp2!$B264,aem2csp2!$C264) * Emissions!AJ247)/1000","v":0},{"$f":"(SUM(aem2csp2!$B264,aem2csp2!$C264) * Emissions!AK247)/1000","v":0},{"$f":"(SUM(aem2csp2!$B264,aem2csp2!$C264) * Emissions!AL247)/1000","v":0},{"$f":"(SUM(aem2csp2!$B264,aem2csp2!$C264) * Emissions!AM247)/1000","v":0},{"$f":"(SUM(aem2csp2!$B264,aem2csp2!$C264) * Emissions!AN247)/1000","v":0},{"$f":"(SUM(aem2csp2!$B264,aem2csp2!$C264) * Emissions!AO247)/1000","v":0},{"$f":"(SUM(aem2csp2!$B264,aem2csp2!$C264) * Emissions!AP247)/1000","v":0},{"$f":"(SUM(aem2csp2!$B264,aem2csp2!$C264) * Emissions!AQ247)/1000","v":0},{"$f":"(SUM(aem2csp2!$B264,aem2csp2!$C264) * Emissions!AR247)/1000","v":0},{"$f":"(SUM(aem2csp2!$B264,aem2csp2!$C264) * Emissions!AS247)/1000","v":0},null,{"$f":"(SUM(aem2csp2!$D264,aem2csp2!$E264) * Emissions!AG247)/1000","v":0},{"$f":"(SUM(aem2csp2!$D264,aem2csp2!$E264) * Emissions!AH247)/1000","v":0},{"$f":"(SUM(aem2csp2!$D264,aem2csp2!$E264) * Emissions!AI247)/1000","v":0},{"$f":"(SUM(aem2csp2!$D264,aem2csp2!$E264) * Emissions!AJ247)/1000","v":0},{"$f":"(SUM(aem2csp2!$D264,aem2csp2!$E264) * Emissions!AK247)/1000","v":0},{"$f":"(SUM(aem2csp2!$D264,aem2csp2!$E264) * Emissions!AL247)/1000","v":0},{"$f":"(SUM(aem2csp2!$D264,aem2csp2!$E264) * Emissions!AM247)/1000","v":0},{"$f":"(SUM(aem2csp2!$D264,aem2csp2!$E264) * Emissions!AN247)/1000","v":0},{"$f":"(SUM(aem2csp2!$D264,aem2csp2!$E264) * Emissions!AO247)/1000","v":0},{"$f":"(SUM(aem2csp2!$D264,aem2csp2!$E264) * Emissions!AP247)/1000","v":0},{"$f":"(SUM(aem2csp2!$D264,aem2csp2!$E264) * Emissions!AQ247)/1000","v":0},{"$f":"(SUM(aem2csp2!$D264,aem2csp2!$E264) * Emissions!AR247)/1000","v":0},{"$f":"(SUM(aem2csp2!$D264,aem2csp2!$E264) * Emissions!AS247)/1000","v":0}]
["U6 "," Arrival ",596.40573821485998,2598.6250022218901,1727.9331739878,689.58462154300105,685.98878253396504,689.58462154300105,334.09293504822602,899985.66434182995,352862.84208901599,16.835034701327299,147.57297069728401,33.671154015470499,198.079159414082,null,"U6 "," Departure ",594.747032661817,699.229619480785,10891.890421440001,687.66676970530796,684.08093133467901,687.66676970530796,832.47026203988798,2242523.6310927598,879239.85155681497,43.693996900072499,402.163939002679,96.926317753202099,542.78425365595297,null,1191.1527708766771,3297.8546217026751,12619.823595427801,1377.2513912483091,1370.0697138686442,1377.2513912483091,1166.5631970881141,3142509.2954345895,1232102.693645831,60.529031601399794,549.73690969996301,130.59747176867259,740.86341307003499,null,0,0,0,0,0,0,0,0,0,0,0,0,0,null,{"$f":"(SUM(aem2csp2!$B265,aem2csp2!$C265) * Emissions!AG248)/1000","v":0},{"$f":"(SUM(aem2csp2!$B265,aem2csp2!$C265) * Emissions!AH248)/1000","v":0},{"$f":"(SUM(aem2csp2!$B265,aem2csp2!$C265) * Emissions!AI248)/1000","v":0},{"$f":"(SUM(aem2csp2!$B265,aem2csp2!$C265) * Emissions!AJ248)/1000","v":0},{"$f":"(SUM(aem2csp2!$B265,aem2csp2!$C265) * Emissions!AK248)/1000","v":0},{"$f":"(SUM(aem2csp2!$B265,aem2csp2!$C265) * Emissions!AL248)/1000","v":0},{"$f":"(SUM(aem2csp2!$B265,aem2csp2!$C265) * Emissions!AM248)/1000","v":0},{"$f":"(SUM(aem2csp2!$B265,aem2csp2!$C265) * Emissions!AN248)/1000","v":0},{"$f":"(SUM(aem2csp2!$B265,aem2csp2!$C265) * Emissions!AO248)/1000","v":0},{"$f":"(SUM(aem2csp2!$B265,aem2csp2!$C265) * Emissions!AP248)/1000","v":0},{"$f":"(SUM(aem2csp2!$B265,aem2csp2!$C265) * Emissions!AQ248)/1000","v":0},{"$f":"(SUM(aem2csp2!$B265,aem2csp2!$C265) * Emissions!AR248)/1000","v":0},{"$f":"(SUM(aem2csp2!$B265,aem2csp2!$C265) * Emissions!AS248)/1000","v":0},null,{"$f":"(SUM(aem2csp2!$D265,aem2csp2!$E265) * Emissions!AG248)/1000","v":0},{"$f":"(SUM(aem2csp2!$D265,aem2csp2!$E265) * Emissions!AH248)/1000","v":0},{"$f":"(SUM(aem2csp2!$D265,aem2csp2!$E265) * Emissions!AI248)/1000","v":0},{"$f":"(SUM(aem2csp2!$D265,aem2csp2!$E265) * Emissions!AJ248)/1000","v":0},{"$f":"(SUM(aem2csp2!$D265,aem2csp2!$E265) * Emissions!AK248)/1000","v":0},{"$f":"(SUM(aem2csp2!$D265,aem2csp2!$E265) * Emissions!AL248)/1000","v":0},{"$f":"(SUM(aem2csp2!$D265,aem2csp2!$E265) * Emissions!AM248)/1000","v":0},{"$f":"(SUM(aem2csp2!$D265,aem2csp2!$E265) * Emissions!AN248)/1000","v":0},{"$f":"(SUM(aem2csp2!$D265,aem2csp2!$E265) * Emissions!AO248)/1000","v":0},{"$f":"(SUM(aem2csp2!$D265,aem2csp2!$E265) * Emissions!AP248)/1000","v":0},{"$f":"(SUM(aem2csp2!$D265,aem2csp2!$E265) * Emissions!AQ248)/1000","v":0},{"$f":"(SUM(aem2csp2!$D265,aem2csp2!$E265) * Emissions!AR248)/1000","v":0},{"$f":"(SUM(aem2csp2!$D265,aem2csp2!$E265) * Emissions!AS248)/1000","v":0}]
["U8F "," Arrival ",383.56832942004502,36165.018585322701,10.2740109515795,375.78475916086899,320.16832025020602,334.63632803275402,31.276411827920899,84252.970728390093,33033.5736263133,1.61240080203559,20.909656190792798,3.4236019465805199,25.945658939408901,null,"U8F "," Departure ",795.80508261710702,79973.633722353799,11.325261966690601,779.65618736674696,664.26646051132502,694.28383485008806,55.831138453347002,150398.942811057,58967.826388994399,3.0582129546101502,43.2387858295059,7.4542364461937902,53.751235230309803,null,1179.3734120371521,116138.6523076765,21.599272918270103,1155.440946527616,984.4347807615311,1028.9201628828421,87.107550281267905,234651.91353944709,92001.400015307707,4.6706137566457402,64.148442020298702,10.87783839277431,79.696894169718703,null,0,0,0,0,0,0,0,0,0,0,0,0,0,null,{"$f":"(SUM(aem2csp2!$B266,aem2csp2!$C266) * Emissions!AG249)/1000","v":0},{"$f":"(SUM(aem2csp2!$B266,aem2csp2!$C266) * Emissions!AH249)/1000","v":0},{"$f":"(SUM(aem2csp2!$B266,aem2csp2!$C266) * Emissions!AI249)/1000","v":0},{"$f":"(SUM(aem2csp2!$B266,aem2csp2!$C266) * Emissions!AJ249)/1000","v":0},{"$f":"(SUM(aem2csp2!$B266,aem2csp2!$C266) * Emissions!AK249)/1000","v":0},{"$f":"(SUM(aem2csp2!$B266,aem2csp2!$C266) * Emissions!AL249)/1000","v":0},{"$f":"(SUM(aem2csp2!$B266,aem2csp2!$C266) * Emissions!AM249)/1000","v":0},{"$f":"(SUM(aem2csp2!$B266,aem2csp2!$C266) * Emissions!AN249)/1000","v":0},{"$f":"(SUM(aem2csp2!$B266,aem2csp2!$C266) * Emissions!AO249)/1000","v":0},{"$f":"(SUM(aem2csp2!$B266,aem2csp2!$C266) * Emissions!AP249)/1000","v":0},{"$f":"(SUM(aem2csp2!$B266,aem2csp2!$C266) * Emissions!AQ249)/1000","v":0},{"$f":"(SUM(aem2csp2!$B266,aem2csp2!$C266) * Emissions!AR249)/1000","v":0},{"$f":"(SUM(aem2csp2!$B266,aem2csp2!$C266) * Emissions!AS249)/1000","v":0},null,{"$f":"(SUM(aem2csp2!$D266,aem2csp2!$E266) * Emissions!AG249)/1000","v":0},{"$f":"(SUM(aem2csp2!$D266,aem2csp2!$E266) * Emissions!AH249)/1000","v":0},{"$f":"(SUM(aem2csp2!$D266,aem2csp2!$E266) * Emissions!AI249)/1000","v":0},{"$f":"(SUM(aem2csp2!$D266,aem2csp2!$E266) * Emissions!AJ249)/1000","v":0},{"$f":"(SUM(aem2csp2!$D266,aem2csp2!$E266) * Emissions!AK249)/1000","v":0},{"$f":"(SUM(aem2csp2!$D266,aem2csp2!$E266) * Emissions!AL249)/1000","v":0},{"$f":"(SUM(aem2csp2!$D266,aem2csp2!$E266) * Emissions!AM249)/1000","v":0},{"$f":"(SUM(aem2csp2!$D266,aem2csp2!$E266) * Emissions!AN249)/1000","v":0},{"$f":"(SUM(aem2csp2!$D266,aem2csp2!$E266) * Emissions!AO249)/1000","v":0},{"$f":"(SUM(aem2csp2!$D266,aem2csp2!$E266) * Emissions!AP249)/1000","v":0},{"$f":"(SUM(aem2csp2!$D266,aem2csp2!$E266) * Emissions!AQ249)/1000","v":0},{"$f":"(SUM(aem2csp2!$D266,aem2csp2!$E266) * Emissions!AR249)/1000","v":0},{"$f":"(SUM(aem2csp2!$D266,aem2csp2!$E266) * Emissions!AS249)/1000","v":0}]

{"sheet":"Inventory calc","index":7,"n_rows":7,"n_cols":6,"rows_kept":7,"cut":false,"hidden":true,"merged":[]}
["Alternative Area (Sq. Mi.)","Percent Change in Area ","AEM Base Sphere","AEM Alt Sphere","Base Sphere","Alt Eng."]
[{"$f":"IFERROR(PI()*((3*'AEE Noise Inventories'!H15)/(4*PI()))^(2/3), 0)","v":0},{"$f":"IFERROR(('AEE Noise Inventories'!C15-'AEE Noise Inventories'!B15)/'AEE Noise Inventories'!B15, 0 )","v":0},{"$f":"(4/3)*PI()*((aem2csp2!B11/PI())^(3/2))","v":0},{"$f":"(4/3)*PI()*((aem2csp2!C11/PI())^(3/2))","v":0},{"$f":"(4/3)*PI()*(('AEE Noise Inventories'!B15/PI())^(3/2))","v":0},{"$f":"E2-C2+D2","v":0}]
[{"$f":"IFERROR(PI()*((3*'AEE Noise Inventories'!H16)/(4*PI()))^(2/3), 0)","v":0},{"$f":"IFERROR(('AEE Noise Inventories'!C16-'AEE Noise Inventories'!B16)/'AEE Noise Inventories'!B16, 0 )","v":0},{"$f":"(4/3)*PI()*((aem2csp2!B12/PI())^(3/2))","v":0},{"$f":"(4/3)*PI()*((aem2csp2!C12/PI())^(3/2))","v":0},{"$f":"(4/3)*PI()*(('AEE Noise Inventories'!B16/PI())^(3/2))","v":0},0]
[{"$f":"IFERROR(PI()*((3*'AEE Noise Inventories'!H17)/(4*PI()))^(2/3), 0)","v":0},{"$f":"IFERROR(('AEE Noise Inventories'!C17-'AEE Noise Inventories'!B17)/'AEE Noise Inventories'!B17, 0 )","v":0},{"$f":"(4/3)*PI()*((aem2csp2!B13/PI())^(3/2))","v":0},{"$f":"(4/3)*PI()*((aem2csp2!C13/PI())^(3/2))","v":0},{"$f":"(4/3)*PI()*(('AEE Noise Inventories'!B17/PI())^(3/2))","v":0},0]
[{"$f":"IFERROR(PI()*((3*'AEE Noise Inventories'!H18)/(4*PI()))^(2/3), 0)","v":0},{"$f":"IFERROR(('AEE Noise Inventories'!C18-'AEE Noise Inventories'!B18)/'AEE Noise Inventories'!B18, 0 )","v":0},{"$f":"(4/3)*PI()*((aem2csp2!B14/PI())^(3/2))","v":0},{"$f":"(4/3)*PI()*((aem2csp2!C14/PI())^(3/2))","v":0},{"$f":"(4/3)*PI()*(('AEE Noise Inventories'!B18/PI())^(3/2))","v":0},0]
[{"$f":"IFERROR(PI()*((3*'AEE Noise Inventories'!H19)/(4*PI()))^(2/3), 0)","v":0},{"$f":"IFERROR(('AEE Noise Inventories'!C19-'AEE Noise Inventories'!B19)/'AEE Noise Inventories'!B19, 0 )","v":0},{"$f":"(4/3)*PI()*((aem2csp2!B15/PI())^(3/2))","v":0},{"$f":"(4/3)*PI()*((aem2csp2!C15/PI())^(3/2))","v":0},{"$f":"(4/3)*PI()*(('AEE Noise Inventories'!B19/PI())^(3/2))","v":0},0]
[{"$f":"IFERROR(PI()*((3*'AEE Noise Inventories'!H20)/(4*PI()))^(2/3), 0)","v":0},{"$f":"IFERROR(('AEE Noise Inventories'!C20-'AEE Noise Inventories'!B20)/'AEE Noise Inventories'!B20, 0 )","v":0},{"$f":"(4/3)*PI()*((aem2csp2!B16/PI())^(3/2))","v":0},{"$f":"(4/3)*PI()*((aem2csp2!C16/PI())^(3/2))","v":0},{"$f":"(4/3)*PI()*(('AEE Noise Inventories'!B20/PI())^(3/2))","v":0},0]